{"text_format":"1","workbook":"xlsx","n_sheets":9,"sheets":["Vorrunde 01-24","Vorrunde 25-48","Vorrunde 49-72","Vorrunde (Tabellen)","KO-Runde 073-088","KO-Runde 089-104","Tipp-Tabelle","Tippmodus","Teilnehmer - Austragungsorte"],"not_rendered":{"charts":0,"images":99,"macros":1,"external_links":1,"defined_names":24,"comments":0,"pivot_tables":0},"unopened":[],"bounds":{"document_bytes":16777216,"sheet_cells":100000,"rows_first":2000,"rows_last":500,"rows_between":2000,"halvings":0,"cell_chars":16384,"cell_head_chars":4096},"cells_cut":0,"cells_raw":0,"read":"whole","date_system":"1900"}

{"sheet":"Vorrunde 01-24","index":0,"n_rows":29,"n_cols":211,"rows_kept":29,"cut":false,"hidden":false,"merged":[[27,40,28,40],[27,43,28,43],[27,46,28,46],[27,49,28,49],[27,52,28,52],[26,173,28,177],[26,178,28,182],[26,183,28,187],[26,188,28,192],[26,148,28,152],[26,153,28,157],[27,76,28,76],[27,79,28,79],[27,82,28,82],[27,14,28,14],[27,16,28,16],[27,19,28,19],[27,22,28,22],[27,25,28,25],[27,28,28,28],[27,31,28,31],[27,34,28,34],[27,37,28,37],[1,208,5,208],[1,209,5,209],[1,210,5,210],[26,87,28,87],[26,88,28,92],[26,93,28,97],[26,98,28,102],[26,103,28,107],[26,108,28,112],[26,113,28,117],[26,118,28,122],[26,123,28,127],[26,128,28,132],[26,133,28,137],[26,138,28,142],[26,143,28,147],[0,198,5,202],[0,203,5,207],[0,193,5,197],[27,208,27,210],[26,198,28,202],[26,203,28,207],[26,193,28,197],[0,123,5,127],[0,133,5,137],[0,138,5,142],[27,55,28,55],[27,58,28,58],[27,61,28,61],[27,64,28,64],[27,67,28,67],[1,66,5,66],[1,67,5,67],[1,58,5,58],[1,59,5,59],[1,60,5,60],[1,61,5,61],[1,62,5,62],[1,57,5,57],[0,63,0,65],[0,66,0,68],[0,69,0,71],[0,72,0,74],[0,75,0,77],[1,63,5,63],[1,64,5,64],[1,65,5,65],[0,60,0,62],[28,208,28,210],[1,73,5,73],[1,74,5,74],[1,75,5,75],[1,76,5,76],[1,77,5,77],[1,68,5,68],[1,69,5,69],[1,70,5,70],[1,71,5,71],[1,72,5,72],[26,158,28,162],[26,163,28,167],[26,168,28,172],[27,85,28,85],[27,70,28,70],[27,73,28,73],[0,108,5,112],[0,113,5,117],[0,118,5,122],[0,173,5,177],[0,178,5,182],[0,183,5,187],[0,188,5,192],[1,40,5,40],[1,41,5,41],[1,42,5,42],[1,53,5,53],[1,54,5,54],[1,55,5,55],[1,56,5,56],[1,43,5,43],[1,44,5,44],[1,45,5,45],[1,46,5,46],[1,47,5,47],[0,148,5,152],[0,153,5,157],[0,158,5,162],[0,163,5,167],[0,168,5,172],[0,78,0,80],[0,81,0,83],[0,84,0,86],[0,88,5,92],[0,93,5,97],[1,78,5,78],[1,79,5,79],[1,80,5,80],[1,81,5,81],[1,82,5,82],[1,83,5,83],[1,84,5,84],[1,85,5,85],[1,86,5,86],[1,87,5,87],[0,143,5,147],[0,98,5,102],[0,103,5,107],[0,128,5,132],[0,4,0,6],[0,7,0,9],[0,15,0,17],[0,33,0,35],[0,36,0,38],[0,39,0,41],[0,42,0,44],[0,45,0,47],[0,18,0,20],[0,21,0,23],[0,24,0,26],[0,27,0,29],[0,30,0,32],[0,14,5,14],[1,23,5,23],[1,24,5,24],[1,25,5,25],[1,26,5,26],[1,27,5,27],[1,20,5,20],[1,21,5,21],[1,22,5,22],[1,33,5,33],[1,15,5,15],[1,16,5,16],[1,17,5,17],[1,18,5,18],[1,19,5,19],[0,48,0,50],[0,51,0,53],[0,54,0,56],[0,57,0,59],[1,34,5,34],[1,35,5,35],[1,36,5,36],[1,37,5,37],[1,28,5,28],[1,29,5,29],[1,30,5,30],[1,31,5,31],[1,32,5,32],[1,48,5,48],[1,49,5,49],[1,50,5,50],[1,51,5,51],[1,52,5,52],[1,38,5,38],[1,39,5,39]]}
["Spiele 1-24   (chronologisch)","Anstoßzeit","Ortszeit","Spiel-Nr.","Spielpaarungen / Gruppen",null,null,"Ergebnis",null,null,"Austragungsort / Stadion","Vorrunde","Live-TV Übertragungsrechte"," - ","NAME",{"$f":"$D2","v":1},null,null,{"$f":"$D3","v":2},null,null,{"$f":"$D4","v":3},null,null,{"$f":"$D5","v":4},null,null,{"$f":"$D6","v":8},null,null,{"$f":"$D7","v":7},null,null,{"$f":"$D8","v":5},null,null,{"$f":"$D9","v":6},null,null,{"$f":"$D10","v":10},null,null,{"$f":"$D11","v":11},null,null,{"$f":"$D12","v":9},null,null,{"$f":"$D13","v":12},null,null,{"$f":"$D14","v":14},null,null,{"$f":"$D15","v":16},null,null,{"$f":"$D16","v":13},null,null,{"$f":"$D17","v":15},null,null,{"$f":"$D18","v":17},null,null,{"$f":"$D19","v":18},null,null,{"$f":"$D20","v":19},null,null,{"$f":"$D21","v":20},null,null,{"$f":"$D22","v":23},null,null,{"$f":"$D23","v":22},null,null,{"$f":"$D24","v":21},null,null,{"$f":"$D25","v":24},null,null,null,{"$f":"$P$2&$N$1&$R$2","v":"Mexiko - Südafrika"},null,null,null,null,{"$f":"$S$2&$N$1&$U$2","v":"Südkorea - Tschechien"},null,null,null,null,{"$f":"$V$2&$N$1&$X$2","v":"Kanada - Bosnien-Herzegowina"},null,null,null,null,{"$f":"$Y$2&$N$1&$AA$2","v":"USA - Paraguay"},null,null,null,null,{"$f":"$AB$2&$N$1&$AD$2","v":"Katar - Schweiz"},null,null,null,null,{"$f":"$AE$2&$N$1&$AG$2","v":"Brasilien - Marokko"},null,null,null,null,{"$f":"$AH$2&$N$1&$AJ$2","v":"Haiti - Schottland"},null,null,null,null,{"$f":"$AK$2&$N$1&$AM$2","v":"Australien - Türkei"},null,null,null,null,{"$f":"$AN$2&$N$1&$AP$2","v":"Deutschland - Curaçao"},null,null,null,null,{"$f":"$AQ$2&$N$1&$AS$2","v":"Niederlande - Japan"},null,null,null,null,{"$f":"$AT$2&$N$1&$AV$2","v":"Elfenbeinküste - Ecuador"},null,null,null,null,{"$f":"$AW$2&$N$1&$AY$2","v":"Schweden - Tunesien"},null,null,null,null,{"$f":"$AZ$2&$N$1&$BB$2","v":"Spanien - Kap Verde"},null,null,null,null,{"$f":"$BC$2&$N$1&$BE$2","v":"Belgien - Ägypten"},null,null,null,null,{"$f":"$BF$2&$N$1&$BH$2","v":"Saudi-Arabien - Uruguay"},null,null,null,null,{"$f":"$BI$2&$N$1&$BK$2","v":"Iran - Neuseeland"},null,null,null,null,{"$f":"$BL$2&$N$1&$BN$2","v":"Frankreich - Senegal"},null,null,null,null,{"$f":"$BO$2&$N$1&$BQ$2","v":"Irak - Norwegen"},null,null,null,null,{"$f":"$BR$2&$N$1&$BT$2","v":"Argentinien - Algerien"},null,null,null,null,{"$f":"$BU$2&$N$1&$BW$2","v":"Österreich - Jordanien"},null,null,null,null,{"$f":"$BX$2&$N$1&$BZ$2","v":"Portugal - DR Kongo"},null,null,null,null,{"$f":"$CA$2&$N$1&$CC$2","v":"England - Kroatien"},null,null,null,null,{"$f":"$CD$2&$N$1&$CF$2","v":"Ghana - Panama"},null,null,null,null,{"$f":"$CG$2&$N$1&$CI$2","v":"Usbekistan - Kolumbien"},null,null,null,null,"PUNKTE","PUNKTE","PUNKTE"]
["2026-06-11T21:00:00",46184.875,"2026-06-11T13:00:00",1,"Mexiko (A1)","-","Südafrika (A2)",2,":",0,"Mexiko / Azteca (Mexico City)","1. Gruppenspiel","ZDF und MagentaTV",{"$f":"IF($J2<>\"\",1,0)","v":1},null,{"$f":"LEFT($E$2, LEN($E$2) - LEN(TRIM(RIGHT(SUBSTITUTE(TRIM($E$2), \" \", REPT(\" \", 100)), 100))) - 1)","v":"Mexiko"},"gegen",{"$f":"LEFT($G$2, LEN($G$2) - LEN(TRIM(RIGHT(SUBSTITUTE(TRIM($G$2), \" \", REPT(\" \", 100)), 100))) - 1)","v":"Südafrika"},{"$f":"LEFT($E$3, LEN($E$3) - LEN(TRIM(RIGHT(SUBSTITUTE(TRIM($E$3), \" \", REPT(\" \", 100)), 100))) - 1)","v":"Südkorea"},"gegen",{"$f":"LEFT($G$3, LEN($G$3) - LEN(TRIM(RIGHT(SUBSTITUTE(TRIM($G$3), \" \", REPT(\" \", 100)), 100))) - 1)","v":"Tschechien"},{"$f":"LEFT($E$4, LEN($E$4) - LEN(TRIM(RIGHT(SUBSTITUTE(TRIM($E$4), \" \", REPT(\" \", 100)), 100))) - 1)","v":"Kanada"},"gegen",{"$f":"LEFT($G$4, LEN($G$4) - LEN(TRIM(RIGHT(SUBSTITUTE(TRIM($G$4), \" \", REPT(\" \", 100)), 100))) - 1)","v":"Bosnien-Herzegowina"},{"$f":"LEFT($E$5, LEN($E$5) - LEN(TRIM(RIGHT(SUBSTITUTE(TRIM($E$5), \" \", REPT(\" \", 100)), 100))) - 1)","v":"USA"},"gegen",{"$f":"LEFT($G$5, LEN($G$5) - LEN(TRIM(RIGHT(SUBSTITUTE(TRIM($G$5), \" \", REPT(\" \", 100)), 100))) - 1)","v":"Paraguay"},{"$f":"LEFT($E$6, LEN($E$6) - LEN(TRIM(RIGHT(SUBSTITUTE(TRIM($E$6), \" \", REPT(\" \", 100)), 100))) - 1)","v":"Katar"},"gegen",{"$f":"LEFT($G$6, LEN($G$6) - LEN(TRIM(RIGHT(SUBSTITUTE(TRIM($G$6), \" \", REPT(\" \", 100)), 100))) - 1)","v":"Schweiz"},{"$f":"LEFT($E$7, LEN($E$7) - LEN(TRIM(RIGHT(SUBSTITUTE(TRIM($E$7), \" \", REPT(\" \", 100)), 100))) - 1)","v":"Brasilien"},"gegen",{"$f":"LEFT($G$7, LEN($G$7) - LEN(TRIM(RIGHT(SUBSTITUTE(TRIM($G$7), \" \", REPT(\" \", 100)), 100))) - 1)","v":"Marokko"},{"$f":"LEFT($E$8, LEN($E$8) - LEN(TRIM(RIGHT(SUBSTITUTE(TRIM($E$8), \" \", REPT(\" \", 100)), 100))) - 1)","v":"Haiti"},"gegen",{"$f":"LEFT($G$8, LEN($G$8) - LEN(TRIM(RIGHT(SUBSTITUTE(TRIM($G$8), \" \", REPT(\" \", 100)), 100))) - 1)","v":"Schottland"},{"$f":"LEFT($E$9, LEN($E$9) - LEN(TRIM(RIGHT(SUBSTITUTE(TRIM($E$9), \" \", REPT(\" \", 100)), 100))) - 1)","v":"Australien"},"gegen",{"$f":"LEFT($G$9, LEN($G$9) - LEN(TRIM(RIGHT(SUBSTITUTE(TRIM($G$9), \" \", REPT(\" \", 100)), 100))) - 1)","v":"Türkei"},{"$f":"LEFT($E$10, LEN($E$10) - LEN(TRIM(RIGHT(SUBSTITUTE(TRIM($E$10), \" \", REPT(\" \", 100)), 100))) - 1)","v":"Deutschland"},"gegen",{"$f":"LEFT($G$10, LEN($G$10) - LEN(TRIM(RIGHT(SUBSTITUTE(TRIM($G$10), \" \", REPT(\" \", 100)), 100))) - 1)","v":"Curaçao"},{"$f":"LEFT($E$11, LEN($E$11) - LEN(TRIM(RIGHT(SUBSTITUTE(TRIM($E$11), \" \", REPT(\" \", 100)), 100))) - 1)","v":"Niederlande"},"gegen",{"$f":"LEFT($G$11, LEN($G$11) - LEN(TRIM(RIGHT(SUBSTITUTE(TRIM($G$11), \" \", REPT(\" \", 100)), 100))) - 1)","v":"Japan"},{"$f":"LEFT($E$12, LEN($E$12) - LEN(TRIM(RIGHT(SUBSTITUTE(TRIM($E$12), \" \", REPT(\" \", 100)), 100))) - 1)","v":"Elfenbeinküste"},"gegen",{"$f":"LEFT($G$12, LEN($G$12) - LEN(TRIM(RIGHT(SUBSTITUTE(TRIM($G$12), \" \", REPT(\" \", 100)), 100))) - 1)","v":"Ecuador"},{"$f":"LEFT($E$13, LEN($E$13) - LEN(TRIM(RIGHT(SUBSTITUTE(TRIM($E$13), \" \", REPT(\" \", 100)), 100))) - 1)","v":"Schweden"},"gegen",{"$f":"LEFT($G$13, LEN($G$13) - LEN(TRIM(RIGHT(SUBSTITUTE(TRIM($G$13), \" \", REPT(\" \", 100)), 100))) - 1)","v":"Tunesien"},{"$f":"LEFT($E$14, LEN($E$14) - LEN(TRIM(RIGHT(SUBSTITUTE(TRIM($E$14), \" \", REPT(\" \", 100)), 100))) - 1)","v":"Spanien"},"gegen",{"$f":"LEFT($G$14, LEN($G$14) - LEN(TRIM(RIGHT(SUBSTITUTE(TRIM($G$14), \" \", REPT(\" \", 100)), 100))) - 1)","v":"Kap Verde"},{"$f":"LEFT($E$15, LEN($E$15) - LEN(TRIM(RIGHT(SUBSTITUTE(TRIM($E$15), \" \", REPT(\" \", 100)), 100))) - 1)","v":"Belgien"},"gegen",{"$f":"LEFT($G$15, LEN($G$15) - LEN(TRIM(RIGHT(SUBSTITUTE(TRIM($G$15), \" \", REPT(\" \", 100)), 100))) - 1)","v":"Ägypten"},{"$f":"LEFT($E$16, LEN($E$16) - LEN(TRIM(RIGHT(SUBSTITUTE(TRIM($E$16), \" \", REPT(\" \", 100)), 100))) - 1)","v":"Saudi-Arabien"},"gegen",{"$f":"LEFT($G$16, LEN($G$16) - LEN(TRIM(RIGHT(SUBSTITUTE(TRIM($G$16), \" \", REPT(\" \", 100)), 100))) - 1)","v":"Uruguay"},{"$f":"LEFT($E$17, LEN($E$17) - LEN(TRIM(RIGHT(SUBSTITUTE(TRIM($E$17), \" \", REPT(\" \", 100)), 100))) - 1)","v":"Iran"},"gegen",{"$f":"LEFT($G$17, LEN($G$17) - LEN(TRIM(RIGHT(SUBSTITUTE(TRIM($G$17), \" \", REPT(\" \", 100)), 100))) - 1)","v":"Neuseeland"},{"$f":"LEFT($E$18, LEN($E$18) - LEN(TRIM(RIGHT(SUBSTITUTE(TRIM($E$18), \" \", REPT(\" \", 100)), 100))) - 1)","v":"Frankreich"},"gegen",{"$f":"LEFT($G$18, LEN($G$18) - LEN(TRIM(RIGHT(SUBSTITUTE(TRIM($G$18), \" \", REPT(\" \", 100)), 100))) - 1)","v":"Senegal"},{"$f":"LEFT($E$19, LEN($E$19) - LEN(TRIM(RIGHT(SUBSTITUTE(TRIM($E$19), \" \", REPT(\" \", 100)), 100))) - 1)","v":"Irak"},"gegen",{"$f":"LEFT($G$19, LEN($G$19) - LEN(TRIM(RIGHT(SUBSTITUTE(TRIM($G$19), \" \", REPT(\" \", 100)), 100))) - 1)","v":"Norwegen"},{"$f":"LEFT($E$20, LEN($E$20) - LEN(TRIM(RIGHT(SUBSTITUTE(TRIM($E$20), \" \", REPT(\" \", 100)), 100))) - 1)","v":"Argentinien"},"gegen",{"$f":"LEFT($G$20, LEN($G$20) - LEN(TRIM(RIGHT(SUBSTITUTE(TRIM($G$20), \" \", REPT(\" \", 100)), 100))) - 1)","v":"Algerien"},{"$f":"LEFT($E$21, LEN($E$21) - LEN(TRIM(RIGHT(SUBSTITUTE(TRIM($E$21), \" \", REPT(\" \", 100)), 100))) - 1)","v":"Österreich"},"gegen",{"$f":"LEFT($G$21, LEN($G$21) - LEN(TRIM(RIGHT(SUBSTITUTE(TRIM($G$21), \" \", REPT(\" \", 100)), 100))) - 1)","v":"Jordanien"},{"$f":"LEFT($E$22, LEN($E$22) - LEN(TRIM(RIGHT(SUBSTITUTE(TRIM($E$22), \" \", REPT(\" \", 100)), 100))) - 1)","v":"Portugal"},"gegen",{"$f":"LEFT($G$22, LEN($G$22) - LEN(TRIM(RIGHT(SUBSTITUTE(TRIM($G$22), \" \", REPT(\" \", 100)), 100))) - 1)","v":"DR Kongo"},{"$f":"LEFT($E$23, LEN($E$23) - LEN(TRIM(RIGHT(SUBSTITUTE(TRIM($E$23), \" \", REPT(\" \", 100)), 100))) - 1)","v":"England"},"gegen",{"$f":"LEFT($G$23, LEN($G$23) - LEN(TRIM(RIGHT(SUBSTITUTE(TRIM($G$23), \" \", REPT(\" \", 100)), 100))) - 1)","v":"Kroatien"},{"$f":"LEFT($E$24, LEN($E$24) - LEN(TRIM(RIGHT(SUBSTITUTE(TRIM($E$24), \" \", REPT(\" \", 100)), 100))) - 1)","v":"Ghana"},"gegen",{"$f":"LEFT($G$24, LEN($G$24) - LEN(TRIM(RIGHT(SUBSTITUTE(TRIM($G$24), \" \", REPT(\" \", 100)), 100))) - 1)","v":"Panama"},{"$f":"LEFT($E$25, LEN($E$25) - LEN(TRIM(RIGHT(SUBSTITUTE(TRIM($E$25), \" \", REPT(\" \", 100)), 100))) - 1)","v":"Usbekistan"},"gegen",{"$f":"LEFT($G$25, LEN($G$25) - LEN(TRIM(RIGHT(SUBSTITUTE(TRIM($G$25), \" \", REPT(\" \", 100)), 100))) - 1)","v":"Kolumbien"},"NAME",null,null,null,null,null,null,null,null,null,null,null,null,null,null,null,null,null,null,null,null,null,null,null,null,null,null,null,null,null,null,null,null,null,null,null,null,null,null,null,null,null,null,null,null,null,null,null,null,null,null,null,null,null,null,null,null,null,null,null,null,null,null,null,null,null,null,null,null,null,null,null,null,null,null,null,null,null,null,null,null,null,null,null,null,null,null,null,null,null,null,null,null,null,null,null,null,null,null,null,null,null,null,null,null,null,null,null,null,null,null,null,null,null,null,null,null,null,null,null,null,"Summe","Übertrag","GESAMT"]
["2026-06-12T04:00:00",46185.166666666664,"2026-06-11T20:00:00",2,"Südkorea (A3)","-","Tschechien (A4)",2,":",1,"Mexiko / Estadio Akron (Guadalajara)","1. Gruppenspiel","MagentaTV (Telekom) Free-TV",{"$f":"IF($J3<>\"\",1,0)","v":1}]
["2026-06-12T21:00:00",46185.875,"2026-06-12T15:00:00",3,"Kanada (B1)","-","Bosnien-Herzegowina (B2)",1,":",1,"Kanada / BMO Field (Toronto)","1. Gruppenspiel","ARD und MagentaTV",1]
["2026-06-13T03:00:00",46186.125,"2026-06-12T18:00:00",4,"USA (D1)","-","Paraguay (D2)",4,":",1,"USA / SoFi Stadium (Los Angeles)","1. Gruppenspiel","MagentaTV (Telekom) exklusiv",1]
["2026-06-13T21:00:00",46186.875,"2026-06-13T12:00:00",8,"Katar (B3)","-","Schweiz (B4)",1,":",1,"USA / Levi's Stadium (San Francisco Bay Area)","1. Gruppenspiel","ZDF und MagentaTV",1]
["2026-06-14",46187,"2026-06-13T18:00:00",7,"Brasilien (C1)","-","Marokko (C2)",1,":",1,"USA / MetLife Stadium (New York/New Jersey)","1. Gruppenspiel","ZDF und MagentaTV",1,"Tilo Schott",3,":",1,2,":",1,1,":",1,2,":",1,0,":",3,3,":",1,0,":",1,1,":",2,4,":",1,1,":",1,1,":",2,1,":",1,5,":",0,2,":",1,0,":",1,1,":",1,4,":",1,1,":",3,3,":",1,2,":",0,3,":",0,2,":",1,2,":",1,1,":",3,{"$f":"IF($O7<>\"\",$O7,\"\")","v":"Tilo Schott"},{"$f":"IF(AND($P7=$P$27,$R7=$R$27),3,0)","v":0},{"$f":"IF(AND($P7>$R7,$P$27>$R$27),2,0)","v":2},{"$f":"IF(AND($P7<$R7,$P$27<$R$27),2,0)","v":0},{"$f":"IF(AND($P7=$R7,$P$27=$R$27),2,0)","v":0},{"$f":"IF($R$27=\"-\",0,MAX(CK7:CN7))","v":2},{"$f":"IF(AND($S7=$S$27,$U7=$U$27),3,0)","v":3},{"$f":"IF(AND($S7>$U7,$S$27>$U$27),2,0)","v":2},{"$f":"IF(AND($S7<$U7,$S$27<$U$27),2,0)","v":0},{"$f":"IF(AND($S7=$U7,$S$27=$U$27),2,0)","v":0},{"$f":"IF($U$27=\"-\",0,MAX(CP7:CS7))","v":3},{"$f":"IF(AND($V7=$V$27,$X7=$X$27),3,0)","v":3},{"$f":"IF(AND($V7>$X7,$V$27>$X$27),2,0)","v":0},{"$f":"IF(AND($V7<$X7,$V$27<$X$27),2,0)","v":0},{"$f":"IF(AND($V7=$X7,$V$27=$X$27),2,0)","v":2},{"$f":"IF($X$27=\"-\",0,MAX(CU7:CX7))","v":3},{"$f":"IF(AND($Y7=$Y$27,$AA7=$AA$27),3,0)","v":0},{"$f":"IF(AND($Y7>$AA7,$Y$27>$AA$27),2,0)","v":2},{"$f":"IF(AND($Y7<$AA7,$Y$27<$AA$27),2,0)","v":0},{"$f":"IF(AND($Y7=$AA7,$Y$27=$AA$27),2,0)","v":0},{"$f":"IF($AA$27=\"-\",0,MAX(CZ7:DC7))","v":2},{"$f":"IF(AND($AB7=$AB$27,$AD7=$AD$27),3,0)","v":0},{"$f":"IF(AND($AB7>$AD7,$AB$27>$AD$27),2,0)","v":0},{"$f":"IF(AND($AB7<$AD7,$AB$27<$AD$27),2,0)","v":0},{"$f":"IF(AND($AB7=$AD7,$AB$27=$AD$27),2,0)","v":0},{"$f":"IF($AD$27=\"-\",0,MAX(DE7:DH7))","v":0},{"$f":"IF(AND($AE7=$AE$27,$AG7=$AG$27),3,0)","v":0},{"$f":"IF(AND($AE7>$AG7,$AE$27>$AG$27),2,0)","v":0},{"$f":"IF(AND($AE7<$AG7,$AE$27<$AG$27),2,0)","v":0},{"$f":"IF(AND($AE7=$AG7,$AE$27=$AG$27),2,0)","v":0},{"$f":"IF($AG$27=\"-\",0,MAX(DJ7:DM7))","v":0},{"$f":"IF(AND($AH7=$AH$27,$AJ7=$AJ$27),3,0)","v":3},{"$f":"IF(AND($AH7>$AJ7,$AH$27>$AJ$27),2,0)","v":0},{"$f":"IF(AND($AH7<$AJ7,$AH$27<$AJ$27),2,0)","v":2},{"$f":"IF(AND($AH7=$AJ7,$AH$27=$AJ$27),2,0)","v":0},{"$f":"IF($AJ$27=\"-\",0,MAX(DO7:DR7))","v":3},{"$f":"IF(AND($AK7=$AK$27,$AM7=$AM$27),3,0)","v":0},{"$f":"IF(AND($AK7>$AM7,$AK$27>$AM$27),2,0)","v":0},{"$f":"IF(AND($AK7<$AM7,$AK$27<$AM$27),2,0)","v":0},{"$f":"IF(AND($AK7=$AM7,$AK$27=$AM$27),2,0)","v":0},{"$f":"IF($AM$27=\"-\",0,MAX(DT7:DW7))","v":0},{"$f":"IF(AND($AN7=$AN$27,$AP7=$AP$27),3,0)","v":0},{"$f":"IF(AND($AN7>$AP7,$AN$27>$AP$27),2,0)","v":2},{"$f":"IF(AND($AN7<$AP7,$AN$27<$AP$27),2,0)","v":0},{"$f":"IF(AND($AN7=$AP7,$AN$27=$AP$27),2,0)","v":0},{"$f":"IF($AP$27=\"-\",0,MAX(DY7:EB7))","v":2},{"$f":"IF(AND($AQ7=$AQ$27,$AS7=$AS$27),3,0)","v":0},{"$f":"IF(AND($AQ7>$AS7,$AQ$27>$AS$27),2,0)","v":0},{"$f":"IF(AND($AQ7<$AS7,$AQ$27<$AS$27),2,0)","v":0},{"$f":"IF(AND($AQ7=$AS7,$AQ$27=$AS$27),2,0)","v":2},{"$f":"IF($AS$27=\"-\",0,MAX(ED7:EG7))","v":2},{"$f":"IF(AND($AT7=$AT$27,$AV7=$AV$27),3,0)","v":0},{"$f":"IF(AND($AT7>$AV7,$AT$27>$AV$27),2,0)","v":0},{"$f":"IF(AND($AT7<$AV7,$AT$27<$AV$27),2,0)","v":0},{"$f":"IF(AND($AT7=$AV7,$AT$27=$AV$27),2,0)","v":0},{"$f":"IF($AV$27=\"-\",0,MAX(EI7:EL7))","v":0},{"$f":"IF(AND($AW7=$AW$27,$AY7=$AY$27),3,0)","v":0},{"$f":"IF(AND($AW7>$AY7,$AW$27>$AY$27),2,0)","v":0},{"$f":"IF(AND($AW7<$AY7,$AW$27<$AY$27),2,0)","v":0},{"$f":"IF(AND($AW7=$AY7,$AW$27=$AY$27),2,0)","v":0},{"$f":"IF($AY$27=\"-\",0,MAX(EN7:EQ7))","v":0},{"$f":"IF(AND($AZ7=$AZ$27,$BB7=$BB$27),3,0)","v":0},{"$f":"IF(AND($AZ7>$BB7,$AZ$27>$BB$27),2,0)","v":0},{"$f":"IF(AND($AZ7<$BB7,$AZ$27<$BB$27),2,0)","v":0},{"$f":"IF(AND($AZ7=$BB7,$AZ$27=$BB$27),2,0)","v":0},{"$f":"IF($BB$27=\"-\",0,MAX(ES7:EV7))","v":0},{"$f":"IF(AND($BC7=$BC$27,$BE7=$BE$27),3,0)","v":0},{"$f":"IF(AND($BC7>$BE7,$BC$27>$BE$27),2,0)","v":0},{"$f":"IF(AND($BC7<$BE7,$BC$27<$BE$27),2,0)","v":0},{"$f":"IF(AND($BC7=$BE7,$BC$27=$BE$27),2,0)","v":0},{"$f":"IF($BE$27=\"-\",0,MAX(EX7:FA7))","v":0},{"$f":"IF(AND($BF7=$BF$27,$BH7=$BH$27),3,0)","v":0},{"$f":"IF(AND($BF7>$BH7,$BF$27>$BH$27),2,0)","v":0},{"$f":"IF(AND($BF7<$BH7,$BF$27<$BH$27),2,0)","v":0},{"$f":"IF(AND($BF7=$BH7,$BF$27=$BH$27),2,0)","v":0},{"$f":"IF($BH$27=\"-\",0,MAX(FC7:FF7))","v":0},{"$f":"IF(AND($BI7=$BI$27,$BK7=$BK$27),3,0)","v":0},{"$f":"IF(AND($BI7>$BK7,$BI$27>$BK$27),2,0)","v":0},{"$f":"IF(AND($BI7<$BK7,$BI$27<$BK$27),2,0)","v":0},{"$f":"IF(AND($BI7=$BK7,$BI$27=$BK$27),2,0)","v":2},{"$f":"IF($BK$27=\"-\",0,MAX(FH7:FK7))","v":2},{"$f":"IF(AND($BL7=$BL$27,$BN7=$BN$27),3,0)","v":0},{"$f":"IF(AND($BL7>$BN7,$BL$27>$BN$27),2,0)","v":2},{"$f":"IF(AND($BL7<$BN7,$BL$27<$BN$27),2,0)","v":0},{"$f":"IF(AND($BL7=$BN7,$BL$27=$BN$27),2,0)","v":0},{"$f":"IF($BN$27=\"-\",0,MAX(FM7:FP7))","v":2},{"$f":"IF(AND($BO7=$BO$27,$BQ7=$BQ$27),3,0)","v":0},{"$f":"IF(AND($BO7>$BQ7,$BO$27>$BQ$27),2,0)","v":0},{"$f":"IF(AND($BO7<$BQ7,$BO$27<$BQ$27),2,0)","v":2},{"$f":"IF(AND($BO7=$BQ7,$BO$27=$BQ$27),2,0)","v":0},{"$f":"IF($BQ$27=\"-\",0,MAX(FR7:FU7))","v":2},{"$f":"IF(AND($BR7=$BR$27,$BT7=$BT$27),3,0)","v":0},{"$f":"IF(AND($BR7>$BT7,$BR$27>$BT$27),2,0)","v":2},{"$f":"IF(AND($BR7<$BT7,$BR$27<$BT$27),2,0)","v":0},{"$f":"IF(AND($BR7=$BT7,$BR$27=$BT$27),2,0)","v":0},{"$f":"IF($BT$27=\"-\",0,MAX(FW7:FZ7))","v":2},{"$f":"IF(AND($BU7=$BU$27,$BW7=$BW$27),3,0)","v":0},{"$f":"IF(AND($BU7>$BW7,$BU$27>$BW$27),2,0)","v":2},{"$f":"IF(AND($BU7<$BW7,$BU$27<$BW$27),2,0)","v":0},{"$f":"IF(AND($BU7=$BW7,$BU$27=$BW$27),2,0)","v":0},{"$f":"IF($BW$27=\"-\",0,MAX(GB7:GE7))","v":2},{"$f":"IF(AND($BX7=$BX$27,$BZ7=$BZ$27),3,0)","v":0},{"$f":"IF(AND($BX7>$BZ7,$BX$27>$BZ$27),2,0)","v":0},{"$f":"IF(AND($BX7<$BZ7,$BX$27<$BZ$27),2,0)","v":0},{"$f":"IF(AND($BX7=$BZ7,$BX$27=$BZ$27),2,0)","v":0},{"$f":"IF($BZ$27=\"-\",0,MAX(GG7:GJ7))","v":0},{"$f":"IF(AND($CA7=$CA$27,$CC7=$CC$27),3,0)","v":0},{"$f":"IF(AND($CA7>$CC7,$CA$27>$CC$27),2,0)","v":2},{"$f":"IF(AND($CA7<$CC7,$CA$27<$CC$27),2,0)","v":0},{"$f":"IF(AND($CA7=$CC7,$CA$27=$CC$27),2,0)","v":0},{"$f":"IF($CC$27=\"-\",0,MAX(GL7:GO7))","v":2},{"$f":"IF(AND($CD7=$CD$27,$CF7=$CF$27),3,0)","v":0},{"$f":"IF(AND($CD7>$CF7,$CD$27>$CF$27),2,0)","v":2},{"$f":"IF(AND($CD7<$CF7,$CD$27<$CF$27),2,0)","v":0},{"$f":"IF(AND($CD7=$CF7,$CD$27=$CF$27),2,0)","v":0},{"$f":"IF($CF$27=\"-\",0,MAX(GQ7:GT7))","v":2},{"$f":"IF(AND($CG7=$CG$27,$CI7=$CI$27),3,0)","v":3},{"$f":"IF(AND($CG7>$CI7,$CG$27>$CI$27),2,0)","v":0},{"$f":"IF(AND($CG7<$CI7,$CG$27<$CI$27),2,0)","v":2},{"$f":"IF(AND($CG7=$CI7,$CG$27=$CI$27),2,0)","v":0},{"$f":"IF($CI$27=\"-\",0,MAX(GV7:GY7))","v":3},{"$f":"SUM(CO7,CT7,CY7,DD7,DI7,DN7,DS7,DX7,EC7,EH7,EM7,ER7,EW7,FB7,FG7,FL7,FQ7,FV7,GA7,GF7,GK7,GP7,GU7,GZ7)","v":34},0,{"$f":"SUM(HA7:HB7)","v":34}]
["2026-06-14T03:00:00",46187.125,"2026-06-13T21:00:00",5,"Haiti (C3)","-","Schottland (C4)",0,":",1,"USA / Gillette Stadium (Boston)","1. Gruppenspiel","ARD und MagentaTV",1,"Arno Schneucker",3,":",1,0,":",0,2,":",2,2,":",1,1,":",4,3,":",1,1,":",3,1,":",3,6,":",0,4,":",2,4,":",1,2,":",2,2,":",1,2,":",2,1,":",2,1,":",1,3,":",0,1,":",2,2,":",1,4,":",1,5,":",1,2,":",1,4,":",1,1,":",4,{"$f":"IF($O8<>\"\",$O8,\"\")","v":"Arno Schneucker"},0,2,0,0,2,0,0,0,0,0,0,0,0,2,2,0,2,0,0,2,0,0,0,0,0,0,0,0,0,0,0,0,2,0,2,0,0,0,0,0,0,2,0,0,2,0,0,0,0,0,0,2,0,0,2,0,0,0,0,0,0,0,0,0,0,0,0,0,2,2,0,0,0,0,0,0,0,0,2,2,0,2,0,0,2,0,0,2,0,2,0,2,0,0,2,0,2,0,0,2,0,0,0,0,0,0,2,0,0,2,0,2,0,0,2,0,0,2,0,2,{"$f":"SUM(CO8,CT8,CY8,DD8,DI8,DN8,DS8,DX8,EC8,EH8,EM8,ER8,EW8,FB8,FG8,FL8,FQ8,FV8,GA8,GF8,GK8,GP8,GU8,GZ8)","v":30},0,{"$f":"SUM(HA8:HB8)","v":30}]
["2026-06-14T06:00:00",46187.25,"2026-06-13T21:00:00",6,"Australien (D3)","-","Türkei (D4)",2,":",0,"Kanada / BC Place Stadium (Vancouver)","1. Gruppenspiel","MagentaTV (Telekom) exklusiv",1,"Silke Seibert",3,":",0,1,":",3,1,":",2,2,":",1,0,":",4,4,":",1,0,":",2,0,":",1,5,":",0,3,":",2,1,":",1,2,":",1,6,":",0,2,":",0,0,":",3,0,":",0,4,":",0,0,":",3,4,":",0,3,":",0,4,":",0,2,":",2,3,":",1,1,":",5,"Silke Seibert",0,2,0,0,2,0,0,0,0,0,0,0,0,0,0,0,2,0,0,2,0,0,0,0,0,0,0,0,0,0,0,0,2,0,2,0,0,0,0,0,0,2,0,0,2,0,0,0,0,0,0,0,0,0,0,0,2,0,0,2,0,0,0,0,0,0,0,0,0,0,0,0,0,0,0,0,0,0,2,2,0,2,0,0,2,0,0,2,0,2,0,2,0,0,2,0,2,0,0,2,0,0,0,0,0,0,0,0,0,0,0,2,0,0,2,0,0,2,0,2,24,0,24]
["2026-06-14T19:00:00",46187.791666666664,"2026-06-14T12:00:00",10,"Deutschland (E1)","-","Curaçao (E2)",7,":",1,"USA / NRG Stadium (Houston)","1. Gruppenspiel","ARD und MagentaTV",1,"Robert Krieg",1,":",0,2,":",1,1,":",0,1,":",1,0,":",3,4,":",1,1,":",2,0,":",0,1,":",0,1,":",0,2,":",1,1,":",2,4,":",1,1,":",0,0,":",2,0,":",0,4,":",1,1,":",2,3,":",0,1,":",0,2,":",1,4,":",3,2,":",0,0,":",1,"Robert Krieg",0,2,0,0,2,3,2,0,0,3,0,0,0,0,0,0,0,0,0,0,0,0,0,0,0,0,0,0,0,0,0,0,2,0,2,0,0,0,0,0,0,2,0,0,2,0,0,0,0,0,0,2,0,0,2,0,0,0,0,0,0,0,0,0,0,0,0,0,0,0,0,0,0,0,0,0,0,0,2,2,0,2,0,0,2,0,0,2,0,2,3,2,0,0,3,0,2,0,0,2,0,0,0,0,0,0,2,0,0,2,0,2,0,0,2,0,0,2,0,2,28,0,28]
["2026-06-14T22:00:00",46187.916666666664,"2026-06-14T15:00:00",11,"Niederlande (F1)","-","Japan (F2)",2,":",2,"USA / AT&T Stadium (Dallas)","1. Gruppenspiel","MagentaTV (Telekom) exklusiv",1,"Lothar Jungk",2,":",1,1,":",2,1,":",2,2,":",2,1,":",3,4,":",0,1,":",1,1,":",3,2,":",0,2,":",0,2,":",2,1,":",1,5,":",0,2,":",1,0,":",3,0,":",0,2,":",0,1,":",3,3,":",0,2,":",0,2,":",1,3,":",1,3,":",0,1,":",3,"Lothar Jungk",0,2,0,0,2,0,0,0,0,0,0,0,0,0,0,0,0,0,0,0,0,0,0,0,0,0,0,0,0,0,0,0,0,0,0,0,0,0,0,0,0,2,0,0,2,0,0,0,0,0,0,0,0,0,0,0,0,0,0,0,0,0,0,0,0,0,0,0,0,0,0,0,0,0,0,0,0,0,2,2,0,2,0,0,2,0,0,2,0,2,3,2,0,0,3,0,2,0,0,2,0,0,0,0,0,0,2,0,0,2,0,2,0,0,2,3,0,2,0,3,22,0,22]
["2026-06-15T01:00:00",46188.041666666664,"2026-06-14T19:00:00",9,"Elfenbeinküste (E3)","-","Ecuador (E4)",1,":",0,"USA / Lincoln Financial Field (Philadelphia)","1. Gruppenspiel","ARD und MagentaTV",1,"Jakob Well",2,":",0,2,":",1,2,":",1,2,":",0,1,":",3,2,":",1,0,":",3,1,":",3,4,":",1,3,":",2,2,":",1,1,":",1,3,":",0,3,":",1,1,":",2,1,":",1,3,":",1,1,":",4,2,":",0,3,":",0,4,":",1,2,":",1,2,":",0,1,":",3,"Jakob Well",3,2,0,0,3,3,2,0,0,3,0,0,0,0,0,0,2,0,0,2,0,0,0,0,0,0,0,0,0,0,0,0,2,0,2,0,0,0,0,0,0,2,0,0,2,0,0,0,0,0,0,2,0,0,2,0,0,0,0,0,0,0,0,0,0,0,0,0,0,0,0,0,0,0,0,0,0,0,2,2,3,2,0,0,3,3,0,2,0,3,0,2,0,0,2,0,2,0,0,2,0,0,0,0,0,0,2,0,0,2,0,2,0,0,2,3,0,2,0,3,33,0,33]
["2026-06-15T04:00:00",46188.166666666664,"2026-06-14T20:00:00",12,"Schweden (F3)","-","Tunesien (F4)",5,":",1,"Mexiko / Estadio BBVA (Monterrey)","1. Gruppenspiel","MagentaTV (Telekom) exklusiv",1,"Marco Frank",2,":",0,2,":",1,1,":",2,2,":",0,1,":",3,4,":",0,0,":",3,1,":",3,3,":",0,2,":",0,2,":",1,1,":",1,6,":",0,2,":",0,1,":",3,3,":",1,4,":",1,1,":",2,4,":",1,3,":",0,4,":",1,2,":",1,1,":",1,1,":",2,"Marco Frank",3,2,0,0,3,3,2,0,0,3,0,0,0,0,0,0,2,0,0,2,0,0,0,0,0,0,0,0,0,0,0,0,2,0,2,0,0,0,0,0,0,2,0,0,2,0,0,0,0,0,0,2,0,0,2,0,0,0,0,0,0,0,0,0,0,0,0,0,0,0,0,0,0,0,0,0,0,0,0,0,0,2,0,0,2,0,0,2,0,2,0,2,0,0,2,0,2,0,0,2,0,0,0,0,0,0,2,0,0,2,0,0,0,0,0,0,0,2,0,2,26,0,26]
["2026-06-15T18:00:00",46188.75,"2026-06-15T12:00:00",14,"Spanien (H1)","-","Kap Verde (H2)",0,":",0,"USA / Mercedes-Benz Stadium (Atlanta)","1. Gruppenspiel","ARD und MagentaTV",1,"Simon Schott",4,":",1,0,":",1,1,":",1,2,":",0,0,":",4,3,":",2,0,":",1,1,":",2,4,":",1,2,":",2,0,":",3,1,":",1,4,":",1,2,":",1,0,":",2,1,":",0,5,":",2,1,":",2,2,":",1,2,":",1,3,":",1,3,":",2,2,":",2,1,":",3,"Simon Schott",0,2,0,0,2,0,0,0,0,0,3,0,0,2,3,0,2,0,0,2,0,0,0,0,0,0,0,0,0,0,3,0,2,0,3,0,0,0,0,0,0,2,0,0,2,3,0,0,2,3,0,0,0,0,0,0,0,0,0,0,0,0,0,0,0,0,0,0,0,0,0,0,0,0,0,0,0,0,0,0,0,2,0,0,2,0,0,2,0,2,0,2,0,0,2,0,2,0,0,2,0,0,0,0,0,0,2,0,0,2,0,0,0,0,0,3,0,2,0,3,28,0,28]
["2026-06-15T21:00:00",46188.875,"2026-06-15T12:00:00",16,"Belgien (G1)","-","Ägypten (G2)",1,":",1,"USA / Lumen Field (Seattle)","1. Gruppenspiel","ARD und MagentaTV",1,"Lennart Rechmann",3,":",1,1,":",1,1,":",2,2,":",1,0,":",4,3,":",2,0,":",2,1,":",2,5,":",0,2,":",1,1,":",1,2,":",0,2,":",0,1,":",0,0,":",3,1,":",2,2,":",0,1,":",3,2,":",2,2,":",0,2,":",0,1,":",1,2,":",1,0,":",2,"Lennart Rechmann",0,2,0,0,2,0,0,0,0,0,0,0,0,0,0,0,2,0,0,2,0,0,0,0,0,0,0,0,0,0,0,0,2,0,2,0,0,0,0,0,0,2,0,0,2,0,0,0,0,0,0,0,0,0,0,0,2,0,0,2,0,0,0,0,0,0,0,0,0,0,0,0,0,0,0,0,0,0,0,0,0,2,0,0,2,0,0,2,0,2,0,0,0,0,0,0,2,0,0,2,0,0,0,0,0,0,0,0,0,0,0,2,0,0,2,0,0,2,0,2,20,0,20]
["2026-06-16",46189,"2026-06-15T18:00:00",13,"Saudi-Arabien (H3)","-","Uruguay (H4)",1,":",1,"USA / Hard Rock Stadium (Miami)","1. Gruppenspiel","ZDF und MagentaTV",1,"Albrecht Well",3,":",1,2,":",1,1,":",0,2,":",0,1,":",2,2,":",0,1,":",2,1,":",1,4,":",1,3,":",0,3,":",1,1,":",1,3,":",1,2,":",0,1,":",1,1,":",1,3,":",0,1,":",1,2,":",0,3,":",1,3,":",1,1,":",1,2,":",1,1,":",2,"Albrecht Well",0,2,0,0,2,3,2,0,0,3,0,0,0,0,0,0,2,0,0,2,0,0,0,0,0,0,0,0,0,0,0,0,2,0,2,0,0,0,0,0,0,2,0,0,2,0,0,0,0,0,0,2,0,0,2,0,0,0,0,0,0,0,0,0,0,0,0,0,0,0,3,0,0,2,3,0,0,0,2,2,0,2,0,0,2,0,0,0,0,0,0,2,0,0,2,3,2,0,0,3,0,0,0,0,0,0,0,0,0,0,0,2,0,0,2,0,0,2,0,2,29,0,29]
["2026-06-16T03:00:00",46189.125,"2026-06-15T18:00:00",15,"Iran (G3)","-","Neuseeland (G4)",2,":",2,"USA / SoFi Stadium (Los Angeles)","1. Gruppenspiel","ZDF und MagentaTV",1,"Christoph Hoffmann ",2,":",0,2,":",1,1,":",0,2,":",0,1,":",5,2,":",2,1,":",2,1,":",5,8,":",0,2,":",3,2,":",1,1,":",1,7,":",2,2,":",0,0,":",3,1,":",0,5,":",2,1,":",3,5,":",2,2,":",0,3,":",0,2,":",2,1,":",2,1,":",2,"Christoph Hoffmann ",3,2,0,0,3,3,2,0,0,3,0,0,0,0,0,0,2,0,0,2,0,0,0,0,0,0,0,0,2,2,0,0,2,0,2,0,0,0,0,0,0,2,0,0,2,0,0,0,0,0,0,2,0,0,2,0,0,0,0,0,0,0,0,0,0,0,0,0,0,0,0,0,0,0,0,0,0,0,0,0,0,2,0,0,2,0,0,2,0,2,0,2,0,0,2,0,2,0,0,2,0,0,0,0,0,0,0,0,0,0,0,0,0,0,0,0,0,2,0,2,26,0,26]
["2026-06-16T21:00:00",46189.875,"2026-06-16T15:00:00",17,"Frankreich (I1)","-","Senegal (I2)",3,":",1,"USA / MetLife Stadium (New York/New Jersey)","1. Gruppenspiel","MagentaTV (Telekom) exklusiv",1,"Helen Rechmann",2,":",1,1,":",1,0,":",2,2,":",1,1,":",4,1,":",2,0,":",1,0,":",3,3,":",0,2,":",2,2,":",1,1,":",0,5,":",0,2,":",0,1,":",3,2,":",0,3,":",1,0,":",3,4,":",1,3,":",0,3,":",1,2,":",1,3,":",1,0,":",3,"Helen Rechmann",0,2,0,0,2,0,0,0,0,0,0,0,0,0,0,0,2,0,0,2,0,0,0,0,0,0,0,0,0,0,3,0,2,0,3,0,0,0,0,0,0,2,0,0,2,3,0,0,2,3,0,2,0,0,2,0,2,0,0,2,0,0,0,0,0,0,0,0,0,0,0,0,0,0,0,0,0,0,0,0,3,2,0,0,3,0,0,2,0,2,0,2,0,0,2,0,2,0,0,2,0,0,0,0,0,0,2,0,0,2,0,2,0,0,2,0,0,2,0,2,31,0,31]
["2026-06-17",46190,"2026-06-16T18:00:00",18,"Irak (I3)","-","Norwegen (I4)",1,":",4,"USA / Gillette Stadium (Boston)","1. Gruppenspiel","MagentaTV (Telekom) exklusiv",1,"Ingrid Well",2,":",0,1,":",1,3,":",0,1,":",1,1,":",2,2,":",1,0,":",3,1,":",2,3,":",0,2,":",1,2,":",1,1,":",0,2,":",0,2,":",0,1,":",3,1,":",0,2,":",1,0,":",2,1,":",1,3,":",1,2,":",0,1,":",1,2,":",0,1,":",2,"Ingrid Well",3,2,0,0,3,0,0,0,0,0,0,0,0,0,0,0,0,0,0,0,0,0,0,0,0,0,0,0,0,0,0,0,2,0,2,0,0,0,0,0,0,2,0,0,2,0,0,0,0,0,0,2,0,0,2,0,2,0,0,2,0,0,0,0,0,0,0,0,0,0,0,0,0,0,0,0,0,0,0,0,0,2,0,0,2,0,0,2,0,2,0,0,0,0,0,3,2,0,0,3,0,0,0,0,0,0,0,0,0,0,0,2,0,0,2,0,0,2,0,2,22,0,22]
["2026-06-17T03:00:00",46190.125,"2026-06-16T20:00:00",19,"Argentinien (J1)","-","Algerien (J2)",3,":",0,"USA / Arrowhead Stadium (Kansas City)","1. Gruppenspiel","ARD und MagentaTV",1,"Joachim Well",3,":",1,1,":",1,2,":",1,2,":",1,0,":",3,2,":",0,0,":",3,0,":",2,4,":",0,3,":",0,2,":",1,1,":",0,5,":",0,2,":",0,1,":",3,1,":",0,3,":",1,0,":",2,2,":",1,3,":",0,2,":",0,1,":",1,2,":",0,1,":",2,"Joachim Well",0,2,0,0,2,0,0,0,0,0,0,0,0,0,0,0,2,0,0,2,0,0,0,0,0,0,0,0,0,0,0,0,2,0,2,0,0,0,0,0,0,2,0,0,2,0,0,0,0,0,0,2,0,0,2,0,2,0,0,2,0,0,0,0,0,0,0,0,0,0,0,0,0,0,0,0,0,0,0,0,3,2,0,0,3,0,0,2,0,2,0,2,0,0,2,0,2,0,0,2,0,0,0,0,0,0,0,0,0,0,0,2,0,0,2,0,0,2,0,2,25,0,25]
["2026-06-17T06:00:00",46190.25,"2026-06-16T21:00:00",20,"Österreich (J3)","-","Jordanien (J4)",3,":",1,"USA / Levi's Stadium (San Francisco Bay Area)","1. Gruppenspiel","ZDF und MagentaTV",1,"Lea Müller",4,":",0,1,":",1,3,":",0,3,":",0,0,":",2,4,":",0,0,":",3,0,":",1,4,":",0,3,":",1,1,":",0,2,":",0,3,":",1,2,":",0,0,":",2,1,":",3,5,":",0,2,":",0,4,":",0,3,":",0,4,":",0,2,":",2,1,":",1,0,":",1,"Lea Müller",0,2,0,0,2,0,0,0,0,0,0,0,0,0,0,0,2,0,0,2,0,0,0,0,0,0,0,0,0,0,0,0,2,0,2,0,0,0,0,0,0,2,0,0,2,0,0,0,0,0,3,2,0,0,3,0,2,0,0,2,0,0,0,0,0,0,0,0,0,0,0,0,0,0,0,0,0,0,0,0,0,2,0,0,2,0,0,0,0,0,0,2,0,0,2,0,2,0,0,2,0,0,0,0,0,0,0,0,0,0,0,0,0,0,0,0,0,2,0,2,21,0,21]
["2026-06-17T19:00:00",46190.791666666664,"2026-06-17T12:00:00",23,"Portugal (K1)","-","DR Kongo (K2)",1,":",1,"USA / NRG Stadium (Houston)","1. Gruppenspiel","ZDF und MagentaTV",1,"Sebastian Hausmann",2,":",0,1,":",1,1,":",1,1,":",0,0,":",2,1,":",1,0,":",2,0,":",2,6,":",0,1,":",2,0,":",0,1,":",0,3,":",0,1,":",1,0,":",2,2,":",0,2,":",0,0,":",2,1,":",0,2,":",0,3,":",0,1,":",0,2,":",0,0,":",2,"Sebastian Hausmann",3,2,0,0,3,0,0,0,0,0,3,0,0,2,3,0,2,0,0,2,0,0,0,0,0,3,0,0,2,3,0,0,2,0,2,0,0,0,0,0,0,2,0,0,2,0,0,0,0,0,0,0,0,0,0,0,2,0,0,2,0,0,0,0,0,3,0,0,2,3,0,0,0,0,0,0,0,0,0,0,0,2,0,0,2,0,0,2,0,2,0,2,0,0,2,0,2,0,0,2,0,0,0,0,0,0,2,0,0,2,0,2,0,0,2,0,0,2,0,2,34,0,34]
["2026-06-17T22:00:00",46190.916666666664,"2026-06-17T15:00:00",22,"England (L1)","-","Kroatien (L2)",4,":",2,"USA / AT&T Stadium (Dallas)","1. Gruppenspiel","ZDF und MagentaTV",1,"Stefan Rechmann",1,":",0,1,":",0,1,":",2,2,":",1,0,":",3,1,":",1,0,":",1,0,":",2,4,":",0,2,":",0,0,":",1,1,":",1,3,":",0,2,":",1,1,":",2,0,":",0,1,":",0,0,":",3,2,":",1,3,":",0,3,":",0,1,":",1,2,":",1,0,":",2,"Stefan Rechmann",0,2,0,0,2,0,2,0,0,2,0,0,0,0,0,0,2,0,0,2,0,0,0,0,0,3,0,0,2,3,3,0,2,0,3,0,0,0,0,0,0,2,0,0,2,0,0,0,0,0,0,0,0,0,0,0,0,0,0,0,0,0,0,0,0,0,0,0,0,0,0,0,0,0,0,0,0,0,2,2,0,2,0,0,2,0,0,2,0,2,0,2,0,0,2,0,2,0,0,2,0,0,0,0,0,0,0,0,0,0,0,2,0,0,2,0,0,2,0,2,28,0,28]
["2026-06-18T01:00:00",46191.041666666664,"2026-06-17T19:00:00",21,"Ghana (L3)","-","Panama (L4)",1,":",0,"Kanada / BMO Field (Toronto)","1. Gruppenspiel","MagentaTV (Telekom) exklusiv",1,"Uwe Diegel",2,":",0,1,":",1,2,":",1,2,":",1,0,":",2,1,":",1,0,":",2,1,":",2,4,":",0,2,":",1,1,":",1,1,":",1,3,":",0,2,":",1,0,":",2,2,":",0,2,":",1,0,":",2,2,":",0,2,":",0,3,":",0,2,":",1,1,":",1,0,":",2,"Uwe Diegel",3,2,0,0,3,0,0,0,0,0,0,0,0,0,0,0,2,0,0,2,0,0,0,0,0,3,0,0,2,3,0,0,2,0,2,0,0,0,0,0,0,2,0,0,2,0,0,0,0,0,0,0,0,0,0,0,0,0,0,0,0,0,0,0,0,0,0,0,0,0,0,0,0,0,0,0,0,0,0,0,0,2,0,0,2,0,0,2,0,2,0,2,0,0,2,0,2,0,0,2,0,0,0,0,0,0,2,0,0,2,0,0,0,0,0,0,0,2,0,2,24,0,24]
["2026-06-18T04:00:00",46191.166666666664,"2026-06-17T20:00:00",24,"Usbekistan (K3)","-","Kolumbien (K4)",1,":",3,"Mexiko / Azteca (Mexico City)","1. Gruppenspiel","MagentaTV (Telekom) exklusiv",1,"Stephan Seipp",1,":",2,1,":",3,2,":",2,2,":",1,1,":",4,2,":",0,1,":",2,1,":",2,3,":",0,1,":",2,2,":",0,2,":",1,4,":",0,2,":",1,1,":",3,0,":",0,3,":",1,1,":",2,3,":",0,2,":",0,3,":",0,2,":",1,2,":",0,1,":",2,"Stephan Seipp",0,0,0,0,0,0,0,0,0,0,0,0,0,2,2,0,2,0,0,2,0,0,0,0,0,0,0,0,0,0,0,0,2,0,2,0,0,0,0,0,0,2,0,0,2,0,0,0,0,0,0,2,0,0,2,0,2,0,0,2,0,0,0,0,0,0,0,0,0,0,0,0,0,0,0,0,0,0,2,2,3,2,0,0,3,0,0,2,0,2,3,2,0,0,3,0,2,0,0,2,0,0,0,0,0,0,2,0,0,2,0,2,0,0,2,0,0,2,0,2,30,0,30]
[null,null,null,null,null,null,null,null,null,null,null,null,null,{"$f":"SUM(N2:N25)","v":24},"Andreas Dechert",2,":",1,1,":",2,0,":",2,1,":",1,0,":",2,3,":",0,1,":",2,0,":",2,4,":",1,3,":",1,1,":",1,2,":",1,3,":",0,3,":",1,0,":",2,2,":",1,3,":",1,1,":",2,3,":",1,2,":",0,3,":",1,1,":",1,1,":",1,0,":",1,"Andreas Dechert",0,2,0,0,2,0,0,0,0,0,0,0,0,0,0,0,0,0,0,0,0,0,0,0,0,0,0,0,0,0,0,0,2,0,2,0,0,0,0,0,0,2,0,0,2,0,0,0,0,0,0,0,0,0,0,0,2,0,0,2,0,0,0,0,0,0,0,0,0,0,0,0,0,0,0,0,0,0,0,0,3,2,0,0,3,0,0,2,0,2,0,2,0,0,2,0,2,0,0,2,0,0,0,0,0,0,0,0,0,0,0,0,0,0,0,0,0,2,0,2,19,0,19]
[null,null,null,null,null,null,null,null,null,null,null,null,null,null,"Ergebnis",{"$f":"IF($H$2=\"\",\"-\",$H$2)","v":2},":",{"$f":"IF($J$2=\"\",\"-\",$J$2)","v":0},{"$f":"IF($H$3=\"\",\"-\",$H$3)","v":2},":",{"$f":"IF($J$3=\"\",\"-\",$J$3)","v":1},{"$f":"IF($H$4=\"\",\"-\",$H$4)","v":1},":",{"$f":"IF($J$4=\"\",\"-\",$J$4)","v":1},{"$f":"IF($H$5=\"\",\"-\",$H$5)","v":4},":",{"$f":"IF($J$5=\"\",\"-\",$J$5)","v":1},{"$f":"IF($H$6=\"\",\"-\",$H$6)","v":1},":",{"$f":"IF($J$6=\"\",\"-\",$J$6)","v":1},{"$f":"IF($H$7=\"\",\"-\",$H$7)","v":1},":",{"$f":"IF($J$7=\"\",\"-\",$J$7)","v":1},{"$f":"IF($H$8=\"\",\"-\",$H$8)","v":0},":",{"$f":"IF($J$8=\"\",\"-\",$J$8)","v":1},{"$f":"IF($H$9=\"\",\"-\",$H$9)","v":2},":",{"$f":"IF($J$9=\"\",\"-\",$J$9)","v":0},{"$f":"IF($H$10=\"\",\"-\",$H$10)","v":7},":",{"$f":"IF($J$10=\"\",\"-\",$J$10)","v":1},{"$f":"IF($H$11=\"\",\"-\",$H$11)","v":2},":",{"$f":"IF($J$11=\"\",\"-\",$J$11)","v":2},{"$f":"IF($H$12=\"\",\"-\",$H$12)","v":1},":",{"$f":"IF($J$12=\"\",\"-\",$J$12)","v":0},{"$f":"IF($H$13=\"\",\"-\",$H$13)","v":5},":",{"$f":"IF($J$13=\"\",\"-\",$J$13)","v":1},{"$f":"IF($H$14=\"\",\"-\",$H$14)","v":0},":",{"$f":"IF($J$14=\"\",\"-\",$J$14)","v":0},{"$f":"IF($H$15=\"\",\"-\",$H$15)","v":1},":",{"$f":"IF($J$15=\"\",\"-\",$J$15)","v":1},{"$f":"IF($H$16=\"\",\"-\",$H$16)","v":1},":",{"$f":"IF($J$16=\"\",\"-\",$J$16)","v":1},{"$f":"IF($H$17=\"\",\"-\",$H$17)","v":2},":",{"$f":"IF($J$17=\"\",\"-\",$J$17)","v":2},{"$f":"IF($H$18=\"\",\"-\",$H$18)","v":3},":",{"$f":"IF($J$18=\"\",\"-\",$J$18)","v":1},{"$f":"IF($H$19=\"\",\"-\",$H$19)","v":1},":",{"$f":"IF($J$19=\"\",\"-\",$J$19)","v":4},{"$f":"IF($H$20=\"\",\"-\",$H$20)","v":3},":",{"$f":"IF($J$20=\"\",\"-\",$J$20)","v":0},{"$f":"IF($H$21=\"\",\"-\",$H$21)","v":3},":",{"$f":"IF($J$21=\"\",\"-\",$J$21)","v":1},{"$f":"IF($H$22=\"\",\"-\",$H$22)","v":1},":",{"$f":"IF($J$22=\"\",\"-\",$J$22)","v":1},{"$f":"IF($H$23=\"\",\"-\",$H$23)","v":4},":",{"$f":"IF($J$23=\"\",\"-\",$J$23)","v":2},{"$f":"IF($H$24=\"\",\"-\",$H$24)","v":1},":",{"$f":"IF($J$24=\"\",\"-\",$J$24)","v":0},{"$f":"IF($H$25=\"\",\"-\",$H$25)","v":1},":",{"$f":"IF($J$25=\"\",\"-\",$J$25)","v":3},"VORRUNDE","Spiel 01",null,null,null,null,"Spiel 02",null,null,null,null,"Spiel 03",null,null,null,null,"Spiel 04",null,null,null,null,"Spiel 05",null,null,null,null,"Spiel 06",null,null,null,null,"Spiel 07",null,null,null,null,"Spiel 08",null,null,null,null,"Spiel 09",null,null,null,null,"Spiel 10",null,null,null,null,"Spiel 11",null,null,null,null,"Spiel 12",null,null,null,null,"Spiel 13",null,null,null,null,"Spiel 14",null,null,null,null,"Spiel 15",null,null,null,null,"Spiel 16",null,null,null,null,"Spiel 17",null,null,null,null,"Spiel 18",null,null,null,null,"Spiel 19",null,null,null,null,"Spiel 20",null,null,null,null,"Spiel 21",null,null,null,null,"Spiel 22",null,null,null,null,"Spiel 23",null,null,null,null,"Spiel 24"]
[null,null,null,null,null,null,null,null,null,null,null,null,null,null,"VORRUNDE",{"$f":"$B$2","v":46184.875},{"$f":"$K$2","v":"Mexiko / Azteca (Mexico City)"},"Gruppe  A",{"$f":"$B$3","v":46185.166666666664},{"$f":"$K$3","v":"Mexiko / Estadio Akron (Guadalajara)"},"Gruppe  A",{"$f":"$B$4","v":46185.875},{"$f":"$K$4","v":"Kanada / BMO Field (Toronto)"},"Gruppe  B",{"$f":"$B$5","v":46186.125},{"$f":"$K$5","v":"USA / SoFi Stadium (Los Angeles)"},"Gruppe  D",{"$f":"$B$6","v":46186.875},{"$f":"$K$6","v":"USA / Levi's Stadium (San Francisco Bay Area)"},"Gruppe  B",{"$f":"$B$7","v":46187},{"$f":"$K$7","v":"USA / MetLife Stadium (New York/New Jersey)"},"Gruppe  C",{"$f":"$B$8","v":46187.125},{"$f":"$K$8","v":"USA / Gillette Stadium (Boston)"},"Gruppe  C",{"$f":"$B$9","v":46187.25},{"$f":"$K$9","v":"Kanada / BC Place Stadium (Vancouver)"},"Gruppe  D",{"$f":"$B$10","v":46187.791666666664},{"$f":"$K$10","v":"USA / NRG Stadium (Houston)"},"Gruppe  E",{"$f":"$B$11","v":46187.916666666664},{"$f":"$K$11","v":"USA / AT&T Stadium (Dallas)"},"Gruppe  F",{"$f":"$B$12","v":46188.041666666664},{"$f":"$K$12","v":"USA / Lincoln Financial Field (Philadelphia)"},"Gruppe  E",{"$f":"$B$13","v":46188.166666666664},{"$f":"$K$13","v":"Mexiko / Estadio BBVA (Monterrey)"},"Gruppe  F",{"$f":"$B$14","v":46188.75},{"$f":"$K$14","v":"USA / Mercedes-Benz Stadium (Atlanta)"},"Gruppe  H",{"$f":"$B$15","v":46188.875},{"$f":"$K$15","v":"USA / Lumen Field (Seattle)"},"Gruppe  G",{"$f":"$B$16","v":46189},{"$f":"$K$16","v":"USA / Hard Rock Stadium (Miami)"},"Gruppe  H",{"$f":"$B$17","v":46189.125},{"$f":"$K$17","v":"USA / SoFi Stadium (Los Angeles)"},"Gruppe  G",{"$f":"$B$18","v":46189.875},{"$f":"$K$18","v":"USA / MetLife Stadium (New York/New Jersey)"},"Gruppe  I",{"$f":"$B$19","v":46190},{"$f":"$K$19","v":"USA / Gillette Stadium (Boston)"},"Gruppe  I",{"$f":"$B$20","v":46190.125},{"$f":"$K$20","v":"USA / Arrowhead Stadium (Kansas City)"},"Gruppe  J",{"$f":"$B$21","v":46190.25},{"$f":"$K$21","v":"USA / Levi's Stadium (San Francisco Bay Area)"},"Gruppe  J",{"$f":"$B$22","v":46190.791666666664},{"$f":"$K$22","v":"USA / NRG Stadium (Houston)"},"Gruppe  K",{"$f":"$B$23","v":46190.916666666664},{"$f":"$K$23","v":"USA / AT&T Stadium (Dallas)"},"Gruppe  L",{"$f":"$B$24","v":46191.041666666664},{"$f":"$K$24","v":"Kanada / BMO Field (Toronto)"},"Gruppe  L",{"$f":"$B$25","v":46191.166666666664},{"$f":"$K$25","v":"Mexiko / Azteca (Mexico City)"},"Gruppe  K",null,null,null,null,null,null,null,null,null,null,null,null,null,null,null,null,null,null,null,null,null,null,null,null,null,null,null,null,null,null,null,null,null,null,null,null,null,null,null,null,null,null,null,null,null,null,null,null,null,null,null,null,null,null,null,null,null,null,null,null,null,null,null,null,null,null,null,null,null,null,null,null,null,null,null,null,null,null,null,null,null,null,null,null,null,null,null,null,null,null,null,null,null,null,null,null,null,null,null,null,null,null,null,null,null,null,null,null,null,null,null,null,null,null,null,null,null,null,null,null,null,"Stand vom :"]
[null,null,null,null,null,null,null,null,null,null,null,null,null,null,null,{"$f":"$A$2","v":"2026-06-11T21:00:00"},null,{"$f":"$C$2","v":46184.541666666664},{"$f":"$A$3","v":"2026-06-12T04:00:00"},null,{"$f":"$C$3","v":46184.833333333336},{"$f":"$A$4","v":"2026-06-12T21:00:00"},null,{"$f":"$C$4","v":46185.625},{"$f":"$A$5","v":"2026-06-13T03:00:00"},null,{"$f":"$C$5","v":46185.75},{"$f":"$A$6","v":"2026-06-13T21:00:00"},null,{"$f":"$C$6","v":46186.5},{"$f":"$A$7","v":"2026-06-14"},null,{"$f":"$C$7","v":46186.75},{"$f":"$A$8","v":"2026-06-14T03:00:00"},null,{"$f":"$C$8","v":46186.875},{"$f":"$A$9","v":"2026-06-14T06:00:00"},null,{"$f":"$C$9","v":46186.875},{"$f":"$A$10","v":"2026-06-14T19:00:00"},null,{"$f":"$C$10","v":46187.5},{"$f":"$A$11","v":"2026-06-14T22:00:00"},null,{"$f":"$C$11","v":46187.625},{"$f":"$A$12","v":"2026-06-15T01:00:00"},null,{"$f":"$C$12","v":46187.791666666664},{"$f":"$A$13","v":"2026-06-15T04:00:00"},null,{"$f":"$C$13","v":46187.833333333336},{"$f":"$A$14","v":"2026-06-15T18:00:00"},null,{"$f":"$C$14","v":46188.5},{"$f":"$A$15","v":"2026-06-15T21:00:00"},null,{"$f":"$C$15","v":46188.5},{"$f":"$A$16","v":"2026-06-16"},null,{"$f":"$C$16","v":46188.75},{"$f":"$A$17","v":"2026-06-16T03:00:00"},null,{"$f":"$C$17","v":46188.75},{"$f":"$A$18","v":"2026-06-16T21:00:00"},null,{"$f":"$C$18","v":46189.625},{"$f":"$A$19","v":"2026-06-17"},null,{"$f":"$C$19","v":46189.75},{"$f":"$A$20","v":"2026-06-17T03:00:00"},null,{"$f":"$C$20","v":46189.833333333336},{"$f":"$A$21","v":"2026-06-17T06:00:00"},null,{"$f":"$C$21","v":46189.875},{"$f":"$A$22","v":"2026-06-17T19:00:00"},null,{"$f":"$C$22","v":46190.5},{"$f":"$A$23","v":"2026-06-17T22:00:00"},null,{"$f":"$C$23","v":46190.625},{"$f":"$A$24","v":"2026-06-18T01:00:00"},null,{"$f":"$C$24","v":46190.791666666664},{"$f":"$A$25","v":"2026-06-18T04:00:00"},null,{"$f":"$C$25","v":46190.833333333336},null,null,null,null,null,null,null,null,null,null,null,null,null,null,null,null,null,null,null,null,null,null,null,null,null,null,null,null,null,null,null,null,null,null,null,null,null,null,null,null,null,null,null,null,null,null,null,null,null,null,null,null,null,null,null,null,null,null,null,null,null,null,null,null,null,null,null,null,null,null,null,null,null,null,null,null,null,null,null,null,null,null,null,null,null,null,null,null,null,null,null,null,null,null,null,null,null,null,null,null,null,null,null,null,null,null,null,null,null,null,null,null,null,null,null,null,null,null,null,null,null,{"$f":"TODAY()","v":"2026-07-20"}]

{"sheet":"Vorrunde 25-48","index":1,"n_rows":29,"n_cols":211,"rows_kept":29,"cut":false,"hidden":false,"merged":[[0,4,0,6],[0,7,0,9],[0,15,0,17],[0,18,0,20],[0,21,0,23],[0,39,0,41],[0,42,0,44],[0,45,0,47],[0,48,0,50],[0,14,5,14],[1,19,5,19],[1,20,5,20],[1,21,5,21],[1,22,5,22],[1,23,5,23],[1,15,5,15],[1,16,5,16],[1,17,5,17],[1,18,5,18],[1,29,5,29],[1,30,5,30],[1,31,5,31],[1,32,5,32],[1,33,5,33],[0,51,0,53],[0,24,0,26],[0,27,0,29],[0,30,0,32],[0,33,0,35],[0,36,0,38],[0,69,0,71],[0,72,0,74],[0,75,0,77],[0,78,0,80],[0,81,0,83],[0,54,0,56],[0,57,0,59],[0,60,0,62],[0,63,0,65],[0,66,0,68],[0,84,0,86],[0,88,5,92],[1,59,5,59],[1,60,5,60],[1,61,5,61],[1,62,5,62],[1,63,5,63],[1,54,5,54],[1,55,5,55],[1,56,5,56],[1,57,5,57],[1,58,5,58],[1,69,5,69],[1,70,5,70],[1,71,5,71],[1,72,5,72],[1,73,5,73],[1,24,5,24],[1,25,5,25],[1,26,5,26],[1,27,5,27],[1,28,5,28],[1,39,5,39],[1,40,5,40],[1,41,5,41],[1,42,5,42],[1,43,5,43],[1,34,5,34],[1,35,5,35],[1,36,5,36],[1,37,5,37],[1,38,5,38],[1,49,5,49],[1,50,5,50],[1,51,5,51],[1,52,5,52],[1,53,5,53],[1,44,5,44],[1,45,5,45],[1,46,5,46],[1,47,5,47],[1,48,5,48],[1,64,5,64],[1,65,5,65],[1,66,5,66],[1,67,5,67],[1,68,5,68],[1,79,5,79],[1,80,5,80],[1,81,5,81],[1,82,5,82],[1,83,5,83],[1,74,5,74],[1,75,5,75],[1,76,5,76],[1,77,5,77],[1,78,5,78],[1,208,5,208],[1,209,5,209],[1,210,5,210],[0,93,5,97],[0,98,5,102],[0,103,5,107],[1,84,5,84],[1,85,5,85],[1,86,5,86],[1,87,5,87],[0,173,5,177],[0,178,5,182],[0,133,5,137],[0,138,5,142],[0,143,5,147],[0,148,5,152],[0,153,5,157],[0,108,5,112],[0,183,5,187],[0,188,5,192],[0,193,5,197],[0,198,5,202],[0,203,5,207],[0,158,5,162],[0,163,5,167],[0,168,5,172],[26,87,28,87],[26,88,28,92],[26,93,28,97],[26,98,28,102],[26,103,28,107],[26,108,28,112],[26,113,28,117],[26,118,28,122],[26,123,28,127],[0,113,5,117],[0,118,5,122],[0,123,5,127],[0,128,5,132],[27,40,28,40],[27,43,28,43],[27,46,28,46],[27,49,28,49],[27,52,28,52],[26,173,28,177],[26,178,28,182],[26,183,28,187],[26,188,28,192],[26,148,28,152],[26,153,28,157],[26,158,28,162],[26,163,28,167],[26,168,28,172],[27,85,28,85],[26,128,28,132],[26,133,28,137],[26,138,28,142],[26,143,28,147],[27,14,28,14],[27,16,28,16],[27,19,28,19],[27,22,28,22],[27,25,28,25],[27,28,28,28],[27,31,28,31],[27,34,28,34],[27,37,28,37],[27,208,27,210],[28,208,28,210],[27,70,28,70],[27,73,28,73],[27,76,28,76],[27,79,28,79],[27,82,28,82],[27,55,28,55],[27,58,28,58],[27,61,28,61],[27,64,28,64],[27,67,28,67],[26,198,28,202],[26,203,28,207],[26,193,28,197]]}
["Spiele 25-48   (chronologisch)","Anstoßzeit","Ortszeit","Spiel-Nr.","Spielpaarungen / Gruppen",null,null,"Ergebnis",null,null,"Austragungsort / Stadion","Vorrunde","Live-TV Übertragungsrechte"," - ","NAME",{"$f":"$D2","v":25},null,null,{"$f":"$D3","v":26},null,null,{"$f":"$D4","v":27},null,null,{"$f":"$D5","v":28},null,null,{"$f":"$D6","v":32},null,null,{"$f":"$D7","v":30},null,null,{"$f":"$D8","v":29},null,null,{"$f":"$D9","v":31},null,null,{"$f":"$D10","v":35},null,null,{"$f":"$D11","v":33},null,null,{"$f":"$D12","v":34},null,null,{"$f":"$D13","v":36},null,null,{"$f":"$D14","v":38},null,null,{"$f":"$D15","v":39},null,null,{"$f":"$D16","v":37},null,null,{"$f":"$D17","v":40},null,null,{"$f":"$D18","v":43},null,null,{"$f":"$D19","v":42},null,null,{"$f":"$D20","v":41},null,null,{"$f":"$D21","v":44},null,null,{"$f":"$D22","v":47},null,null,{"$f":"$D23","v":45},null,null,{"$f":"$D24","v":46},null,null,{"$f":"$D25","v":48},null,null,null,{"$f":"$P$2&$N$1&$R$2","v":"Tschechien - Südafrika"},null,null,null,null,{"$f":"$S$2&$N$1&$U$2","v":"Schweiz - Bosnien-Herzegowina"},null,null,null,null,{"$f":"$V$2&$N$1&$X$2","v":"Kanada - Katar"},null,null,null,null,{"$f":"$Y$2&$N$1&$AA$2","v":"Mexiko - Südkorea"},null,null,null,null,{"$f":"$AB$2&$N$1&$AD$2","v":"USA - Australien"},null,null,null,null,{"$f":"$AE$2&$N$1&$AG$2","v":"Schottland - Marokko"},null,null,null,null,{"$f":"$AH$2&$N$1&$AJ$2","v":"Brasilien - Haiti"},null,null,null,null,{"$f":"$AK$2&$N$1&$AM$2","v":"Türkei - Paraguay"},null,null,null,null,{"$f":"$AN$2&$N$1&$AP$2","v":"Niederlande - Schweden"},null,null,null,null,{"$f":"$AQ$2&$N$1&$AS$2","v":"Deutschland - Elfenbeinküste"},null,null,null,null,{"$f":"$AT$2&$N$1&$AV$2","v":"Ecuador - Curaçao"},null,null,null,null,{"$f":"$AW$2&$N$1&$AY$2","v":"Tunesien - Japan"},null,null,null,null,{"$f":"$AZ$2&$N$1&$BB$2","v":"Spanien - Saudi-Arabien"},null,null,null,null,{"$f":"$BC$2&$N$1&$BE$2","v":"Belgien - Iran"},null,null,null,null,{"$f":"$BF$2&$N$1&$BH$2","v":"Uruguay - Kap Verde"},null,null,null,null,{"$f":"$BI$2&$N$1&$BK$2","v":"Neuseeland - Ägypten"},null,null,null,null,{"$f":"$BL$2&$N$1&$BN$2","v":"Argentinien - Österreich"},null,null,null,null,{"$f":"$BO$2&$N$1&$BQ$2","v":"Frankreich - Irak"},null,null,null,null,{"$f":"$BR$2&$N$1&$BT$2","v":"Norwegen - Senegal"},null,null,null,null,{"$f":"$BU$2&$N$1&$BW$2","v":"Jordanien - Algerien"},null,null,null,null,{"$f":"$BX$2&$N$1&$BZ$2","v":"Portugal - Usbekistan"},null,null,null,null,{"$f":"$CA$2&$N$1&$CC$2","v":"England - Ghana"},null,null,null,null,{"$f":"$CD$2&$N$1&$CF$2","v":"Panama - Kroatien"},null,null,null,null,{"$f":"$CG$2&$N$1&$CI$2","v":"Kolumbien - DR Kongo"},null,null,null,null,"PUNKTE","PUNKTE","PUNKTE"]
["2026-06-18T18:00:00",46191.75,"2026-06-18T12:00:00",25,"Tschechien (A4)","-","Südafrika (A2)",1,":",1,"USA / Mercedes-Benz Stadium (Atlanta)","2. Gruppenspiel","ZDF und MagentaTV",{"$f":"IF($J2<>\"\",1,0)","v":1},null,{"$f":"LEFT($E$2, LEN($E$2) - LEN(TRIM(RIGHT(SUBSTITUTE(TRIM($E$2), \" \", REPT(\" \", 100)), 100))) - 1)","v":"Tschechien"},"gegen",{"$f":"LEFT($G$2, LEN($G$2) - LEN(TRIM(RIGHT(SUBSTITUTE(TRIM($G$2), \" \", REPT(\" \", 100)), 100))) - 1)","v":"Südafrika"},{"$f":"LEFT($E$3, LEN($E$3) - LEN(TRIM(RIGHT(SUBSTITUTE(TRIM($E$3), \" \", REPT(\" \", 100)), 100))) - 1)","v":"Schweiz"},"gegen",{"$f":"LEFT($G$3, LEN($G$3) - LEN(TRIM(RIGHT(SUBSTITUTE(TRIM($G$3), \" \", REPT(\" \", 100)), 100))) - 1)","v":"Bosnien-Herzegowina"},{"$f":"LEFT($E$4, LEN($E$4) - LEN(TRIM(RIGHT(SUBSTITUTE(TRIM($E$4), \" \", REPT(\" \", 100)), 100))) - 1)","v":"Kanada"},"gegen",{"$f":"LEFT($G$4, LEN($G$4) - LEN(TRIM(RIGHT(SUBSTITUTE(TRIM($G$4), \" \", REPT(\" \", 100)), 100))) - 1)","v":"Katar"},{"$f":"LEFT($E$5, LEN($E$5) - LEN(TRIM(RIGHT(SUBSTITUTE(TRIM($E$5), \" \", REPT(\" \", 100)), 100))) - 1)","v":"Mexiko"},"gegen",{"$f":"LEFT($G$5, LEN($G$5) - LEN(TRIM(RIGHT(SUBSTITUTE(TRIM($G$5), \" \", REPT(\" \", 100)), 100))) - 1)","v":"Südkorea"},{"$f":"LEFT($E$6, LEN($E$6) - LEN(TRIM(RIGHT(SUBSTITUTE(TRIM($E$6), \" \", REPT(\" \", 100)), 100))) - 1)","v":"USA"},"gegen",{"$f":"LEFT($G$6, LEN($G$6) - LEN(TRIM(RIGHT(SUBSTITUTE(TRIM($G$6), \" \", REPT(\" \", 100)), 100))) - 1)","v":"Australien"},{"$f":"LEFT($E$7, LEN($E$7) - LEN(TRIM(RIGHT(SUBSTITUTE(TRIM($E$7), \" \", REPT(\" \", 100)), 100))) - 1)","v":"Schottland"},"gegen",{"$f":"LEFT($G$7, LEN($G$7) - LEN(TRIM(RIGHT(SUBSTITUTE(TRIM($G$7), \" \", REPT(\" \", 100)), 100))) - 1)","v":"Marokko"},{"$f":"LEFT($E$8, LEN($E$8) - LEN(TRIM(RIGHT(SUBSTITUTE(TRIM($E$8), \" \", REPT(\" \", 100)), 100))) - 1)","v":"Brasilien"},"gegen",{"$f":"LEFT($G$8, LEN($G$8) - LEN(TRIM(RIGHT(SUBSTITUTE(TRIM($G$8), \" \", REPT(\" \", 100)), 100))) - 1)","v":"Haiti"},{"$f":"LEFT($E$9, LEN($E$9) - LEN(TRIM(RIGHT(SUBSTITUTE(TRIM($E$9), \" \", REPT(\" \", 100)), 100))) - 1)","v":"Türkei"},"gegen",{"$f":"LEFT($G$9, LEN($G$9) - LEN(TRIM(RIGHT(SUBSTITUTE(TRIM($G$9), \" \", REPT(\" \", 100)), 100))) - 1)","v":"Paraguay"},{"$f":"LEFT($E$10, LEN($E$10) - LEN(TRIM(RIGHT(SUBSTITUTE(TRIM($E$10), \" \", REPT(\" \", 100)), 100))) - 1)","v":"Niederlande"},"gegen",{"$f":"LEFT($G$10, LEN($G$10) - LEN(TRIM(RIGHT(SUBSTITUTE(TRIM($G$10), \" \", REPT(\" \", 100)), 100))) - 1)","v":"Schweden"},{"$f":"LEFT($E$11, LEN($E$11) - LEN(TRIM(RIGHT(SUBSTITUTE(TRIM($E$11), \" \", REPT(\" \", 100)), 100))) - 1)","v":"Deutschland"},"gegen",{"$f":"LEFT($G$11, LEN($G$11) - LEN(TRIM(RIGHT(SUBSTITUTE(TRIM($G$11), \" \", REPT(\" \", 100)), 100))) - 1)","v":"Elfenbeinküste"},{"$f":"LEFT($E$12, LEN($E$12) - LEN(TRIM(RIGHT(SUBSTITUTE(TRIM($E$12), \" \", REPT(\" \", 100)), 100))) - 1)","v":"Ecuador"},"gegen",{"$f":"LEFT($G$12, LEN($G$12) - LEN(TRIM(RIGHT(SUBSTITUTE(TRIM($G$12), \" \", REPT(\" \", 100)), 100))) - 1)","v":"Curaçao"},{"$f":"LEFT($E$13, LEN($E$13) - LEN(TRIM(RIGHT(SUBSTITUTE(TRIM($E$13), \" \", REPT(\" \", 100)), 100))) - 1)","v":"Tunesien"},"gegen",{"$f":"LEFT($G$13, LEN($G$13) - LEN(TRIM(RIGHT(SUBSTITUTE(TRIM($G$13), \" \", REPT(\" \", 100)), 100))) - 1)","v":"Japan"},{"$f":"LEFT($E$14, LEN($E$14) - LEN(TRIM(RIGHT(SUBSTITUTE(TRIM($E$14), \" \", REPT(\" \", 100)), 100))) - 1)","v":"Spanien"},"gegen",{"$f":"LEFT($G$14, LEN($G$14) - LEN(TRIM(RIGHT(SUBSTITUTE(TRIM($G$14), \" \", REPT(\" \", 100)), 100))) - 1)","v":"Saudi-Arabien"},{"$f":"LEFT($E$15, LEN($E$15) - LEN(TRIM(RIGHT(SUBSTITUTE(TRIM($E$15), \" \", REPT(\" \", 100)), 100))) - 1)","v":"Belgien"},"gegen",{"$f":"LEFT($G$15, LEN($G$15) - LEN(TRIM(RIGHT(SUBSTITUTE(TRIM($G$15), \" \", REPT(\" \", 100)), 100))) - 1)","v":"Iran"},{"$f":"LEFT($E$16, LEN($E$16) - LEN(TRIM(RIGHT(SUBSTITUTE(TRIM($E$16), \" \", REPT(\" \", 100)), 100))) - 1)","v":"Uruguay"},"gegen",{"$f":"LEFT($G$16, LEN($G$16) - LEN(TRIM(RIGHT(SUBSTITUTE(TRIM($G$16), \" \", REPT(\" \", 100)), 100))) - 1)","v":"Kap Verde"},{"$f":"LEFT($E$17, LEN($E$17) - LEN(TRIM(RIGHT(SUBSTITUTE(TRIM($E$17), \" \", REPT(\" \", 100)), 100))) - 1)","v":"Neuseeland"},"gegen",{"$f":"LEFT($G$17, LEN($G$17) - LEN(TRIM(RIGHT(SUBSTITUTE(TRIM($G$17), \" \", REPT(\" \", 100)), 100))) - 1)","v":"Ägypten"},{"$f":"LEFT($E$18, LEN($E$18) - LEN(TRIM(RIGHT(SUBSTITUTE(TRIM($E$18), \" \", REPT(\" \", 100)), 100))) - 1)","v":"Argentinien"},"gegen",{"$f":"LEFT($G$18, LEN($G$18) - LEN(TRIM(RIGHT(SUBSTITUTE(TRIM($G$18), \" \", REPT(\" \", 100)), 100))) - 1)","v":"Österreich"},{"$f":"LEFT($E$19, LEN($E$19) - LEN(TRIM(RIGHT(SUBSTITUTE(TRIM($E$19), \" \", REPT(\" \", 100)), 100))) - 1)","v":"Frankreich"},"gegen",{"$f":"LEFT($G$19, LEN($G$19) - LEN(TRIM(RIGHT(SUBSTITUTE(TRIM($G$19), \" \", REPT(\" \", 100)), 100))) - 1)","v":"Irak"},{"$f":"LEFT($E$20, LEN($E$20) - LEN(TRIM(RIGHT(SUBSTITUTE(TRIM($E$20), \" \", REPT(\" \", 100)), 100))) - 1)","v":"Norwegen"},"gegen",{"$f":"LEFT($G$20, LEN($G$20) - LEN(TRIM(RIGHT(SUBSTITUTE(TRIM($G$20), \" \", REPT(\" \", 100)), 100))) - 1)","v":"Senegal"},{"$f":"LEFT($E$21, LEN($E$21) - LEN(TRIM(RIGHT(SUBSTITUTE(TRIM($E$21), \" \", REPT(\" \", 100)), 100))) - 1)","v":"Jordanien"},"gegen",{"$f":"LEFT($G$21, LEN($G$21) - LEN(TRIM(RIGHT(SUBSTITUTE(TRIM($G$21), \" \", REPT(\" \", 100)), 100))) - 1)","v":"Algerien"},{"$f":"LEFT($E$22, LEN($E$22) - LEN(TRIM(RIGHT(SUBSTITUTE(TRIM($E$22), \" \", REPT(\" \", 100)), 100))) - 1)","v":"Portugal"},"gegen",{"$f":"LEFT($G$22, LEN($G$22) - LEN(TRIM(RIGHT(SUBSTITUTE(TRIM($G$22), \" \", REPT(\" \", 100)), 100))) - 1)","v":"Usbekistan"},{"$f":"LEFT($E$23, LEN($E$23) - LEN(TRIM(RIGHT(SUBSTITUTE(TRIM($E$23), \" \", REPT(\" \", 100)), 100))) - 1)","v":"England"},"gegen",{"$f":"LEFT($G$23, LEN($G$23) - LEN(TRIM(RIGHT(SUBSTITUTE(TRIM($G$23), \" \", REPT(\" \", 100)), 100))) - 1)","v":"Ghana"},{"$f":"LEFT($E$24, LEN($E$24) - LEN(TRIM(RIGHT(SUBSTITUTE(TRIM($E$24), \" \", REPT(\" \", 100)), 100))) - 1)","v":"Panama"},"gegen",{"$f":"LEFT($G$24, LEN($G$24) - LEN(TRIM(RIGHT(SUBSTITUTE(TRIM($G$24), \" \", REPT(\" \", 100)), 100))) - 1)","v":"Kroatien"},{"$f":"LEFT($E$25, LEN($E$25) - LEN(TRIM(RIGHT(SUBSTITUTE(TRIM($E$25), \" \", REPT(\" \", 100)), 100))) - 1)","v":"Kolumbien"},"gegen",{"$f":"LEFT($G$25, LEN($G$25) - LEN(TRIM(RIGHT(SUBSTITUTE(TRIM($G$25), \" \", REPT(\" \", 100)), 100))) - 1)","v":"DR Kongo"},"NAME",null,null,null,null,null,null,null,null,null,null,null,null,null,null,null,null,null,null,null,null,null,null,null,null,null,null,null,null,null,null,null,null,null,null,null,null,null,null,null,null,null,null,null,null,null,null,null,null,null,null,null,null,null,null,null,null,null,null,null,null,null,null,null,null,null,null,null,null,null,null,null,null,null,null,null,null,null,null,null,null,null,null,null,null,null,null,null,null,null,null,null,null,null,null,null,null,null,null,null,null,null,null,null,null,null,null,null,null,null,null,null,null,null,null,null,null,null,null,null,null,"Summe","Übertrag","GESAMT"]
["2026-06-18T21:00:00",46191.875,"2026-06-18T12:00:00",26,"Schweiz (B4)","-","Bosnien-Herzegowina (B2)",4,":",1,"USA / SoFi Stadium (Los Angeles)","2. Gruppenspiel","MagentaTV (Telekom) exklusiv",{"$f":"IF($J3<>\"\",1,0)","v":1}]
["2026-06-19",46192,"2026-06-18T15:00:00",27,"Kanada (B1)","-","Katar (B3)",6,":",0,"Kanada / BC Place Stadium (Vancouver)","2. Gruppenspiel","ZDF und MagentaTV",1]
["2026-06-19T03:00:00",46192.125,"2026-06-18T19:00:00",28,"Mexiko (A1)","-","Südkorea (A3)",1,":",0,"Mexiko / Estadio Akron (Guadalajara)","2. Gruppenspiel","MagentaTV (Telekom) exklusiv",1]
["2026-06-19T21:00:00",46192.875,"2026-06-19T12:00:00",32,"USA (D1)","-","Australien (D3)",2,":",0,"USA / Lumen Field (Seattle)","2. Gruppenspiel","ARD und MagentaTV",1]
["2026-06-20",46193,"2026-06-19T18:00:00",30,"Schottland (C4)","-","Marokko (C2)",0,":",1,"USA / Gillette Stadium (Boston)","2. Gruppenspiel","MagentaTV (Telekom) exklusiv",1,{"$f":"IF('Vorrunde 01-24'!O7<>\"\",'Vorrunde 01-24'!O7,\"\")","v":"Tilo Schott"},1,":",1,2,":",1,3,":",1,3,":",1,2,":",1,0,":",0,5,":",0,2,":",1,3,":",1,3,":",2,4,":",0,0,":",1,4,":",0,2,":",0,2,":",0,1,":",2,3,":",2,4,":",0,2,":",1,1,":",2,4,":",0,3,":",1,0,":",2,3,":",1,{"$f":"IF($O7<>\"\",$O7,\"\")","v":"Tilo Schott"},{"$f":"IF(AND($P7=$P$27,$R7=$R$27),3,0)","v":3},{"$f":"IF(AND($P7>$R7,$P$27>$R$27),2,0)","v":0},{"$f":"IF(AND($P7<$R7,$P$27<$R$27),2,0)","v":0},{"$f":"IF(AND($P7=$R7,$P$27=$R$27),2,0)","v":2},{"$f":"IF($R$27=\"-\",0,MAX(CK7:CN7))","v":3},{"$f":"IF(AND($S7=$S$27,$U7=$U$27),3,0)","v":0},{"$f":"IF(AND($S7>$U7,$S$27>$U$27),2,0)","v":2},{"$f":"IF(AND($S7<$U7,$S$27<$U$27),2,0)","v":0},{"$f":"IF(AND($S7=$U7,$S$27=$U$27),2,0)","v":0},{"$f":"IF($U$27=\"-\",0,MAX(CP7:CS7))","v":2},{"$f":"IF(AND($V7=$V$27,$X7=$X$27),3,0)","v":0},{"$f":"IF(AND($V7>$X7,$V$27>$X$27),2,0)","v":2},{"$f":"IF(AND($V7<$X7,$V$27<$X$27),2,0)","v":0},{"$f":"IF(AND($V7=$X7,$V$27=$X$27),2,0)","v":0},{"$f":"IF($X$27=\"-\",0,MAX(CU7:CX7))","v":2},{"$f":"IF(AND($Y7=$Y$27,$AA7=$AA$27),3,0)","v":0},{"$f":"IF(AND($Y7>$AA7,$Y$27>$AA$27),2,0)","v":2},{"$f":"IF(AND($Y7<$AA7,$Y$27<$AA$27),2,0)","v":0},{"$f":"IF(AND($Y7=$AA7,$Y$27=$AA$27),2,0)","v":0},{"$f":"IF($AA$27=\"-\",0,MAX(CZ7:DC7))","v":2},{"$f":"IF(AND($AB7=$AB$27,$AD7=$AD$27),3,0)","v":0},{"$f":"IF(AND($AB7>$AD7,$AB$27>$AD$27),2,0)","v":2},{"$f":"IF(AND($AB7<$AD7,$AB$27<$AD$27),2,0)","v":0},{"$f":"IF(AND($AB7=$AD7,$AB$27=$AD$27),2,0)","v":0},{"$f":"IF($AD$27=\"-\",0,MAX(DE7:DH7))","v":2},{"$f":"IF(AND($AE7=$AE$27,$AG7=$AG$27),3,0)","v":0},{"$f":"IF(AND($AE7>$AG7,$AE$27>$AG$27),2,0)","v":0},{"$f":"IF(AND($AE7<$AG7,$AE$27<$AG$27),2,0)","v":0},{"$f":"IF(AND($AE7=$AG7,$AE$27=$AG$27),2,0)","v":0},{"$f":"IF($AG$27=\"-\",0,MAX(DJ7:DM7))","v":0},{"$f":"IF(AND($AH7=$AH$27,$AJ7=$AJ$27),3,0)","v":0},{"$f":"IF(AND($AH7>$AJ7,$AH$27>$AJ$27),2,0)","v":2},{"$f":"IF(AND($AH7<$AJ7,$AH$27<$AJ$27),2,0)","v":0},{"$f":"IF(AND($AH7=$AJ7,$AH$27=$AJ$27),2,0)","v":0},{"$f":"IF($AJ$27=\"-\",0,MAX(DO7:DR7))","v":2},{"$f":"IF(AND($AK7=$AK$27,$AM7=$AM$27),3,0)","v":0},{"$f":"IF(AND($AK7>$AM7,$AK$27>$AM$27),2,0)","v":0},{"$f":"IF(AND($AK7<$AM7,$AK$27<$AM$27),2,0)","v":0},{"$f":"IF(AND($AK7=$AM7,$AK$27=$AM$27),2,0)","v":0},{"$f":"IF($AM$27=\"-\",0,MAX(DT7:DW7))","v":0},{"$f":"IF(AND($AN7=$AN$27,$AP7=$AP$27),3,0)","v":0},{"$f":"IF(AND($AN7>$AP7,$AN$27>$AP$27),2,0)","v":2},{"$f":"IF(AND($AN7<$AP7,$AN$27<$AP$27),2,0)","v":0},{"$f":"IF(AND($AN7=$AP7,$AN$27=$AP$27),2,0)","v":0},{"$f":"IF($AP$27=\"-\",0,MAX(DY7:EB7))","v":2},{"$f":"IF(AND($AQ7=$AQ$27,$AS7=$AS$27),3,0)","v":0},{"$f":"IF(AND($AQ7>$AS7,$AQ$27>$AS$27),2,0)","v":2},{"$f":"IF(AND($AQ7<$AS7,$AQ$27<$AS$27),2,0)","v":0},{"$f":"IF(AND($AQ7=$AS7,$AQ$27=$AS$27),2,0)","v":0},{"$f":"IF($AS$27=\"-\",0,MAX(ED7:EG7))","v":2},{"$f":"IF(AND($AT7=$AT$27,$AV7=$AV$27),3,0)","v":0},{"$f":"IF(AND($AT7>$AV7,$AT$27>$AV$27),2,0)","v":0},{"$f":"IF(AND($AT7<$AV7,$AT$27<$AV$27),2,0)","v":0},{"$f":"IF(AND($AT7=$AV7,$AT$27=$AV$27),2,0)","v":0},{"$f":"IF($AV$27=\"-\",0,MAX(EI7:EL7))","v":0},{"$f":"IF(AND($AW7=$AW$27,$AY7=$AY$27),3,0)","v":0},{"$f":"IF(AND($AW7>$AY7,$AW$27>$AY$27),2,0)","v":0},{"$f":"IF(AND($AW7<$AY7,$AW$27<$AY$27),2,0)","v":2},{"$f":"IF(AND($AW7=$AY7,$AW$27=$AY$27),2,0)","v":0},{"$f":"IF($AY$27=\"-\",0,MAX(EN7:EQ7))","v":2},{"$f":"IF(AND($AZ7=$AZ$27,$BB7=$BB$27),3,0)","v":3},{"$f":"IF(AND($AZ7>$BB7,$AZ$27>$BB$27),2,0)","v":2},{"$f":"IF(AND($AZ7<$BB7,$AZ$27<$BB$27),2,0)","v":0},{"$f":"IF(AND($AZ7=$BB7,$AZ$27=$BB$27),2,0)","v":0},{"$f":"IF($BB$27=\"-\",0,MAX(ES7:EV7))","v":3},{"$f":"IF(AND($BC7=$BC$27,$BE7=$BE$27),3,0)","v":0},{"$f":"IF(AND($BC7>$BE7,$BC$27>$BE$27),2,0)","v":0},{"$f":"IF(AND($BC7<$BE7,$BC$27<$BE$27),2,0)","v":0},{"$f":"IF(AND($BC7=$BE7,$BC$27=$BE$27),2,0)","v":0},{"$f":"IF($BE$27=\"-\",0,MAX(EX7:FA7))","v":0},{"$f":"IF(AND($BF7=$BF$27,$BH7=$BH$27),3,0)","v":0},{"$f":"IF(AND($BF7>$BH7,$BF$27>$BH$27),2,0)","v":0},{"$f":"IF(AND($BF7<$BH7,$BF$27<$BH$27),2,0)","v":0},{"$f":"IF(AND($BF7=$BH7,$BF$27=$BH$27),2,0)","v":0},{"$f":"IF($BH$27=\"-\",0,MAX(FC7:FF7))","v":0},{"$f":"IF(AND($BI7=$BI$27,$BK7=$BK$27),3,0)","v":0},{"$f":"IF(AND($BI7>$BK7,$BI$27>$BK$27),2,0)","v":0},{"$f":"IF(AND($BI7<$BK7,$BI$27<$BK$27),2,0)","v":2},{"$f":"IF(AND($BI7=$BK7,$BI$27=$BK$27),2,0)","v":0},{"$f":"IF($BK$27=\"-\",0,MAX(FH7:FK7))","v":2},{"$f":"IF(AND($BL7=$BL$27,$BN7=$BN$27),3,0)","v":0},{"$f":"IF(AND($BL7>$BN7,$BL$27>$BN$27),2,0)","v":2},{"$f":"IF(AND($BL7<$BN7,$BL$27<$BN$27),2,0)","v":0},{"$f":"IF(AND($BL7=$BN7,$BL$27=$BN$27),2,0)","v":0},{"$f":"IF($BN$27=\"-\",0,MAX(FM7:FP7))","v":2},{"$f":"IF(AND($BO7=$BO$27,$BQ7=$BQ$27),3,0)","v":0},{"$f":"IF(AND($BO7>$BQ7,$BO$27>$BQ$27),2,0)","v":2},{"$f":"IF(AND($BO7<$BQ7,$BO$27<$BQ$27),2,0)","v":0},{"$f":"IF(AND($BO7=$BQ7,$BO$27=$BQ$27),2,0)","v":0},{"$f":"IF($BQ$27=\"-\",0,MAX(FR7:FU7))","v":2},{"$f":"IF(AND($BR7=$BR$27,$BT7=$BT$27),3,0)","v":0},{"$f":"IF(AND($BR7>$BT7,$BR$27>$BT$27),2,0)","v":2},{"$f":"IF(AND($BR7<$BT7,$BR$27<$BT$27),2,0)","v":0},{"$f":"IF(AND($BR7=$BT7,$BR$27=$BT$27),2,0)","v":0},{"$f":"IF($BT$27=\"-\",0,MAX(FW7:FZ7))","v":2},{"$f":"IF(AND($BU7=$BU$27,$BW7=$BW$27),3,0)","v":3},{"$f":"IF(AND($BU7>$BW7,$BU$27>$BW$27),2,0)","v":0},{"$f":"IF(AND($BU7<$BW7,$BU$27<$BW$27),2,0)","v":2},{"$f":"IF(AND($BU7=$BW7,$BU$27=$BW$27),2,0)","v":0},{"$f":"IF($BW$27=\"-\",0,MAX(GB7:GE7))","v":3},{"$f":"IF(AND($BX7=$BX$27,$BZ7=$BZ$27),3,0)","v":0},{"$f":"IF(AND($BX7>$BZ7,$BX$27>$BZ$27),2,0)","v":2},{"$f":"IF(AND($BX7<$BZ7,$BX$27<$BZ$27),2,0)","v":0},{"$f":"IF(AND($BX7=$BZ7,$BX$27=$BZ$27),2,0)","v":0},{"$f":"IF($BZ$27=\"-\",0,MAX(GG7:GJ7))","v":2},{"$f":"IF(AND($CA7=$CA$27,$CC7=$CC$27),3,0)","v":0},{"$f":"IF(AND($CA7>$CC7,$CA$27>$CC$27),2,0)","v":0},{"$f":"IF(AND($CA7<$CC7,$CA$27<$CC$27),2,0)","v":0},{"$f":"IF(AND($CA7=$CC7,$CA$27=$CC$27),2,0)","v":0},{"$f":"IF($CC$27=\"-\",0,MAX(GL7:GO7))","v":0},{"$f":"IF(AND($CD7=$CD$27,$CF7=$CF$27),3,0)","v":0},{"$f":"IF(AND($CD7>$CF7,$CD$27>$CF$27),2,0)","v":0},{"$f":"IF(AND($CD7<$CF7,$CD$27<$CF$27),2,0)","v":2},{"$f":"IF(AND($CD7=$CF7,$CD$27=$CF$27),2,0)","v":0},{"$f":"IF($CF$27=\"-\",0,MAX(GQ7:GT7))","v":2},{"$f":"IF(AND($CG7=$CG$27,$CI7=$CI$27),3,0)","v":0},{"$f":"IF(AND($CG7>$CI7,$CG$27>$CI$27),2,0)","v":2},{"$f":"IF(AND($CG7<$CI7,$CG$27<$CI$27),2,0)","v":0},{"$f":"IF(AND($CG7=$CI7,$CG$27=$CI$27),2,0)","v":0},{"$f":"IF($CI$27=\"-\",0,MAX(GV7:GY7))","v":2},{"$f":"SUM(CO7,CT7,CY7,DD7,DI7,DN7,DS7,DX7,EC7,EH7,EM7,ER7,EW7,FB7,FG7,FL7,FQ7,FV7,GA7,GF7,GK7,GP7,GU7,GZ7)","v":39},{"$f":"'Vorrunde 01-24'!HC7","v":34},{"$f":"SUM(HA7:HB7)","v":73}]
["2026-06-20T03:00:00",46193.104166666664,"2026-06-19T20:30:00",29,"Brasilien (C1)","-","Haiti (C3)",3,":",0,"USA / Lincoln Financial Field (Philadelphia)","2. Gruppenspiel","ARD und MagentaTV",1,{"$f":"IF('Vorrunde 01-24'!O8<>\"\",'Vorrunde 01-24'!O8,\"\")","v":"Arno Schneucker"},3,":",1,2,":",1,3,":",1,2,":",2,2,":",1,2,":",1,4,":",0,2,":",0,3,":",1,2,":",2,3,":",1,2,":",3,4,":",1,2,":",0,1,":",2,2,":",1,3,":",1,3,":",1,1,":",2,1,":",3,3,":",1,3,":",2,1,":",4,3,":",1,{"$f":"IF($O8<>\"\",$O8,\"\")","v":"Arno Schneucker"},0,0,0,0,0,0,2,0,0,2,0,2,0,0,2,0,0,0,0,0,0,2,0,0,2,0,0,0,0,0,0,2,0,0,2,0,0,0,0,0,0,2,0,0,2,0,0,0,0,0,0,0,0,0,0,0,0,2,0,2,0,2,0,0,2,0,0,0,0,0,0,0,0,0,0,0,0,0,0,0,0,2,0,0,2,0,2,0,0,2,0,0,0,0,0,0,0,2,0,2,0,2,0,0,2,0,0,0,0,0,0,0,2,0,2,0,2,0,0,2,{"$f":"SUM(CO8,CT8,CY8,DD8,DI8,DN8,DS8,DX8,EC8,EH8,EM8,ER8,EW8,FB8,FG8,FL8,FQ8,FV8,GA8,GF8,GK8,GP8,GU8,GZ8)","v":26},{"$f":"'Vorrunde 01-24'!HC8","v":30},{"$f":"SUM(HA8:HB8)","v":56}]
["2026-06-20T06:00:00",46193.208333333336,"2026-06-19T20:00:00",31,"Türkei (D4)","-","Paraguay (D2)",0,":",1,"USA / Levi's Stadium (San Francisco Bay Area)","2. Gruppenspiel","MagentaTV (Telekom) exklusiv",1,{"$f":"IF('Vorrunde 01-24'!O9<>\"\",'Vorrunde 01-24'!O9,\"\")","v":"Silke Seibert"},1,":",0,2,":",2,3,":",0,2,":",1,1,":",1,1,":",1,7,":",0,1,":",0,2,":",0,3,":",1,3,":",1,1,":",3,4,":",0,5,":",0,4,":",0,0,":",2,3,":",2,3,":",0,1,":",0,1,":",2,5,":",0,4,":",1,0,":",4,3,":",1,"Silke Seibert",0,0,0,0,0,0,0,0,0,0,0,2,0,0,2,0,2,0,0,2,0,0,0,0,0,0,0,0,0,0,0,2,0,0,2,0,0,0,0,0,0,2,0,0,2,0,2,0,0,2,0,0,0,0,0,0,0,2,0,2,3,2,0,0,3,0,0,0,0,0,0,0,0,0,0,0,0,2,0,2,0,2,0,0,2,3,2,0,0,3,0,2,0,0,2,3,0,2,0,3,3,2,0,0,3,0,0,0,0,0,0,0,2,0,2,0,2,0,0,2,34,{"$f":"'Vorrunde 01-24'!HC9","v":24},58]
["2026-06-20T19:00:00",46193.791666666664,"2026-06-20T12:00:00",35,"Niederlande (F1)","-","Schweden (F3)",5,":",1,"USA / NRG Stadium (Houston)","2. Gruppenspiel","ZDF und MagentaTV",1,{"$f":"IF('Vorrunde 01-24'!O10<>\"\",'Vorrunde 01-24'!O10,\"\")","v":"Robert Krieg"},0,":",1,2,":",2,1,":",0,2,":",1,0,":",0,0,":",1,4,":",1,1,":",1,3,":",2,2,":",1,1,":",0,0,":",2,3,":",0,3,":",0,2,":",1,0,":",0,3,":",1,3,":",0,0,":",0,0,":",1,3,":",0,1,":",1,0,":",4,1,":",1,"Robert Krieg",0,0,0,0,0,0,0,0,0,0,0,2,0,0,2,0,2,0,0,2,0,0,0,0,0,3,0,2,0,3,0,2,0,0,2,0,0,0,0,0,0,2,0,0,2,3,2,0,0,3,0,0,0,0,0,0,0,2,0,2,0,2,0,0,2,0,0,0,0,0,0,0,0,0,0,0,0,0,0,0,0,2,0,0,2,3,2,0,0,3,0,0,0,0,0,0,0,2,0,2,0,2,0,0,2,0,0,0,2,2,0,0,2,0,2,0,0,0,0,0,31,{"$f":"'Vorrunde 01-24'!HC10","v":28},59]
["2026-06-20T22:00:00",46193.916666666664,"2026-06-20T16:00:00",33,"Deutschland (E1)","-","Elfenbeinküste (E3)",2,":",1,"Kanada / BMO Field (Toronto)","2. Gruppenspiel","ZDF und MagentaTV",1,{"$f":"IF('Vorrunde 01-24'!O11<>\"\",'Vorrunde 01-24'!O11,\"\")","v":"Lothar Jungk"},1,":",1,2,":",2,2,":",0,3,":",1,2,":",1,2,":",2,5,":",0,1,":",1,1,":",0,2,":",2,1,":",1,0,":",1,4,":",0,3,":",0,5,":",1,1,":",3,3,":",1,3,":",0,2,":",0,1,":",2,2,":",0,3,":",1,1,":",3,2,":",0,"Lothar Jungk",3,0,0,2,3,0,0,0,0,0,0,2,0,0,2,0,2,0,0,2,0,2,0,0,2,0,0,0,0,0,0,2,0,0,2,0,0,0,0,0,0,2,0,0,2,0,0,0,0,0,0,0,0,2,2,0,0,2,0,2,3,2,0,0,3,0,0,0,0,0,0,0,0,0,0,3,0,2,0,3,0,2,0,0,2,3,2,0,0,3,0,2,0,0,2,3,0,2,0,3,0,2,0,0,2,0,0,0,0,0,0,0,2,0,2,0,2,0,0,2,39,{"$f":"'Vorrunde 01-24'!HC11","v":22},61]
["2026-06-21T02:00:00",46194.083333333336,"2026-06-20T19:00:00",34,"Ecuador (E4)","-","Curaçao (E2)",0,":",0,"USA / Arrowhead Stadium (Kansas City)","2. Gruppenspiel","ZDF und MagentaTV",1,{"$f":"IF('Vorrunde 01-24'!O12<>\"\",'Vorrunde 01-24'!O12,\"\")","v":"Jakob Well"},2,":",1,3,":",1,2,":",0,2,":",1,2,":",1,1,":",3,4,":",0,3,":",1,3,":",2,1,":",0,2,":",0,0,":",1,2,":",0,3,":",1,2,":",1,0,":",2,2,":",1,5,":",1,3,":",2,0,":",1,3,":",1,3,":",2,1,":",3,2,":",0,"Jakob Well",0,0,0,0,0,0,2,0,0,2,0,2,0,0,2,0,2,0,0,2,0,2,0,0,2,0,0,2,0,2,0,2,0,0,2,0,0,0,0,0,0,2,0,0,2,0,2,0,0,2,0,0,0,0,0,0,0,2,0,2,0,2,0,0,2,0,0,0,0,0,0,0,0,0,0,0,0,2,0,2,0,2,0,0,2,0,2,0,0,2,3,2,0,0,3,0,0,2,0,2,0,2,0,0,2,0,0,0,0,0,0,0,2,0,2,0,2,0,0,2,37,{"$f":"'Vorrunde 01-24'!HC12","v":33},70]
["2026-06-21T06:00:00",46194.25,"2026-06-20T22:00:00",36,"Tunesien (F4)","-","Japan (F2)",0,":",4,"Mexiko / Estadio BBVA (Monterrey)","2. Gruppenspiel","MagentaTV (Telekom) Free-TV",1,{"$f":"IF('Vorrunde 01-24'!O13<>\"\",'Vorrunde 01-24'!O13,\"\")","v":"Marco Frank"},2,":",0,2,":",1,2,":",1,3,":",1,2,":",0,1,":",3,5,":",0,2,":",1,3,":",1,2,":",0,3,":",0,1,":",2,4,":",0,3,":",0,4,":",0,1,":",3,3,":",1,3,":",0,1,":",3,0,":",2,5,":",0,3,":",0,0,":",3,3,":",0,"Marco Frank",0,0,0,0,0,0,2,0,0,2,0,2,0,0,2,0,2,0,0,2,3,2,0,0,3,0,0,2,0,2,0,2,0,0,2,0,0,0,0,0,0,2,0,0,2,0,2,0,0,2,0,0,0,0,0,0,0,2,0,2,3,2,0,0,3,0,0,0,0,0,0,0,0,0,0,3,0,2,0,3,0,2,0,0,2,3,2,0,0,3,0,0,0,0,0,0,0,2,0,2,3,2,0,0,3,0,0,0,0,0,0,0,2,0,2,0,2,0,0,2,39,{"$f":"'Vorrunde 01-24'!HC13","v":26},65]
["2026-06-21T18:00:00",46194.75,"2026-06-21T12:00:00",38,"Spanien (H1)","-","Saudi-Arabien (H3)",4,":",0,"USA / Mercedes-Benz Stadium (Atlanta)","2. Gruppenspiel","MagentaTV (Telekom) exklusiv",1,{"$f":"IF('Vorrunde 01-24'!O14<>\"\",'Vorrunde 01-24'!O14,\"\")","v":"Simon Schott"},2,":",2,2,":",1,3,":",0,1,":",0,1,":",1,2,":",1,7,":",1,2,":",0,1,":",1,2,":",0,2,":",1,0,":",0,3,":",1,2,":",1,3,":",0,1,":",2,2,":",2,3,":",1,1,":",1,1,":",1,2,":",0,2,":",0,1,":",3,3,":",2,"Simon Schott",0,0,0,2,2,0,2,0,0,2,0,2,0,0,2,3,2,0,0,3,0,0,0,0,0,0,0,0,0,0,0,2,0,0,2,0,0,0,0,0,0,0,0,0,0,0,2,0,0,2,0,0,0,0,0,0,0,0,0,0,0,2,0,0,2,0,0,0,0,0,0,0,0,0,0,0,0,2,0,2,0,0,0,0,0,0,2,0,0,2,0,0,0,0,0,0,0,0,0,0,0,2,0,0,2,0,0,0,0,0,0,0,2,0,2,0,2,0,0,2,25,{"$f":"'Vorrunde 01-24'!HC14","v":28},53]
["2026-06-21T21:00:00",46194.875,"2026-06-21T12:00:00",39,"Belgien (G1)","-","Iran (G3)",0,":",0,"USA / SoFi Stadium (Los Angeles)","2. Gruppenspiel","ZDF und MagentaTV",1,{"$f":"IF('Vorrunde 01-24'!O15<>\"\",'Vorrunde 01-24'!O15,\"\")","v":"Lennart Rechmann"},2,":",1,2,":",2,3,":",0,2,":",1,2,":",1,1,":",1,2,":",0,2,":",1,0,":",1,2,":",1,3,":",1,1,":",2,2,":",0,2,":",1,3,":",0,2,":",2,1,":",0,5,":",1,2,":",1,1,":",3,2,":",0,2,":",1,1,":",3,4,":",1,"Lennart Rechmann",0,0,0,0,0,0,0,0,0,0,0,2,0,0,2,0,2,0,0,2,0,2,0,0,2,0,0,0,0,0,0,2,0,0,2,0,0,0,0,0,0,0,0,0,0,3,2,0,0,3,0,0,0,0,0,0,0,2,0,2,0,2,0,0,2,0,0,0,0,0,0,0,0,0,0,0,0,0,0,0,0,2,0,0,2,0,2,0,0,2,0,2,0,0,2,0,0,2,0,2,0,2,0,0,2,0,0,0,0,0,0,0,2,0,2,0,2,0,0,2,29,{"$f":"'Vorrunde 01-24'!HC15","v":20},49]
["2026-06-22",46195,"2026-06-21T18:00:00",37,"Uruguay (H4)","-","Kap Verde (H2)",2,":",2,"USA / Hard Rock Stadium (Miami)","2. Gruppenspiel","ARD und MagentaTV",1,{"$f":"IF('Vorrunde 01-24'!O16<>\"\",'Vorrunde 01-24'!O16,\"\")","v":"Albrecht Well"},1,":",2,2,":",0,1,":",1,2,":",0,2,":",1,1,":",2,3,":",0,2,":",1,2,":",0,2,":",2,2,":",2,1,":",2,3,":",0,1,":",0,1,":",2,1,":",1,1,":",2,3,":",0,1,":",2,1,":",2,3,":",0,1,":",0,1,":",2,2,":",1,"Albrecht Well",0,0,0,0,0,0,2,0,0,2,0,0,0,0,0,0,2,0,0,2,0,2,0,0,2,0,0,2,0,2,3,2,0,0,3,0,0,0,0,0,0,2,0,0,2,0,0,0,0,0,0,0,0,2,2,0,0,2,0,2,0,2,0,0,2,0,0,0,0,0,0,0,0,0,0,0,0,0,0,0,0,0,0,0,0,3,2,0,0,3,0,0,0,0,0,3,0,2,0,3,0,2,0,0,2,0,0,0,0,0,0,0,2,0,2,0,2,0,0,2,31,{"$f":"'Vorrunde 01-24'!HC16","v":29},60]
["2026-06-22T03:00:00",46195.125,"2026-06-21T18:00:00",40,"Neuseeland (G4)","-","Ägypten (G2)",1,":",3,"Kanada / BC Place Stadium (Vancouver)","2. Gruppenspiel","MagentaTV (Telekom) exklusiv",1,{"$f":"IF('Vorrunde 01-24'!O17<>\"\",'Vorrunde 01-24'!O17,\"\")","v":"Christoph Hoffmann "},1,":",1,2,":",1,2,":",0,2,":",0,2,":",0,1,":",2,5,":",0,2,":",2,1,":",0,1,":",1,1,":",0,1,":",2,6,":",0,2,":",0,5,":",1,0,":",2,3,":",2,6,":",2,3,":",0,0,":",1,2,":",0,3,":",0,1,":",2,1,":",0,"Christoph Hoffmann ",3,0,0,2,3,0,2,0,0,2,0,2,0,0,2,0,2,0,0,2,3,2,0,0,3,0,0,2,0,2,0,2,0,0,2,0,0,0,0,0,0,2,0,0,2,0,0,0,0,0,0,0,0,0,0,0,0,2,0,2,0,2,0,0,2,0,0,0,0,0,0,0,0,0,0,0,0,2,0,2,0,2,0,0,2,0,2,0,0,2,0,2,0,0,2,0,0,2,0,2,0,2,0,0,2,0,0,0,0,0,0,0,2,0,2,3,2,0,0,3,39,{"$f":"'Vorrunde 01-24'!HC17","v":26},65]
["2026-06-22T19:00:00",46195.791666666664,"2026-06-22T12:00:00",43,"Argentinien (J1)","-","Österreich (J3)",2,":",0,"USA / AT&T Stadium (Dallas)","2. Gruppenspiel","ARD und MagentaTV",1,{"$f":"IF('Vorrunde 01-24'!O18<>\"\",'Vorrunde 01-24'!O18,\"\")","v":"Helen Rechmann"},3,":",3,2,":",1,2,":",1,3,":",1,2,":",1,0,":",3,3,":",0,3,":",1,2,":",0,3,":",0,2,":",0,0,":",2,3,":",0,2,":",1,5,":",1,0,":",2,0,":",1,4,":",0,2,":",2,0,":",2,4,":",0,4,":",2,0,":",3,3,":",1,"Helen Rechmann",0,0,0,2,2,0,2,0,0,2,0,2,0,0,2,0,2,0,0,2,0,2,0,0,2,0,0,2,0,2,3,2,0,0,3,0,0,0,0,0,0,2,0,0,2,0,2,0,0,2,0,0,0,0,0,0,0,2,0,2,0,2,0,0,2,0,0,0,0,0,0,0,0,0,0,0,0,2,0,2,0,0,0,0,0,0,2,0,0,2,0,0,0,0,0,0,0,2,0,2,0,2,0,0,2,0,0,0,0,0,0,0,2,0,2,0,2,0,0,2,35,{"$f":"'Vorrunde 01-24'!HC18","v":31},66]
["2026-06-22T23:00:00",46195.958333333336,"2026-06-22T17:00:00",42,"Frankreich (I1)","-","Irak (I3)",3,":",0,"USA / Lincoln Financial Field (Philadelphia)","2. Gruppenspiel","ARD und MagentaTV",1,{"$f":"IF('Vorrunde 01-24'!O19<>\"\",'Vorrunde 01-24'!O19,\"\")","v":"Ingrid Well"},2,":",0,2,":",0,2,":",1,3,":",1,2,":",0,1,":",2,4,":",1,1,":",1,1,":",1,2,":",1,2,":",0,1,":",2,3,":",1,1,":",1,2,":",0,1,":",2,2,":",0,3,":",0,2,":",2,0,":",2,3,":",1,3,":",1,1,":",2,2,":",1,"Ingrid Well",0,0,0,0,0,0,2,0,0,2,0,2,0,0,2,0,2,0,0,2,3,2,0,0,3,0,0,2,0,2,0,2,0,0,2,0,0,0,0,0,0,0,0,0,0,3,2,0,0,3,0,0,0,0,0,0,0,2,0,2,0,2,0,0,2,0,0,0,2,2,0,0,0,0,0,0,0,2,0,2,3,2,0,0,3,3,2,0,0,3,0,0,0,0,0,0,0,2,0,2,0,2,0,0,2,0,0,0,0,0,0,0,2,0,2,0,2,0,0,2,38,{"$f":"'Vorrunde 01-24'!HC19","v":22},60]
["2026-06-23T02:00:00",46196.083333333336,"2026-06-22T20:00:00",41,"Norwegen (I4)","-","Senegal (I2)",3,":",2,"USA / MetLife Stadium (New York/New Jersey)","2. Gruppenspiel","MagentaTV (Telekom) exklusiv",1,{"$f":"IF('Vorrunde 01-24'!O20<>\"\",'Vorrunde 01-24'!O20,\"\")","v":"Joachim Well"},2,":",0,2,":",0,3,":",1,2,":",0,2,":",0,2,":",3,4,":",0,1,":",1,2,":",1,3,":",1,2,":",0,1,":",2,3,":",1,1,":",1,2,":",1,1,":",2,2,":",0,3,":",0,2,":",2,0,":",2,2,":",0,3,":",1,0,":",2,2,":",1,"Joachim Well",0,0,0,0,0,0,2,0,0,2,0,2,0,0,2,0,2,0,0,2,3,2,0,0,3,0,0,2,0,2,0,2,0,0,2,0,0,0,0,0,0,2,0,0,2,0,2,0,0,2,0,0,0,0,0,0,0,2,0,2,0,2,0,0,2,0,0,0,2,2,0,0,0,0,0,0,0,2,0,2,3,2,0,0,3,3,2,0,0,3,0,0,0,0,0,0,0,2,0,2,0,2,0,0,2,0,0,0,0,0,0,0,2,0,2,0,2,0,0,2,39,{"$f":"'Vorrunde 01-24'!HC20","v":25},64]
["2026-06-23T05:00:00",46196.208333333336,"2026-06-22T20:00:00",44,"Jordanien (J4)","-","Algerien (J2)",1,":",2,"USA / Levi's Stadium (San Francisco Bay Area)","2. Gruppenspiel","ZDF und MagentaTV",1,{"$f":"IF('Vorrunde 01-24'!O21<>\"\",'Vorrunde 01-24'!O21,\"\")","v":"Lea Müller"},2,":",0,3,":",0,3,":",0,2,":",0,1,":",2,3,":",1,5,":",0,2,":",0,4,":",0,3,":",2,0,":",2,1,":",0,4,":",0,0,":",1,1,":",1,2,":",0,4,":",0,3,":",0,2,":",1,2,":",2,4,":",1,3,":",0,1,":",2,2,":",2,"Lea Müller",0,0,0,0,0,0,2,0,0,2,0,2,0,0,2,0,2,0,0,2,0,0,0,0,0,0,0,0,0,0,0,2,0,0,2,0,0,0,0,0,0,2,0,0,2,0,2,0,0,2,0,0,0,0,0,0,0,0,0,0,3,2,0,0,3,0,0,0,0,0,0,0,0,2,2,0,0,0,0,0,0,2,0,0,2,3,2,0,0,3,0,2,0,0,2,0,0,0,0,0,0,2,0,0,2,0,0,0,0,0,0,0,2,0,2,0,0,0,0,0,28,{"$f":"'Vorrunde 01-24'!HC21","v":21},49]
["2026-06-23T19:00:00",46196.791666666664,"2026-06-23T12:00:00",47,"Portugal (K1)","-","Usbekistan (K3)",5,":",0,"USA / NRG Stadium (Houston)","2. Gruppenspiel","ARD und MagentaTV",1,{"$f":"IF('Vorrunde 01-24'!O22<>\"\",'Vorrunde 01-24'!O22,\"\")","v":"Sebastian Hausmann"},1,":",0,1,":",1,2,":",0,1,":",1,2,":",0,1,":",2,3,":",0,2,":",0,1,":",1,2,":",1,3,":",0,0,":",1,2,":",0,1,":",1,2,":",0,0,":",3,1,":",1,3,":",0,1,":",0,0,":",2,3,":",0,1,":",0,0,":",2,2,":",0,"Sebastian Hausmann",0,0,0,0,0,0,0,0,0,0,0,2,0,0,2,0,0,0,0,0,3,2,0,0,3,0,0,2,0,2,3,2,0,0,3,0,0,0,0,0,0,0,0,0,0,3,2,0,0,3,0,0,0,0,0,0,0,2,0,2,0,2,0,0,2,0,0,0,2,2,0,0,0,0,0,0,0,2,0,2,0,0,0,0,0,3,2,0,0,3,0,2,0,0,2,0,0,2,0,2,0,2,0,0,2,0,0,0,0,0,0,0,2,0,2,0,2,0,0,2,34,{"$f":"'Vorrunde 01-24'!HC22","v":34},68]
["2026-06-23T22:00:00",46196.916666666664,"2026-06-23T16:00:00",45,"England (L1)","-","Ghana (L3)",0,":",0,"USA / Gillette Stadium (Boston)","2. Gruppenspiel","ARD und MagentaTV",1,{"$f":"IF('Vorrunde 01-24'!O23<>\"\",'Vorrunde 01-24'!O23,\"\")","v":"Stefan Rechmann"},1,":",1,1,":",1,1,":",0,1,":",0,2,":",1,1,":",2,4,":",0,2,":",1,2,":",1,2,":",1,2,":",0,1,":",1,4,":",0,4,":",0,3,":",1,1,":",2,1,":",1,5,":",0,2,":",1,1,":",2,3,":",0,2,":",1,1,":",2,2,":",1,"Stefan Rechmann",3,0,0,2,3,0,0,0,0,0,0,2,0,0,2,3,2,0,0,3,0,2,0,0,2,0,0,2,0,2,0,2,0,0,2,0,0,0,0,0,0,2,0,0,2,3,2,0,0,3,0,0,0,0,0,0,0,0,0,0,3,2,0,0,3,0,0,0,0,0,0,0,0,0,0,0,0,2,0,2,0,0,0,0,0,0,2,0,0,2,0,2,0,0,2,3,0,2,0,3,0,2,0,0,2,0,0,0,0,0,0,0,2,0,2,0,2,0,0,2,37,{"$f":"'Vorrunde 01-24'!HC23","v":28},65]
["2026-06-24T01:00:00",46197.041666666664,"2026-06-23T19:00:00",46,"Panama (L4)","-","Kroatien (L2)",0,":",1,"Kanada / BMO Field (Toronto)","2. Gruppenspiel","MagentaTV (Telekom) exklusiv",1,{"$f":"IF('Vorrunde 01-24'!O24<>\"\",'Vorrunde 01-24'!O24,\"\")","v":"Uwe Diegel"},2,":",1,2,":",0,2,":",0,1,":",1,2,":",1,0,":",1,3,":",0,1,":",1,2,":",0,2,":",0,2,":",0,0,":",1,3,":",0,2,":",0,2,":",0,0,":",2,2,":",1,3,":",0,1,":",1,0,":",1,2,":",0,2,":",0,0,":",2,2,":",0,"Uwe Diegel",0,0,0,0,0,0,2,0,0,2,0,2,0,0,2,0,0,0,0,0,0,2,0,0,2,3,0,2,0,3,3,2,0,0,3,0,0,0,0,0,0,2,0,0,2,0,2,0,0,2,0,0,0,0,0,0,0,2,0,2,0,2,0,0,2,0,0,0,0,0,0,0,0,0,0,0,0,2,0,2,0,2,0,0,2,3,2,0,0,3,0,0,0,0,0,0,0,2,0,2,0,2,0,0,2,0,0,0,0,0,0,0,2,0,2,0,2,0,0,2,35,{"$f":"'Vorrunde 01-24'!HC24","v":24},59]
["2026-06-24T04:00:00",46197.166666666664,"2026-06-23T20:00:00",48,"Kolumbien (K4)","-","DR Kongo (K2)",1,":",0,"Mexiko / Estadio Akron (Guadalajara)","2. Gruppenspiel","ARD und MagentaTV",1,{"$f":"IF('Vorrunde 01-24'!O25<>\"\",'Vorrunde 01-24'!O25,\"\")","v":"Stephan Seipp"},2,":",1,2,":",0,2,":",1,2,":",1,2,":",0,2,":",0,3,":",1,1,":",2,2,":",2,2,":",1,2,":",2,1,":",3,3,":",0,2,":",1,3,":",0,1,":",2,2,":",1,3,":",0,1,":",2,2,":",2,2,":",0,3,":",1,1,":",2,2,":",1,"Stephan Seipp",0,0,0,0,0,0,2,0,0,2,0,2,0,0,2,0,2,0,0,2,3,2,0,0,3,0,0,0,0,0,0,2,0,0,2,0,0,2,0,2,0,0,0,0,0,3,2,0,0,3,0,0,0,2,2,0,0,2,0,2,0,2,0,0,2,0,0,0,0,0,0,0,0,0,0,0,0,2,0,2,0,2,0,0,2,3,2,0,0,3,0,0,0,0,0,0,0,0,0,0,0,2,0,0,2,0,0,0,0,0,0,0,2,0,2,0,2,0,0,2,35,{"$f":"'Vorrunde 01-24'!HC25","v":30},65]
[null,null,null,null,null,null,null,null,null,null,null,null,null,{"$f":"SUM(N2:N25)","v":24},{"$f":"IF('Vorrunde 01-24'!O26<>\"\",'Vorrunde 01-24'!O26,\"\")","v":"Andreas Dechert"},3,":",1,2,":",1,0,":",0,2,":",2,2,":",1,2,":",1,4,":",0,1,":",1,2,":",1,3,":",1,2,":",0,1,":",1,3,":",1,2,":",0,3,":",1,1,":",1,2,":",1,4,":",1,2,":",1,2,":",2,1,":",0,2,":",1,0,":",2,3,":",1,"Andreas Dechert",0,0,0,0,0,0,2,0,0,2,0,0,0,0,0,0,0,0,0,0,0,2,0,0,2,0,0,0,0,0,0,2,0,0,2,0,0,0,0,0,0,2,0,0,2,0,2,0,0,2,0,0,0,0,0,0,0,0,0,0,0,2,0,0,2,0,0,0,0,0,0,0,0,0,0,0,0,0,0,0,0,2,0,0,2,0,2,0,0,2,0,2,0,0,2,0,0,0,0,0,0,2,0,0,2,0,0,0,0,0,0,0,2,0,2,0,2,0,0,2,24,{"$f":"'Vorrunde 01-24'!HC26","v":19},43]
[null,null,null,null,null,null,null,null,null,null,null,null,null,null,"Ergebnis",{"$f":"IF($H$2=\"\",\"-\",$H$2)","v":1},":",{"$f":"IF($J$2=\"\",\"-\",$J$2)","v":1},{"$f":"IF($H$3=\"\",\"-\",$H$3)","v":4},":",{"$f":"IF($J$3=\"\",\"-\",$J$3)","v":1},{"$f":"IF($H$4=\"\",\"-\",$H$4)","v":6},":",{"$f":"IF($J$4=\"\",\"-\",$J$4)","v":0},{"$f":"IF($H$5=\"\",\"-\",$H$5)","v":1},":",{"$f":"IF($J$5=\"\",\"-\",$J$5)","v":0},{"$f":"IF($H$6=\"\",\"-\",$H$6)","v":2},":",{"$f":"IF($J$6=\"\",\"-\",$J$6)","v":0},{"$f":"IF($H$7=\"\",\"-\",$H$7)","v":0},":",{"$f":"IF($J$7=\"\",\"-\",$J$7)","v":1},{"$f":"IF($H$8=\"\",\"-\",$H$8)","v":3},":",{"$f":"IF($J$8=\"\",\"-\",$J$8)","v":0},{"$f":"IF($H$9=\"\",\"-\",$H$9)","v":0},":",{"$f":"IF($J$9=\"\",\"-\",$J$9)","v":1},{"$f":"IF($H$10=\"\",\"-\",$H$10)","v":5},":",{"$f":"IF($J$10=\"\",\"-\",$J$10)","v":1},{"$f":"IF($H$11=\"\",\"-\",$H$11)","v":2},":",{"$f":"IF($J$11=\"\",\"-\",$J$11)","v":1},{"$f":"IF($H$12=\"\",\"-\",$H$12)","v":0},":",{"$f":"IF($J$12=\"\",\"-\",$J$12)","v":0},{"$f":"IF($H$13=\"\",\"-\",$H$13)","v":0},":",{"$f":"IF($J$13=\"\",\"-\",$J$13)","v":4},{"$f":"IF($H$14=\"\",\"-\",$H$14)","v":4},":",{"$f":"IF($J$14=\"\",\"-\",$J$14)","v":0},{"$f":"IF($H$15=\"\",\"-\",$H$15)","v":0},":",{"$f":"IF($J$15=\"\",\"-\",$J$15)","v":0},{"$f":"IF($H$16=\"\",\"-\",$H$16)","v":2},":",{"$f":"IF($J$16=\"\",\"-\",$J$16)","v":2},{"$f":"IF($H$17=\"\",\"-\",$H$17)","v":1},":",{"$f":"IF($J$17=\"\",\"-\",$J$17)","v":3},{"$f":"IF($H$18=\"\",\"-\",$H$18)","v":2},":",{"$f":"IF($J$18=\"\",\"-\",$J$18)","v":0},{"$f":"IF($H$19=\"\",\"-\",$H$19)","v":3},":",{"$f":"IF($J$19=\"\",\"-\",$J$19)","v":0},{"$f":"IF($H$20=\"\",\"-\",$H$20)","v":3},":",{"$f":"IF($J$20=\"\",\"-\",$J$20)","v":2},{"$f":"IF($H$21=\"\",\"-\",$H$21)","v":1},":",{"$f":"IF($J$21=\"\",\"-\",$J$21)","v":2},{"$f":"IF($H$22=\"\",\"-\",$H$22)","v":5},":",{"$f":"IF($J$22=\"\",\"-\",$J$22)","v":0},{"$f":"IF($H$23=\"\",\"-\",$H$23)","v":0},":",{"$f":"IF($J$23=\"\",\"-\",$J$23)","v":0},{"$f":"IF($H$24=\"\",\"-\",$H$24)","v":0},":",{"$f":"IF($J$24=\"\",\"-\",$J$24)","v":1},{"$f":"IF($H$25=\"\",\"-\",$H$25)","v":1},":",{"$f":"IF($J$25=\"\",\"-\",$J$25)","v":0},"VORRUNDE","Spiel 01",null,null,null,null,"Spiel 02",null,null,null,null,"Spiel 03",null,null,null,null,"Spiel 04",null,null,null,null,"Spiel 05",null,null,null,null,"Spiel 06",null,null,null,null,"Spiel 07",null,null,null,null,"Spiel 08",null,null,null,null,"Spiel 09",null,null,null,null,"Spiel 10",null,null,null,null,"Spiel 11",null,null,null,null,"Spiel 12",null,null,null,null,"Spiel 13",null,null,null,null,"Spiel 14",null,null,null,null,"Spiel 15",null,null,null,null,"Spiel 16",null,null,null,null,"Spiel 17",null,null,null,null,"Spiel 18",null,null,null,null,"Spiel 19",null,null,null,null,"Spiel 20",null,null,null,null,"Spiel 21",null,null,null,null,"Spiel 22",null,null,null,null,"Spiel 23",null,null,null,null,"Spiel 24"]
[null,null,null,null,null,null,null,null,null,null,null,null,null,null,"VORRUNDE",{"$f":"$B$2","v":46191.75},{"$f":"$K$2","v":"USA / Mercedes-Benz Stadium (Atlanta)"},"Gruppe  A",{"$f":"$B$3","v":46191.875},{"$f":"$K$3","v":"USA / SoFi Stadium (Los Angeles)"},"Gruppe  B",{"$f":"$B$4","v":46192},{"$f":"$K$4","v":"Kanada / BC Place Stadium (Vancouver)"},"Gruppe  B",{"$f":"$B$5","v":46192.125},{"$f":"$K$5","v":"Mexiko / Estadio Akron (Guadalajara)"},"Gruppe  A",{"$f":"$B$6","v":46192.875},{"$f":"$K$6","v":"USA / Lumen Field (Seattle)"},"Gruppe  D",{"$f":"$B$7","v":46193},{"$f":"$K$7","v":"USA / Gillette Stadium (Boston)"},"Gruppe  C",{"$f":"$B$8","v":46193.104166666664},{"$f":"$K$8","v":"USA / Lincoln Financial Field (Philadelphia)"},"Gruppe  C",{"$f":"$B$9","v":46193.208333333336},{"$f":"$K$9","v":"USA / Levi's Stadium (San Francisco Bay Area)"},"Gruppe  D",{"$f":"$B$10","v":46193.791666666664},{"$f":"$K$10","v":"USA / NRG Stadium (Houston)"},"Gruppe  F",{"$f":"$B$11","v":46193.916666666664},{"$f":"$K$11","v":"Kanada / BMO Field (Toronto)"},"Gruppe  E",{"$f":"$B$12","v":46194.083333333336},{"$f":"$K$12","v":"USA / Arrowhead Stadium (Kansas City)"},"Gruppe  E",{"$f":"$B$13","v":46194.25},{"$f":"$K$13","v":"Mexiko / Estadio BBVA (Monterrey)"},"Gruppe  F",{"$f":"$B$14","v":46194.75},{"$f":"$K$14","v":"USA / Mercedes-Benz Stadium (Atlanta)"},"Gruppe  H",{"$f":"$B$15","v":46194.875},{"$f":"$K$15","v":"USA / SoFi Stadium (Los Angeles)"},"Gruppe  G",{"$f":"$B$16","v":46195},{"$f":"$K$16","v":"USA / Hard Rock Stadium (Miami)"},"Gruppe  H",{"$f":"$B$17","v":46195.125},{"$f":"$K$17","v":"Kanada / BC Place Stadium (Vancouver)"},"Gruppe  G",{"$f":"$B$18","v":46195.791666666664},{"$f":"$K$18","v":"USA / AT&T Stadium (Dallas)"},"Gruppe  J",{"$f":"$B$19","v":46195.958333333336},{"$f":"$K$19","v":"USA / Lincoln Financial Field (Philadelphia)"},"Gruppe  I",{"$f":"$B$20","v":46196.083333333336},{"$f":"$K$20","v":"USA / MetLife Stadium (New York/New Jersey)"},"Gruppe  I",{"$f":"$B$21","v":46196.208333333336},{"$f":"$K$21","v":"USA / Levi's Stadium (San Francisco Bay Area)"},"Gruppe  J",{"$f":"$B$22","v":46196.791666666664},{"$f":"$K$22","v":"USA / NRG Stadium (Houston)"},"Gruppe  K",{"$f":"$B$23","v":46196.916666666664},{"$f":"$K$23","v":"USA / Gillette Stadium (Boston)"},"Gruppe  L",{"$f":"$B$24","v":46197.041666666664},{"$f":"$K$24","v":"Kanada / BMO Field (Toronto)"},"Gruppe  L",{"$f":"$B$25","v":46197.166666666664},{"$f":"$K$25","v":"Mexiko / Estadio Akron (Guadalajara)"},"Gruppe  K",null,null,null,null,null,null,null,null,null,null,null,null,null,null,null,null,null,null,null,null,null,null,null,null,null,null,null,null,null,null,null,null,null,null,null,null,null,null,null,null,null,null,null,null,null,null,null,null,null,null,null,null,null,null,null,null,null,null,null,null,null,null,null,null,null,null,null,null,null,null,null,null,null,null,null,null,null,null,null,null,null,null,null,null,null,null,null,null,null,null,null,null,null,null,null,null,null,null,null,null,null,null,null,null,null,null,null,null,null,null,null,null,null,null,null,null,null,null,null,null,null,"Stand vom :"]
[null,null,null,null,null,null,null,null,null,null,null,null,null,null,null,{"$f":"$A$2","v":"2026-06-18T18:00:00"},null,{"$f":"$C$2","v":46191.5},{"$f":"$A$3","v":"2026-06-18T21:00:00"},null,{"$f":"$C$3","v":46191.5},{"$f":"$A$4","v":"2026-06-19"},null,{"$f":"$C$4","v":46191.625},{"$f":"$A$5","v":"2026-06-19T03:00:00"},null,{"$f":"$C$5","v":46191.791666666664},{"$f":"$A$6","v":"2026-06-19T21:00:00"},null,{"$f":"$C$6","v":46192.5},{"$f":"$A$7","v":"2026-06-20"},null,{"$f":"$C$7","v":46192.75},{"$f":"$A$8","v":"2026-06-20T03:00:00"},null,{"$f":"$C$8","v":46192.854166666664},{"$f":"$A$9","v":"2026-06-20T06:00:00"},null,{"$f":"$C$9","v":46192.833333333336},{"$f":"$A$10","v":"2026-06-20T19:00:00"},null,{"$f":"$C$10","v":46193.5},{"$f":"$A$11","v":"2026-06-20T22:00:00"},null,{"$f":"$C$11","v":46193.666666666664},{"$f":"$A$12","v":"2026-06-21T02:00:00"},null,{"$f":"$C$12","v":46193.791666666664},{"$f":"$A$13","v":"2026-06-21T06:00:00"},null,{"$f":"$C$13","v":46193.916666666664},{"$f":"$A$14","v":"2026-06-21T18:00:00"},null,{"$f":"$C$14","v":46194.5},{"$f":"$A$15","v":"2026-06-21T21:00:00"},null,{"$f":"$C$15","v":46194.5},{"$f":"$A$16","v":"2026-06-22"},null,{"$f":"$C$16","v":46194.75},{"$f":"$A$17","v":"2026-06-22T03:00:00"},null,{"$f":"$C$17","v":46194.75},{"$f":"$A$18","v":"2026-06-22T19:00:00"},null,{"$f":"$C$18","v":46195.5},{"$f":"$A$19","v":"2026-06-22T23:00:00"},null,{"$f":"$C$19","v":46195.708333333336},{"$f":"$A$20","v":"2026-06-23T02:00:00"},null,{"$f":"$C$20","v":46195.833333333336},{"$f":"$A$21","v":"2026-06-23T05:00:00"},null,{"$f":"$C$21","v":46195.833333333336},{"$f":"$A$22","v":"2026-06-23T19:00:00"},null,{"$f":"$C$22","v":46196.5},{"$f":"$A$23","v":"2026-06-23T22:00:00"},null,{"$f":"$C$23","v":46196.666666666664},{"$f":"$A$24","v":"2026-06-24T01:00:00"},null,{"$f":"$C$24","v":46196.791666666664},{"$f":"$A$25","v":"2026-06-24T04:00:00"},null,{"$f":"$C$25","v":46196.833333333336},null,null,null,null,null,null,null,null,null,null,null,null,null,null,null,null,null,null,null,null,null,null,null,null,null,null,null,null,null,null,null,null,null,null,null,null,null,null,null,null,null,null,null,null,null,null,null,null,null,null,null,null,null,null,null,null,null,null,null,null,null,null,null,null,null,null,null,null,null,null,null,null,null,null,null,null,null,null,null,null,null,null,null,null,null,null,null,null,null,null,null,null,null,null,null,null,null,null,null,null,null,null,null,null,null,null,null,null,null,null,null,null,null,null,null,null,null,null,null,null,null,{"$f":"TODAY()","v":"2026-07-20"}]

{"sheet":"Vorrunde 49-72","index":2,"n_rows":29,"n_cols":211,"rows_kept":29,"cut":false,"hidden":false,"merged":[[0,4,0,6],[0,7,0,9],[0,15,0,17],[0,18,0,20],[0,21,0,23],[0,39,0,41],[0,42,0,44],[0,45,0,47],[0,48,0,50],[0,14,5,14],[1,19,5,19],[1,20,5,20],[1,21,5,21],[1,22,5,22],[1,23,5,23],[1,15,5,15],[1,16,5,16],[1,17,5,17],[1,18,5,18],[1,29,5,29],[1,30,5,30],[1,31,5,31],[1,32,5,32],[1,33,5,33],[0,51,0,53],[0,24,0,26],[0,27,0,29],[0,30,0,32],[0,33,0,35],[0,36,0,38],[0,69,0,71],[0,72,0,74],[0,75,0,77],[0,78,0,80],[0,81,0,83],[0,54,0,56],[0,57,0,59],[0,60,0,62],[0,63,0,65],[0,66,0,68],[0,84,0,86],[0,88,5,92],[1,59,5,59],[1,60,5,60],[1,61,5,61],[1,62,5,62],[1,63,5,63],[1,54,5,54],[1,55,5,55],[1,56,5,56],[1,57,5,57],[1,58,5,58],[1,69,5,69],[1,70,5,70],[1,71,5,71],[1,72,5,72],[1,73,5,73],[1,24,5,24],[1,25,5,25],[1,26,5,26],[1,27,5,27],[1,28,5,28],[1,39,5,39],[1,40,5,40],[1,41,5,41],[1,42,5,42],[1,43,5,43],[1,34,5,34],[1,35,5,35],[1,36,5,36],[1,37,5,37],[1,38,5,38],[1,49,5,49],[1,50,5,50],[1,51,5,51],[1,52,5,52],[1,53,5,53],[1,44,5,44],[1,45,5,45],[1,46,5,46],[1,47,5,47],[1,48,5,48],[1,64,5,64],[1,65,5,65],[1,66,5,66],[1,67,5,67],[1,68,5,68],[1,79,5,79],[1,80,5,80],[1,81,5,81],[1,82,5,82],[1,83,5,83],[1,74,5,74],[1,75,5,75],[1,76,5,76],[1,77,5,77],[1,78,5,78],[1,208,5,208],[1,209,5,209],[1,210,5,210],[0,93,5,97],[0,98,5,102],[0,103,5,107],[1,84,5,84],[1,85,5,85],[1,86,5,86],[1,87,5,87],[0,173,5,177],[0,178,5,182],[0,133,5,137],[0,138,5,142],[0,143,5,147],[0,148,5,152],[0,153,5,157],[0,108,5,112],[0,183,5,187],[0,188,5,192],[0,193,5,197],[0,198,5,202],[0,203,5,207],[0,158,5,162],[0,163,5,167],[0,168,5,172],[26,87,28,87],[26,88,28,92],[26,93,28,97],[26,98,28,102],[26,103,28,107],[26,108,28,112],[26,113,28,117],[26,118,28,122],[26,123,28,127],[0,113,5,117],[0,118,5,122],[0,123,5,127],[0,128,5,132],[27,40,28,40],[27,43,28,43],[27,46,28,46],[27,49,28,49],[27,52,28,52],[26,173,28,177],[26,178,28,182],[26,183,28,187],[26,188,28,192],[26,148,28,152],[26,153,28,157],[26,158,28,162],[26,163,28,167],[26,168,28,172],[27,85,28,85],[26,128,28,132],[26,133,28,137],[26,138,28,142],[26,143,28,147],[27,14,28,14],[27,16,28,16],[27,19,28,19],[27,22,28,22],[27,25,28,25],[27,28,28,28],[27,31,28,31],[27,34,28,34],[27,37,28,37],[27,208,27,210],[28,208,28,210],[27,70,28,70],[27,73,28,73],[27,76,28,76],[27,79,28,79],[27,82,28,82],[27,55,28,55],[27,58,28,58],[27,61,28,61],[27,64,28,64],[27,67,28,67],[26,198,28,202],[26,203,28,207],[26,193,28,197]]}
["Spiele 49-72   (chronologisch)","Anstoßzeit","Ortszeit","Spiel-Nr.","Spielpaarungen / Gruppen",null,null,"Ergebnis",null,null,"Austragungsort / Stadion","Vorrunde","Live-TV Übertragungsrechte"," - ","NAME",{"$f":"$D2","v":51},null,null,{"$f":"$D3","v":52},null,null,{"$f":"$D4","v":49},null,null,{"$f":"$D5","v":50},null,null,{"$f":"$D6","v":53},null,null,{"$f":"$D7","v":54},null,null,{"$f":"$D8","v":55},null,null,{"$f":"$D9","v":56},null,null,{"$f":"$D10","v":57},null,null,{"$f":"$D11","v":58},null,null,{"$f":"$D12","v":59},null,null,{"$f":"$D13","v":60},null,null,{"$f":"$D14","v":61},null,null,{"$f":"$D15","v":62},null,null,{"$f":"$D16","v":65},null,null,{"$f":"$D17","v":66},null,null,{"$f":"$D18","v":63},null,null,{"$f":"$D19","v":64},null,null,{"$f":"$D20","v":67},null,null,{"$f":"$D21","v":68},null,null,{"$f":"$D22","v":71},null,null,{"$f":"$D23","v":72},null,null,{"$f":"$D24","v":69},null,null,{"$f":"$D25","v":70},null,null,null,{"$f":"$P$2&$N$1&$R$2","v":"Schweiz - Kanada"},null,null,null,null,{"$f":"$S$2&$N$1&$U$2","v":"Bosnien-Herzegowina - Katar"},null,null,null,null,{"$f":"$V$2&$N$1&$X$2","v":"Schottland - Brasilien"},null,null,null,null,{"$f":"$Y$2&$N$1&$AA$2","v":"Marokko - Haiti"},null,null,null,null,{"$f":"$AB$2&$N$1&$AD$2","v":"Tschechien - Mexiko"},null,null,null,null,{"$f":"$AE$2&$N$1&$AG$2","v":"Südafrika - Südkorea"},null,null,null,null,{"$f":"$AH$2&$N$1&$AJ$2","v":"Curaçao - Elfenbeinküste"},null,null,null,null,{"$f":"$AK$2&$N$1&$AM$2","v":"Ecuador - Deutschland"},null,null,null,null,{"$f":"$AN$2&$N$1&$AP$2","v":"Japan - Schweden"},null,null,null,null,{"$f":"$AQ$2&$N$1&$AS$2","v":"Tunesien - Niederlande"},null,null,null,null,{"$f":"$AT$2&$N$1&$AV$2","v":"Türkei - USA"},null,null,null,null,{"$f":"$AW$2&$N$1&$AY$2","v":"Paraguay - Australien"},null,null,null,null,{"$f":"$AZ$2&$N$1&$BB$2","v":"Norwegen - Frankreich"},null,null,null,null,{"$f":"$BC$2&$N$1&$BE$2","v":"Senegal - Irak"},null,null,null,null,{"$f":"$BF$2&$N$1&$BH$2","v":"Kap Verde - Saudi-Arabien"},null,null,null,null,{"$f":"$BI$2&$N$1&$BK$2","v":"Uruguay - Spanien"},null,null,null,null,{"$f":"$BL$2&$N$1&$BN$2","v":"Ägypten - Iran"},null,null,null,null,{"$f":"$BO$2&$N$1&$BQ$2","v":"Neuseeland - Belgien"},null,null,null,null,{"$f":"$BR$2&$N$1&$BT$2","v":"Panama - England"},null,null,null,null,{"$f":"$BU$2&$N$1&$BW$2","v":"Kroatien - Ghana"},null,null,null,null,{"$f":"$BX$2&$N$1&$BZ$2","v":"Kolumbien - Portugal"},null,null,null,null,{"$f":"$CA$2&$N$1&$CC$2","v":"DR Kongo - Usbekistan"},null,null,null,null,{"$f":"$CD$2&$N$1&$CF$2","v":"Algerien - Österreich"},null,null,null,null,{"$f":"$CG$2&$N$1&$CI$2","v":"Jordanien - Argentinien"},null,null,null,null,"PUNKTE","PUNKTE","PUNKTE"]
["2026-06-24T21:00:00",46197.875,"2026-06-24T12:00:00",51,"Schweiz (B4)","-","Kanada (B1)",2,":",1,"Kanada / BC Place Stadium (Vancouver)","3. Gruppenspiel","ARD 1 Spiel Gr. B und MagentaTV",{"$f":"IF($J2<>\"\",1,0)","v":1},null,{"$f":"LEFT($E$2, LEN($E$2) - LEN(TRIM(RIGHT(SUBSTITUTE(TRIM($E$2), \" \", REPT(\" \", 100)), 100))) - 1)","v":"Schweiz"},"gegen",{"$f":"LEFT($G$2, LEN($G$2) - LEN(TRIM(RIGHT(SUBSTITUTE(TRIM($G$2), \" \", REPT(\" \", 100)), 100))) - 1)","v":"Kanada"},{"$f":"LEFT($E$3, LEN($E$3) - LEN(TRIM(RIGHT(SUBSTITUTE(TRIM($E$3), \" \", REPT(\" \", 100)), 100))) - 1)","v":"Bosnien-Herzegowina"},"gegen",{"$f":"LEFT($G$3, LEN($G$3) - LEN(TRIM(RIGHT(SUBSTITUTE(TRIM($G$3), \" \", REPT(\" \", 100)), 100))) - 1)","v":"Katar"},{"$f":"LEFT($E$4, LEN($E$4) - LEN(TRIM(RIGHT(SUBSTITUTE(TRIM($E$4), \" \", REPT(\" \", 100)), 100))) - 1)","v":"Schottland"},"gegen",{"$f":"LEFT($G$4, LEN($G$4) - LEN(TRIM(RIGHT(SUBSTITUTE(TRIM($G$4), \" \", REPT(\" \", 100)), 100))) - 1)","v":"Brasilien"},{"$f":"LEFT($E$5, LEN($E$5) - LEN(TRIM(RIGHT(SUBSTITUTE(TRIM($E$5), \" \", REPT(\" \", 100)), 100))) - 1)","v":"Marokko"},"gegen",{"$f":"LEFT($G$5, LEN($G$5) - LEN(TRIM(RIGHT(SUBSTITUTE(TRIM($G$5), \" \", REPT(\" \", 100)), 100))) - 1)","v":"Haiti"},{"$f":"LEFT($E$6, LEN($E$6) - LEN(TRIM(RIGHT(SUBSTITUTE(TRIM($E$6), \" \", REPT(\" \", 100)), 100))) - 1)","v":"Tschechien"},"gegen",{"$f":"LEFT($G$6, LEN($G$6) - LEN(TRIM(RIGHT(SUBSTITUTE(TRIM($G$6), \" \", REPT(\" \", 100)), 100))) - 1)","v":"Mexiko"},{"$f":"LEFT($E$7, LEN($E$7) - LEN(TRIM(RIGHT(SUBSTITUTE(TRIM($E$7), \" \", REPT(\" \", 100)), 100))) - 1)","v":"Südafrika"},"gegen",{"$f":"LEFT($G$7, LEN($G$7) - LEN(TRIM(RIGHT(SUBSTITUTE(TRIM($G$7), \" \", REPT(\" \", 100)), 100))) - 1)","v":"Südkorea"},{"$f":"LEFT($E$8, LEN($E$8) - LEN(TRIM(RIGHT(SUBSTITUTE(TRIM($E$8), \" \", REPT(\" \", 100)), 100))) - 1)","v":"Curaçao"},"gegen",{"$f":"LEFT($G$8, LEN($G$8) - LEN(TRIM(RIGHT(SUBSTITUTE(TRIM($G$8), \" \", REPT(\" \", 100)), 100))) - 1)","v":"Elfenbeinküste"},{"$f":"LEFT($E$9, LEN($E$9) - LEN(TRIM(RIGHT(SUBSTITUTE(TRIM($E$9), \" \", REPT(\" \", 100)), 100))) - 1)","v":"Ecuador"},"gegen",{"$f":"LEFT($G$9, LEN($G$9) - LEN(TRIM(RIGHT(SUBSTITUTE(TRIM($G$9), \" \", REPT(\" \", 100)), 100))) - 1)","v":"Deutschland"},{"$f":"LEFT($E$10, LEN($E$10) - LEN(TRIM(RIGHT(SUBSTITUTE(TRIM($E$10), \" \", REPT(\" \", 100)), 100))) - 1)","v":"Japan"},"gegen",{"$f":"LEFT($G$10, LEN($G$10) - LEN(TRIM(RIGHT(SUBSTITUTE(TRIM($G$10), \" \", REPT(\" \", 100)), 100))) - 1)","v":"Schweden"},{"$f":"LEFT($E$11, LEN($E$11) - LEN(TRIM(RIGHT(SUBSTITUTE(TRIM($E$11), \" \", REPT(\" \", 100)), 100))) - 1)","v":"Tunesien"},"gegen",{"$f":"LEFT($G$11, LEN($G$11) - LEN(TRIM(RIGHT(SUBSTITUTE(TRIM($G$11), \" \", REPT(\" \", 100)), 100))) - 1)","v":"Niederlande"},{"$f":"LEFT($E$12, LEN($E$12) - LEN(TRIM(RIGHT(SUBSTITUTE(TRIM($E$12), \" \", REPT(\" \", 100)), 100))) - 1)","v":"Türkei"},"gegen",{"$f":"LEFT($G$12, LEN($G$12) - LEN(TRIM(RIGHT(SUBSTITUTE(TRIM($G$12), \" \", REPT(\" \", 100)), 100))) - 1)","v":"USA"},{"$f":"LEFT($E$13, LEN($E$13) - LEN(TRIM(RIGHT(SUBSTITUTE(TRIM($E$13), \" \", REPT(\" \", 100)), 100))) - 1)","v":"Paraguay"},"gegen",{"$f":"LEFT($G$13, LEN($G$13) - LEN(TRIM(RIGHT(SUBSTITUTE(TRIM($G$13), \" \", REPT(\" \", 100)), 100))) - 1)","v":"Australien"},{"$f":"LEFT($E$14, LEN($E$14) - LEN(TRIM(RIGHT(SUBSTITUTE(TRIM($E$14), \" \", REPT(\" \", 100)), 100))) - 1)","v":"Norwegen"},"gegen",{"$f":"LEFT($G$14, LEN($G$14) - LEN(TRIM(RIGHT(SUBSTITUTE(TRIM($G$14), \" \", REPT(\" \", 100)), 100))) - 1)","v":"Frankreich"},{"$f":"LEFT($E$15, LEN($E$15) - LEN(TRIM(RIGHT(SUBSTITUTE(TRIM($E$15), \" \", REPT(\" \", 100)), 100))) - 1)","v":"Senegal"},"gegen",{"$f":"LEFT($G$15, LEN($G$15) - LEN(TRIM(RIGHT(SUBSTITUTE(TRIM($G$15), \" \", REPT(\" \", 100)), 100))) - 1)","v":"Irak"},{"$f":"LEFT($E$16, LEN($E$16) - LEN(TRIM(RIGHT(SUBSTITUTE(TRIM($E$16), \" \", REPT(\" \", 100)), 100))) - 1)","v":"Kap Verde"},"gegen",{"$f":"LEFT($G$16, LEN($G$16) - LEN(TRIM(RIGHT(SUBSTITUTE(TRIM($G$16), \" \", REPT(\" \", 100)), 100))) - 1)","v":"Saudi-Arabien"},{"$f":"LEFT($E$17, LEN($E$17) - LEN(TRIM(RIGHT(SUBSTITUTE(TRIM($E$17), \" \", REPT(\" \", 100)), 100))) - 1)","v":"Uruguay"},"gegen",{"$f":"LEFT($G$17, LEN($G$17) - LEN(TRIM(RIGHT(SUBSTITUTE(TRIM($G$17), \" \", REPT(\" \", 100)), 100))) - 1)","v":"Spanien"},{"$f":"LEFT($E$18, LEN($E$18) - LEN(TRIM(RIGHT(SUBSTITUTE(TRIM($E$18), \" \", REPT(\" \", 100)), 100))) - 1)","v":"Ägypten"},"gegen",{"$f":"LEFT($G$18, LEN($G$18) - LEN(TRIM(RIGHT(SUBSTITUTE(TRIM($G$18), \" \", REPT(\" \", 100)), 100))) - 1)","v":"Iran"},{"$f":"LEFT($E$19, LEN($E$19) - LEN(TRIM(RIGHT(SUBSTITUTE(TRIM($E$19), \" \", REPT(\" \", 100)), 100))) - 1)","v":"Neuseeland"},"gegen",{"$f":"LEFT($G$19, LEN($G$19) - LEN(TRIM(RIGHT(SUBSTITUTE(TRIM($G$19), \" \", REPT(\" \", 100)), 100))) - 1)","v":"Belgien"},{"$f":"LEFT($E$20, LEN($E$20) - LEN(TRIM(RIGHT(SUBSTITUTE(TRIM($E$20), \" \", REPT(\" \", 100)), 100))) - 1)","v":"Panama"},"gegen",{"$f":"LEFT($G$20, LEN($G$20) - LEN(TRIM(RIGHT(SUBSTITUTE(TRIM($G$20), \" \", REPT(\" \", 100)), 100))) - 1)","v":"England"},{"$f":"LEFT($E$21, LEN($E$21) - LEN(TRIM(RIGHT(SUBSTITUTE(TRIM($E$21), \" \", REPT(\" \", 100)), 100))) - 1)","v":"Kroatien"},"gegen",{"$f":"LEFT($G$21, LEN($G$21) - LEN(TRIM(RIGHT(SUBSTITUTE(TRIM($G$21), \" \", REPT(\" \", 100)), 100))) - 1)","v":"Ghana"},{"$f":"LEFT($E$22, LEN($E$22) - LEN(TRIM(RIGHT(SUBSTITUTE(TRIM($E$22), \" \", REPT(\" \", 100)), 100))) - 1)","v":"Kolumbien"},"gegen",{"$f":"LEFT($G$22, LEN($G$22) - LEN(TRIM(RIGHT(SUBSTITUTE(TRIM($G$22), \" \", REPT(\" \", 100)), 100))) - 1)","v":"Portugal"},{"$f":"LEFT($E$23, LEN($E$23) - LEN(TRIM(RIGHT(SUBSTITUTE(TRIM($E$23), \" \", REPT(\" \", 100)), 100))) - 1)","v":"DR Kongo"},"gegen",{"$f":"LEFT($G$23, LEN($G$23) - LEN(TRIM(RIGHT(SUBSTITUTE(TRIM($G$23), \" \", REPT(\" \", 100)), 100))) - 1)","v":"Usbekistan"},{"$f":"LEFT($E$24, LEN($E$24) - LEN(TRIM(RIGHT(SUBSTITUTE(TRIM($E$24), \" \", REPT(\" \", 100)), 100))) - 1)","v":"Algerien"},"gegen",{"$f":"LEFT($G$24, LEN($G$24) - LEN(TRIM(RIGHT(SUBSTITUTE(TRIM($G$24), \" \", REPT(\" \", 100)), 100))) - 1)","v":"Österreich"},{"$f":"LEFT($E$25, LEN($E$25) - LEN(TRIM(RIGHT(SUBSTITUTE(TRIM($E$25), \" \", REPT(\" \", 100)), 100))) - 1)","v":"Jordanien"},"gegen",{"$f":"LEFT($G$25, LEN($G$25) - LEN(TRIM(RIGHT(SUBSTITUTE(TRIM($G$25), \" \", REPT(\" \", 100)), 100))) - 1)","v":"Argentinien"},"NAME",null,null,null,null,null,null,null,null,null,null,null,null,null,null,null,null,null,null,null,null,null,null,null,null,null,null,null,null,null,null,null,null,null,null,null,null,null,null,null,null,null,null,null,null,null,null,null,null,null,null,null,null,null,null,null,null,null,null,null,null,null,null,null,null,null,null,null,null,null,null,null,null,null,null,null,null,null,null,null,null,null,null,null,null,null,null,null,null,null,null,null,null,null,null,null,null,null,null,null,null,null,null,null,null,null,null,null,null,null,null,null,null,null,null,null,null,null,null,null,null,"Summe","Übertrag","GESAMT"]
["2026-06-24T21:00:00",46197.875,"2026-06-24T12:00:00",52,"Bosnien-Herzegowina (B2)","-","Katar (B3)",3,":",1,"USA / Lumen Field (Seattle)","3. Gruppenspiel","ARD 1 Spiel Gr. B und MagentaTV",{"$f":"IF($J3<>\"\",1,0)","v":1}]
["2026-06-25",46198,"2026-06-24T18:00:00",49,"Schottland (C4)","-","Brasilien (C1)",0,":",3,"USA / Hard Rock Stadium (Miami)","3. Gruppenspiel","MagentaTV (Telekom) exklusiv",1]
["2026-06-25",46198,"2026-06-24T18:00:00",50,"Marokko (C2)","-","Haiti (C3)",4,":",2,"USA / Mercedes-Benz Stadium (Atlanta)","3. Gruppenspiel","ZDF und MagentaTV",1]
["2026-06-25T03:00:00",46198.125,"2026-06-24T19:00:00",53,"Tschechien (A4)","-","Mexiko (A1)",0,":",3,"Mexiko / Azteca (Mexico City)","3. Gruppenspiel","MagentaTV (Telekom) exklusiv",1]
["2026-06-25T03:00:00",46198.125,"2026-06-24T19:00:00",54,"Südafrika (A2)","-","Südkorea (A3)",1,":",0,"Mexiko / Estadio BBVA (Monterrey)","3. Gruppenspiel","MagentaTV (Telekom) exklusiv",1,{"$f":"IF('Vorrunde 01-24'!O7<>\"\",'Vorrunde 01-24'!O7,\"\")","v":"Tilo Schott"},1,":",1,2,":",1,0,":",3,2,":",0,1,":",2,1,":",2,0,":",2,1,":",2,2,":",1,1,":",3,1,":",1,1,":",1,2,":",3,2,":",1,0,":",2,1,":",3,2,":",1,0,":",2,0,":",2,2,":",1,1,":",2,1,":",1,1,":",2,0,":",3,{"$f":"IF($O7<>\"\",$O7,\"\")","v":"Tilo Schott"},{"$f":"IF(AND($P7=$P$27,$R7=$R$27),3,0)","v":0},{"$f":"IF(AND($P7>$R7,$P$27>$R$27),2,0)","v":0},{"$f":"IF(AND($P7<$R7,$P$27<$R$27),2,0)","v":0},{"$f":"IF(AND($P7=$R7,$P$27=$R$27),2,0)","v":0},{"$f":"IF($R$27=\"-\",0,MAX(CK7:CN7))","v":0},{"$f":"IF(AND($S7=$S$27,$U7=$U$27),3,0)","v":0},{"$f":"IF(AND($S7>$U7,$S$27>$U$27),2,0)","v":2},{"$f":"IF(AND($S7<$U7,$S$27<$U$27),2,0)","v":0},{"$f":"IF(AND($S7=$U7,$S$27=$U$27),2,0)","v":0},{"$f":"IF($U$27=\"-\",0,MAX(CP7:CS7))","v":2},{"$f":"IF(AND($V7=$V$27,$X7=$X$27),3,0)","v":3},{"$f":"IF(AND($V7>$X7,$V$27>$X$27),2,0)","v":0},{"$f":"IF(AND($V7<$X7,$V$27<$X$27),2,0)","v":2},{"$f":"IF(AND($V7=$X7,$V$27=$X$27),2,0)","v":0},{"$f":"IF($X$27=\"-\",0,MAX(CU7:CX7))","v":3},{"$f":"IF(AND($Y7=$Y$27,$AA7=$AA$27),3,0)","v":0},{"$f":"IF(AND($Y7>$AA7,$Y$27>$AA$27),2,0)","v":2},{"$f":"IF(AND($Y7<$AA7,$Y$27<$AA$27),2,0)","v":0},{"$f":"IF(AND($Y7=$AA7,$Y$27=$AA$27),2,0)","v":0},{"$f":"IF($AA$27=\"-\",0,MAX(CZ7:DC7))","v":2},{"$f":"IF(AND($AB7=$AB$27,$AD7=$AD$27),3,0)","v":0},{"$f":"IF(AND($AB7>$AD7,$AB$27>$AD$27),2,0)","v":0},{"$f":"IF(AND($AB7<$AD7,$AB$27<$AD$27),2,0)","v":2},{"$f":"IF(AND($AB7=$AD7,$AB$27=$AD$27),2,0)","v":0},{"$f":"IF($AD$27=\"-\",0,MAX(DE7:DH7))","v":2},{"$f":"IF(AND($AE7=$AE$27,$AG7=$AG$27),3,0)","v":0},{"$f":"IF(AND($AE7>$AG7,$AE$27>$AG$27),2,0)","v":0},{"$f":"IF(AND($AE7<$AG7,$AE$27<$AG$27),2,0)","v":0},{"$f":"IF(AND($AE7=$AG7,$AE$27=$AG$27),2,0)","v":0},{"$f":"IF($AG$27=\"-\",0,MAX(DJ7:DM7))","v":0},{"$f":"IF(AND($AH7=$AH$27,$AJ7=$AJ$27),3,0)","v":3},{"$f":"IF(AND($AH7>$AJ7,$AH$27>$AJ$27),2,0)","v":0},{"$f":"IF(AND($AH7<$AJ7,$AH$27<$AJ$27),2,0)","v":2},{"$f":"IF(AND($AH7=$AJ7,$AH$27=$AJ$27),2,0)","v":0},{"$f":"IF($AJ$27=\"-\",0,MAX(DO7:DR7))","v":3},{"$f":"IF(AND($AK7=$AK$27,$AM7=$AM$27),3,0)","v":0},{"$f":"IF(AND($AK7>$AM7,$AK$27>$AM$27),2,0)","v":0},{"$f":"IF(AND($AK7<$AM7,$AK$27<$AM$27),2,0)","v":0},{"$f":"IF(AND($AK7=$AM7,$AK$27=$AM$27),2,0)","v":0},{"$f":"IF($AM$27=\"-\",0,MAX(DT7:DW7))","v":0},{"$f":"IF(AND($AN7=$AN$27,$AP7=$AP$27),3,0)","v":0},{"$f":"IF(AND($AN7>$AP7,$AN$27>$AP$27),2,0)","v":0},{"$f":"IF(AND($AN7<$AP7,$AN$27<$AP$27),2,0)","v":0},{"$f":"IF(AND($AN7=$AP7,$AN$27=$AP$27),2,0)","v":0},{"$f":"IF($AP$27=\"-\",0,MAX(DY7:EB7))","v":0},{"$f":"IF(AND($AQ7=$AQ$27,$AS7=$AS$27),3,0)","v":3},{"$f":"IF(AND($AQ7>$AS7,$AQ$27>$AS$27),2,0)","v":0},{"$f":"IF(AND($AQ7<$AS7,$AQ$27<$AS$27),2,0)","v":2},{"$f":"IF(AND($AQ7=$AS7,$AQ$27=$AS$27),2,0)","v":0},{"$f":"IF($AS$27=\"-\",0,MAX(ED7:EG7))","v":3},{"$f":"IF(AND($AT7=$AT$27,$AV7=$AV$27),3,0)","v":0},{"$f":"IF(AND($AT7>$AV7,$AT$27>$AV$27),2,0)","v":0},{"$f":"IF(AND($AT7<$AV7,$AT$27<$AV$27),2,0)","v":0},{"$f":"IF(AND($AT7=$AV7,$AT$27=$AV$27),2,0)","v":0},{"$f":"IF($AV$27=\"-\",0,MAX(EI7:EL7))","v":0},{"$f":"IF(AND($AW7=$AW$27,$AY7=$AY$27),3,0)","v":0},{"$f":"IF(AND($AW7>$AY7,$AW$27>$AY$27),2,0)","v":0},{"$f":"IF(AND($AW7<$AY7,$AW$27<$AY$27),2,0)","v":0},{"$f":"IF(AND($AW7=$AY7,$AW$27=$AY$27),2,0)","v":2},{"$f":"IF($AY$27=\"-\",0,MAX(EN7:EQ7))","v":2},{"$f":"IF(AND($AZ7=$AZ$27,$BB7=$BB$27),3,0)","v":0},{"$f":"IF(AND($AZ7>$BB7,$AZ$27>$BB$27),2,0)","v":0},{"$f":"IF(AND($AZ7<$BB7,$AZ$27<$BB$27),2,0)","v":2},{"$f":"IF(AND($AZ7=$BB7,$AZ$27=$BB$27),2,0)","v":0},{"$f":"IF($BB$27=\"-\",0,MAX(ES7:EV7))","v":2},{"$f":"IF(AND($BC7=$BC$27,$BE7=$BE$27),3,0)","v":0},{"$f":"IF(AND($BC7>$BE7,$BC$27>$BE$27),2,0)","v":2},{"$f":"IF(AND($BC7<$BE7,$BC$27<$BE$27),2,0)","v":0},{"$f":"IF(AND($BC7=$BE7,$BC$27=$BE$27),2,0)","v":0},{"$f":"IF($BE$27=\"-\",0,MAX(EX7:FA7))","v":2},{"$f":"IF(AND($BF7=$BF$27,$BH7=$BH$27),3,0)","v":0},{"$f":"IF(AND($BF7>$BH7,$BF$27>$BH$27),2,0)","v":0},{"$f":"IF(AND($BF7<$BH7,$BF$27<$BH$27),2,0)","v":0},{"$f":"IF(AND($BF7=$BH7,$BF$27=$BH$27),2,0)","v":0},{"$f":"IF($BH$27=\"-\",0,MAX(FC7:FF7))","v":0},{"$f":"IF(AND($BI7=$BI$27,$BK7=$BK$27),3,0)","v":0},{"$f":"IF(AND($BI7>$BK7,$BI$27>$BK$27),2,0)","v":0},{"$f":"IF(AND($BI7<$BK7,$BI$27<$BK$27),2,0)","v":2},{"$f":"IF(AND($BI7=$BK7,$BI$27=$BK$27),2,0)","v":0},{"$f":"IF($BK$27=\"-\",0,MAX(FH7:FK7))","v":2},{"$f":"IF(AND($BL7=$BL$27,$BN7=$BN$27),3,0)","v":0},{"$f":"IF(AND($BL7>$BN7,$BL$27>$BN$27),2,0)","v":0},{"$f":"IF(AND($BL7<$BN7,$BL$27<$BN$27),2,0)","v":0},{"$f":"IF(AND($BL7=$BN7,$BL$27=$BN$27),2,0)","v":0},{"$f":"IF($BN$27=\"-\",0,MAX(FM7:FP7))","v":0},{"$f":"IF(AND($BO7=$BO$27,$BQ7=$BQ$27),3,0)","v":0},{"$f":"IF(AND($BO7>$BQ7,$BO$27>$BQ$27),2,0)","v":0},{"$f":"IF(AND($BO7<$BQ7,$BO$27<$BQ$27),2,0)","v":2},{"$f":"IF(AND($BO7=$BQ7,$BO$27=$BQ$27),2,0)","v":0},{"$f":"IF($BQ$27=\"-\",0,MAX(FR7:FU7))","v":2},{"$f":"IF(AND($BR7=$BR$27,$BT7=$BT$27),3,0)","v":3},{"$f":"IF(AND($BR7>$BT7,$BR$27>$BT$27),2,0)","v":0},{"$f":"IF(AND($BR7<$BT7,$BR$27<$BT$27),2,0)","v":2},{"$f":"IF(AND($BR7=$BT7,$BR$27=$BT$27),2,0)","v":0},{"$f":"IF($BT$27=\"-\",0,MAX(FW7:FZ7))","v":3},{"$f":"IF(AND($BU7=$BU$27,$BW7=$BW$27),3,0)","v":3},{"$f":"IF(AND($BU7>$BW7,$BU$27>$BW$27),2,0)","v":2},{"$f":"IF(AND($BU7<$BW7,$BU$27<$BW$27),2,0)","v":0},{"$f":"IF(AND($BU7=$BW7,$BU$27=$BW$27),2,0)","v":0},{"$f":"IF($BW$27=\"-\",0,MAX(GB7:GE7))","v":3},{"$f":"IF(AND($BX7=$BX$27,$BZ7=$BZ$27),3,0)","v":0},{"$f":"IF(AND($BX7>$BZ7,$BX$27>$BZ$27),2,0)","v":0},{"$f":"IF(AND($BX7<$BZ7,$BX$27<$BZ$27),2,0)","v":0},{"$f":"IF(AND($BX7=$BZ7,$BX$27=$BZ$27),2,0)","v":0},{"$f":"IF($BZ$27=\"-\",0,MAX(GG7:GJ7))","v":0},{"$f":"IF(AND($CA7=$CA$27,$CC7=$CC$27),3,0)","v":0},{"$f":"IF(AND($CA7>$CC7,$CA$27>$CC$27),2,0)","v":0},{"$f":"IF(AND($CA7<$CC7,$CA$27<$CC$27),2,0)","v":0},{"$f":"IF(AND($CA7=$CC7,$CA$27=$CC$27),2,0)","v":0},{"$f":"IF($CC$27=\"-\",0,MAX(GL7:GO7))","v":0},{"$f":"IF(AND($CD7=$CD$27,$CF7=$CF$27),3,0)","v":0},{"$f":"IF(AND($CD7>$CF7,$CD$27>$CF$27),2,0)","v":0},{"$f":"IF(AND($CD7<$CF7,$CD$27<$CF$27),2,0)","v":0},{"$f":"IF(AND($CD7=$CF7,$CD$27=$CF$27),2,0)","v":0},{"$f":"IF($CF$27=\"-\",0,MAX(GQ7:GT7))","v":0},{"$f":"IF(AND($CG7=$CG$27,$CI7=$CI$27),3,0)","v":0},{"$f":"IF(AND($CG7>$CI7,$CG$27>$CI$27),2,0)","v":0},{"$f":"IF(AND($CG7<$CI7,$CG$27<$CI$27),2,0)","v":2},{"$f":"IF(AND($CG7=$CI7,$CG$27=$CI$27),2,0)","v":0},{"$f":"IF($CI$27=\"-\",0,MAX(GV7:GY7))","v":2},{"$f":"SUM(CO7,CT7,CY7,DD7,DI7,DN7,DS7,DX7,EC7,EH7,EM7,ER7,EW7,FB7,FG7,FL7,FQ7,FV7,GA7,GF7,GK7,GP7,GU7,GZ7)","v":33},{"$f":"'Vorrunde 25-48'!HC7","v":73},{"$f":"SUM(HA7:HB7)","v":106}]
["2026-06-25T22:00:00",46198.916666666664,"2026-06-25T16:00:00",55,"Curaçao (E2)","-","Elfenbeinküste (E3)",0,":",2,"USA / Lincoln Financial Field (Philadelphia)","3. Gruppenspiel","MagentaTV (Telekom) exklusiv",1,{"$f":"IF('Vorrunde 01-24'!O8<>\"\",'Vorrunde 01-24'!O8,\"\")","v":"Arno Schneucker"},2,":",1,2,":",1,1,":",3,2,":",0,2,":",2,2,":",2,1,":",4,1,":",2,1,":",1,0,":",2,1,":",2,1,":",2,1,":",2,2,":",0,3,":",1,1,":",3,2,":",1,1,":",2,1,":",3,1,":",3,2,":",1,2,":",1,2,":",1,0,":",3,{"$f":"IF($O8<>\"\",$O8,\"\")","v":"Arno Schneucker"},3,2,0,0,3,0,2,0,0,2,0,0,2,0,2,0,2,0,0,2,0,0,0,0,0,0,0,0,0,0,0,0,2,0,2,0,0,0,0,0,3,0,0,2,3,0,0,2,0,2,0,0,0,0,0,0,0,0,0,0,0,0,2,0,2,0,2,0,0,2,0,0,0,0,0,0,0,2,0,2,0,0,0,0,0,0,0,2,0,2,0,0,2,0,2,0,0,0,0,0,0,0,0,0,0,0,2,0,0,2,0,0,0,0,0,0,0,2,0,2,{"$f":"SUM(CO8,CT8,CY8,DD8,DI8,DN8,DS8,DX8,EC8,EH8,EM8,ER8,EW8,FB8,FG8,FL8,FQ8,FV8,GA8,GF8,GK8,GP8,GU8,GZ8)","v":30},{"$f":"'Vorrunde 25-48'!HC8","v":56},{"$f":"SUM(HA8:HB8)","v":86}]
["2026-06-25T22:00:00",46198.916666666664,"2026-06-25T16:00:00",56,"Ecuador (E4)","-","Deutschland (E1)",2,":",1,"USA / MetLife Stadium (New York/New Jersey)","3. Gruppenspiel","ARD und MagentaTV",1,{"$f":"IF('Vorrunde 01-24'!O9<>\"\",'Vorrunde 01-24'!O9,\"\")","v":"Silke Seibert"},2,":",1,3,":",0,1,":",4,3,":",0,1,":",1,0,":",2,1,":",3,0,":",2,4,":",2,0,":",5,0,":",0,1,":",1,2,":",5,3,":",1,1,":",2,1,":",2,2,":",0,0,":",2,1,":",5,3,":",1,3,":",3,2,":",2,0,":",3,1,":",6,"Silke Seibert",3,2,0,0,3,0,2,0,0,2,0,0,2,0,2,0,2,0,0,2,0,0,0,0,0,0,0,0,0,0,0,0,2,0,2,0,0,0,0,0,0,0,0,0,0,0,0,2,0,2,0,0,0,0,0,0,0,0,2,2,0,0,2,0,2,0,2,0,0,2,0,0,0,0,0,0,0,2,0,2,0,0,0,0,0,0,0,2,0,2,0,0,2,0,2,0,2,0,0,2,0,0,0,2,2,0,0,0,0,0,0,0,0,0,0,0,0,2,0,2,31,{"$f":"'Vorrunde 25-48'!HC9","v":58},89]
["2026-06-26T01:00:00",46199.041666666664,"2026-06-25T18:00:00",57,"Japan (F2)","-","Schweden (F3)",1,":",1,"USA / AT&T Stadium (Dallas)","3. Gruppenspiel","ARD 1 Spiel Gr. F und MagentaTV",1,{"$f":"IF('Vorrunde 01-24'!O10<>\"\",'Vorrunde 01-24'!O10,\"\")","v":"Robert Krieg"},2,":",1,2,":",1,0,":",1,0,":",0,0,":",1,1,":",2,0,":",2,1,":",1,1,":",1,0,":",3,1,":",4,2,":",0,1,":",4,2,":",1,0,":",0,2,":",3,1,":",1,0,":",3,1,":",3,2,":",2,2,":",3,1,":",0,1,":",4,0,":",2,"Robert Krieg",3,2,0,0,3,0,2,0,0,2,0,0,2,0,2,0,0,0,0,0,0,0,2,0,2,0,0,0,0,0,3,0,2,0,3,0,0,0,0,0,3,0,0,2,3,0,0,2,0,2,0,0,0,0,0,0,0,0,0,0,3,0,2,0,3,0,2,0,0,2,3,0,0,2,3,0,0,2,0,2,3,0,0,2,3,0,0,2,0,2,0,0,2,0,2,0,0,0,0,0,0,0,0,0,0,0,2,0,0,2,0,0,0,0,0,0,0,2,0,2,38,{"$f":"'Vorrunde 25-48'!HC10","v":59},97]
["2026-06-26T01:00:00",46199.041666666664,"2026-06-25T18:00:00",58,"Tunesien (F4)","-","Niederlande (F1)",1,":",3,"USA / Arrowhead Stadium (Kansas City)","3. Gruppenspiel","ARD 1 Spiel Gr. F und MagentaTV",1,{"$f":"IF('Vorrunde 01-24'!O11<>\"\",'Vorrunde 01-24'!O11,\"\")","v":"Lothar Jungk"},1,":",0,2,":",0,1,":",3,2,":",0,1,":",3,1,":",1,0,":",2,1,":",3,2,":",2,1,":",2,2,":",0,2,":",0,2,":",2,1,":",0,0,":",0,2,":",3,1,":",0,0,":",4,0,":",5,2,":",2,2,":",2,1,":",1,1,":",2,0,":",6,"Lothar Jungk",0,2,0,0,2,0,2,0,0,2,0,0,2,0,2,0,2,0,0,2,0,0,2,0,2,0,0,0,0,0,3,0,2,0,3,0,0,0,0,0,0,0,0,2,2,0,0,2,0,2,0,2,0,0,2,0,0,0,0,0,0,0,0,0,0,0,2,0,0,2,3,0,0,2,3,0,0,2,0,2,0,0,0,0,0,0,0,2,0,2,0,0,2,0,2,0,0,0,0,0,0,0,0,2,2,0,0,0,0,0,0,0,0,0,0,0,0,2,0,2,34,{"$f":"'Vorrunde 25-48'!HC11","v":61},95]
["2026-06-26T04:00:00",46199.166666666664,"2026-06-25T19:00:00",59,"Türkei (D4)","-","USA (D1)",3,":",2,"USA / SoFi Stadium (Los Angeles)","3. Gruppenspiel","MagentaTV (Telekom) exklusiv",1,{"$f":"IF('Vorrunde 01-24'!O12<>\"\",'Vorrunde 01-24'!O12,\"\")","v":"Jakob Well"},2,":",1,1,":",1,1,":",3,1,":",0,1,":",1,1,":",1,1,":",2,1,":",2,2,":",1,1,":",3,2,":",1,0,":",1,2,":",2,1,":",0,1,":",0,1,":",2,1,":",0,0,":",1,0,":",3,1,":",1,2,":",2,1,":",1,1,":",2,1,":",2,"Jakob Well",3,2,0,0,3,0,0,0,0,0,0,0,2,0,2,0,2,0,0,2,0,0,0,0,0,0,0,0,0,0,0,0,2,0,2,0,0,0,0,0,0,0,0,0,0,3,0,2,0,3,0,2,0,0,2,0,0,0,0,0,0,0,0,0,0,0,2,0,0,2,0,0,0,0,0,0,0,2,0,2,0,0,0,0,0,0,0,2,0,2,0,0,2,0,2,0,0,0,0,0,0,0,0,2,2,0,0,0,0,0,0,0,0,0,0,0,0,2,0,2,26,{"$f":"'Vorrunde 25-48'!HC12","v":70},96]
["2026-06-26T04:00:00",46199.166666666664,"2026-06-25T19:00:00",60,"Paraguay (D2)","-","Australien (D3)",0,":",0,"USA / Levi's Stadium (San Francisco Bay Area)","3. Gruppenspiel","ARD und MagentaTV",1,{"$f":"IF('Vorrunde 01-24'!O13<>\"\",'Vorrunde 01-24'!O13,\"\")","v":"Marco Frank"},2,":",1,2,":",1,0,":",4,2,":",0,1,":",3,1,":",3,0,":",4,1,":",3,1,":",1,1,":",4,2,":",1,2,":",0,1,":",4,2,":",1,0,":",1,1,":",5,2,":",1,0,":",3,0,":",4,2,":",1,1,":",3,1,":",1,1,":",2,0,":",4,"Marco Frank",3,2,0,0,3,0,2,0,0,2,0,0,2,0,2,0,2,0,0,2,0,0,2,0,2,0,0,0,0,0,0,0,2,0,2,0,0,0,0,0,3,0,0,2,3,0,0,2,0,2,0,2,0,0,2,0,0,0,0,0,3,0,2,0,3,0,2,0,0,2,0,0,0,0,0,0,0,2,0,2,0,0,0,0,0,0,0,2,0,2,0,0,2,0,2,3,2,0,0,3,0,0,0,0,0,0,0,0,0,0,0,0,0,0,0,0,0,2,0,2,36,{"$f":"'Vorrunde 25-48'!HC13","v":65},101]
["2026-06-26T21:00:00",46199.875,"2026-06-26T15:00:00",61,"Norwegen (I4)","-","Frankreich (I1)",1,":",4,"USA / Gillette Stadium (Boston)","3. Gruppenspiel","ZDF 1 Spiel Gr. I und MagentaTV",1,{"$f":"IF('Vorrunde 01-24'!O14<>\"\",'Vorrunde 01-24'!O14,\"\")","v":"Simon Schott"},2,":",2,1,":",0,2,":",3,2,":",1,1,":",2,1,":",0,1,":",2,2,":",2,1,":",1,1,":",3,2,":",1,0,":",1,1,":",4,3,":",1,0,":",1,1,":",2,4,":",2,1,":",2,0,":",3,2,":",0,2,":",1,1,":",1,1,":",3,1,":",3,"Simon Schott",0,0,0,0,0,0,2,0,0,2,0,0,2,0,2,0,2,0,0,2,0,0,2,0,2,3,2,0,0,3,0,0,2,0,2,0,0,0,0,0,3,0,0,2,3,3,0,2,0,3,0,2,0,0,2,0,0,0,0,0,3,0,2,0,3,0,2,0,0,2,0,0,0,0,0,0,0,2,0,2,0,0,0,0,0,0,0,2,0,2,0,0,2,0,2,0,2,0,0,2,0,0,0,0,0,0,0,0,0,0,0,0,0,0,0,3,0,2,0,3,37,{"$f":"'Vorrunde 25-48'!HC14","v":53},90]
["2026-06-26T21:00:00",46199.875,"2026-06-26T15:00:00",62,"Senegal (I2)","-","Irak (I3)",5,":",0,"Kanada / BMO Field (Toronto)","3. Gruppenspiel","ZDF 1 Spiel Gr. I und MagentaTV",1,{"$f":"IF('Vorrunde 01-24'!O15<>\"\",'Vorrunde 01-24'!O15,\"\")","v":"Lennart Rechmann"},2,":",1,2,":",1,1,":",2,2,":",0,1,":",3,2,":",0,1,":",3,1,":",2,0,":",1,0,":",1,0,":",1,2,":",2,1,":",1,2,":",1,0,":",0,1,":",3,2,":",1,1,":",3,0,":",4,2,":",1,1,":",0,1,":",0,1,":",1,1,":",2,"Lennart Rechmann",3,2,0,0,3,0,2,0,0,2,0,0,2,0,2,0,2,0,0,2,0,0,2,0,2,0,2,0,0,2,0,0,2,0,2,0,0,0,0,0,0,0,0,0,0,0,0,2,0,2,0,0,0,0,0,0,0,0,2,2,0,0,0,0,0,0,2,0,0,2,3,0,0,2,3,0,0,2,0,2,0,0,0,0,0,0,0,2,0,2,0,0,2,0,2,3,2,0,0,3,0,0,0,0,0,0,2,0,0,2,0,0,0,2,2,0,0,2,0,2,39,{"$f":"'Vorrunde 25-48'!HC15","v":49},88]
["2026-06-27T02:00:00",46200.083333333336,"2026-06-26T19:00:00",65,"Kap Verde (H2)","-","Saudi-Arabien (H3)",0,":",0,"USA / NRG Stadium (Houston)","3. Gruppenspiel","ARD 1 Spiel Gr. H und MagentaTV",1,{"$f":"IF('Vorrunde 01-24'!O16<>\"\",'Vorrunde 01-24'!O16,\"\")","v":"Albrecht Well"},1,":",1,1,":",1,1,":",2,2,":",0,1,":",1,1,":",2,0,":",2,1,":",3,1,":",0,1,":",2,1,":",1,1,":",0,1,":",3,0,":",0,2,":",1,2,":",2,1,":",1,0,":",1,0,":",3,2,":",0,1,":",2,0,":",0,1,":",1,0,":",4,"Albrecht Well",0,0,0,0,0,0,0,0,0,0,0,0,2,0,2,0,2,0,0,2,0,0,0,0,0,0,0,0,0,0,3,0,2,0,3,0,0,0,0,0,0,0,0,0,0,0,0,2,0,2,0,0,0,0,0,0,0,0,0,0,0,0,2,0,2,0,0,0,0,0,0,0,0,0,0,0,0,0,0,0,3,0,0,2,3,0,0,2,0,2,0,0,2,0,2,0,2,0,0,2,0,0,0,0,0,0,0,0,0,0,0,0,0,2,2,0,0,2,0,2,24,{"$f":"'Vorrunde 25-48'!HC16","v":60},84]
["2026-06-27T02:00:00",46200.083333333336,"2026-06-26T18:00:00",66,"Uruguay (H4)","-","Spanien (H1)",0,":",1,"Mexiko / Estadio Akron (Guadalajara)","3. Gruppenspiel","ARD 1 Spiel Gr. H und MagentaTV",1,{"$f":"IF('Vorrunde 01-24'!O17<>\"\",'Vorrunde 01-24'!O17,\"\")","v":"Christoph Hoffmann "},2,":",0,1,":",0,1,":",3,3,":",0,2,":",0,1,":",1,2,":",3,1,":",2,2,":",1,2,":",1,4,":",3,2,":",1,1,":",2,2,":",0,1,":",0,1,":",5,4,":",1,2,":",4,1,":",4,1,":",1,2,":",3,2,":",1,1,":",5,0,":",6,"Christoph Hoffmann ",0,2,0,0,2,0,2,0,0,2,0,0,2,0,2,0,2,0,0,2,0,0,0,0,0,0,0,0,0,0,0,0,2,0,2,0,0,0,0,0,0,0,0,0,0,0,0,0,0,0,0,2,0,0,2,0,0,0,0,0,0,0,2,0,2,0,2,0,0,2,0,0,0,0,0,0,0,2,0,2,0,0,0,0,0,0,0,2,0,2,0,0,2,0,2,0,0,0,0,0,0,0,0,0,0,0,2,0,0,2,0,0,0,0,0,0,0,2,0,2,26,{"$f":"'Vorrunde 25-48'!HC17","v":65},91]
["2026-06-27T05:00:00",46200.208333333336,"2026-06-26T20:00:00",63,"Ägypten (G2)","-","Iran (G3)",1,":",1,"USA / Lumen Field (Seattle)","3. Gruppenspiel","MagentaTV (Telekom) exklusiv",1,{"$f":"IF('Vorrunde 01-24'!O18<>\"\",'Vorrunde 01-24'!O18,\"\")","v":"Helen Rechmann"},2,":",0,2,":",0,1,":",3,6,":",1,1,":",3,1,":",2,2,":",2,1,":",3,1,":",1,2,":",3,3,":",0,1,":",0,1,":",3,3,":",1,0,":",1,1,":",2,0,":",1,0,":",2,0,":",1,3,":",1,3,":",2,3,":",1,0,":",5,1,":",4,"Helen Rechmann",0,2,0,0,2,0,2,0,0,2,0,0,2,0,2,0,2,0,0,2,0,0,2,0,2,0,0,0,0,0,0,0,0,0,0,0,0,0,0,0,3,0,0,2,3,0,0,2,0,2,0,2,0,0,2,0,0,0,0,0,0,0,2,0,2,0,2,0,0,2,0,0,0,0,0,0,0,2,0,2,0,0,0,0,0,0,0,2,0,2,0,0,2,0,2,0,2,0,0,2,0,0,0,0,0,3,2,0,0,3,0,0,0,0,0,0,0,2,0,2,34,{"$f":"'Vorrunde 25-48'!HC18","v":66},100]
["2026-06-27T05:00:00",46200.208333333336,"2026-06-26T20:00:00",64,"Neuseeland (G4)","-","Belgien (G1)",1,":",5,"Kanada / BC Place Stadium (Vancouver)","3. Gruppenspiel","MagentaTV (Telekom) exklusiv",1,{"$f":"IF('Vorrunde 01-24'!O19<>\"\",'Vorrunde 01-24'!O19,\"\")","v":"Ingrid Well"},1,":",1,2,":",0,0,":",3,2,":",1,1,":",1,1,":",2,0,":",3,1,":",1,1,":",1,0,":",2,1,":",2,1,":",0,1,":",1,2,":",1,2,":",1,1,":",1,1,":",1,1,":",3,0,":",2,2,":",1,1,":",1,0,":",2,1,":",2,1,":",3,"Ingrid Well",0,0,0,0,0,0,2,0,0,2,3,0,2,0,3,0,2,0,0,2,0,0,0,0,0,0,0,0,0,0,0,0,2,0,2,0,0,0,0,0,3,0,0,2,3,0,0,2,0,2,0,0,0,0,0,0,0,0,0,0,0,0,0,0,0,0,2,0,0,2,0,0,0,0,0,0,0,0,0,0,3,0,0,2,3,0,0,2,0,2,3,0,2,0,3,3,2,0,0,3,0,0,0,2,2,0,0,0,0,0,0,0,0,0,0,3,0,2,0,3,32,{"$f":"'Vorrunde 25-48'!HC19","v":60},92]
["2026-06-27T23:00:00",46200.958333333336,"2026-06-27T17:00:00",67,"Panama (L4)","-","England (L1)",0,":",2,"USA / MetLife Stadium (New York/New Jersey)","3. Gruppenspiel","MagentaTV (Telekom) exklusiv",1,{"$f":"IF('Vorrunde 01-24'!O20<>\"\",'Vorrunde 01-24'!O20,\"\")","v":"Joachim Well"},2,":",1,2,":",0,1,":",3,2,":",1,1,":",1,1,":",2,0,":",3,0,":",1,1,":",1,0,":",2,1,":",2,1,":",1,1,":",3,2,":",1,2,":",1,1,":",2,1,":",1,1,":",3,0,":",2,2,":",0,1,":",1,1,":",1,1,":",2,1,":",3,"Joachim Well",3,2,0,0,3,0,2,0,0,2,0,0,2,0,2,0,2,0,0,2,0,0,0,0,0,0,0,0,0,0,0,0,2,0,2,0,0,0,0,0,3,0,0,2,3,0,0,2,0,2,0,0,0,0,0,0,0,0,2,2,0,0,2,0,2,0,2,0,0,2,0,0,0,0,0,0,0,2,0,2,3,0,0,2,3,0,0,2,0,2,3,0,2,0,3,0,2,0,0,2,0,0,0,2,2,0,0,0,0,0,0,0,0,0,0,3,0,2,0,3,39,{"$f":"'Vorrunde 25-48'!HC20","v":64},103]
["2026-06-27T23:00:00",46200.958333333336,"2026-06-27T17:00:00",68,"Kroatien (L2)","-","Ghana (L3)",2,":",1,"USA / Lincoln Financial Field (Philadelphia)","3. Gruppenspiel","ZDF und MagentaTV",1,{"$f":"IF('Vorrunde 01-24'!O21<>\"\",'Vorrunde 01-24'!O21,\"\")","v":"Lea Müller"},3,":",0,1,":",0,0,":",5,3,":",0,0,":",2,0,":",3,1,":",4,0,":",3,2,":",0,1,":",3,2,":",0,0,":",1,2,":",4,1,":",1,1,":",1,0,":",2,2,":",1,3,":",1,0,":",2,1,":",0,0,":",3,0,":",1,1,":",2,0,":",4,"Lea Müller",0,2,0,0,2,0,2,0,0,2,0,0,2,0,2,0,2,0,0,2,0,0,2,0,2,0,0,0,0,0,0,0,2,0,2,0,0,0,0,0,0,0,0,0,0,3,0,2,0,3,0,2,0,0,2,0,0,0,0,0,0,0,2,0,2,0,0,0,0,0,0,0,0,2,2,0,0,2,0,2,0,0,0,0,0,0,0,0,0,0,3,0,2,0,3,0,2,0,0,2,0,0,0,0,0,0,0,0,0,0,0,0,0,0,0,0,0,2,0,2,30,{"$f":"'Vorrunde 25-48'!HC21","v":49},79]
["2026-06-28T01:30:00",46201.0625,"2026-06-27T19:30:00",71,"Kolumbien (K4)","-","Portugal (K1)",0,":",0,"USA / Hard Rock Stadium (Miami)","3. Gruppenspiel","ZDF 1 Spiel Gr. K und MagentaTV",1,{"$f":"IF('Vorrunde 01-24'!O22<>\"\",'Vorrunde 01-24'!O22,\"\")","v":"Sebastian Hausmann"},2,":",1,2,":",0,0,":",2,3,":",0,1,":",2,1,":",2,0,":",3,1,":",1,1,":",1,0,":",2,2,":",1,1,":",1,1,":",2,1,":",0,1,":",1,0,":",1,2,":",1,0,":",2,0,":",3,1,":",1,1,":",2,1,":",1,0,":",0,0,":",3,"Sebastian Hausmann",3,2,0,0,3,0,2,0,0,2,0,0,2,0,2,0,2,0,0,2,0,0,2,0,2,0,0,0,0,0,0,0,2,0,2,0,0,0,0,0,3,0,0,2,3,0,0,2,0,2,0,2,0,0,2,0,0,0,2,2,0,0,2,0,2,0,2,0,0,2,0,0,0,2,2,3,0,2,0,3,0,0,0,0,0,0,0,2,0,2,0,0,2,0,2,0,0,0,0,0,0,0,0,0,0,0,0,0,0,0,0,0,0,2,2,0,0,2,0,2,39,{"$f":"'Vorrunde 25-48'!HC22","v":68},107]
["2026-06-28T01:30:00",46201.0625,"2026-06-27T19:30:00",72,"DR Kongo (K2)","-","Usbekistan (K3)",3,":",1,"USA / Mercedes-Benz Stadium (Atlanta)","3. Gruppenspiel","ZDF 1 Spiel Gr. K und MagentaTV",1,{"$f":"IF('Vorrunde 01-24'!O23<>\"\",'Vorrunde 01-24'!O23,\"\")","v":"Stefan Rechmann"},2,":",1,3,":",1,1,":",3,4,":",0,0,":",1,2,":",1,1,":",4,0,":",0,1,":",2,1,":",2,2,":",1,2,":",1,1,":",2,3,":",0,2,":",1,1,":",3,2,":",1,0,":",3,0,":",3,2,":",1,1,":",2,2,":",1,1,":",2,0,":",2,"Stefan Rechmann",3,2,0,0,3,3,2,0,0,3,0,0,2,0,2,0,2,0,0,2,0,0,2,0,2,0,2,0,0,2,0,0,2,0,2,0,0,0,0,0,0,0,0,0,0,0,0,2,0,2,0,2,0,0,2,0,0,0,0,0,0,0,2,0,2,0,2,0,0,2,0,0,0,0,0,0,0,2,0,2,0,0,0,0,0,0,0,2,0,2,0,0,2,0,2,3,2,0,0,3,0,0,0,0,0,0,2,0,0,2,0,0,0,0,0,0,0,2,0,2,37,{"$f":"'Vorrunde 25-48'!HC23","v":65},102]
["2026-06-28T04:00:00",46201.166666666664,"2026-06-27T21:00:00",69,"Algerien (J2)","-","Österreich (J3)",3,":",3,"USA / Arrowhead Stadium (Kansas City)","3. Gruppenspiel","ZDF 1 Spiel Gr. J und MagentaTV",1,{"$f":"IF('Vorrunde 01-24'!O24<>\"\",'Vorrunde 01-24'!O24,\"\")","v":"Uwe Diegel"},1,":",1,1,":",0,0,":",2,3,":",0,1,":",2,0,":",2,0,":",2,1,":",2,1,":",1,0,":",2,1,":",1,1,":",1,1,":",2,2,":",0,1,":",1,1,":",2,1,":",1,0,":",3,0,":",3,2,":",1,1,":",1,1,":",1,1,":",1,0,":",3,"Uwe Diegel",0,0,0,0,0,0,2,0,0,2,0,0,2,0,2,0,2,0,0,2,0,0,2,0,2,0,0,0,0,0,3,0,2,0,3,0,0,0,0,0,3,0,0,2,3,0,0,2,0,2,0,0,0,0,0,0,0,0,2,2,0,0,2,0,2,0,2,0,0,2,0,0,0,2,2,0,0,2,0,2,3,0,0,2,3,0,0,2,0,2,0,0,2,0,2,3,2,0,0,3,0,0,0,2,2,0,0,0,0,0,0,0,0,2,2,0,0,2,0,2,42,{"$f":"'Vorrunde 25-48'!HC24","v":59},101]
["2026-06-28T04:00:00",46201.166666666664,"2026-06-27T21:00:00",70,"Jordanien (J4)","-","Argentinien (J1)",1,":",3,"USA / AT&T Stadium (Dallas)","3. Gruppenspiel","ZDF 1 Spiel Gr. J und MagentaTV",1,{"$f":"IF('Vorrunde 01-24'!O25<>\"\",'Vorrunde 01-24'!O25,\"\")","v":"Stephan Seipp"},2,":",1,2,":",0,1,":",2,2,":",1,1,":",2,1,":",3,1,":",2,1,":",3,2,":",1,1,":",2,1,":",2,2,":",1,1,":",2,2,":",1,1,":",2,1,":",2,2,":",1,1,":",2,1,":",3,2,":",1,1,":",3,2,":",2,1,":",2,1,":",4,"Stephan Seipp",3,2,0,0,3,0,2,0,0,2,0,0,2,0,2,0,2,0,0,2,0,0,2,0,2,0,0,0,0,0,0,0,2,0,2,0,0,0,0,0,0,0,0,0,0,0,0,2,0,2,0,0,0,0,0,0,0,0,0,0,0,0,2,0,2,0,2,0,0,2,0,0,0,0,0,0,0,2,0,2,0,0,0,0,0,0,0,2,0,2,0,0,2,0,2,3,2,0,0,3,0,0,0,0,0,0,0,0,0,0,0,0,0,0,0,0,0,2,0,2,30,{"$f":"'Vorrunde 25-48'!HC25","v":65},95]
[null,null,null,null,null,null,null,null,null,null,null,null,null,{"$f":"SUM(N2:N25)","v":24},{"$f":"IF('Vorrunde 01-24'!O26<>\"\",'Vorrunde 01-24'!O26,\"\")","v":"Andreas Dechert"},3,":",1,2,":",1,1,":",2,2,":",1,1,":",1,1,":",1,0,":",2,1,":",3,2,":",3,1,":",4,3,":",1,1,":",0,2,":",3,2,":",1,0,":",0,1,":",2,2,":",1,1,":",3,0,":",3,3,":",1,1,":",2,1,":",1,1,":",2,0,":",3,"Andreas Dechert",0,2,0,0,2,0,2,0,0,2,0,0,2,0,2,0,2,0,0,2,0,0,0,0,0,0,0,0,0,0,3,0,2,0,3,0,0,0,0,0,0,0,0,0,0,0,0,2,0,2,0,2,0,0,2,0,0,0,0,0,0,0,2,0,2,0,2,0,0,2,3,0,0,2,3,0,0,2,0,2,0,0,0,0,0,0,0,2,0,2,0,0,2,0,2,0,2,0,0,2,0,0,0,0,0,0,0,0,0,0,0,0,0,0,0,0,0,2,0,2,32,{"$f":"'Vorrunde 25-48'!HC26","v":43},75]
[null,null,null,null,null,null,null,null,null,null,null,null,null,null,"Ergebnis",{"$f":"IF($H$2=\"\",\"-\",$H$2)","v":2},":",{"$f":"IF($J$2=\"\",\"-\",$J$2)","v":1},{"$f":"IF($H$3=\"\",\"-\",$H$3)","v":3},":",{"$f":"IF($J$3=\"\",\"-\",$J$3)","v":1},{"$f":"IF($H$4=\"\",\"-\",$H$4)","v":0},":",{"$f":"IF($J$4=\"\",\"-\",$J$4)","v":3},{"$f":"IF($H$5=\"\",\"-\",$H$5)","v":4},":",{"$f":"IF($J$5=\"\",\"-\",$J$5)","v":2},{"$f":"IF($H$6=\"\",\"-\",$H$6)","v":0},":",{"$f":"IF($J$6=\"\",\"-\",$J$6)","v":3},{"$f":"IF($H$7=\"\",\"-\",$H$7)","v":1},":",{"$f":"IF($J$7=\"\",\"-\",$J$7)","v":0},{"$f":"IF($H$8=\"\",\"-\",$H$8)","v":0},":",{"$f":"IF($J$8=\"\",\"-\",$J$8)","v":2},{"$f":"IF($H$9=\"\",\"-\",$H$9)","v":2},":",{"$f":"IF($J$9=\"\",\"-\",$J$9)","v":1},{"$f":"IF($H$10=\"\",\"-\",$H$10)","v":1},":",{"$f":"IF($J$10=\"\",\"-\",$J$10)","v":1},{"$f":"IF($H$11=\"\",\"-\",$H$11)","v":1},":",{"$f":"IF($J$11=\"\",\"-\",$J$11)","v":3},{"$f":"IF($H$12=\"\",\"-\",$H$12)","v":3},":",{"$f":"IF($J$12=\"\",\"-\",$J$12)","v":2},{"$f":"IF($H$13=\"\",\"-\",$H$13)","v":0},":",{"$f":"IF($J$13=\"\",\"-\",$J$13)","v":0},{"$f":"IF($H$14=\"\",\"-\",$H$14)","v":1},":",{"$f":"IF($J$14=\"\",\"-\",$J$14)","v":4},{"$f":"IF($H$15=\"\",\"-\",$H$15)","v":5},":",{"$f":"IF($J$15=\"\",\"-\",$J$15)","v":0},{"$f":"IF($H$16=\"\",\"-\",$H$16)","v":0},":",{"$f":"IF($J$16=\"\",\"-\",$J$16)","v":0},{"$f":"IF($H$17=\"\",\"-\",$H$17)","v":0},":",{"$f":"IF($J$17=\"\",\"-\",$J$17)","v":1},{"$f":"IF($H$18=\"\",\"-\",$H$18)","v":1},":",{"$f":"IF($J$18=\"\",\"-\",$J$18)","v":1},{"$f":"IF($H$19=\"\",\"-\",$H$19)","v":1},":",{"$f":"IF($J$19=\"\",\"-\",$J$19)","v":5},{"$f":"IF($H$20=\"\",\"-\",$H$20)","v":0},":",{"$f":"IF($J$20=\"\",\"-\",$J$20)","v":2},{"$f":"IF($H$21=\"\",\"-\",$H$21)","v":2},":",{"$f":"IF($J$21=\"\",\"-\",$J$21)","v":1},{"$f":"IF($H$22=\"\",\"-\",$H$22)","v":0},":",{"$f":"IF($J$22=\"\",\"-\",$J$22)","v":0},{"$f":"IF($H$23=\"\",\"-\",$H$23)","v":3},":",{"$f":"IF($J$23=\"\",\"-\",$J$23)","v":1},{"$f":"IF($H$24=\"\",\"-\",$H$24)","v":3},":",{"$f":"IF($J$24=\"\",\"-\",$J$24)","v":3},{"$f":"IF($H$25=\"\",\"-\",$H$25)","v":1},":",{"$f":"IF($J$25=\"\",\"-\",$J$25)","v":3},"VORRUNDE","Spiel 01",null,null,null,null,"Spiel 02",null,null,null,null,"Spiel 03",null,null,null,null,"Spiel 04",null,null,null,null,"Spiel 05",null,null,null,null,"Spiel 06",null,null,null,null,"Spiel 07",null,null,null,null,"Spiel 08",null,null,null,null,"Spiel 09",null,null,null,null,"Spiel 10",null,null,null,null,"Spiel 11",null,null,null,null,"Spiel 12",null,null,null,null,"Spiel 13",null,null,null,null,"Spiel 14",null,null,null,null,"Spiel 15",null,null,null,null,"Spiel 16",null,null,null,null,"Spiel 17",null,null,null,null,"Spiel 18",null,null,null,null,"Spiel 19",null,null,null,null,"Spiel 20",null,null,null,null,"Spiel 21",null,null,null,null,"Spiel 22",null,null,null,null,"Spiel 23",null,null,null,null,"Spiel 24"]
[null,null,null,null,null,null,null,null,null,null,null,null,null,null,"VORRUNDE",{"$f":"$B$2","v":46197.875},{"$f":"$K$2","v":"Kanada / BC Place Stadium (Vancouver)"},"Gruppe  B",{"$f":"$B$3","v":46197.875},{"$f":"$K$3","v":"USA / Lumen Field (Seattle)"},"Gruppe  B",{"$f":"$B$4","v":46198},{"$f":"$K$4","v":"USA / Hard Rock Stadium (Miami)"},"Gruppe  C",{"$f":"$B$5","v":46198},{"$f":"$K$5","v":"USA / Mercedes-Benz Stadium (Atlanta)"},"Gruppe  C",{"$f":"$B$6","v":46198.125},{"$f":"$K$6","v":"Mexiko / Azteca (Mexico City)"},"Gruppe  A",{"$f":"$B$7","v":46198.125},{"$f":"$K$7","v":"Mexiko / Estadio BBVA (Monterrey)"},"Gruppe  A",{"$f":"$B$8","v":46198.916666666664},{"$f":"$K$8","v":"USA / Lincoln Financial Field (Philadelphia)"},"Gruppe  E",{"$f":"$B$9","v":46198.916666666664},{"$f":"$K$9","v":"USA / MetLife Stadium (New York/New Jersey)"},"Gruppe  E",{"$f":"$B$10","v":46199.041666666664},{"$f":"$K$10","v":"USA / AT&T Stadium (Dallas)"},"Gruppe  F",{"$f":"$B$11","v":46199.041666666664},{"$f":"$K$11","v":"USA / Arrowhead Stadium (Kansas City)"},"Gruppe  F",{"$f":"$B$12","v":46199.166666666664},{"$f":"$K$12","v":"USA / SoFi Stadium (Los Angeles)"},"Gruppe  D",{"$f":"$B$13","v":46199.166666666664},{"$f":"$K$13","v":"USA / Levi's Stadium (San Francisco Bay Area)"},"Gruppe  D",{"$f":"$B$14","v":46199.875},{"$f":"$K$14","v":"USA / Gillette Stadium (Boston)"},"Gruppe  I",{"$f":"$B$15","v":46199.875},{"$f":"$K$15","v":"Kanada / BMO Field (Toronto)"},"Gruppe  I",{"$f":"$B$16","v":46200.083333333336},{"$f":"$K$16","v":"USA / NRG Stadium (Houston)"},"Gruppe  H",{"$f":"$B$17","v":46200.083333333336},{"$f":"$K$17","v":"Mexiko / Estadio Akron (Guadalajara)"},"Gruppe  H",{"$f":"$B$18","v":46200.208333333336},{"$f":"$K$18","v":"USA / Lumen Field (Seattle)"},"Gruppe  G",{"$f":"$B$19","v":46200.208333333336},{"$f":"$K$19","v":"Kanada / BC Place Stadium (Vancouver)"},"Gruppe  G",{"$f":"$B$20","v":46200.958333333336},{"$f":"$K$20","v":"USA / MetLife Stadium (New York/New Jersey)"},"Gruppe  L",{"$f":"$B$21","v":46200.958333333336},{"$f":"$K$21","v":"USA / Lincoln Financial Field (Philadelphia)"},"Gruppe  L",{"$f":"$B$22","v":46201.0625},{"$f":"$K$22","v":"USA / Hard Rock Stadium (Miami)"},"Gruppe  K",{"$f":"$B$23","v":46201.0625},{"$f":"$K$23","v":"USA / Mercedes-Benz Stadium (Atlanta)"},"Gruppe  K",{"$f":"$B$24","v":46201.166666666664},{"$f":"$K$24","v":"USA / Arrowhead Stadium (Kansas City)"},"Gruppe  J",{"$f":"$B$25","v":46201.166666666664},{"$f":"$K$25","v":"USA / AT&T Stadium (Dallas)"},"Gruppe  J",null,null,null,null,null,null,null,null,null,null,null,null,null,null,null,null,null,null,null,null,null,null,null,null,null,null,null,null,null,null,null,null,null,null,null,null,null,null,null,null,null,null,null,null,null,null,null,null,null,null,null,null,null,null,null,null,null,null,null,null,null,null,null,null,null,null,null,null,null,null,null,null,null,null,null,null,null,null,null,null,null,null,null,null,null,null,null,null,null,null,null,null,null,null,null,null,null,null,null,null,null,null,null,null,null,null,null,null,null,null,null,null,null,null,null,null,null,null,null,null,null,"Stand vom :"]
[null,null,null,null,null,null,null,null,null,null,null,null,null,null,null,{"$f":"$A$2","v":"2026-06-24T21:00:00"},null,{"$f":"$C$2","v":46197.5},{"$f":"$A$3","v":"2026-06-24T21:00:00"},null,{"$f":"$C$3","v":46197.5},{"$f":"$A$4","v":"2026-06-25"},null,{"$f":"$C$4","v":46197.75},{"$f":"$A$5","v":"2026-06-25"},null,{"$f":"$C$5","v":46197.75},{"$f":"$A$6","v":"2026-06-25T03:00:00"},null,{"$f":"$C$6","v":46197.791666666664},{"$f":"$A$7","v":"2026-06-25T03:00:00"},null,{"$f":"$C$7","v":46197.791666666664},{"$f":"$A$8","v":"2026-06-25T22:00:00"},null,{"$f":"$C$8","v":46198.666666666664},{"$f":"$A$9","v":"2026-06-25T22:00:00"},null,{"$f":"$C$9","v":46198.666666666664},{"$f":"$A$10","v":"2026-06-26T01:00:00"},null,{"$f":"$C$10","v":46198.75},{"$f":"$A$11","v":"2026-06-26T01:00:00"},null,{"$f":"$C$11","v":46198.75},{"$f":"$A$12","v":"2026-06-26T04:00:00"},null,{"$f":"$C$12","v":46198.791666666664},{"$f":"$A$13","v":"2026-06-26T04:00:00"},null,{"$f":"$C$13","v":46198.791666666664},{"$f":"$A$14","v":"2026-06-26T21:00:00"},null,{"$f":"$C$14","v":46199.625},{"$f":"$A$15","v":"2026-06-26T21:00:00"},null,{"$f":"$C$15","v":46199.625},{"$f":"$A$16","v":"2026-06-27T02:00:00"},null,{"$f":"$C$16","v":46199.791666666664},{"$f":"$A$17","v":"2026-06-27T02:00:00"},null,{"$f":"$C$17","v":46199.75},{"$f":"$A$18","v":"2026-06-27T05:00:00"},null,{"$f":"$C$18","v":46199.833333333336},{"$f":"$A$19","v":"2026-06-27T05:00:00"},null,{"$f":"$C$19","v":46199.833333333336},{"$f":"$A$20","v":"2026-06-27T23:00:00"},null,{"$f":"$C$20","v":46200.708333333336},{"$f":"$A$21","v":"2026-06-27T23:00:00"},null,{"$f":"$C$21","v":46200.708333333336},{"$f":"$A$22","v":"2026-06-28T01:30:00"},null,{"$f":"$C$22","v":46200.8125},{"$f":"$A$23","v":"2026-06-28T01:30:00"},null,{"$f":"$C$23","v":46200.8125},{"$f":"$A$24","v":"2026-06-28T04:00:00"},null,{"$f":"$C$24","v":46200.875},{"$f":"$A$25","v":"2026-06-28T04:00:00"},null,{"$f":"$C$25","v":46200.875},null,null,null,null,null,null,null,null,null,null,null,null,null,null,null,null,null,null,null,null,null,null,null,null,null,null,null,null,null,null,null,null,null,null,null,null,null,null,null,null,null,null,null,null,null,null,null,null,null,null,null,null,null,null,null,null,null,null,null,null,null,null,null,null,null,null,null,null,null,null,null,null,null,null,null,null,null,null,null,null,null,null,null,null,null,null,null,null,null,null,null,null,null,null,null,null,null,null,null,null,null,null,null,null,null,null,null,null,null,null,null,null,null,null,null,null,null,null,null,null,null,{"$f":"TODAY()","v":"2026-07-20"}]

{"sheet":"Vorrunde (Tabellen)","index":3,"n_rows":497,"n_cols":101,"rows_kept":497,"cut":false,"hidden":false,"merged":[[113,9,113,29],[114,9,114,29],[104,9,104,29],[105,9,105,29],[106,9,106,29],[107,9,107,29],[108,9,108,29],[109,9,109,29],[110,9,110,29],[111,9,111,29],[112,9,112,29],[95,9,95,29],[96,9,96,29],[97,9,97,29],[98,9,98,29],[99,9,99,29],[100,9,100,29],[101,9,101,29],[102,9,102,29],[103,9,103,29],[86,9,86,29],[87,9,87,29],[88,9,88,29],[89,9,89,29],[90,9,90,29],[91,9,91,29],[92,9,92,29],[93,9,93,29],[94,9,94,29],[77,9,77,29],[78,9,78,29],[79,9,79,29],[80,9,80,29],[81,9,81,29],[82,9,82,29],[83,9,83,29],[84,9,84,29],[85,9,85,29],[68,9,68,29],[69,9,69,29],[70,9,70,29],[71,9,71,29],[72,9,72,29],[73,9,73,29],[74,9,74,29],[75,9,75,29],[76,9,76,29],[59,41,59,43],[60,9,60,29],[61,9,61,29],[62,9,62,29],[63,9,63,29],[64,9,64,29],[65,9,65,29],[66,9,66,29],[67,9,67,29],[59,9,59,29],[56,37,56,40],[56,41,56,43],[56,58,56,63],[57,9,57,29],[57,37,57,40],[57,41,57,43],[57,58,57,63],[58,9,58,29],[58,37,58,40],[58,41,58,43],[58,58,58,63],[56,9,56,29],[53,37,53,40],[53,41,53,43],[53,58,53,63],[54,9,54,29],[54,37,54,40],[54,41,54,43],[54,58,54,63],[55,9,55,29],[55,37,55,40],[55,41,55,43],[55,58,55,63],[50,37,50,40],[50,41,50,63],[51,9,51,29],[51,37,51,40],[51,41,51,43],[51,58,51,63],[52,9,52,29],[52,37,52,40],[52,41,52,43],[52,58,52,63],[25,30,25,31],[26,30,26,31],[21,29,21,31],[21,32,21,35],[22,30,22,31],[22,32,22,34],[23,30,23,31],[24,30,24,31],[0,32,0,35],[1,30,1,31],[1,32,1,34],[2,30,2,31],[3,30,3,31],[12,30,12,31],[4,30,4,31],[5,30,5,31],[6,29,6,35],[7,29,7,31],[7,32,7,35],[8,30,8,31],[8,32,8,34],[9,30,9,31],[10,30,10,31],[11,30,11,31],[13,0,13,6],[14,0,14,2],[14,3,14,6],[3,1,3,2],[4,1,4,2],[5,1,5,2],[0,29,0,31],[0,0,0,2],[0,3,0,6],[1,1,1,2],[1,3,1,5],[2,1,2,2],[13,29,13,35],[14,29,14,31],[14,32,14,35],[6,0,6,6],[7,0,7,2],[7,3,7,6],[8,1,8,2],[8,3,8,5],[9,1,9,2],[10,1,10,2],[11,1,11,2],[12,1,12,2],[15,1,15,2],[15,3,15,5],[15,59,15,60],[15,61,15,63],[25,1,25,2],[26,1,26,2],[19,1,19,2],[20,0,20,6],[21,0,21,2],[21,3,21,6],[22,1,22,2],[22,3,22,5],[23,1,23,2],[24,1,24,2],[16,1,16,2],[17,1,17,2],[18,1,18,2],[20,29,20,35],[15,30,15,31],[15,32,15,34],[16,30,16,31],[17,30,17,31],[18,30,18,31],[19,30,19,31],[16,59,16,60],[17,59,17,60],[18,59,18,60],[12,59,12,60],[13,58,13,64],[14,58,14,60],[14,61,14,64],[26,59,26,60],[0,61,0,64],[1,59,1,60],[1,61,1,63],[2,59,2,60],[3,59,3,60],[0,58,0,60],[4,59,4,60],[5,59,5,60],[6,58,6,64],[7,58,7,60],[7,61,7,64],[8,59,8,60],[8,61,8,63],[9,59,9,60],[10,59,10,60],[11,59,11,60],[22,59,22,60],[22,61,22,63],[23,59,23,60],[24,59,24,60],[25,59,25,60],[19,59,19,60],[20,58,20,64],[21,58,21,60],[21,61,21,64],[45,6,45,7],[45,9,45,11],[43,1,43,2],[43,6,43,7],[43,9,43,11],[41,1,41,2],[41,6,41,7],[41,9,41,11],[42,1,42,2],[42,6,42,7],[42,9,42,11],[35,0,35,11],[36,1,36,2],[36,3,36,5],[36,6,36,7],[36,9,36,11],[37,9,37,11],[37,1,37,2],[37,6,37,7],[46,1,46,2],[46,6,46,7],[46,9,46,11],[44,1,44,2],[44,6,44,7],[44,9,44,11],[38,1,38,2],[38,6,38,7],[38,9,38,11],[39,1,39,2],[39,6,39,7],[39,9,39,11],[40,1,40,2],[40,6,40,7],[40,9,40,11],[45,1,45,2],[55,1,55,5],[51,1,51,5],[52,1,52,5],[53,1,53,5],[54,1,54,5],[47,1,47,2],[47,6,47,7],[47,9,47,11],[48,1,48,2],[48,6,48,7],[48,9,48,11],[50,1,50,5],[50,9,50,29],[53,9,53,29],[73,1,73,5],[56,1,56,5],[57,1,57,5],[58,1,58,5],[59,1,59,5],[60,1,60,5],[61,1,61,5],[62,1,62,5],[63,1,63,5],[64,1,64,5],[65,1,65,5],[66,1,66,5],[67,1,67,5],[68,1,68,5],[69,1,69,5],[70,1,70,5],[71,1,71,5],[72,1,72,5],[74,1,74,5],[75,1,75,5],[76,1,76,5],[77,1,77,5],[78,1,78,5],[79,1,79,5],[80,1,80,5],[81,1,81,5],[106,1,106,5],[82,1,82,5],[83,1,83,5],[84,1,84,5],[85,1,85,5],[86,1,86,5],[87,1,87,5],[88,1,88,5],[89,1,89,5],[113,1,113,5],[114,1,114,5],[90,1,90,5],[91,1,91,5],[92,1,92,5],[93,1,93,5],[94,1,94,5],[95,1,95,5],[96,1,96,5],[97,1,97,5],[98,1,98,5],[99,1,99,5],[100,1,100,5],[101,1,101,5],[102,1,102,5],[103,1,103,5],[104,1,104,5],[105,1,105,5],[111,1,111,5],[112,1,112,5],[107,1,107,5],[108,1,108,5],[109,1,109,5],[110,1,110,5]]}
[null,null,null,"Gruppe A",null,null,null," / ","Mexiko","-","Südafrika",{"$f":"IF('Vorrunde 01-24'!$H$2<>\"\",'Vorrunde 01-24'!$H$2,\"\")","v":2},":",{"$f":"IF('Vorrunde 01-24'!$J$2<>\"\",'Vorrunde 01-24'!$J$2,\"\")","v":0},null,null,null,null,null,null,null,null,null,null,null,null,null,null,null,null,null,null,"Gruppe E",null,null,null,null,"Deutschland","-","Curaçao",{"$f":"IF('Vorrunde 01-24'!$H$10<>\"\",'Vorrunde 01-24'!$H$10,\"\")","v":7},":",{"$f":"IF('Vorrunde 01-24'!$J$10<>\"\",'Vorrunde 01-24'!$J$10,\"\")","v":1},null,null,null,null,null,null,null,null,null,null,null,null,null,null,null,null,null,null,"Gruppe I",null,null,null,null,"Frankreich","-","Senegal",{"$f":"IF('Vorrunde 01-24'!$H$18<>\"\",'Vorrunde 01-24'!$H$18,\"\")","v":3},":",{"$f":"IF('Vorrunde 01-24'!$J$18<>\"\",'Vorrunde 01-24'!$J$18,\"\")","v":1},null,null,null,null,null,null,null,null,null,null,null,null,null,null,null,null,null,null,null,null,"Zuordnung","1. Gruppe A  vs.  3. Gruppe","1. Gruppe B  vs.  3. Gruppe","1. Gruppe D  vs.  3. Gruppe","1. Gruppe E  vs.  3. Gruppe","1. Gruppe G  vs.  3. Gruppe","1. Gruppe I  vs.  3. Gruppe","1. Gruppe K  vs.  3. Gruppe","1. Gruppe L  vs.  3. Gruppe"]
["PLATZ","MANNSCHAFT",null,"TORE",null,null,"PUNKTE",null,"Südkorea","-","Tschechien",{"$f":"IF('Vorrunde 01-24'!$H$3<>\"\",'Vorrunde 01-24'!$H$3,\"\")","v":2},":",{"$f":"IF('Vorrunde 01-24'!$J$3<>\"\",'Vorrunde 01-24'!$J$3,\"\")","v":1},null,null,null,null,null,null,null,null,null,null,null,null,null,null,null,"PLATZ","MANNSCHAFT",null,"TORE",null,null,"PUNKTE",null,"Elfenbeinküste","-","Ecuador",{"$f":"IF('Vorrunde 01-24'!$H$12<>\"\",'Vorrunde 01-24'!$H$12,\"\")","v":1},":",{"$f":"IF('Vorrunde 01-24'!$J$12<>\"\",'Vorrunde 01-24'!$J$12,\"\")","v":0},null,null,null,null,null,null,null,null,null,null,null,null,null,null,null,"PLATZ","MANNSCHAFT",null,"TORE",null,null,"PUNKTE",null,"Irak","-","Norwegen",{"$f":"IF('Vorrunde 01-24'!$H$19<>\"\",'Vorrunde 01-24'!$H$19,\"\")","v":1},":",{"$f":"IF('Vorrunde 01-24'!$J$19<>\"\",'Vorrunde 01-24'!$J$19,\"\")","v":4},null,null,null,null,null,null,null,null,null,null,null,null,null,null,null,null,null,null,null,null,"ABCDEFGH",{"$f":"$BB$26","v":"Uruguay"},{"$f":"$BB$19","v":"Iran"},{"$f":"$Y$12","v":"Bosnien-Herzegowina"},{"$f":"$Y$19","v":"Schottland"},{"$f":"$Y$5","v":"Südkorea"},{"$f":"$BB$12","v":"Schweden"},{"$f":"$Y$26","v":"Paraguay"},{"$f":"$BB$5","v":"Ecuador"}]
[{"$f":"IF(L1<>\"\",\"1.\",\"\")","v":"1."},{"$f":"IF(Y3<>\"\",Y3,\"\")","v":"Mexiko"},null,{"$f":"IF(L1<>\"\",Z3,\"\")","v":6},":",{"$f":"IF(L1<>\"\",AA3,\"\")","v":0},{"$f":"IF(AC3<>\"\",AC3,\"\")","v":9},null,"Tschechien","-","Südafrika",{"$f":"IF('Vorrunde 25-48'!$H$2<>\"\",'Vorrunde 25-48'!$H$2,\"\")","v":1},":",{"$f":"IF('Vorrunde 25-48'!$J$2<>\"\",'Vorrunde 25-48'!$J$2,\"\")","v":1},null,{"$f":"SUM(L1,L4,N5)","v":6},{"$f":"SUM(N1,N4,L5)","v":0},{"$f":"IF(L1>N1,3,0)","v":3},{"$f":"IF(AND(L1=N1,N1<>\"\"),1,0)","v":0},{"$f":"IF(L4>N4,3,0)","v":3},{"$f":"IF(AND(L4=N4,N4<>\"\"),1,0)","v":0},{"$f":"IF(N5>L5,3,0)","v":3},{"$f":"IF(AND(N5=L5,N5<>\"\"),1,0)","v":0},{"$f":"SUM(R3:W3)","v":9},"Mexiko",{"$f":"$P$3","v":6},{"$f":"$Q$3","v":0},{"$f":"Z3-AA3","v":6},{"$f":"$X$3","v":9},{"$f":"IF(AO1<>\"\",\"1.\",\"\")","v":"1."},{"$f":"IF(BB3<>\"\",BB3,\"\")","v":"Deutschland"},null,{"$f":"IF(AO1<>\"\",BC3,\"\")","v":10},":",{"$f":"IF(AO1<>\"\",BD3,\"\")","v":4},{"$f":"IF(BF3<>\"\",BF3,\"\")","v":6},null,"Ecuador","-","Curaçao",{"$f":"IF('Vorrunde 25-48'!$H$12<>\"\",'Vorrunde 25-48'!$H$12,\"\")","v":0},":",{"$f":"IF('Vorrunde 25-48'!$J$12<>\"\",'Vorrunde 25-48'!$J$12,\"\")","v":0},null,{"$f":"SUM(AO1,AO4,AQ5)","v":10},{"$f":"SUM(AQ1,AQ4,AO5)","v":4},{"$f":"IF(AO1>AQ1,3,0)","v":3},{"$f":"IF(AND(AO1=AQ1,AQ1<>\"\"),1,0)","v":0},{"$f":"IF(AO4>AQ4,3,0)","v":3},{"$f":"IF(AND(AO4=AQ4,AQ4<>\"\"),1,0)","v":0},{"$f":"IF(AQ5>AO5,3,0)","v":0},{"$f":"IF(AND(AQ5=AO5,AQ5<>\"\"),1,0)","v":0},{"$f":"SUM(AU3:AZ3)","v":6},"Deutschland",{"$f":"$AS$3","v":10},{"$f":"$AT$3","v":4},{"$f":"BC3-BD3","v":6},{"$f":"$BA$3","v":6},{"$f":"IF(BR1<>\"\",\"1.\",\"\")","v":"1."},{"$f":"IF(CE3<>\"\",CE3,\"\")","v":"Frankreich"},null,{"$f":"IF(BR1<>\"\",CF3,\"\")","v":10},":",{"$f":"IF(BR1<>\"\",CG3,\"\")","v":2},{"$f":"IF(CI3<>\"\",CI3,\"\")","v":9},null,"Norwegen","-","Senegal",{"$f":"IF('Vorrunde 25-48'!$H$20<>\"\",'Vorrunde 25-48'!$H$20,\"\")","v":3},":",{"$f":"IF('Vorrunde 25-48'!$J$20<>\"\",'Vorrunde 25-48'!$J$20,\"\")","v":2},null,{"$f":"SUM(BR1,BR4,BT5)","v":10},{"$f":"SUM(BT1,BT4,BR5)","v":2},{"$f":"IF(BR1>BT1,3,0)","v":3},{"$f":"IF(AND(BR1=BT1,BT1<>\"\"),1,0)","v":0},{"$f":"IF(BR4>BT4,3,0)","v":3},{"$f":"IF(AND(BR4=BT4,BT4<>\"\"),1,0)","v":0},{"$f":"IF(BT5>BR5,3,0)","v":3},{"$f":"IF(AND(BT5=BR5,BT5<>\"\"),1,0)","v":0},{"$f":"SUM(BX3:CC3)","v":9},"Frankreich",{"$f":"$BV$3","v":10},{"$f":"$BW$3","v":2},{"$f":"CF3-CG3","v":8},{"$f":"$CD$3","v":9},null,null,null,null,null,"ABCDEFGI",{"$f":"$Y$19","v":"Schottland"},{"$f":"$BB$19","v":"Iran"},"Bosnien-Herzegowina",{"$f":"$Y$26","v":"Paraguay"},"Südkorea","Schweden",{"$f":"$BB$5","v":"Ecuador"},{"$f":"$CE$5","v":"Senegal"}]
[{"$f":"IF(L1<>\"\",\"2.\",\"\")","v":"2."},{"$f":"IF(Y4<>\"\",Y4,\"\")","v":"Südafrika"},null,{"$f":"IF(L1<>\"\",Z4,\"\")","v":2},":",{"$f":"IF(L1<>\"\",AA4,\"\")","v":3},{"$f":"IF(AC4<>\"\",AC4,\"\")","v":4},null,"Mexiko","-","Südkorea",{"$f":"IF('Vorrunde 25-48'!$H$5<>\"\",'Vorrunde 25-48'!$H$5,\"\")","v":1},":",{"$f":"IF('Vorrunde 25-48'!$J$5<>\"\",'Vorrunde 25-48'!$J$5,\"\")","v":0},null,{"$f":"SUM(N1,N3,L6)","v":2},{"$f":"SUM(L1,L3,N6)","v":3},{"$f":"IF(N1>L1,3,0)","v":0},{"$f":"IF(AND(N1=L1,N1<>\"\"),1,0)","v":0},{"$f":"IF(N3>L3,3,0)","v":0},{"$f":"IF(AND(N3=L3,N3<>\"\"),1,0)","v":1},{"$f":"IF(L6>N6,3,0)","v":3},{"$f":"IF(AND(L6=N6,N6<>\"\"),1,0)","v":0},{"$f":"SUM(R4:W4)","v":4},"Südafrika",{"$f":"$P$4","v":2},{"$f":"$Q$4","v":3},{"$f":"Z4-AA4","v":-1},{"$f":"$X$4","v":4},{"$f":"IF(AO1<>\"\",\"2.\",\"\")","v":"2."},{"$f":"IF(BB4<>\"\",BB4,\"\")","v":"Elfenbeinküste"},null,{"$f":"IF(AO1<>\"\",BC4,\"\")","v":4},":",{"$f":"IF(AO1<>\"\",BD4,\"\")","v":2},{"$f":"IF(BF4<>\"\",BF4,\"\")","v":6},null,"Deutschland","-","Elfenbeinküste",{"$f":"IF('Vorrunde 25-48'!$H$11<>\"\",'Vorrunde 25-48'!$H$11,\"\")","v":2},":",{"$f":"IF('Vorrunde 25-48'!$J$11<>\"\",'Vorrunde 25-48'!$J$11,\"\")","v":1},null,{"$f":"SUM(AQ1,AQ3,AO6)","v":1},{"$f":"SUM(AO1,AO3,AQ6)","v":9},{"$f":"IF(AQ1>AO1,3,0)","v":0},{"$f":"IF(AND(AQ1=AO1,AQ1<>\"\"),1,0)","v":0},{"$f":"IF(AQ3>AO3,3,0)","v":0},{"$f":"IF(AND(AQ3=AO3,AQ3<>\"\"),1,0)","v":1},{"$f":"IF(AO6>AQ6,3,0)","v":0},{"$f":"IF(AND(AO6=AQ6,AQ6<>\"\"),1,0)","v":0},{"$f":"SUM(AU4:AZ4)","v":1},"Elfenbeinküste",{"$f":"$AS$5","v":4},{"$f":"$AT$5","v":2},{"$f":"BC4-BD4","v":2},{"$f":"$BA$5","v":6},{"$f":"IF(BR1<>\"\",\"2.\",\"\")","v":"2."},{"$f":"IF(CE4<>\"\",CE4,\"\")","v":"Norwegen"},null,{"$f":"IF(BR1<>\"\",CF4,\"\")","v":8},":",{"$f":"IF(BR1<>\"\",CG4,\"\")","v":7},{"$f":"IF(CI4<>\"\",CI4,\"\")","v":6},null,"Frankreich","-","Irak",{"$f":"IF('Vorrunde 25-48'!$H$19<>\"\",'Vorrunde 25-48'!$H$19,\"\")","v":3},":",{"$f":"IF('Vorrunde 25-48'!$J$19<>\"\",'Vorrunde 25-48'!$J$19,\"\")","v":0},null,{"$f":"SUM(BT1,BT3,BR6)","v":8},{"$f":"SUM(BR1,BR3,BT6)","v":6},{"$f":"IF(BT1>BR1,3,0)","v":0},{"$f":"IF(AND(BT1=BR1,BT1<>\"\"),1,0)","v":0},{"$f":"IF(BT3>BR3,3,0)","v":0},{"$f":"IF(AND(BT3=BR3,BT3<>\"\"),1,0)","v":0},{"$f":"IF(BR6>BT6,3,0)","v":3},{"$f":"IF(AND(BR6=BT6,BT6<>\"\"),1,0)","v":0},{"$f":"SUM(BX4:CC4)","v":3},"Norwegen",{"$f":"$BV$6","v":8},{"$f":"$BW$6","v":7},{"$f":"CF4-CG4","v":1},{"$f":"$CD$6","v":6},null,null,null,null,null,"ABCDEFGJ",{"$f":"$Y$19","v":"Schottland"},{"$f":"$BB$19","v":"Iran"},"Bosnien-Herzegowina",{"$f":"$Y$26","v":"Paraguay"},"Südkorea","Schweden",{"$f":"$BB$5","v":"Ecuador"},{"$f":"$CE$12","v":"Algerien"}]
[{"$f":"IF(L1<>\"\",\"3.\",\"\")","v":"3."},{"$f":"IF(Y5<>\"\",Y5,\"\")","v":"Südkorea"},null,{"$f":"IF(L1<>\"\",Z5,\"\")","v":2},":",{"$f":"IF(L1<>\"\",AA5,\"\")","v":3},{"$f":"IF(AC5<>\"\",AC5,\"\")","v":3},null,"Tschechien","-","Mexiko",{"$f":"IF('Vorrunde 49-72'!$H$6<>\"\",'Vorrunde 49-72'!$H$6,\"\")","v":0},":",{"$f":"IF('Vorrunde 49-72'!$J$6<>\"\",'Vorrunde 49-72'!$J$6,\"\")","v":3},null,{"$f":"SUM(L2,N4,N6)","v":2},{"$f":"SUM(N2,L4,L6)","v":3},{"$f":"IF(L2>N2,3,0)","v":3},{"$f":"IF(AND(L2=N2,N2<>\"\"),1,0)","v":0},{"$f":"IF(N4>L4,3,0)","v":0},{"$f":"IF(AND(N4=L4,N4<>\"\"),1,0)","v":0},{"$f":"IF(N6>L6,3,0)","v":0},{"$f":"IF(AND(N6=L6,N6<>\"\"),1,0)","v":0},{"$f":"SUM(R5:W5)","v":3},"Südkorea",{"$f":"$P$5","v":2},{"$f":"$Q$5","v":3},{"$f":"Z5-AA5","v":-1},{"$f":"$X$5","v":3},{"$f":"IF(AO1<>\"\",\"3.\",\"\")","v":"3."},{"$f":"IF(BB5<>\"\",BB5,\"\")","v":"Ecuador"},null,{"$f":"IF(AO1<>\"\",BC5,\"\")","v":2},":",{"$f":"IF(AO1<>\"\",BD5,\"\")","v":2},{"$f":"IF(BF5<>\"\",BF5,\"\")","v":4},null,"Ecuador","-","Deutschland",{"$f":"IF('Vorrunde 49-72'!$H$9<>\"\",'Vorrunde 49-72'!$H$9,\"\")","v":2},":",{"$f":"IF('Vorrunde 49-72'!$J$9<>\"\",'Vorrunde 49-72'!$J$9,\"\")","v":1},null,{"$f":"SUM(AO2,AQ4,AQ6)","v":4},{"$f":"SUM(AQ2,AO4,AO6)","v":2},{"$f":"IF(AO2>AQ2,3,0)","v":3},{"$f":"IF(AND(AO2=AQ2,AQ2<>\"\"),1,0)","v":0},{"$f":"IF(AQ4>AO4,3,0)","v":0},{"$f":"IF(AND(AQ4=AO4,AQ4<>\"\"),1,0)","v":0},{"$f":"IF(AQ6>AO6,3,0)","v":3},{"$f":"IF(AND(AQ6=AO6,AQ6<>\"\"),1,0)","v":0},{"$f":"SUM(AU5:AZ5)","v":6},"Ecuador",{"$f":"$AS$6","v":2},{"$f":"$AT$6","v":2},{"$f":"BC5-BD5","v":0},{"$f":"$BA$6","v":4},{"$f":"IF(BR1<>\"\",\"3.\",\"\")","v":"3."},{"$f":"IF(CE5<>\"\",CE5,\"\")","v":"Senegal"},null,{"$f":"IF(BR1<>\"\",CF5,\"\")","v":8},":",{"$f":"IF(BR1<>\"\",CG5,\"\")","v":6},{"$f":"IF(CI5<>\"\",CI5,\"\")","v":3},null,"Norwegen","-","Frankreich",{"$f":"IF('Vorrunde 49-72'!$H$14<>\"\",'Vorrunde 49-72'!$H$14,\"\")","v":1},":",{"$f":"IF('Vorrunde 49-72'!$J$14<>\"\",'Vorrunde 49-72'!$J$14,\"\")","v":4},null,{"$f":"SUM(BR2,BT4,BT6)","v":1},{"$f":"SUM(BT2,BR4,BR6)","v":12},{"$f":"IF(BR2>BT2,3,0)","v":0},{"$f":"IF(AND(BR2=BT2,BT2<>\"\"),1,0)","v":0},{"$f":"IF(BT4>BR4,3,0)","v":0},{"$f":"IF(AND(BT4=BR4,BT4<>\"\"),1,0)","v":0},{"$f":"IF(BT6>BR6,3,0)","v":0},{"$f":"IF(AND(BT6=BR6,BT6<>\"\"),1,0)","v":0},{"$f":"SUM(BX5:CC5)","v":0},"Senegal",{"$f":"$BV$4","v":8},{"$f":"$BW$4","v":6},{"$f":"CF5-CG5","v":2},{"$f":"$CD$4","v":3},null,null,null,null,null,"ABCDEFGK",{"$f":"$Y$19","v":"Schottland"},{"$f":"$BB$19","v":"Iran"},"Bosnien-Herzegowina",{"$f":"$Y$26","v":"Paraguay"},"Südkorea","Schweden",{"$f":"$BB$5","v":"Ecuador"},{"$f":"$CE$19","v":"DR Kongo"}]
[{"$f":"IF(L1<>\"\",\"4.\",\"\")","v":"4."},{"$f":"IF(Y6<>\"\",Y6,\"\")","v":"Tschechien"},null,{"$f":"IF(L1<>\"\",Z6,\"\")","v":2},":",{"$f":"IF(L1<>\"\",AA6,\"\")","v":6},{"$f":"IF(AC6<>\"\",AC6,\"\")","v":1},null,"Südafrika","-","Südkorea",{"$f":"IF('Vorrunde 49-72'!$H$7<>\"\",'Vorrunde 49-72'!$H$7,\"\")","v":1},":",{"$f":"IF('Vorrunde 49-72'!$J$7<>\"\",'Vorrunde 49-72'!$J$7,\"\")","v":0},null,{"$f":"SUM(N2,L3,L5)","v":2},{"$f":"SUM(L2,N3,N5)","v":6},{"$f":"IF(N2>L2,3,0)","v":0},{"$f":"IF(AND(N2=L2,N2<>\"\"),1,0)","v":0},{"$f":"IF(L3>N3,3,0)","v":0},{"$f":"IF(AND(L3=N3,N3<>\"\"),1,0)","v":1},{"$f":"IF(L5>N5,3,0)","v":0},{"$f":"IF(AND(L5=N5,N5<>\"\"),1,0)","v":0},{"$f":"SUM(R6:W6)","v":1},"Tschechien",{"$f":"$P$6","v":2},{"$f":"$Q$6","v":6},{"$f":"Z6-AA6","v":-4},{"$f":"$X$6","v":1},{"$f":"IF(AO1<>\"\",\"4.\",\"\")","v":"4."},{"$f":"IF(BB6<>\"\",BB6,\"\")","v":"Curaçao"},null,{"$f":"IF(AO1<>\"\",BC6,\"\")","v":1},":",{"$f":"IF(AO1<>\"\",BD6,\"\")","v":9},{"$f":"IF(BF6<>\"\",BF6,\"\")","v":1},null,"Curaçao","-","Elfenbeinküste",{"$f":"IF('Vorrunde 49-72'!$H$8<>\"\",'Vorrunde 49-72'!$H$8,\"\")","v":0},":",{"$f":"IF('Vorrunde 49-72'!$J$8<>\"\",'Vorrunde 49-72'!$J$8,\"\")","v":2},null,{"$f":"SUM(AQ2,AO3,AO5)","v":2},{"$f":"SUM(AO2,AQ3,AQ5)","v":2},{"$f":"IF(AQ2>AO2,3,0)","v":0},{"$f":"IF(AND(AQ2=AO2,AQ2<>\"\"),1,0)","v":0},{"$f":"IF(AO3>AQ3,3,0)","v":0},{"$f":"IF(AND(AO3=AQ3,AQ3<>\"\"),1,0)","v":1},{"$f":"IF(AO5>AQ5,3,0)","v":3},{"$f":"IF(AND(AO5=AQ5,AQ5<>\"\"),1,0)","v":0},{"$f":"SUM(AU6:AZ6)","v":4},"Curaçao",{"$f":"$AS$4","v":1},{"$f":"$AT$4","v":9},{"$f":"BC6-BD6","v":-8},{"$f":"$BA$4","v":1},{"$f":"IF(BR1<>\"\",\"4.\",\"\")","v":"4."},{"$f":"IF(CE6<>\"\",CE6,\"\")","v":"Irak"},null,{"$f":"IF(BR1<>\"\",CF6,\"\")","v":1},":",{"$f":"IF(BR1<>\"\",CG6,\"\")","v":12},{"$f":"IF(CI6<>\"\",CI6,\"\")","v":0},null,"Senegal","-","Irak",{"$f":"IF('Vorrunde 49-72'!$H$15<>\"\",'Vorrunde 49-72'!$H$15,\"\")","v":5},":",{"$f":"IF('Vorrunde 49-72'!$J$15<>\"\",'Vorrunde 49-72'!$J$15,\"\")","v":0},null,{"$f":"SUM(BT2,BR3,BR5)","v":8},{"$f":"SUM(BR2,BT3,BT5)","v":7},{"$f":"IF(BT2>BR2,3,0)","v":3},{"$f":"IF(AND(BT2=BR2,BT2<>\"\"),1,0)","v":0},{"$f":"IF(BR3>BT3,3,0)","v":3},{"$f":"IF(AND(BR3=BT3,BT3<>\"\"),1,0)","v":0},{"$f":"IF(BR5>BT5,3,0)","v":0},{"$f":"IF(AND(BR5=BT5,BT5<>\"\"),1,0)","v":0},{"$f":"SUM(BX6:CC6)","v":6},"Irak",{"$f":"$BV$5","v":1},{"$f":"$BW$5","v":12},{"$f":"CF6-CG6","v":-11},{"$f":"$CD$5","v":0},null,null,null,null,null,"ABCDEFGL",{"$f":"$Y$19","v":"Schottland"},{"$f":"$BB$19","v":"Iran"},"Bosnien-Herzegowina",{"$f":"$Y$26","v":"Paraguay"},"Südkorea","Schweden",{"$f":"$CE$26","v":"Ghana"},{"$f":"$BB$5","v":"Ecuador"}]
[null,null,null,null,null,null,null,null,"",null,"",null,null,null,null,null,null,null,null,null,null,null,null,null,null,null,null,null,null,null,null,null,null,null,null,null,null,"",null,"",null,null,null,null,null,null,null,null,null,null,null,null,null,null,null,null,null,null,null,null,null,null,null,null,null,null,"",null,"",null,null,null,null,null,null,null,null,null,null,null,null,null,null,null,null,null,null,null,null,null,null,null,"ABCDEFHI",{"$f":"$BB$26","v":"Uruguay"},{"$f":"$BB$5","v":"Ecuador"},"Bosnien-Herzegowina",{"$f":"$Y$19","v":"Schottland"},"Südkorea","Schweden",{"$f":"$Y$26","v":"Paraguay"},{"$f":"$CE$5","v":"Senegal"}]
[null,null,null,"Gruppe B",null,null,null,null,"Kanada","-","Bosnien-Herzegowina",{"$f":"IF('Vorrunde 01-24'!$H$4<>\"\",'Vorrunde 01-24'!$H$4,\"\")","v":1},":",{"$f":"IF('Vorrunde 01-24'!$J$4<>\"\",'Vorrunde 01-24'!$J$4,\"\")","v":1},null,null,null,null,null,null,null,null,null,null,null,null,null,null,null,null,null,null,"Gruppe F",null,null,null,null,"Niederlande","-","Japan",{"$f":"IF('Vorrunde 01-24'!$H$11<>\"\",'Vorrunde 01-24'!$H$11,\"\")","v":2},":",{"$f":"IF('Vorrunde 01-24'!$J$11<>\"\",'Vorrunde 01-24'!$J$11,\"\")","v":2},null,null,null,null,null,null,null,null,null,null,null,null,null,null,null,null,null,null,"Gruppe J",null,null,null,null,"Argentinien","-","Algerien",{"$f":"IF('Vorrunde 01-24'!$H$20<>\"\",'Vorrunde 01-24'!$H$20,\"\")","v":3},":",{"$f":"IF('Vorrunde 01-24'!$J$20<>\"\",'Vorrunde 01-24'!$J$20,\"\")","v":0},null,null,null,null,null,null,null,null,null,null,null,null,null,null,null,null,null,null,null,null,"ABCDEFHJ",{"$f":"$BB$26","v":"Uruguay"},{"$f":"$CE$12","v":"Algerien"},"Bosnien-Herzegowina",{"$f":"$Y$19","v":"Schottland"},"Südkorea","Schweden",{"$f":"$Y$26","v":"Paraguay"},{"$f":"$BB$5","v":"Ecuador"}]
["PLATZ","MANNSCHAFT",null,"TORE",null,null,"PUNKTE",null,"Katar","-","Schweiz",{"$f":"IF('Vorrunde 01-24'!$H$6<>\"\",'Vorrunde 01-24'!$H$6,\"\")","v":1},":",{"$f":"IF('Vorrunde 01-24'!$J$6<>\"\",'Vorrunde 01-24'!$J$6,\"\")","v":1},null,null,null,null,null,null,null,null,null,null,null,null,null,null,null,"PLATZ","MANNSCHAFT",null,"TORE",null,null,"PUNKTE",null,"Schweden","-","Tunesien",{"$f":"IF('Vorrunde 01-24'!$H$13<>\"\",'Vorrunde 01-24'!$H$13,\"\")","v":5},":",{"$f":"IF('Vorrunde 01-24'!$J$13<>\"\",'Vorrunde 01-24'!$J$13,\"\")","v":1},null,null,null,null,null,null,null,null,null,null,null,null,null,null,null,"PLATZ","MANNSCHAFT",null,"TORE",null,null,"PUNKTE",null,"Österreich","-","Jordanien",{"$f":"IF('Vorrunde 01-24'!$H$21<>\"\",'Vorrunde 01-24'!$H$21,\"\")","v":3},":",{"$f":"IF('Vorrunde 01-24'!$J$21<>\"\",'Vorrunde 01-24'!$J$21,\"\")","v":1},null,null,null,null,null,null,null,null,null,null,null,null,null,null,null,null,null,null,null,null,"ABCDEFHK",{"$f":"$BB$26","v":"Uruguay"},{"$f":"$BB$5","v":"Ecuador"},"Bosnien-Herzegowina",{"$f":"$Y$19","v":"Schottland"},"Südkorea","Schweden",{"$f":"$Y$26","v":"Paraguay"},{"$f":"$CE$19","v":"DR Kongo"}]
[{"$f":"IF(L8<>\"\",\"1.\",\"\")","v":"1."},{"$f":"IF(Y10<>\"\",Y10,\"\")","v":"Schweiz"},null,{"$f":"IF(L8<>\"\",Z10,\"\")","v":7},":",{"$f":"IF(L8<>\"\",AA10,\"\")","v":3},{"$f":"IF(AC10<>\"\",AC10,\"\")","v":7},null,"Schweiz","-","Bosnien-Herzegowina",{"$f":"IF('Vorrunde 25-48'!$H$3<>\"\",'Vorrunde 25-48'!$H$3,\"\")","v":4},":",{"$f":"IF('Vorrunde 25-48'!$J$3<>\"\",'Vorrunde 25-48'!$J$3,\"\")","v":1},null,{"$f":"SUM(L8,L11,N12)","v":8},{"$f":"SUM(N8,N11,L12)","v":3},{"$f":"IF(L8>N8,3,0)","v":0},{"$f":"IF(AND(L8=N8,N8<>\"\"),1,0)","v":1},{"$f":"IF(L11>N11,3,0)","v":3},{"$f":"IF(AND(L11=N11,N11<>\"\"),1,0)","v":0},{"$f":"IF(N12>L12,3,0)","v":0},{"$f":"IF(AND(N12=L12,N12<>\"\"),1,0)","v":0},{"$f":"SUM(R10:W10)","v":4},"Schweiz",{"$f":"$P$13","v":7},{"$f":"$Q$13","v":3},{"$f":"Z10-AA10","v":4},{"$f":"$X$13","v":7},{"$f":"IF(AO8<>\"\",\"1.\",\"\")","v":"1."},{"$f":"IF(BB10<>\"\",BB10,\"\")","v":"Niederlande"},null,{"$f":"IF(AO8<>\"\",BC10,\"\")","v":10},":",{"$f":"IF(AO8<>\"\",BD10,\"\")","v":4},{"$f":"IF(BF10<>\"\",BF10,\"\")","v":7},null,"Tunesien","-","Japan",{"$f":"IF('Vorrunde 25-48'!$H$13<>\"\",'Vorrunde 25-48'!$H$13,\"\")","v":0},":",{"$f":"IF('Vorrunde 25-48'!$J$13<>\"\",'Vorrunde 25-48'!$J$13,\"\")","v":4},null,{"$f":"SUM(AO8,AO11,AQ12)","v":10},{"$f":"SUM(AQ8,AQ11,AO12)","v":4},{"$f":"IF(AO8>AQ8,3,0)","v":0},{"$f":"IF(AND(AO8=AQ8,AQ8<>\"\"),1,0)","v":1},{"$f":"IF(AO11>AQ11,3,0)","v":3},{"$f":"IF(AND(AO11=AQ11,AQ11<>\"\"),1,0)","v":0},{"$f":"IF(AQ12>AO12,3,0)","v":3},{"$f":"IF(AND(AQ12=AO12,AQ12<>\"\"),1,0)","v":0},{"$f":"SUM(AU10:AZ10)","v":7},"Niederlande",{"$f":"$AS$10","v":10},{"$f":"$AT$10","v":4},{"$f":"BC10-BD10","v":6},{"$f":"$BA$10","v":7},{"$f":"IF(BR8<>\"\",\"1.\",\"\")","v":"1."},{"$f":"IF(CE10<>\"\",CE10,\"\")","v":"Argentinien"},null,{"$f":"IF(BR8<>\"\",CF10,\"\")","v":8},":",{"$f":"IF(BR8<>\"\",CG10,\"\")","v":1},{"$f":"IF(CI10<>\"\",CI10,\"\")","v":9},null,"Jordanien","-","Algerien",{"$f":"IF('Vorrunde 25-48'!$H$21<>\"\",'Vorrunde 25-48'!$H$21,\"\")","v":1},":",{"$f":"IF('Vorrunde 25-48'!$J$21<>\"\",'Vorrunde 25-48'!$J$21,\"\")","v":2},null,{"$f":"SUM(BR8,BR11,BT12)","v":8},{"$f":"SUM(BT8,BT11,BR12)","v":1},{"$f":"IF(BR8>BT8,3,0)","v":3},{"$f":"IF(AND(BR8=BT8,BT8<>\"\"),1,0)","v":0},{"$f":"IF(BR11>BT11,3,0)","v":3},{"$f":"IF(AND(BR11=BT11,BT11<>\"\"),1,0)","v":0},{"$f":"IF(BT12>BR12,3,0)","v":3},{"$f":"IF(AND(BT12=BR12,BT12<>\"\"),1,0)","v":0},{"$f":"SUM(BX10:CC10)","v":9},"Argentinien",{"$f":"$BV$10","v":8},{"$f":"$BW$10","v":1},{"$f":"CF10-CG10","v":7},{"$f":"$CD$10","v":9},null,null,null,null,null,"ABCDEFHL",{"$f":"$BB$26","v":"Uruguay"},{"$f":"$BB$12","v":"Schweden"},"Bosnien-Herzegowina",{"$f":"$Y$19","v":"Schottland"},"Südkorea",{"$f":"$Y$26","v":"Paraguay"},{"$f":"$CE$26","v":"Ghana"},{"$f":"$BB$5","v":"Ecuador"}]
[{"$f":"IF(L8<>\"\",\"2.\",\"\")","v":"2."},{"$f":"IF(Y11<>\"\",Y11,\"\")","v":"Kanada"},null,{"$f":"IF(L8<>\"\",Z11,\"\")","v":8},":",{"$f":"IF(L8<>\"\",AA11,\"\")","v":3},{"$f":"IF(AC11<>\"\",AC11,\"\")","v":4},null,"Kanada","-","Katar",{"$f":"IF('Vorrunde 25-48'!$H$4<>\"\",'Vorrunde 25-48'!$H$4,\"\")","v":6},":",{"$f":"IF('Vorrunde 25-48'!$J$4<>\"\",'Vorrunde 25-48'!$J$4,\"\")","v":0},null,{"$f":"SUM(N8,N10,L13)","v":5},{"$f":"SUM(L8,L10,N13)","v":6},{"$f":"IF(N8>L8,3,0)","v":0},{"$f":"IF(AND(N8=L8,N8<>\"\"),1,0)","v":1},{"$f":"IF(N10>L10,3,0)","v":0},{"$f":"IF(AND(N10=L10,N10<>\"\"),1,0)","v":0},{"$f":"IF(L13>N13,3,0)","v":3},{"$f":"IF(AND(L13=N13,N13<>\"\"),1,0)","v":0},{"$f":"SUM(R11:W11)","v":4},"Kanada",{"$f":"$P$10","v":8},{"$f":"$Q$10","v":3},{"$f":"Z11-AA11","v":5},{"$f":"$X$10","v":4},{"$f":"IF(AO8<>\"\",\"2.\",\"\")","v":"2."},{"$f":"IF(BB11<>\"\",BB11,\"\")","v":"Japan"},null,{"$f":"IF(AO8<>\"\",BC11,\"\")","v":7},":",{"$f":"IF(AO8<>\"\",BD11,\"\")","v":3},{"$f":"IF(BF11<>\"\",BF11,\"\")","v":5},null,"Niederlande","-","Schweden",{"$f":"IF('Vorrunde 25-48'!$H$10<>\"\",'Vorrunde 25-48'!$H$10,\"\")","v":5},":",{"$f":"IF('Vorrunde 25-48'!$J$10<>\"\",'Vorrunde 25-48'!$J$10,\"\")","v":1},null,{"$f":"SUM(AQ8,AQ10,AO13)","v":7},{"$f":"SUM(AO8,AO10,AQ13)","v":3},{"$f":"IF(AQ8>AO8,3,0)","v":0},{"$f":"IF(AND(AQ8=AO8,AQ8<>\"\"),1,0)","v":1},{"$f":"IF(AQ10>AO10,3,0)","v":3},{"$f":"IF(AND(AQ10=AO10,AQ10<>\"\"),1,0)","v":0},{"$f":"IF(AO13>AQ13,3,0)","v":0},{"$f":"IF(AND(AO13=AQ13,AQ13<>\"\"),1,0)","v":1},{"$f":"SUM(AU11:AZ11)","v":5},"Japan",{"$f":"$AS$11","v":7},{"$f":"$AT$11","v":3},{"$f":"BC11-BD11","v":4},{"$f":"$BA$11","v":5},{"$f":"IF(BR8<>\"\",\"2.\",\"\")","v":"2."},{"$f":"IF(CE11<>\"\",CE11,\"\")","v":"Österreich"},null,{"$f":"IF(BR8<>\"\",CF11,\"\")","v":6},":",{"$f":"IF(BR8<>\"\",CG11,\"\")","v":6},{"$f":"IF(CI11<>\"\",CI11,\"\")","v":4},null,"Argentinien","-","Österreich",{"$f":"IF('Vorrunde 25-48'!$H$18<>\"\",'Vorrunde 25-48'!$H$18,\"\")","v":2},":",{"$f":"IF('Vorrunde 25-48'!$J$18<>\"\",'Vorrunde 25-48'!$J$18,\"\")","v":0},null,{"$f":"SUM(BT8,BT10,BR13)","v":5},{"$f":"SUM(BR8,BR10,BT13)","v":7},{"$f":"IF(BT8>BR8,3,0)","v":0},{"$f":"IF(AND(BT8=BR8,BT8<>\"\"),1,0)","v":0},{"$f":"IF(BT10>BR10,3,0)","v":3},{"$f":"IF(AND(BT10=BR10,BT10<>\"\"),1,0)","v":0},{"$f":"IF(BR13>BT13,3,0)","v":0},{"$f":"IF(AND(BR13=BT13,BT13<>\"\"),1,0)","v":1},{"$f":"SUM(BX11:CC11)","v":4},"Österreich",{"$f":"$BV$12","v":6},{"$f":"$BW$12","v":6},{"$f":"CF11-CG11","v":0},{"$f":"$CD$12","v":4},null,null,null,null,null,"ABCDEFIJ",{"$f":"$Y$19","v":"Schottland"},{"$f":"$CE$12","v":"Algerien"},"Bosnien-Herzegowina",{"$f":"$Y$26","v":"Paraguay"},"Südkorea",{"$f":"$BB$12","v":"Schweden"},{"$f":"$BB$5","v":"Ecuador"},{"$f":"$CE$5","v":"Senegal"}]
[{"$f":"IF(L8<>\"\",\"3.\",\"\")","v":"3."},{"$f":"IF(Y12<>\"\",Y12,\"\")","v":"Bosnien-Herzegowina"},null,{"$f":"IF(L8<>\"\",Z12,\"\")","v":5},":",{"$f":"IF(L8<>\"\",AA12,\"\")","v":6},{"$f":"IF(AC12<>\"\",AC12,\"\")","v":4},null,"Schweiz","-","Kanada",{"$f":"IF('Vorrunde 49-72'!$H$2<>\"\",'Vorrunde 49-72'!$H$2,\"\")","v":2},":",{"$f":"IF('Vorrunde 49-72'!$J$2<>\"\",'Vorrunde 49-72'!$J$2,\"\")","v":1},null,{"$f":"SUM(L9,N11,N13)","v":2},{"$f":"SUM(N9,L11,L13)","v":10},{"$f":"IF(L9>N9,3,0)","v":0},{"$f":"IF(AND(L9=N9,N9<>\"\"),1,0)","v":1},{"$f":"IF(N11>L11,3,0)","v":0},{"$f":"IF(AND(N11=L11,N11<>\"\"),1,0)","v":0},{"$f":"IF(N13>L13,3,0)","v":0},{"$f":"IF(AND(N13=L13,N13<>\"\"),1,0)","v":0},{"$f":"SUM(R12:W12)","v":1},"Bosnien-Herzegowina",{"$f":"$P$11","v":5},{"$f":"$Q$11","v":6},{"$f":"Z12-AA12","v":-1},{"$f":"$X$11","v":4},{"$f":"IF(AO8<>\"\",\"3.\",\"\")","v":"3."},{"$f":"IF(BB12<>\"\",BB12,\"\")","v":"Schweden"},null,{"$f":"IF(AO8<>\"\",BC12,\"\")","v":7},":",{"$f":"IF(AO8<>\"\",BD12,\"\")","v":7},{"$f":"IF(BF12<>\"\",BF12,\"\")","v":4},null,"Tunesien","-","Niederlande",{"$f":"IF('Vorrunde 49-72'!$H$11<>\"\",'Vorrunde 49-72'!$H$11,\"\")","v":1},":",{"$f":"IF('Vorrunde 49-72'!$J$11<>\"\",'Vorrunde 49-72'!$J$11,\"\")","v":3},null,{"$f":"SUM(AO9,AQ11,AQ13)","v":7},{"$f":"SUM(AQ9,AO11,AO13)","v":7},{"$f":"IF(AO9>AQ9,3,0)","v":3},{"$f":"IF(AND(AO9=AQ9,AQ9<>\"\"),1,0)","v":0},{"$f":"IF(AQ11>AO11,3,0)","v":0},{"$f":"IF(AND(AQ11=AO11,AQ11<>\"\"),1,0)","v":0},{"$f":"IF(AQ13>AO13,3,0)","v":0},{"$f":"IF(AND(AQ13=AO13,AQ13<>\"\"),1,0)","v":1},{"$f":"SUM(AU12:AZ12)","v":4},"Schweden",{"$f":"$AS$12","v":7},{"$f":"$AT$12","v":7},{"$f":"BC12-BD12","v":0},{"$f":"$BA$12","v":4},{"$f":"IF(BR8<>\"\",\"3.\",\"\")","v":"3."},{"$f":"IF(CE12<>\"\",CE12,\"\")","v":"Algerien"},null,{"$f":"IF(BR8<>\"\",CF12,\"\")","v":5},":",{"$f":"IF(BR8<>\"\",CG12,\"\")","v":7},{"$f":"IF(CI12<>\"\",CI12,\"\")","v":4},null,"Jordanien","-","Argentinien",{"$f":"IF('Vorrunde 49-72'!$H$25<>\"\",'Vorrunde 49-72'!$H$25,\"\")","v":1},":",{"$f":"IF('Vorrunde 49-72'!$J$25<>\"\",'Vorrunde 49-72'!$J$25,\"\")","v":3},null,{"$f":"SUM(BR9,BT11,BT13)","v":6},{"$f":"SUM(BT9,BR11,BR13)","v":6},{"$f":"IF(BR9>BT9,3,0)","v":3},{"$f":"IF(AND(BR9=BT9,BT9<>\"\"),1,0)","v":0},{"$f":"IF(BT11>BR11,3,0)","v":0},{"$f":"IF(AND(BT11=BR11,BT11<>\"\"),1,0)","v":0},{"$f":"IF(BT13>BR13,3,0)","v":0},{"$f":"IF(AND(BT13=BR13,BT13<>\"\"),1,0)","v":1},{"$f":"SUM(BX12:CC12)","v":4},"Algerien",{"$f":"$BV$11","v":5},{"$f":"$BW$11","v":7},{"$f":"CF12-CG12","v":-2},{"$f":"$CD$11","v":4},null,null,null,null,null,"ABCDEFIK","Schottland",{"$f":"$BB$5","v":"Ecuador"},"Bosnien-Herzegowina","Paraguay","Südkorea","Schweden",{"$f":"$CE$5","v":"Senegal"},{"$f":"$CE$19","v":"DR Kongo"}]
[{"$f":"IF(L8<>\"\",\"4.\",\"\")","v":"4."},{"$f":"IF(Y13<>\"\",Y13,\"\")","v":"Katar"},null,{"$f":"IF(L8<>\"\",Z13,\"\")","v":2},":",{"$f":"IF(L8<>\"\",AA13,\"\")","v":10},{"$f":"IF(AC13<>\"\",AC13,\"\")","v":1},null,"Bosnien-Herzegowina","-","Katar",{"$f":"IF('Vorrunde 49-72'!$H$3<>\"\",'Vorrunde 49-72'!$H$3,\"\")","v":3},":",{"$f":"IF('Vorrunde 49-72'!$J$3<>\"\",'Vorrunde 49-72'!$J$3,\"\")","v":1},null,{"$f":"SUM(N9,L10,L12)","v":7},{"$f":"SUM(L9,N10,N12)","v":3},{"$f":"IF(N9>L9,3,0)","v":0},{"$f":"IF(AND(N9=L9,N9<>\"\"),1,0)","v":1},{"$f":"IF(L10>N10,3,0)","v":3},{"$f":"IF(AND(L10=N10,N10<>\"\"),1,0)","v":0},{"$f":"IF(L12>N12,3,0)","v":3},{"$f":"IF(AND(L12=N12,N12<>\"\"),1,0)","v":0},{"$f":"SUM(R13:W13)","v":7},"Katar",{"$f":"$P$12","v":2},{"$f":"$Q$12","v":10},{"$f":"Z13-AA13","v":-8},{"$f":"$X$12","v":1},{"$f":"IF(AO8<>\"\",\"4.\",\"\")","v":"4."},{"$f":"IF(BB13<>\"\",BB13,\"\")","v":"Tunesien"},null,{"$f":"IF(AO8<>\"\",BC13,\"\")","v":2},":",{"$f":"IF(AO8<>\"\",BD13,\"\")","v":12},{"$f":"IF(BF13<>\"\",BF13,\"\")","v":0},null,"Japan","-","Schweden",{"$f":"IF('Vorrunde 49-72'!$H$10<>\"\",'Vorrunde 49-72'!$H$10,\"\")","v":1},":",{"$f":"IF('Vorrunde 49-72'!$J$10<>\"\",'Vorrunde 49-72'!$J$10,\"\")","v":1},null,{"$f":"SUM(AQ9,AO10,AO12)","v":2},{"$f":"SUM(AO9,AQ10,AQ12)","v":12},{"$f":"IF(AQ9>AO9,3,0)","v":0},{"$f":"IF(AND(AQ9=AO9,AQ9<>\"\"),1,0)","v":0},{"$f":"IF(AO10>AQ10,3,0)","v":0},{"$f":"IF(AND(AO10=AQ10,AQ10<>\"\"),1,0)","v":0},{"$f":"IF(AO12>AQ12,3,0)","v":0},{"$f":"IF(AND(AO12=AQ12,AQ12<>\"\"),1,0)","v":0},{"$f":"SUM(AU13:AZ13)","v":0},"Tunesien",{"$f":"$AS$13","v":2},{"$f":"$AT$13","v":12},{"$f":"BC13-BD13","v":-10},{"$f":"$BA$13","v":0},{"$f":"IF(BR8<>\"\",\"4.\",\"\")","v":"4."},{"$f":"IF(CE13<>\"\",CE13,\"\")","v":"Jordanien"},null,{"$f":"IF(BR8<>\"\",CF13,\"\")","v":3},":",{"$f":"IF(BR8<>\"\",CG13,\"\")","v":8},{"$f":"IF(CI13<>\"\",CI13,\"\")","v":0},null,"Algerien","-","Österreich",{"$f":"IF('Vorrunde 49-72'!$H$24<>\"\",'Vorrunde 49-72'!$H$24,\"\")","v":3},":",{"$f":"IF('Vorrunde 49-72'!$J$24<>\"\",'Vorrunde 49-72'!$J$24,\"\")","v":3},null,{"$f":"SUM(BT9,BR10,BR12)","v":3},{"$f":"SUM(BR9,BT10,BT12)","v":8},{"$f":"IF(BT9>BR9,3,0)","v":0},{"$f":"IF(AND(BT9=BR9,BT9<>\"\"),1,0)","v":0},{"$f":"IF(BR10>BT10,3,0)","v":0},{"$f":"IF(AND(BR10=BT10,BT10<>\"\"),1,0)","v":0},{"$f":"IF(BR12>BT12,3,0)","v":0},{"$f":"IF(AND(BR12=BT12,BT12<>\"\"),1,0)","v":0},{"$f":"SUM(BX13:CC13)","v":0},"Jordanien",{"$f":"$BV$13","v":3},{"$f":"$BW$13","v":8},{"$f":"CF13-CG13","v":-5},{"$f":"$CD$13","v":0},null,null,null,null,null,"ABCDEFIL","Schottland",{"$f":"$BB$5","v":"Ecuador"},"Bosnien-Herzegowina","Paraguay","Südkorea","Schweden",{"$f":"$CE$26","v":"Ghana"},{"$f":"$CE$5","v":"Senegal"}]
[null,null,null,null,null,null,null,null,"",null,"",null,null,null,null,null,null,null,null,null,null,null,null,null,null,null,null,null,null,null,null,null,null,null,null,null,null,"",null,"",null,null,null,null,null,null,null,null,null,null,null,null,null,null,null,null,null,null,null,null,null,null,null,null,null,null,"",null,"",null,null,null,null,null,null,null,null,null,null,null,null,null,null,null,null,null,null,null,null,null,null,null,"ABCDEFJK","Schottland",{"$f":"$CE$12","v":"Algerien"},"Bosnien-Herzegowina","Paraguay","Südkorea","Schweden",{"$f":"$BB$5","v":"Ecuador"},{"$f":"$CE$19","v":"DR Kongo"}]
[null,null,null,"Gruppe C",null,null,null,null,"Brasilien","-","Marokko",{"$f":"IF('Vorrunde 01-24'!$H$7<>\"\",'Vorrunde 01-24'!$H$7,\"\")","v":1},":",{"$f":"IF('Vorrunde 01-24'!$J$7<>\"\",'Vorrunde 01-24'!$J$7,\"\")","v":1},null,null,null,null,null,null,null,null,null,null,null,null,null,null,null,null,null,null,"Gruppe G",null,null,null,null,"Belgien","-","Ägypten",{"$f":"IF('Vorrunde 01-24'!$H$15<>\"\",'Vorrunde 01-24'!$H$15,\"\")","v":1},":",{"$f":"IF('Vorrunde 01-24'!$J$15<>\"\",'Vorrunde 01-24'!$J$15,\"\")","v":1},null,null,null,null,null,null,null,null,null,null,null,null,null,null,null,null,null,null,"Gruppe K",null,null,null,null,"Portugal","-","DR Kongo",{"$f":"IF('Vorrunde 01-24'!$H$22<>\"\",'Vorrunde 01-24'!$H$22,\"\")","v":1},":",{"$f":"IF('Vorrunde 01-24'!$J$22<>\"\",'Vorrunde 01-24'!$J$22,\"\")","v":1},null,null,null,null,null,null,null,null,null,null,null,null,null,null,null,null,null,null,null,null,"ABCDEFJL","Schottland",{"$f":"$CE$12","v":"Algerien"},"Bosnien-Herzegowina","Paraguay","Südkorea","Schweden",{"$f":"$CE$26","v":"Ghana"},{"$f":"$BB$5","v":"Ecuador"}]
["PLATZ","MANNSCHAFT",null,"TORE",null,null,"PUNKTE",null,"Haiti","-","Schottland",{"$f":"IF('Vorrunde 01-24'!$H$8<>\"\",'Vorrunde 01-24'!$H$8,\"\")","v":0},":",{"$f":"IF('Vorrunde 01-24'!$J$8<>\"\",'Vorrunde 01-24'!$J$8,\"\")","v":1},null,null,null,null,null,null,null,null,null,null,null,null,null,null,null,"PLATZ","MANNSCHAFT",null,"TORE",null,null,"PUNKTE",null,"Iran","-","Neuseeland",{"$f":"IF('Vorrunde 01-24'!$H$17<>\"\",'Vorrunde 01-24'!$H$17,\"\")","v":2},":",{"$f":"IF('Vorrunde 01-24'!$J$17<>\"\",'Vorrunde 01-24'!$J$17,\"\")","v":2},null,null,null,null,null,null,null,null,null,null,null,null,null,null,null,"PLATZ","MANNSCHAFT",null,"TORE",null,null,"PUNKTE",null,"Usbekistan","-","Kolumbien",{"$f":"IF('Vorrunde 01-24'!$H$25<>\"\",'Vorrunde 01-24'!$H$25,\"\")","v":1},":",{"$f":"IF('Vorrunde 01-24'!$J$25<>\"\",'Vorrunde 01-24'!$J$25,\"\")","v":3},null,null,null,null,null,null,null,null,null,null,null,null,null,null,null,null,null,null,null,null,"ABCDEFKL","Schottland",{"$f":"$BB$5","v":"Ecuador"},"Bosnien-Herzegowina","Paraguay","Südkorea","Schweden",{"$f":"$CE$26","v":"Ghana"},{"$f":"$CE$19","v":"DR Kongo"}]
[{"$f":"IF(L15<>\"\",\"1.\",\"\")","v":"1."},{"$f":"IF(Y17<>\"\",Y17,\"\")","v":"Brasilien"},null,{"$f":"IF(L15<>\"\",Z17,\"\")","v":7},":",{"$f":"IF(L15<>\"\",AA17,\"\")","v":1},{"$f":"IF(AC17<>\"\",AC17,\"\")","v":7},null,"Schottland","-","Marokko",{"$f":"IF('Vorrunde 25-48'!$H$7<>\"\",'Vorrunde 25-48'!$H$7,\"\")","v":0},":",{"$f":"IF('Vorrunde 25-48'!$J$7<>\"\",'Vorrunde 25-48'!$J$7,\"\")","v":1},null,{"$f":"SUM(L15,L18,N19)","v":7},{"$f":"SUM(N15,N18,L19)","v":1},{"$f":"IF(L15>N15,3,0)","v":0},{"$f":"IF(AND(L15=N15,N15<>\"\"),1,0)","v":1},{"$f":"IF(L18>N18,3,0)","v":3},{"$f":"IF(AND(L18=N18,N18<>\"\"),1,0)","v":0},{"$f":"IF(N19>L19,3,0)","v":3},{"$f":"IF(AND(N19=L19,N19<>\"\"),1,0)","v":0},{"$f":"SUM(R17:W17)","v":7},"Brasilien",{"$f":"$P$17","v":7},{"$f":"$Q$17","v":1},{"$f":"Z17-AA17","v":6},{"$f":"$X$17","v":7},{"$f":"IF(AO15<>\"\",\"1.\",\"\")","v":"1."},{"$f":"IF(BB17<>\"\",BB17,\"\")","v":"Belgien"},null,{"$f":"IF(AO15<>\"\",BC17,\"\")","v":6},":",{"$f":"IF(AO15<>\"\",BD17,\"\")","v":2},{"$f":"IF(BF17<>\"\",BF17,\"\")","v":5},null,"Neuseeland","-","Ägypten",{"$f":"IF('Vorrunde 25-48'!$H$17<>\"\",'Vorrunde 25-48'!$H$17,\"\")","v":1},":",{"$f":"IF('Vorrunde 25-48'!$J$17<>\"\",'Vorrunde 25-48'!$J$17,\"\")","v":3},null,{"$f":"SUM(AO15,AO18,AQ19)","v":6},{"$f":"SUM(AQ15,AQ18,AO19)","v":2},{"$f":"IF(AO15>AQ15,3,0)","v":0},{"$f":"IF(AND(AO15=AQ15,AQ15<>\"\"),1,0)","v":1},{"$f":"IF(AO18>AQ18,3,0)","v":0},{"$f":"IF(AND(AO18=AQ18,AQ18<>\"\"),1,0)","v":1},{"$f":"IF(AQ19>AO19,3,0)","v":3},{"$f":"IF(AND(AQ19=AO19,AQ19<>\"\"),1,0)","v":0},{"$f":"SUM(AU17:AZ17)","v":5},"Belgien",{"$f":"$AS$17","v":6},{"$f":"$AT$17","v":2},{"$f":"BC17-BD17","v":4},{"$f":"$BA$17","v":5},{"$f":"IF(BR15<>\"\",\"1.\",\"\")","v":"1."},{"$f":"IF(CE17<>\"\",CE17,\"\")","v":"Kolumbien"},null,{"$f":"IF(BR15<>\"\",CF17,\"\")","v":4},":",{"$f":"IF(BR15<>\"\",CG17,\"\")","v":1},{"$f":"IF(CI17<>\"\",CI17,\"\")","v":7},null,"Kolumbien","-","DR Kongo",{"$f":"IF('Vorrunde 25-48'!$H$25<>\"\",'Vorrunde 25-48'!$H$25,\"\")","v":1},":",{"$f":"IF('Vorrunde 25-48'!$J$25<>\"\",'Vorrunde 25-48'!$J$25,\"\")","v":0},null,{"$f":"SUM(BR15,BR18,BT19)","v":6},{"$f":"SUM(BT15,BT18,BR19)","v":1},{"$f":"IF(BR15>BT15,3,0)","v":0},{"$f":"IF(AND(BR15=BT15,BT15<>\"\"),1,0)","v":1},{"$f":"IF(BR18>BT18,3,0)","v":3},{"$f":"IF(AND(BR18=BT18,BT18<>\"\"),1,0)","v":0},{"$f":"IF(BT19>BR19,3,0)","v":0},{"$f":"IF(AND(BT19=BR19,BT19<>\"\"),1,0)","v":1},{"$f":"SUM(BX17:CC17)","v":5},"Kolumbien",{"$f":"$BV$20","v":4},{"$f":"$BW$20","v":1},{"$f":"CF17-CG17","v":3},{"$f":"$CD$20","v":7},null,null,null,null,null,"ABCDEGHI",{"$f":"$BB$26","v":"Uruguay"},{"$f":"$BB$19","v":"Iran"},"Bosnien-Herzegowina",{"$f":"$Y$19","v":"Schottland"},"Südkorea",{"$f":"$Y$26","v":"Paraguay"},{"$f":"$BB$5","v":"Ecuador"},{"$f":"$CE$5","v":"Senegal"}]
[{"$f":"IF(L15<>\"\",\"2.\",\"\")","v":"2."},{"$f":"IF(Y18<>\"\",Y18,\"\")","v":"Marokko"},null,{"$f":"IF(L15<>\"\",Z18,\"\")","v":6},":",{"$f":"IF(L15<>\"\",AA18,\"\")","v":3},{"$f":"IF(AC18<>\"\",AC18,\"\")","v":7},null,"Brasilien","-","Haiti",{"$f":"IF('Vorrunde 25-48'!$H$8<>\"\",'Vorrunde 25-48'!$H$8,\"\")","v":3},":",{"$f":"IF('Vorrunde 25-48'!$J$8<>\"\",'Vorrunde 25-48'!$J$8,\"\")","v":0},null,{"$f":"SUM(N15,N17,L20)","v":6},{"$f":"SUM(L15,L17,N20)","v":3},{"$f":"IF(N15>L15,3,0)","v":0},{"$f":"IF(AND(N15=L15,N15<>\"\"),1,0)","v":1},{"$f":"IF(N17>L17,3,0)","v":3},{"$f":"IF(AND(N17=L17,N17<>\"\"),1,0)","v":0},{"$f":"IF(L20>N20,3,0)","v":3},{"$f":"IF(AND(L20=N20,N20<>\"\"),1,0)","v":0},{"$f":"SUM(R18:W18)","v":7},"Marokko",{"$f":"$P$18","v":6},{"$f":"$Q$18","v":3},{"$f":"Z18-AA18","v":3},{"$f":"$X$18","v":7},{"$f":"IF(AO15<>\"\",\"2.\",\"\")","v":"2."},{"$f":"IF(BB18<>\"\",BB18,\"\")","v":"Ägypten"},null,{"$f":"IF(AO15<>\"\",BC18,\"\")","v":5},":",{"$f":"IF(AO15<>\"\",BD18,\"\")","v":3},{"$f":"IF(BF18<>\"\",BF18,\"\")","v":5},null,"Belgien","-","Iran",{"$f":"IF('Vorrunde 25-48'!$H$15<>\"\",'Vorrunde 25-48'!$H$15,\"\")","v":0},":",{"$f":"IF('Vorrunde 25-48'!$J$15<>\"\",'Vorrunde 25-48'!$J$15,\"\")","v":0},null,{"$f":"SUM(AQ15,AQ17,AO20)","v":5},{"$f":"SUM(AO15,AO17,AQ20)","v":3},{"$f":"IF(AQ15>AO15,3,0)","v":0},{"$f":"IF(AND(AQ15=AO15,AQ15<>\"\"),1,0)","v":1},{"$f":"IF(AQ17>AO17,3,0)","v":3},{"$f":"IF(AND(AQ17=AO17,AQ17<>\"\"),1,0)","v":0},{"$f":"IF(AO20>AQ20,3,0)","v":0},{"$f":"IF(AND(AO20=AQ20,AQ20<>\"\"),1,0)","v":1},{"$f":"SUM(AU18:AZ18)","v":5},"Ägypten",{"$f":"$AS$18","v":5},{"$f":"$AT$18","v":3},{"$f":"BC18-BD18","v":2},{"$f":"$BA$18","v":5},{"$f":"IF(BR15<>\"\",\"2.\",\"\")","v":"2."},{"$f":"IF(CE18<>\"\",CE18,\"\")","v":"Portugal"},null,{"$f":"IF(BR15<>\"\",CF18,\"\")","v":6},":",{"$f":"IF(BR15<>\"\",CG18,\"\")","v":1},{"$f":"IF(CI18<>\"\",CI18,\"\")","v":5},null,"Portugal","-","Usbekistan",{"$f":"IF('Vorrunde 25-48'!$H$22<>\"\",'Vorrunde 25-48'!$H$22,\"\")","v":5},":",{"$f":"IF('Vorrunde 25-48'!$J$22<>\"\",'Vorrunde 25-48'!$J$22,\"\")","v":0},null,{"$f":"SUM(BT15,BT17,BR20)","v":4},{"$f":"SUM(BR15,BR17,BT20)","v":3},{"$f":"IF(BT15>BR15,3,0)","v":0},{"$f":"IF(AND(BT15=BR15,BT15<>\"\"),1,0)","v":1},{"$f":"IF(BT17>BR17,3,0)","v":0},{"$f":"IF(AND(BT17=BR17,BT17<>\"\"),1,0)","v":0},{"$f":"IF(BR20>BT20,3,0)","v":3},{"$f":"IF(AND(BR20=BT20,BT20<>\"\"),1,0)","v":0},{"$f":"SUM(BX18:CC18)","v":4},"Portugal",{"$f":"$BV$17","v":6},{"$f":"$BW$17","v":1},{"$f":"CF18-CG18","v":5},{"$f":"$CD$17","v":5},null,null,null,null,null,"ABCDEGHJ",{"$f":"$BB$26","v":"Uruguay"},"Iran","Bosnien-Herzegowina","Schottland","Südkorea","Paraguay",{"$f":"$BB$5","v":"Ecuador"},{"$f":"$CE$12","v":"Algerien"}]
[{"$f":"IF(L15<>\"\",\"3.\",\"\")","v":"3."},{"$f":"IF(Y19<>\"\",Y19,\"\")","v":"Schottland"},null,{"$f":"IF(L15<>\"\",Z19,\"\")","v":1},":",{"$f":"IF(L15<>\"\",AA19,\"\")","v":4},{"$f":"IF(AC19<>\"\",AC19,\"\")","v":3},null,"Schottland","-","Brasilien",{"$f":"IF('Vorrunde 49-72'!$H$4<>\"\",'Vorrunde 49-72'!$H$4,\"\")","v":0},":",{"$f":"IF('Vorrunde 49-72'!$J$4<>\"\",'Vorrunde 49-72'!$J$4,\"\")","v":3},null,{"$f":"SUM(L16,N18,N20)","v":2},{"$f":"SUM(N16,L18,L20)","v":8},{"$f":"IF(L16>N16,3,0)","v":0},{"$f":"IF(AND(L16=N16,N16<>\"\"),1,0)","v":0},{"$f":"IF(N18>L18,3,0)","v":0},{"$f":"IF(AND(N18=L18,N18<>\"\"),1,0)","v":0},{"$f":"IF(N20>L20,3,0)","v":0},{"$f":"IF(AND(N20=L20,N20<>\"\"),1,0)","v":0},{"$f":"SUM(R19:W19)","v":0},"Schottland",{"$f":"$P$20","v":1},{"$f":"$Q$20","v":4},{"$f":"Z19-AA19","v":-3},{"$f":"$X$20","v":3},{"$f":"IF(AO15<>\"\",\"3.\",\"\")","v":"3."},{"$f":"IF(BB19<>\"\",BB19,\"\")","v":"Iran"},null,{"$f":"IF(AO15<>\"\",BC19,\"\")","v":3},":",{"$f":"IF(AO15<>\"\",BD19,\"\")","v":3},{"$f":"IF(BF19<>\"\",BF19,\"\")","v":3},null,"Neuseeland","-","Belgien",{"$f":"IF('Vorrunde 49-72'!$H$19<>\"\",'Vorrunde 49-72'!$H$19,\"\")","v":1},":",{"$f":"IF('Vorrunde 49-72'!$J$19<>\"\",'Vorrunde 49-72'!$J$19,\"\")","v":5},null,{"$f":"SUM(AO16,AQ18,AQ20)","v":3},{"$f":"SUM(AQ16,AO18,AO20)","v":3},{"$f":"IF(AO16>AQ16,3,0)","v":0},{"$f":"IF(AND(AO16=AQ16,AQ16<>\"\"),1,0)","v":1},{"$f":"IF(AQ18>AO18,3,0)","v":0},{"$f":"IF(AND(AQ18=AO18,AQ18<>\"\"),1,0)","v":1},{"$f":"IF(AQ20>AO20,3,0)","v":0},{"$f":"IF(AND(AQ20=AO20,AQ20<>\"\"),1,0)","v":1},{"$f":"SUM(AU19:AZ19)","v":3},"Iran",{"$f":"$AS$19","v":3},{"$f":"$AT$19","v":3},{"$f":"BC19-BD19","v":0},{"$f":"$BA$19","v":3},{"$f":"IF(BR15<>\"\",\"3.\",\"\")","v":"3."},{"$f":"IF(CE19<>\"\",CE19,\"\")","v":"DR Kongo"},null,{"$f":"IF(BR15<>\"\",CF19,\"\")","v":4},":",{"$f":"IF(BR15<>\"\",CG19,\"\")","v":3},{"$f":"IF(CI19<>\"\",CI19,\"\")","v":4},null,"Kolumbien","-","Portugal",{"$f":"IF('Vorrunde 49-72'!$H$22<>\"\",'Vorrunde 49-72'!$H$22,\"\")","v":0},":",{"$f":"IF('Vorrunde 49-72'!$J$22<>\"\",'Vorrunde 49-72'!$J$22,\"\")","v":0},null,{"$f":"SUM(BR16,BT18,BT20)","v":2},{"$f":"SUM(BT16,BR18,BR20)","v":11},{"$f":"IF(BR16>BT16,3,0)","v":0},{"$f":"IF(AND(BR16=BT16,BT16<>\"\"),1,0)","v":0},{"$f":"IF(BT18>BR18,3,0)","v":0},{"$f":"IF(AND(BT18=BR18,BT18<>\"\"),1,0)","v":0},{"$f":"IF(BT20>BR20,3,0)","v":0},{"$f":"IF(AND(BT20=BR20,BT20<>\"\"),1,0)","v":0},{"$f":"SUM(BX19:CC19)","v":0},"DR Kongo",{"$f":"$BV$18","v":4},{"$f":"$BW$18","v":3},{"$f":"CF19-CG19","v":1},{"$f":"$CD$18","v":4},null,null,null,null,null,"ABCDEGHK",{"$f":"$BB$26","v":"Uruguay"},"Iran","Bosnien-Herzegowina","Schottland","Südkorea","Paraguay",{"$f":"$BB$5","v":"Ecuador"},{"$f":"$CE$19","v":"DR Kongo"}]
[{"$f":"IF(L15<>\"\",\"4.\",\"\")","v":"4."},{"$f":"IF(Y20<>\"\",Y20,\"\")","v":"Haiti"},null,{"$f":"IF(L15<>\"\",Z20,\"\")","v":2},":",{"$f":"IF(L15<>\"\",AA20,\"\")","v":8},{"$f":"IF(AC20<>\"\",AC20,\"\")","v":0},null,"Marokko","-","Haiti",{"$f":"IF('Vorrunde 49-72'!$H$5<>\"\",'Vorrunde 49-72'!$H$5,\"\")","v":4},":",{"$f":"IF('Vorrunde 49-72'!$J$5<>\"\",'Vorrunde 49-72'!$J$5,\"\")","v":2},null,{"$f":"SUM(N16,L17,L19)","v":1},{"$f":"SUM(L16,N17,N19)","v":4},{"$f":"IF(N16>L16,3,0)","v":3},{"$f":"IF(AND(N16=L16,N16<>\"\"),1,0)","v":0},{"$f":"IF(L17>N17,3,0)","v":0},{"$f":"IF(AND(L17=N17,N17<>\"\"),1,0)","v":0},{"$f":"IF(L19>N19,3,0)","v":0},{"$f":"IF(AND(L19=N19,N19<>\"\"),1,0)","v":0},{"$f":"SUM(R20:W20)","v":3},"Haiti",{"$f":"$P$19","v":2},{"$f":"$Q$19","v":8},{"$f":"Z20-AA20","v":-6},{"$f":"$X$19","v":0},{"$f":"IF(AO15<>\"\",\"4.\",\"\")","v":"4."},{"$f":"IF(BB20<>\"\",BB20,\"\")","v":"Neuseeland"},null,{"$f":"IF(AO15<>\"\",BC20,\"\")","v":4},":",{"$f":"IF(AO15<>\"\",BD20,\"\")","v":10},{"$f":"IF(BF20<>\"\",BF20,\"\")","v":1},null,"Ägypten","-","Iran",{"$f":"IF('Vorrunde 49-72'!$H$18<>\"\",'Vorrunde 49-72'!$H$18,\"\")","v":1},":",{"$f":"IF('Vorrunde 49-72'!$J$18<>\"\",'Vorrunde 49-72'!$J$18,\"\")","v":1},null,{"$f":"SUM(AQ16,AO17,AO19)","v":4},{"$f":"SUM(AO16,AQ17,AQ19)","v":10},{"$f":"IF(AQ16>AO16,3,0)","v":0},{"$f":"IF(AND(AQ16=AO16,AQ16<>\"\"),1,0)","v":1},{"$f":"IF(AO17>AQ17,3,0)","v":0},{"$f":"IF(AND(AO17=AQ17,AQ17<>\"\"),1,0)","v":0},{"$f":"IF(AO19>AQ19,3,0)","v":0},{"$f":"IF(AND(AO19=AQ19,AQ19<>\"\"),1,0)","v":0},{"$f":"SUM(AU20:AZ20)","v":1},"Neuseeland",{"$f":"$AS$20","v":4},{"$f":"$AT$20","v":10},{"$f":"BC20-BD20","v":-6},{"$f":"$BA$20","v":1},{"$f":"IF(BR15<>\"\",\"4.\",\"\")","v":"4."},{"$f":"IF(CE20<>\"\",CE20,\"\")","v":"Usbekistan"},null,{"$f":"IF(BR15<>\"\",CF20,\"\")","v":2},":",{"$f":"IF(BR15<>\"\",CG20,\"\")","v":11},{"$f":"IF(CI20<>\"\",CI20,\"\")","v":0},null,"DR Kongo","-","Usbekistan",{"$f":"IF('Vorrunde 49-72'!$H$23<>\"\",'Vorrunde 49-72'!$H$23,\"\")","v":3},":",{"$f":"IF('Vorrunde 49-72'!$J$23<>\"\",'Vorrunde 49-72'!$J$23,\"\")","v":1},null,{"$f":"SUM(BT16,BR17,BR19)","v":4},{"$f":"SUM(BR16,BT17,BT19)","v":1},{"$f":"IF(BT16>BR16,3,0)","v":3},{"$f":"IF(AND(BT16=BR16,BT16<>\"\"),1,0)","v":0},{"$f":"IF(BR17>BT17,3,0)","v":3},{"$f":"IF(AND(BR17=BT17,BT17<>\"\"),1,0)","v":0},{"$f":"IF(BR19>BT19,3,0)","v":0},{"$f":"IF(AND(BR19=BT19,BT19<>\"\"),1,0)","v":1},{"$f":"SUM(BX20:CC20)","v":7},"Usbekistan",{"$f":"$BV$19","v":2},{"$f":"$BW$19","v":11},{"$f":"CF20-CG20","v":-9},{"$f":"$CD$19","v":0},null,null,null,null,null,"ABCDEGHL",{"$f":"$BB$26","v":"Uruguay"},"Iran","Bosnien-Herzegowina","Schottland","Südkorea","Paraguay",{"$f":"$CE$26","v":"Ghana"},{"$f":"$BB$5","v":"Ecuador"}]
[null,null,null,null,null,null,null,null,"",null,"",null,null,null,null,null,null,null,null,null,null,null,null,null,null,null,null,null,null,null,null,null,null,null,null,null,null,"",null,"",null,null,null,null,null,null,null,null,null,null,null,null,null,null,null,null,null,null,null,null,null,null,null,null,null,null,"",null,"",null,null,null,null,null,null,null,null,null,null,null,null,null,null,null,null,null,null,null,null,null,null,null,"ABCDEGIJ",{"$f":"$BB$5","v":"Ecuador"},"Iran","Bosnien-Herzegowina","Schottland","Südkorea","Paraguay",{"$f":"$CE$5","v":"Senegal"},{"$f":"$CE$12","v":"Algerien"}]
[null,null,null,"Gruppe D",null,null,null,null,"USA","-","Paraguay",{"$f":"IF('Vorrunde 01-24'!$H$5<>\"\",'Vorrunde 01-24'!$H$5,\"\")","v":4},":",{"$f":"IF('Vorrunde 01-24'!$J$5<>\"\",'Vorrunde 01-24'!$J$5,\"\")","v":1},null,null,null,null,null,null,null,null,null,null,null,null,null,null,null,null,null,null,"Gruppe H",null,null,null,null,"Spanien","-","Kap Verde",{"$f":"IF('Vorrunde 01-24'!$H$14<>\"\",'Vorrunde 01-24'!$H$14,\"\")","v":0},":",{"$f":"IF('Vorrunde 01-24'!$J$14<>\"\",'Vorrunde 01-24'!$J$14,\"\")","v":0},null,null,null,null,null,null,null,null,null,null,null,null,null,null,null,null,null,null,"Gruppe L",null,null,null,null,"England","-","Kroatien",{"$f":"IF('Vorrunde 01-24'!$H$23<>\"\",'Vorrunde 01-24'!$H$23,\"\")","v":4},":",{"$f":"IF('Vorrunde 01-24'!$J$23<>\"\",'Vorrunde 01-24'!$J$23,\"\")","v":2},null,null,null,null,null,null,null,null,null,null,null,null,null,null,null,null,null,null,null,null,"ABCDEGIK","Ecuador","Iran","Bosnien-Herzegowina","Schottland","Südkorea","Paraguay",{"$f":"$CE$5","v":"Senegal"},{"$f":"$CE$19","v":"DR Kongo"}]
["PLATZ","MANNSCHAFT",null,"TORE",null,null,"PUNKTE",null,"Australien","-","Türkei",{"$f":"IF('Vorrunde 01-24'!$H$9<>\"\",'Vorrunde 01-24'!$H$9,\"\")","v":2},":",{"$f":"IF('Vorrunde 01-24'!$J$9<>\"\",'Vorrunde 01-24'!$J$9,\"\")","v":0},null,null,null,null,null,null,null,null,null,null,null,null,null,null,null,"PLATZ","MANNSCHAFT",null,"TORE",null,null,"PUNKTE",null,"Saudi-Arabien","-","Uruguay",{"$f":"IF('Vorrunde 01-24'!$H$16<>\"\",'Vorrunde 01-24'!$H$16,\"\")","v":1},":",{"$f":"IF('Vorrunde 01-24'!$J$16<>\"\",'Vorrunde 01-24'!$J$16,\"\")","v":1},null,null,null,null,null,null,null,null,null,null,null,null,null,null,null,"PLATZ","MANNSCHAFT",null,"TORE",null,null,"PUNKTE",null,"Ghana","-","Panama",{"$f":"IF('Vorrunde 01-24'!$H$24<>\"\",'Vorrunde 01-24'!$H$24,\"\")","v":1},":",{"$f":"IF('Vorrunde 01-24'!$J$24<>\"\",'Vorrunde 01-24'!$J$24,\"\")","v":0},null,null,null,null,null,null,null,null,null,null,null,null,null,null,null,null,null,null,null,null,"ABCDEGIL","Ecuador","Iran","Bosnien-Herzegowina","Schottland","Südkorea","Paraguay",{"$f":"$CE$26","v":"Ghana"},{"$f":"$CE$5","v":"Senegal"}]
[{"$f":"IF(L22<>\"\",\"1.\",\"\")","v":"1."},{"$f":"IF(Y24<>\"\",Y24,\"\")","v":"USA"},null,{"$f":"IF(L22<>\"\",Z24,\"\")","v":8},":",{"$f":"IF(L22<>\"\",AA24,\"\")","v":4},{"$f":"IF(AC24<>\"\",AC24,\"\")","v":6},null,"Türkei","-","Paraguay",{"$f":"IF('Vorrunde 25-48'!$H$9<>\"\",'Vorrunde 25-48'!$H$9,\"\")","v":0},":",{"$f":"IF('Vorrunde 25-48'!$J$9<>\"\",'Vorrunde 25-48'!$J$9,\"\")","v":1},null,{"$f":"SUM(L22,L25,N26)","v":8},{"$f":"SUM(N22,N25,L26)","v":4},{"$f":"IF(L22>N22,3,0)","v":3},{"$f":"IF(AND(L22=N22,N22<>\"\"),1,0)","v":0},{"$f":"IF(L25>N25,3,0)","v":3},{"$f":"IF(AND(L25=N25,N25<>\"\"),1,0)","v":0},{"$f":"IF(N26>L26,3,0)","v":0},{"$f":"IF(AND(N26=L26,N26<>\"\"),1,0)","v":0},{"$f":"SUM(R24:W24)","v":6},"USA",{"$f":"$P$24","v":8},{"$f":"$Q$24","v":4},{"$f":"Z24-AA24","v":4},{"$f":"$X$24","v":6},{"$f":"IF(AO22<>\"\",\"1.\",\"\")","v":"1."},{"$f":"IF(BB24<>\"\",BB24,\"\")","v":"Spanien"},null,{"$f":"IF(AO22<>\"\",BC24,\"\")","v":5},":",{"$f":"IF(AO22<>\"\",BD24,\"\")","v":0},{"$f":"IF(BF24<>\"\",BF24,\"\")","v":7},null,"Uruguay","-","Kap Verde",{"$f":"IF('Vorrunde 25-48'!$H$16<>\"\",'Vorrunde 25-48'!$H$16,\"\")","v":2},":",{"$f":"IF('Vorrunde 25-48'!$J$16<>\"\",'Vorrunde 25-48'!$J$16,\"\")","v":2},null,{"$f":"SUM(AO22,AO25,AQ26)","v":5},{"$f":"SUM(AQ22,AQ25,AO26)","v":0},{"$f":"IF(AO22>AQ22,3,0)","v":0},{"$f":"IF(AND(AO22=AQ22,AQ22<>\"\"),1,0)","v":1},{"$f":"IF(AO25>AQ25,3,0)","v":3},{"$f":"IF(AND(AO25=AQ25,AQ25<>\"\"),1,0)","v":0},{"$f":"IF(AQ26>AO26,3,0)","v":3},{"$f":"IF(AND(AQ26=AO26,AQ26<>\"\"),1,0)","v":0},{"$f":"SUM(AU24:AZ24)","v":7},"Spanien",{"$f":"$AS$24","v":5},{"$f":"$AT$24","v":0},{"$f":"BC24-BD24","v":5},{"$f":"$BA$24","v":7},{"$f":"IF(BR22<>\"\",\"1.\",\"\")","v":"1."},{"$f":"IF(CE24<>\"\",CE24,\"\")","v":"England"},null,{"$f":"IF(BR22<>\"\",CF24,\"\")","v":6},":",{"$f":"IF(BR22<>\"\",CG24,\"\")","v":2},{"$f":"IF(CI24<>\"\",CI24,\"\")","v":7},null,"Panama","-","Kroatien",{"$f":"IF('Vorrunde 25-48'!$H$24<>\"\",'Vorrunde 25-48'!$H$24,\"\")","v":0},":",{"$f":"IF('Vorrunde 25-48'!$J$24<>\"\",'Vorrunde 25-48'!$J$24,\"\")","v":1},null,{"$f":"SUM(BR22,BR25,BT26)","v":6},{"$f":"SUM(BT22,BT25,BR26)","v":2},{"$f":"IF(BR22>BT22,3,0)","v":3},{"$f":"IF(AND(BR22=BT22,BT22<>\"\"),1,0)","v":0},{"$f":"IF(BR25>BT25,3,0)","v":0},{"$f":"IF(AND(BR25=BT25,BT25<>\"\"),1,0)","v":1},{"$f":"IF(BT26>BR26,3,0)","v":3},{"$f":"IF(AND(BT26=BR26,BT26<>\"\"),1,0)","v":0},{"$f":"SUM(BX24:CC24)","v":7},"England",{"$f":"$BV$24","v":6},{"$f":"$BW$24","v":2},{"$f":"CF24-CG24","v":4},{"$f":"$CD$24","v":7},null,null,null,null,null,"ABCDEGJK","Ecuador","Iran","Bosnien-Herzegowina","Schottland","Südkorea","Paraguay",{"$f":"$CE$12","v":"Algerien"},{"$f":"$CE$19","v":"DR Kongo"}]
[{"$f":"IF(L22<>\"\",\"2.\",\"\")","v":"2."},{"$f":"IF(Y25<>\"\",Y25,\"\")","v":"Australien"},null,{"$f":"IF(L22<>\"\",Z25,\"\")","v":2},":",{"$f":"IF(L22<>\"\",AA25,\"\")","v":2},{"$f":"IF(AC25<>\"\",AC25,\"\")","v":4},null,"USA","-","Australien",{"$f":"IF('Vorrunde 25-48'!$H$6<>\"\",'Vorrunde 25-48'!$H$6,\"\")","v":2},":",{"$f":"IF('Vorrunde 25-48'!$J$6<>\"\",'Vorrunde 25-48'!$J$6,\"\")","v":0},null,{"$f":"SUM(N22,N24,L27)","v":2},{"$f":"SUM(L22,L24,N27)","v":4},{"$f":"IF(N22>L22,3,0)","v":0},{"$f":"IF(AND(N22=L22,N22<>\"\"),1,0)","v":0},{"$f":"IF(N24>L24,3,0)","v":3},{"$f":"IF(AND(N24=L24,N24<>\"\"),1,0)","v":0},{"$f":"IF(L27>N27,3,0)","v":0},{"$f":"IF(AND(L27=N27,N27<>\"\"),1,0)","v":1},{"$f":"SUM(R25:W25)","v":4},"Australien",{"$f":"$P$26","v":2},{"$f":"$Q$26","v":2},{"$f":"Z25-AA25","v":0},{"$f":"$X$26","v":4},{"$f":"IF(AO22<>\"\",\"2.\",\"\")","v":"2."},{"$f":"IF(BB25<>\"\",BB25,\"\")","v":"Kap Verde"},null,{"$f":"IF(AO22<>\"\",BC25,\"\")","v":2},":",{"$f":"IF(AO22<>\"\",BD25,\"\")","v":2},{"$f":"IF(BF25<>\"\",BF25,\"\")","v":3},null,"Spanien","-","Saudi-Arabien",{"$f":"IF('Vorrunde 25-48'!$H$14<>\"\",'Vorrunde 25-48'!$H$14,\"\")","v":4},":",{"$f":"IF('Vorrunde 25-48'!$J$14<>\"\",'Vorrunde 25-48'!$J$14,\"\")","v":0},null,{"$f":"SUM(AQ22,AQ24,AO27)","v":2},{"$f":"SUM(AO22,AO24,AQ27)","v":2},{"$f":"IF(AQ22>AO22,3,0)","v":0},{"$f":"IF(AND(AQ22=AO22,AQ22<>\"\"),1,0)","v":1},{"$f":"IF(AQ24>AO24,3,0)","v":0},{"$f":"IF(AND(AQ24=AO24,AQ24<>\"\"),1,0)","v":1},{"$f":"IF(AO27>AQ27,3,0)","v":0},{"$f":"IF(AND(AO27=AQ27,AQ27<>\"\"),1,0)","v":1},{"$f":"SUM(AU25:AZ25)","v":3},"Kap Verde",{"$f":"$AS$25","v":2},{"$f":"$AT$25","v":2},{"$f":"BC25-BD25","v":0},{"$f":"$BA$25","v":3},{"$f":"IF(BR22<>\"\",\"2.\",\"\")","v":"2."},{"$f":"IF(CE25<>\"\",CE25,\"\")","v":"Kroatien"},null,{"$f":"IF(BR22<>\"\",CF25,\"\")","v":5},":",{"$f":"IF(BR22<>\"\",CG25,\"\")","v":5},{"$f":"IF(CI25<>\"\",CI25,\"\")","v":6},null,"England","-","Ghana",{"$f":"IF('Vorrunde 25-48'!$H$23<>\"\",'Vorrunde 25-48'!$H$23,\"\")","v":0},":",{"$f":"IF('Vorrunde 25-48'!$J$23<>\"\",'Vorrunde 25-48'!$J$23,\"\")","v":0},null,{"$f":"SUM(BT22,BT24,BR27)","v":5},{"$f":"SUM(BR22,BR24,BT27)","v":5},{"$f":"IF(BT22>BR22,3,0)","v":0},{"$f":"IF(AND(BT22=BR22,BT22<>\"\"),1,0)","v":0},{"$f":"IF(BT24>BR24,3,0)","v":3},{"$f":"IF(AND(BT24=BR24,BT24<>\"\"),1,0)","v":0},{"$f":"IF(BR27>BT27,3,0)","v":3},{"$f":"IF(AND(BR27=BT27,BT27<>\"\"),1,0)","v":0},{"$f":"SUM(BX25:CC25)","v":6},"Kroatien",{"$f":"$BV$25","v":5},{"$f":"$BW$25","v":5},{"$f":"CF25-CG25","v":0},{"$f":"$CD$25","v":6},null,null,null,null,null,"ABCDEGJL","Ecuador","Iran","Bosnien-Herzegowina","Schottland","Südkorea","Paraguay",{"$f":"$CE$26","v":"Ghana"},{"$f":"$CE$12","v":"Algerien"}]
[{"$f":"IF(L22<>\"\",\"3.\",\"\")","v":"3."},{"$f":"IF(Y26<>\"\",Y26,\"\")","v":"Paraguay"},null,{"$f":"IF(L22<>\"\",Z26,\"\")","v":2},":",{"$f":"IF(L22<>\"\",AA26,\"\")","v":4},{"$f":"IF(AC26<>\"\",AC26,\"\")","v":4},null,"Türkei","-","USA",{"$f":"IF('Vorrunde 49-72'!$H$12<>\"\",'Vorrunde 49-72'!$H$12,\"\")","v":3},":",{"$f":"IF('Vorrunde 49-72'!$J$12<>\"\",'Vorrunde 49-72'!$J$12,\"\")","v":2},null,{"$f":"SUM(L23,N25,N27)","v":2},{"$f":"SUM(N23,L25,L27)","v":2},{"$f":"IF(L23>N23,3,0)","v":3},{"$f":"IF(AND(L23=N23,N23<>\"\"),1,0)","v":0},{"$f":"IF(N25>L25,3,0)","v":0},{"$f":"IF(AND(N25=L25,N25<>\"\"),1,0)","v":0},{"$f":"IF(N27>L27,3,0)","v":0},{"$f":"IF(AND(N27=L27,N27<>\"\"),1,0)","v":1},{"$f":"SUM(R26:W26)","v":4},"Paraguay",{"$f":"$P$25","v":2},{"$f":"$Q$25","v":4},{"$f":"Z26-AA26","v":-2},{"$f":"$X$25","v":4},{"$f":"IF(AO22<>\"\",\"3.\",\"\")","v":"3."},{"$f":"IF(BB26<>\"\",BB26,\"\")","v":"Uruguay"},null,{"$f":"IF(AO22<>\"\",BC26,\"\")","v":3},":",{"$f":"IF(AO22<>\"\",BD26,\"\")","v":4},{"$f":"IF(BF26<>\"\",BF26,\"\")","v":2},null,"Uruguay","-","Spanien",{"$f":"IF('Vorrunde 49-72'!$H$17<>\"\",'Vorrunde 49-72'!$H$17,\"\")","v":0},":",{"$f":"IF('Vorrunde 49-72'!$J$17<>\"\",'Vorrunde 49-72'!$J$17,\"\")","v":1},null,{"$f":"SUM(AO23,AQ25,AQ27)","v":1},{"$f":"SUM(AQ23,AO25,AO27)","v":5},{"$f":"IF(AO23>AQ23,3,0)","v":0},{"$f":"IF(AND(AO23=AQ23,AQ23<>\"\"),1,0)","v":1},{"$f":"IF(AQ25>AO25,3,0)","v":0},{"$f":"IF(AND(AQ25=AO25,AQ25<>\"\"),1,0)","v":0},{"$f":"IF(AQ27>AO27,3,0)","v":0},{"$f":"IF(AND(AQ27=AO27,AQ27<>\"\"),1,0)","v":1},{"$f":"SUM(AU26:AZ26)","v":2},"Uruguay",{"$f":"$AS$27","v":3},{"$f":"$AT$27","v":4},{"$f":"BC26-BD26","v":-1},{"$f":"$BA$27","v":2},{"$f":"IF(BR22<>\"\",\"3.\",\"\")","v":"3."},{"$f":"IF(CE26<>\"\",CE26,\"\")","v":"Ghana"},null,{"$f":"IF(BR22<>\"\",CF26,\"\")","v":2},":",{"$f":"IF(BR22<>\"\",CG26,\"\")","v":2},{"$f":"IF(CI26<>\"\",CI26,\"\")","v":4},null,"Panama","-","England",{"$f":"IF('Vorrunde 49-72'!$H$20<>\"\",'Vorrunde 49-72'!$H$20,\"\")","v":0},":",{"$f":"IF('Vorrunde 49-72'!$J$20<>\"\",'Vorrunde 49-72'!$J$20,\"\")","v":2},null,{"$f":"SUM(BR23,BT25,BT27)","v":2},{"$f":"SUM(BT23,BR25,BR27)","v":2},{"$f":"IF(BR23>BT23,3,0)","v":3},{"$f":"IF(AND(BR23=BT23,BT23<>\"\"),1,0)","v":0},{"$f":"IF(BT25>BR25,3,0)","v":0},{"$f":"IF(AND(BT25=BR25,BT25<>\"\"),1,0)","v":1},{"$f":"IF(BT27>BR27,3,0)","v":0},{"$f":"IF(AND(BT27=BR27,BT27<>\"\"),1,0)","v":0},{"$f":"SUM(BX26:CC26)","v":4},"Ghana",{"$f":"$BV$26","v":2},{"$f":"$BW$26","v":2},{"$f":"CF26-CG26","v":0},{"$f":"$CD$26","v":4},null,null,null,null,null,"ABCDEGKL","Ecuador","Iran","Bosnien-Herzegowina","Schottland","Südkorea","Paraguay",{"$f":"$CE$26","v":"Ghana"},{"$f":"$CE$19","v":"DR Kongo"}]
[{"$f":"IF(L22<>\"\",\"4.\",\"\")","v":"4."},{"$f":"IF(Y27<>\"\",Y27,\"\")","v":"Türkei"},null,{"$f":"IF(L22<>\"\",Z27,\"\")","v":3},":",{"$f":"IF(L22<>\"\",AA27,\"\")","v":5},{"$f":"IF(AC27<>\"\",AC27,\"\")","v":3},null,"Paraguay","-","Australien",{"$f":"IF('Vorrunde 49-72'!$H$13<>\"\",'Vorrunde 49-72'!$H$13,\"\")","v":0},":",{"$f":"IF('Vorrunde 49-72'!$J$13<>\"\",'Vorrunde 49-72'!$J$13,\"\")","v":0},null,{"$f":"SUM(N23,L24,L26)","v":3},{"$f":"SUM(L23,N24,N26)","v":5},{"$f":"IF(N23>L23,3,0)","v":0},{"$f":"IF(AND(N23=L23,N23<>\"\"),1,0)","v":0},{"$f":"IF(L24>N24,3,0)","v":0},{"$f":"IF(AND(L24=N24,N24<>\"\"),1,0)","v":0},{"$f":"IF(L26>N26,3,0)","v":3},{"$f":"IF(AND(L26=N26,N26<>\"\"),1,0)","v":0},{"$f":"SUM(R27:W27)","v":3},"Türkei",{"$f":"$P$27","v":3},{"$f":"$Q$27","v":5},{"$f":"Z27-AA27","v":-2},{"$f":"$X$27","v":3},{"$f":"IF(AO22<>\"\",\"4.\",\"\")","v":"4."},{"$f":"IF(BB27<>\"\",BB27,\"\")","v":"Saudi-Arabien"},null,{"$f":"IF(AO22<>\"\",BC27,\"\")","v":1},":",{"$f":"IF(AO22<>\"\",BD27,\"\")","v":5},{"$f":"IF(BF27<>\"\",BF27,\"\")","v":2},null,"Kap Verde","-","Saudi-Arabien",{"$f":"IF('Vorrunde 49-72'!$H$16<>\"\",'Vorrunde 49-72'!$H$16,\"\")","v":0},":",{"$f":"IF('Vorrunde 49-72'!$J$16<>\"\",'Vorrunde 49-72'!$J$16,\"\")","v":0},null,{"$f":"SUM(AQ23,AO24,AO26)","v":3},{"$f":"SUM(AO23,AQ24,AQ26)","v":4},{"$f":"IF(AQ23>AO23,3,0)","v":0},{"$f":"IF(AND(AQ23=AO23,AQ23<>\"\"),1,0)","v":1},{"$f":"IF(AO24>AQ24,3,0)","v":0},{"$f":"IF(AND(AO24=AQ24,AQ24<>\"\"),1,0)","v":1},{"$f":"IF(AO26>AQ26,3,0)","v":0},{"$f":"IF(AND(AO26=AQ26,AQ26<>\"\"),1,0)","v":0},{"$f":"SUM(AU27:AZ27)","v":2},"Saudi-Arabien",{"$f":"$AS$26","v":1},{"$f":"$AT$26","v":5},{"$f":"BC27-BD27","v":-4},{"$f":"$BA$26","v":2},{"$f":"IF(BR22<>\"\",\"4.\",\"\")","v":"4."},{"$f":"IF(CE27<>\"\",CE27,\"\")","v":"Panama"},null,{"$f":"IF(BR22<>\"\",CF27,\"\")","v":0},":",{"$f":"IF(BR22<>\"\",CG27,\"\")","v":4},{"$f":"IF(CI27<>\"\",CI27,\"\")","v":0},null,"Kroatien","-","Ghana",{"$f":"IF('Vorrunde 49-72'!$H$21<>\"\",'Vorrunde 49-72'!$H$21,\"\")","v":2},":",{"$f":"IF('Vorrunde 49-72'!$J$21<>\"\",'Vorrunde 49-72'!$J$21,\"\")","v":1},null,{"$f":"SUM(BT23,BR24,BR26)","v":0},{"$f":"SUM(BR23,BT24,BT26)","v":4},{"$f":"IF(BT23>BR23,3,0)","v":0},{"$f":"IF(AND(BT23=BR23,BT23<>\"\"),1,0)","v":0},{"$f":"IF(BR24>BT24,3,0)","v":0},{"$f":"IF(AND(BR24=BT24,BT24<>\"\"),1,0)","v":0},{"$f":"IF(BR26>BT26,3,0)","v":0},{"$f":"IF(AND(BR26=BT26,BT26<>\"\"),1,0)","v":0},{"$f":"SUM(BX27:CC27)","v":0},"Panama",{"$f":"$BV$27","v":0},{"$f":"$BW$27","v":4},{"$f":"CF27-CG27","v":-4},{"$f":"$CD$27","v":0},null,null,null,null,null,"ABCDEHIJ",{"$f":"$BB$26","v":"Uruguay"},{"$f":"$CE$12","v":"Algerien"},"Bosnien-Herzegowina","Schottland","Südkorea","Paraguay",{"$f":"$BB$5","v":"Ecuador"},{"$f":"$CE$5","v":"Senegal"}]
[null,null,null,null,null,null,null,null,null,null,null,null,null,null,null,null,null,null,null,null,null,null,null,null,null,null,null,null,null,null,null,null,null,null,null,null,null,null,null,null,null,null,null,null,null,null,null,null,null,null,null,null,null,null,null,null,null,null,null,null,null,null,null,null,null,null,null,null,null,null,null,null,null,null,null,null,null,null,null,null,null,null,null,null,null,null,null,null,null,null,null,null,"ABCDEHIK","Uruguay",{"$f":"$BB$5","v":"Ecuador"},"Bosnien-Herzegowina","Schottland","Südkorea","Paraguay",{"$f":"$CE$5","v":"Senegal"},{"$f":"$CE$19","v":"DR Kongo"}]
[null,null,null,null,null,null,null,null,null,null,null,null,null,null,null,null,null,null,null,null,null,null,null,null,null,null,null,null,null,null,null,null,null,null,null,null,null,null,null,null,null,null,null,null,null,null,null,null,null,null,null,null,null,null,null,null,null,null,null,null,null,null,null,null,null,null,null,null,null,null,null,null,null,null,null,null,null,null,null,null,null,null,null,null,null,null,null,null,null,null,null,null,"ABCDEHIL","Uruguay",{"$f":"$BB$5","v":"Ecuador"},"Bosnien-Herzegowina","Schottland","Südkorea","Paraguay",{"$f":"$CE$26","v":"Ghana"},{"$f":"$CE$5","v":"Senegal"}]
[null,null,null,null,null,null,null,null,null,null,null,null,null,null,null,null,null,null,null,null,null,null,null,null,null,null,null,null,null,null,null,null,null,null,null,null,null,null,null,null,null,null,null,null,null,null,null,null,null,null,null,null,null,null,null,null,null,null,null,null,null,null,null,null,null,null,null,null,null,null,null,null,null,null,null,null,null,null,null,null,null,null,null,null,null,null,null,null,null,null,null,null,"ABCDEHJK","Uruguay",{"$f":"$CE$12","v":"Algerien"},"Bosnien-Herzegowina","Schottland","Südkorea","Paraguay",{"$f":"$BB$5","v":"Ecuador"},{"$f":"$CE$19","v":"DR Kongo"}]
[null,null,null,null,null,null,null,null,null,null,null,null,null,null,null,null,null,null,null,null,null,null,null,null,null,null,null,null,null,null,null,null,null,null,null,null,null,null,null,null,null,null,null,null,null,null,null,null,null,null,null,null,null,null,null,null,null,null,null,null,null,null,null,null,null,null,null,null,null,null,null,null,null,null,null,null,null,null,null,null,null,null,null,null,null,null,null,null,null,null,null,null,"ABCDEHJL","Uruguay",{"$f":"$CE$12","v":"Algerien"},"Bosnien-Herzegowina","Schottland","Südkorea","Paraguay",{"$f":"$CE$26","v":"Ghana"},{"$f":"$BB$5","v":"Ecuador"}]
[null,null,null,null,null,null,null,null,null,null,null,null,null,null,null,null,null,null,null,null,null,null,null,null,null,null,null,null,null,null,null,null,null,null,null,null,null,null,null,null,null,null,null,null,null,null,null,null,null,null,null,null,null,null,null,null,null,null,null,null,null,null,null,null,null,null,null,null,null,null,null,null,null,null,null,null,null,null,null,null,null,null,null,null,null,null,null,null,null,null,null,null,"ABCDEHKL","Uruguay",{"$f":"$BB$5","v":"Ecuador"},"Bosnien-Herzegowina","Schottland","Südkorea","Paraguay",{"$f":"$CE$26","v":"Ghana"},{"$f":"$CE$19","v":"DR Kongo"}]
[null,null,null,null,null,null,null,null,null,null,null,null,null,null,null,null,null,null,null,null,null,null,null,null,null,null,null,null,null,null,null,null,null,null,null,null,null,null,null,null,null,null,null,null,null,null,null,null,null,null,null,null,null,null,null,null,null,null,null,null,null,null,null,null,null,null,null,null,null,null,null,null,null,null,null,null,null,null,null,null,null,null,null,null,null,null,null,null,null,null,null,null,"ABCDEIJK",{"$f":"$BB$5","v":"Ecuador"},{"$f":"$CE$12","v":"Algerien"},"Bosnien-Herzegowina","Schottland","Südkorea","Paraguay",{"$f":"$CE$5","v":"Senegal"},{"$f":"$CE$19","v":"DR Kongo"}]
[null,{"$f":"A38&A39&A40&A41&A42&A43&A44&A45","v":"BDEFIJKL"},null,null,null,null,null,null,null,null,{"$f":"A38&A39&A40&A41&A42&A43&A44&A45","v":"BDEFIJKL"},null,null,null,null,null,null,null,null,null,null,null,null,null,null,null,null,null,null,null,null,null,null,null,null,null,null,null,null,null,null,null,null,null,null,null,null,null,null,null,null,null,null,null,null,null,null,null,null,null,null,null,null,null,null,null,null,null,null,null,null,null,null,null,null,null,null,null,null,null,null,null,null,null,null,null,null,null,null,null,null,null,"ABCDEIJL",{"$f":"$BB$5","v":"Ecuador"},{"$f":"$CE$12","v":"Algerien"},"Bosnien-Herzegowina","Schottland",{"$f":"$Y$5","v":"Südkorea"},"Paraguay",{"$f":"$CE$26","v":"Ghana"},{"$f":"$CE$5","v":"Senegal"}]
[null,null,null,null,null,null,null,null,null,null,null,null,null,null,null,null,null,null,null,null,null,null,null,null,null,null,null,null,null,null,null,null,null,null,null,null,null,null,null,null,null,null,null,null,null,null,null,null,null,null,null,null,null,null,null,null,null,null,null,null,null,null,null,null,null,null,null,null,null,null,null,null,null,null,null,null,null,null,null,null,null,null,null,null,null,null,null,null,null,null,null,null,"ABCDEIKL",{"$f":"$BB$5","v":"Ecuador"},{"$f":"$CE$5","v":"Senegal"},"Bosnien-Herzegowina","Schottland","Südkorea","Paraguay",{"$f":"$CE$26","v":"Ghana"},{"$f":"$CE$19","v":"DR Kongo"}]
["Die Rangliste aller 3. Plätze ( die Ränge 1 bis 4 sind qualifiziert für das Achtelfinale )",null,null,null,null,null,null,null,null,null,null,null,null,null,null,null,null,null,null,null,null,null,null,null,null,null,null,null,null,null,null,null,null,null,null,null,null,null,null,null,null,null,null,null,null,null,null,null,null,null,null,null,null,null,null,null,null,null,null,null,null,null,null,null,null,null,null,null,null,null,null,null,null,null,null,null,null,null,null,null,null,null,null,null,null,null,null,null,null,null,null,null,"ABCDEJKL",{"$f":"$BB$5","v":"Ecuador"},{"$f":"$CE$12","v":"Algerien"},"Bosnien-Herzegowina","Schottland","Südkorea","Paraguay",{"$f":"$CE$26","v":"Ghana"},{"$f":"$CE$19","v":"DR Kongo"}]
["Gruppe","MANNSCHAFT",null,"TORE",null,null,"Tordifferenz",null,"PUNKTE",{"$f":"A38&$H$1&A39&$H$1&A40&$H$1&A41&$H$1&A42&$H$1&A43&$H$1&A44&$H$1&A45","v":"B / D / E / F / I / J / K / L"},null,null,null,null,null,null,null,null,null,null,null,null,null,null,null,null,null,null,null,null,null,null,null,null,null,null,null,null,null,null,null,null,null,null,null,null,null,null,null,null,null,null,null,null,null,null,null,null,null,null,null,null,null,null,null,null,null,null,null,null,null,null,null,null,null,null,null,null,null,null,null,null,null,null,null,null,null,null,null,null,null,null,"ABCDFGHI",{"$f":"$BB$26","v":"Uruguay"},{"$f":"$BB$19","v":"Iran"},"Bosnien-Herzegowina","Schottland","Südkorea",{"$f":"$BB$12","v":"Schweden"},{"$f":"$Y$26","v":"Paraguay"},{"$f":"$CE$5","v":"Senegal"}]
[{"$f":"IF($L$5=\"\",\"\",$X$38)","v":"B"},{"$f":"IF($L$5=\"\",\"\",$Y$38)","v":"Bosnien-Herzegowina"},null,{"$f":"IF($L$5=\"\",\"\",$Z$38)","v":5},":",{"$f":"IF($L$5=\"\",\"\",$AA$38)","v":6},{"$f":"IF($L$5=\"\",\"\",$AB$38)","v":-1},null,{"$f":"IF($L$5=\"\",\"\",$AC$38)","v":4},"Rang 1",null,null,null,null,null,null,null,null,null,null,null,null,null,"B",{"$f":"$Y$12","v":"Bosnien-Herzegowina"},{"$f":"$Z$12","v":5},{"$f":"$AA$12","v":6},{"$f":"$AB$12","v":-1},{"$f":"$AC$12","v":4},null,null,null,null,null,null,null,null,null,null,null,null,null,null,null,null,null,null,null,null,null,null,null,null,null,null,null,null,null,null,null,null,null,null,null,null,null,null,null,null,null,null,null,null,null,null,null,null,null,null,null,null,null,null,null,null,null,null,null,null,null,null,null,"ABCDFGHJ",{"$f":"$BB$26","v":"Uruguay"},"Iran","Bosnien-Herzegowina","Schottland","Südkorea","Schweden",{"$f":"$Y$26","v":"Paraguay"},{"$f":"$CE$12","v":"Algerien"}]
[{"$f":"IF($L$5=\"\",\"\",$X$39)","v":"D"},{"$f":"IF($L$5=\"\",\"\",$Y$39)","v":"Paraguay"},null,{"$f":"IF($L$5=\"\",\"\",$Z$39)","v":2},":",{"$f":"IF($L$5=\"\",\"\",$AA$39)","v":4},{"$f":"IF($L$5=\"\",\"\",$AB$39)","v":-2},null,{"$f":"IF($L$5=\"\",\"\",$AC$39)","v":4},"Rang 2",null,null,null,null,null,null,null,null,null,null,null,null,null,"D",{"$f":"$Y$26","v":"Paraguay"},{"$f":"$Z$26","v":2},{"$f":"$AA$26","v":4},{"$f":"$AB$26","v":-2},{"$f":"$AC$26","v":4},null,null,null,null,null,null,null,null,null,null,null,null,null,null,null,null,null,null,null,null,null,null,null,null,null,null,null,null,null,null,null,null,null,null,null,null,null,null,null,null,null,null,null,null,null,null,null,null,null,null,null,null,null,null,null,null,null,null,null,null,null,null,null,"ABCDFGHK",{"$f":"$BB$26","v":"Uruguay"},"Iran","Bosnien-Herzegowina","Schottland","Südkorea","Schweden",{"$f":"$Y$26","v":"Paraguay"},{"$f":"$CE$19","v":"DR Kongo"}]
[{"$f":"IF($L$5=\"\",\"\",$X$40)","v":"E"},{"$f":"IF($L$5=\"\",\"\",$Y$40)","v":"Ecuador"},null,{"$f":"IF($L$5=\"\",\"\",$Z$40)","v":2},":",{"$f":"IF($L$5=\"\",\"\",$AA$40)","v":2},{"$f":"IF($L$5=\"\",\"\",$AB$40)","v":0},null,{"$f":"IF($L$5=\"\",\"\",$AC$40)","v":4},"Rang 3",null,null,null,null,null,null,null,null,null,null,null,null,null,"E",{"$f":"$BB$5","v":"Ecuador"},{"$f":"$BC$5","v":2},{"$f":"$BD$5","v":2},{"$f":"$BE$5","v":0},{"$f":"$BF$5","v":4},null,null,null,null,null,null,null,null,null,null,null,null,null,null,null,null,null,null,null,null,null,null,null,null,null,null,null,null,null,null,null,null,null,null,null,null,null,null,null,null,null,null,null,null,null,null,null,null,null,null,null,null,null,null,null,null,null,null,null,null,null,null,null,"ABCDFGHL",{"$f":"$Y$19","v":"Schottland"},"Iran","Bosnien-Herzegowina",{"$f":"$Y$26","v":"Paraguay"},"Südkorea","Schweden",{"$f":"$CE$26","v":"Ghana"},{"$f":"$BB$26","v":"Uruguay"}]
[{"$f":"IF($L$5=\"\",\"\",$X$41)","v":"F"},{"$f":"IF($L$5=\"\",\"\",$Y$41)","v":"Schweden"},null,{"$f":"IF($L$5=\"\",\"\",$Z$41)","v":7},":",{"$f":"IF($L$5=\"\",\"\",$AA$41)","v":7},{"$f":"IF($L$5=\"\",\"\",$AB$41)","v":0},null,{"$f":"IF($L$5=\"\",\"\",$AC$41)","v":4},"Rang 4",null,null,null,null,null,null,null,null,null,null,null,null,null,"F",{"$f":"$BB$12","v":"Schweden"},{"$f":"$BC$12","v":7},{"$f":"$BD$12","v":7},{"$f":"$BE$12","v":0},{"$f":"$BF$12","v":4},null,null,null,null,null,null,null,null,null,null,null,null,null,null,null,null,null,null,null,null,null,null,null,null,null,null,null,null,null,null,null,null,null,null,null,null,null,null,null,null,null,null,null,null,null,null,null,null,null,null,null,null,null,null,null,null,null,null,null,null,null,null,null,"ABCDFGIJ","Schottland","Iran","Bosnien-Herzegowina","Paraguay","Südkorea","Schweden",{"$f":"$CE$5","v":"Senegal"},{"$f":"$CE$12","v":"Algerien"}]
[{"$f":"IF($L$5=\"\",\"\",$X$42)","v":"I"},{"$f":"IF($L$5=\"\",\"\",$Y$42)","v":"Senegal"},null,{"$f":"IF($L$5=\"\",\"\",$Z$42)","v":8},":",{"$f":"IF($L$5=\"\",\"\",$AA$42)","v":6},{"$f":"IF($L$5=\"\",\"\",$AB$42)","v":2},null,{"$f":"IF($L$5=\"\",\"\",$AC$42)","v":3},"Rang 5",null,null,null,null,null,null,null,null,null,null,null,null,null,"I",{"$f":"$CE$5","v":"Senegal"},{"$f":"$CF$5","v":8},{"$f":"$CG$5","v":6},{"$f":"$CH$5","v":2},{"$f":"$CI$5","v":3},null,null,null,null,null,null,null,null,null,null,null,null,null,null,null,null,null,null,null,null,null,null,null,null,null,null,null,null,null,null,null,null,null,null,null,null,null,null,null,null,null,null,null,null,null,null,null,null,null,null,null,null,null,null,null,null,null,null,null,null,null,null,null,"ABCDFGIK","Schottland","Iran","Bosnien-Herzegowina","Paraguay","Südkorea","Schweden",{"$f":"$CE$5","v":"Senegal"},{"$f":"$CE$19","v":"DR Kongo"}]
[{"$f":"IF($L$5=\"\",\"\",$X$43)","v":"J"},{"$f":"IF($L$5=\"\",\"\",$Y$43)","v":"Algerien"},null,{"$f":"IF($L$5=\"\",\"\",$Z$43)","v":5},":",{"$f":"IF($L$5=\"\",\"\",$AA$43)","v":7},{"$f":"IF($L$5=\"\",\"\",$AB$43)","v":-2},null,{"$f":"IF($L$5=\"\",\"\",$AC$43)","v":4},"Rang 6",null,null,null,null,null,null,null,null,null,null,null,null,null,"J",{"$f":"$CE$12","v":"Algerien"},{"$f":"$CF$12","v":5},{"$f":"$CG$12","v":7},{"$f":"$CH$12","v":-2},{"$f":"$CI$12","v":4},null,null,null,null,null,null,null,null,null,null,null,null,null,null,null,null,null,null,null,null,null,null,null,null,null,null,null,null,null,null,null,null,null,null,null,null,null,null,null,null,null,null,null,null,null,null,null,null,null,null,null,null,null,null,null,null,null,null,null,null,null,null,null,"ABCDFGIL","Schottland","Iran","Bosnien-Herzegowina","Paraguay","Südkorea","Schweden",{"$f":"$CE$26","v":"Ghana"},{"$f":"$CE$5","v":"Senegal"}]
[{"$f":"IF($L$5=\"\",\"\",$X$44)","v":"K"},{"$f":"IF($L$5=\"\",\"\",$Y$44)","v":"DR Kongo"},null,{"$f":"IF($L$5=\"\",\"\",$Z$44)","v":4},":",{"$f":"IF($L$5=\"\",\"\",$AA$44)","v":3},{"$f":"IF($L$5=\"\",\"\",$AB$44)","v":1},null,{"$f":"IF($L$5=\"\",\"\",$AC$44)","v":4},"Rang 7",null,null,null,null,null,null,null,null,null,null,null,null,null,"K",{"$f":"$CE$19","v":"DR Kongo"},{"$f":"$CF$19","v":4},{"$f":"$CG$19","v":3},{"$f":"$CH$19","v":1},{"$f":"$CI$19","v":4},null,null,null,null,null,null,null,null,null,null,null,null,null,null,null,null,null,null,null,null,null,null,null,null,null,null,null,null,null,null,null,null,null,null,null,null,null,null,null,null,null,null,null,null,null,null,null,null,null,null,null,null,null,null,null,null,null,null,null,null,null,null,null,"ABCDFGJK","Schottland","Iran","Bosnien-Herzegowina","Paraguay","Südkorea","Schweden",{"$f":"$CE$12","v":"Algerien"},{"$f":"$CE$19","v":"DR Kongo"}]
[{"$f":"IF($L$5=\"\",\"\",$X$45)","v":"L"},{"$f":"IF($L$5=\"\",\"\",$Y$45)","v":"Ghana"},null,{"$f":"IF($L$5=\"\",\"\",$Z$45)","v":2},":",{"$f":"IF($L$5=\"\",\"\",$AA$45)","v":2},{"$f":"IF($L$5=\"\",\"\",$AB$45)","v":0},null,{"$f":"IF($L$5=\"\",\"\",$AC$45)","v":4},"Rang 8",null,null,null,null,null,null,null,null,null,null,null,null,null,"L",{"$f":"$CE$26","v":"Ghana"},{"$f":"$CF$26","v":2},{"$f":"$CG$26","v":2},{"$f":"$CH$26","v":0},{"$f":"$CI$26","v":4},null,null,null,null,null,null,null,null,null,null,null,null,null,null,null,null,null,null,null,null,null,null,null,null,null,null,null,null,null,null,null,null,null,null,null,null,null,null,null,null,null,null,null,null,null,null,null,null,null,null,null,null,null,null,null,null,null,null,null,null,null,null,null,"ABCDFGJL","Schottland","Iran","Bosnien-Herzegowina","Paraguay","Südkorea","Schweden",{"$f":"$CE$26","v":"Ghana"},{"$f":"$CE$12","v":"Algerien"}]
[{"$f":"IF($L$5=\"\",\"\",$X$46)","v":"G"},{"$f":"IF($L$5=\"\",\"\",$Y$46)","v":"Iran"},null,{"$f":"IF($L$5=\"\",\"\",$Z$46)","v":3},":",{"$f":"IF($L$5=\"\",\"\",$AA$46)","v":3},{"$f":"IF($L$5=\"\",\"\",$AB$46)","v":0},null,{"$f":"IF($L$5=\"\",\"\",$AC$46)","v":3},"Rang 9",null,null,null,null,null,null,null,null,null,null,null,null,null,"G",{"$f":"$BB$19","v":"Iran"},{"$f":"$BC$19","v":3},{"$f":"$BD$19","v":3},{"$f":"$BE$19","v":0},{"$f":"$BF$19","v":3},null,null,null,null,null,null,null,null,null,null,null,null,null,null,null,null,null,null,null,null,null,null,null,null,null,null,null,null,null,null,null,null,null,null,null,null,null,null,null,null,null,null,null,null,null,null,null,null,null,null,null,null,null,null,null,null,null,null,null,null,null,null,null,"ABCDFGKL","Schottland","Iran","Bosnien-Herzegowina","Paraguay","Südkorea","Schweden",{"$f":"$CE$26","v":"Ghana"},{"$f":"$CE$19","v":"DR Kongo"}]
[{"$f":"IF($L$5=\"\",\"\",$X$47)","v":"A"},{"$f":"IF($L$5=\"\",\"\",$Y$47)","v":"Südkorea"},null,{"$f":"IF($L$5=\"\",\"\",$Z$47)","v":2},":",{"$f":"IF($L$5=\"\",\"\",$AA$47)","v":3},{"$f":"IF($L$5=\"\",\"\",$AB$47)","v":-1},null,{"$f":"IF($L$5=\"\",\"\",$AC$47)","v":3},"Rang 10",null,null,null,null,null,null,null,null,null,null,null,null,null,"A",{"$f":"$Y$5","v":"Südkorea"},{"$f":"$Z$5","v":2},{"$f":"$AA$5","v":3},{"$f":"$AB$5","v":-1},{"$f":"$AC$5","v":3},null,null,null,null,null,null,null,null,null,null,null,null,null,null,null,null,null,null,null,null,null,null,null,null,null,null,null,null,null,null,null,null,null,null,null,null,null,null,null,null,null,null,null,null,null,null,null,null,null,null,null,null,null,null,null,null,null,null,null,null,null,null,null,"ABCDFHIJ",{"$f":"$BB$26","v":"Uruguay"},{"$f":"$CE$12","v":"Algerien"},"Bosnien-Herzegowina",{"$f":"$Y$19","v":"Schottland"},"Südkorea","Schweden",{"$f":"$Y$26","v":"Paraguay"},{"$f":"$CE$5","v":"Senegal"}]
[{"$f":"IF($L$5=\"\",\"\",$X$48)","v":"C"},{"$f":"IF($L$5=\"\",\"\",$Y$48)","v":"Schottland"},null,{"$f":"IF($L$5=\"\",\"\",$Z$48)","v":1},":",{"$f":"IF($L$5=\"\",\"\",$AA$48)","v":4},{"$f":"IF($L$5=\"\",\"\",$AB$48)","v":-3},null,{"$f":"IF($L$5=\"\",\"\",$AC$48)","v":3},"Rang 11",null,null,null,null,null,null,null,null,null,null,null,null,null,"C",{"$f":"$Y$19","v":"Schottland"},{"$f":"$Z$19","v":1},{"$f":"$AA$19","v":4},{"$f":"$AB$19","v":-3},{"$f":"$AC$19","v":3},null,null,null,null,null,null,null,null,null,null,null,null,null,null,null,null,null,null,null,null,null,null,null,null,null,null,null,null,null,null,null,null,null,null,null,null,null,null,null,null,null,null,null,null,null,null,null,null,null,null,null,null,null,null,null,null,null,null,null,null,null,null,null,"ABCDFHIK",{"$f":"$BB$26","v":"Uruguay"},{"$f":"$BB$12","v":"Schweden"},"Bosnien-Herzegowina",{"$f":"$Y$19","v":"Schottland"},"Südkorea",{"$f":"$Y$26","v":"Paraguay"},{"$f":"$CE$5","v":"Senegal"},{"$f":"$CE$19","v":"DR Kongo"}]
[{"$f":"IF($L$5=\"\",\"\",$X$49)","v":"H"},{"$f":"IF($L$5=\"\",\"\",$Y$49)","v":"Uruguay"},null,{"$f":"IF($L$5=\"\",\"\",$Z$49)","v":3},":",{"$f":"IF($L$5=\"\",\"\",$AA$49)","v":4},{"$f":"IF($L$5=\"\",\"\",$AB$49)","v":-1},null,{"$f":"IF($L$5=\"\",\"\",$AC$49)","v":2},"Rang 12",null,null,null,null,null,null,null,null,null,null,null,null,null,"H",{"$f":"$BB$26","v":"Uruguay"},{"$f":"$BC$26","v":3},{"$f":"$BD$26","v":4},{"$f":"$BE$26","v":-1},{"$f":"$BF$26","v":2},null,null,null,null,null,null,null,null,null,null,null,null,null,null,null,null,null,null,null,null,null,null,null,null,null,null,null,null,null,null,null,null,null,null,null,null,null,null,null,null,null,null,null,null,null,null,null,null,null,null,null,null,null,null,null,null,null,null,null,null,null,null,null,"ABCDFHIL",{"$f":"$BB$26","v":"Uruguay"},{"$f":"$BB$12","v":"Schweden"},"Bosnien-Herzegowina",{"$f":"$Y$19","v":"Schottland"},"Südkorea",{"$f":"$Y$26","v":"Paraguay"},{"$f":"$CE$26","v":"Ghana"},{"$f":"$CE$5","v":"Senegal"}]
[null,null,null,null,null,null,null,null,null,null,null,null,null,null,null,null,null,null,null,null,null,null,null,null,null,null,null,null,null,null,null,null,null,null,null,null,null,null,null,null,null,null,null,null,null,null,null,null,null,null,null,null,null,null,null,null,null,null,null,null,null,null,null,null,null,null,null,null,null,null,null,null,null,null,null,null,null,null,null,null,null,null,null,null,null,null,null,null,null,null,null,null,"ABCDFHJK",{"$f":"$BB$26","v":"Uruguay"},{"$f":"$CE$12","v":"Algerien"},"Bosnien-Herzegowina",{"$f":"$Y$19","v":"Schottland"},"Südkorea",{"$f":"$BB$12","v":"Schweden"},{"$f":"$Y$26","v":"Paraguay"},{"$f":"$CE$19","v":"DR Kongo"}]
["Nr.","Team-Name",null,null,null,null,"Kürzel","Nr.","Kürzel","Team-Name",null,null,null,null,null,null,null,null,null,null,null,null,null,null,null,null,null,null,null,null,null,null,null,null,null,null,null,"Team-Name",null,null,null,"Anzahl und Jahre der Titelgewinne",null,null,null,null,null,null,null,null,null,null,null,null,null,null,null,null,null,null,null,null,null,null,null,null,null,null,null,null,null,null,null,null,null,null,null,null,null,null,null,null,null,null,null,null,null,null,null,null,null,null,"ABCDFHJL",{"$f":"$Y$19","v":"Schottland"},{"$f":"$CE$12","v":"Algerien"},"Bosnien-Herzegowina",{"$f":"$Y$26","v":"Paraguay"},"Südkorea",{"$f":"$BB$12","v":"Schweden"},{"$f":"$CE$26","v":"Ghana"},{"$f":"$BB$26","v":"Uruguay"}]
[1,"Ägypten",null,null,null,null,"ÄGY",1,"ÄGY","Ägypten",null,null,null,null,null,null,null,null,null,null,null,null,null,null,null,null,null,null,null,null,null,null,null,null,null,null,null,"Brasilien",null,null,null,5,null,null,null,null,null,null,null,null,null,null,null,null,null,null,null,null,"1958 / 1962 / 1970 / 1994 / 2002",null,null,null,null,null,null,null,null,null,null,null,null,null,null,null,null,null,null,null,null,null,null,null,null,null,null,null,null,null,null,null,null,null,"ABCDFHKL",{"$f":"$BB$26","v":"Uruguay"},{"$f":"$BB$12","v":"Schweden"},"Bosnien-Herzegowina",{"$f":"$Y$19","v":"Schottland"},"Südkorea",{"$f":"$Y$26","v":"Paraguay"},{"$f":"$CE$26","v":"Ghana"},{"$f":"$CE$19","v":"DR Kongo"}]
[2,"Albanien",null,null,null,null,"ALB",2,"ALB","Albanien",null,null,null,null,null,null,null,null,null,null,null,null,null,null,null,null,null,null,null,null,null,null,null,null,null,null,null,"Deutschland",null,null,null,4,null,null,null,null,null,null,null,null,null,null,null,null,null,null,null,null,"1954 / 1974 / 1990 / 2014",null,null,null,null,null,null,null,null,null,null,null,null,null,null,null,null,null,null,null,null,null,null,null,null,null,null,null,null,null,null,null,null,null,"ABCDFIJK",{"$f":"$Y$19","v":"Schottland"},{"$f":"$CE$12","v":"Algerien"},"Bosnien-Herzegowina",{"$f":"$Y$26","v":"Paraguay"},"Südkorea",{"$f":"$BB$12","v":"Schweden"},{"$f":"$CE$5","v":"Senegal"},{"$f":"$CE$19","v":"DR Kongo"}]
[3,"Algerien",null,null,null,null,"ALG",3,"ALG","Algerien",null,null,null,null,null,null,null,null,null,null,null,null,null,null,null,null,null,null,null,null,null,null,null,null,null,null,null,"Italien",null,null,null,4,null,null,null,null,null,null,null,null,null,null,null,null,null,null,null,null,"1934 / 1938 / 1982 / 2006",null,null,null,null,null,null,null,null,null,null,null,null,null,null,null,null,null,null,null,null,null,null,null,null,null,null,null,null,null,null,null,null,null,"ABCDFIJL",{"$f":"$Y$19","v":"Schottland"},{"$f":"$CE$12","v":"Algerien"},"Bosnien-Herzegowina",{"$f":"$Y$26","v":"Paraguay"},"Südkorea",{"$f":"$BB$12","v":"Schweden"},{"$f":"$CE$26","v":"Ghana"},{"$f":"$CE$5","v":"Senegal"}]
[4,"Argentinien",null,null,null,null,"ARG",4,"ARG","Argentinien",null,null,null,null,null,null,null,null,null,null,null,null,null,null,null,null,null,null,null,null,null,null,null,null,null,null,null,"Argentinien",null,null,null,3,null,null,null,null,null,null,null,null,null,null,null,null,null,null,null,null,"1978 / 1986 / 2022",null,null,null,null,null,null,null,null,null,null,null,null,null,null,null,null,null,null,null,null,null,null,null,null,null,null,null,null,null,null,null,null,null,"ABCDFIKL",{"$f":"$Y$19","v":"Schottland"},{"$f":"$CE$5","v":"Senegal"},"Bosnien-Herzegowina",{"$f":"$Y$26","v":"Paraguay"},"Südkorea",{"$f":"$BB$12","v":"Schweden"},{"$f":"$CE$26","v":"Ghana"},{"$f":"$CE$19","v":"DR Kongo"}]
[5,"Australien",null,null,null,null,"AUS",5,"AUS","Australien",null,null,null,null,null,null,null,null,null,null,null,null,null,null,null,null,null,null,null,null,null,null,null,null,null,null,null,"Spanien",null,null,null,2,null,null,null,null,null,null,null,null,null,null,null,null,null,null,null,null,"2010 / 2026",null,null,null,null,null,null,null,null,null,null,null,null,null,null,null,null,null,null,null,null,null,null,null,null,null,null,null,null,null,null,null,null,null,"ABCDFJKL",{"$f":"$Y$19","v":"Schottland"},{"$f":"$CE$12","v":"Algerien"},"Bosnien-Herzegowina",{"$f":"$Y$26","v":"Paraguay"},"Südkorea",{"$f":"$BB$12","v":"Schweden"},{"$f":"$CE$26","v":"Ghana"},{"$f":"$CE$19","v":"DR Kongo"}]
[6,"Belgien",null,null,null,null,"BEL",6,"BEL","Belgien",null,null,null,null,null,null,null,null,null,null,null,null,null,null,null,null,null,null,null,null,null,null,null,null,null,null,null,"Frankreich",null,null,null,2,null,null,null,null,null,null,null,null,null,null,null,null,null,null,null,null,"1998 / 2018",null,null,null,null,null,null,null,null,null,null,null,null,null,null,null,null,null,null,null,null,null,null,null,null,null,null,null,null,null,null,null,null,null,"ABCDGHIJ",{"$f":"$BB$26","v":"Uruguay"},{"$f":"$BB$19","v":"Iran"},"Bosnien-Herzegowina",{"$f":"$Y$19","v":"Schottland"},"Südkorea",{"$f":"$Y$26","v":"Paraguay"},{"$f":"$CE$5","v":"Senegal"},{"$f":"$CE$12","v":"Algerien"}]
[7,"Bolivien",null,null,null,null,"BOL",7,"BOH","Bosnien-Herzegowina",null,null,null,null,null,null,null,null,null,null,null,null,null,null,null,null,null,null,null,null,null,null,null,null,null,null,null,"Uruguay",null,null,null,2,null,null,null,null,null,null,null,null,null,null,null,null,null,null,null,null,"1930 / 1950",null,null,null,null,null,null,null,null,null,null,null,null,null,null,null,null,null,null,null,null,null,null,null,null,null,null,null,null,null,null,null,null,null,"ABCDGHIK","Uruguay","Iran","Bosnien-Herzegowina","Schottland","Südkorea","Paraguay",{"$f":"$CE$5","v":"Senegal"},{"$f":"$CE$19","v":"DR Kongo"}]
[8,"Bosnien-Herzegowina",null,null,null,null,"BOH",8,"BOL","Bolivien",null,null,null,null,null,null,null,null,null,null,null,null,null,null,null,null,null,null,null,null,null,null,null,null,null,null,null,"England",null,null,null,1,null,null,null,null,null,null,null,null,null,null,null,null,null,null,null,null,1966,null,null,null,null,null,null,null,null,null,null,null,null,null,null,null,null,null,null,null,null,null,null,null,null,null,null,null,null,null,null,null,null,null,"ABCDGHIL","Uruguay","Iran","Bosnien-Herzegowina","Schottland","Südkorea","Paraguay",{"$f":"$CE$26","v":"Ghana"},{"$f":"$CE$5","v":"Senegal"}]
[9,"Brasilien",null,null,null,null,"BRA",9,"BRA","Brasilien",null,null,null,null,null,null,null,null,null,null,null,null,null,null,null,null,null,null,null,null,null,null,null,null,null,null,null,null,null,null,null,{"$f":"SUM(AP52:AP59)","v":23},null,null,null,null,null,null,null,null,null,null,null,null,null,null,null,null,null,null,null,null,null,null,null,null,null,null,null,null,null,null,null,null,null,null,null,null,null,null,null,null,null,null,null,null,null,null,null,null,null,null,"ABCDGHJK","Uruguay","Iran","Bosnien-Herzegowina","Schottland","Südkorea","Paraguay",{"$f":"$CE$12","v":"Algerien"},{"$f":"$CE$19","v":"DR Kongo"}]
[10,"Curaçao",null,null,null,null,"CUR",10,"CUR","Curaçao",null,null,null,null,null,null,null,null,null,null,null,null,null,null,null,null,null,null,null,null,null,null,null,null,null,null,null,null,null,null,null,null,null,null,null,null,null,null,null,null,null,null,null,null,null,null,null,null,null,null,null,null,null,null,null,null,null,null,null,null,null,null,null,null,null,null,null,null,null,null,null,null,null,null,null,null,null,null,null,null,null,null,"ABCDGHJL","Uruguay","Iran","Bosnien-Herzegowina","Schottland","Südkorea","Paraguay",{"$f":"$CE$26","v":"Ghana"},{"$f":"$CE$12","v":"Algerien"}]
[11,"Dänemark",null,null,null,null,"DÄN",11,"DÄN","Dänemark",null,null,null,null,null,null,null,null,null,null,null,null,null,null,null,null,null,null,null,null,null,null,null,null,null,null,null,null,null,null,null,null,null,null,null,null,null,null,null,null,null,null,null,null,null,null,null,null,null,null,null,null,null,null,null,null,null,null,null,null,null,null,null,null,null,null,null,null,null,null,null,null,null,null,null,null,null,null,null,null,null,null,"ABCDGHKL","Uruguay","Iran","Bosnien-Herzegowina","Schottland","Südkorea","Paraguay",{"$f":"$CE$26","v":"Ghana"},{"$f":"$CE$19","v":"DR Kongo"}]
[12,"Deutschland",null,null,null,null,"DEU",12,"DEU","Deutschland",null,null,null,null,null,null,null,null,null,null,null,null,null,null,null,null,null,null,null,null,null,null,null,null,null,null,null,null,null,null,null,null,null,null,null,null,null,null,null,null,null,null,null,null,null,null,null,null,null,null,null,null,null,null,null,null,null,null,null,null,null,null,null,null,null,null,null,null,null,null,null,null,null,null,null,null,null,null,null,null,null,null,"ABCDGIJK",{"$f":"$Y$19","v":"Schottland"},{"$f":"$CE$12","v":"Algerien"},"Bosnien-Herzegowina",{"$f":"$Y$26","v":"Paraguay"},"Südkorea",{"$f":"$BB$19","v":"Iran"},{"$f":"$CE$5","v":"Senegal"},{"$f":"$CE$19","v":"DR Kongo"}]
[13,"DR Kongo",null,null,null,null,"KON",13,"ECU","Ecuador",null,null,null,null,null,null,null,null,null,null,null,null,null,null,null,null,null,null,null,null,null,null,null,null,null,null,null,null,null,null,null,null,null,null,null,null,null,null,null,null,null,null,null,null,null,null,null,null,null,null,null,null,null,null,null,null,null,null,null,null,null,null,null,null,null,null,null,null,null,null,null,null,null,null,null,null,null,null,null,null,null,null,"ABCDGIJL",{"$f":"$Y$19","v":"Schottland"},{"$f":"$CE$12","v":"Algerien"},"Bosnien-Herzegowina",{"$f":"$Y$26","v":"Paraguay"},"Südkorea",{"$f":"$BB$19","v":"Iran"},{"$f":"$CE$26","v":"Ghana"},{"$f":"$CE$5","v":"Senegal"}]
[14,"Ecuador",null,null,null,null,"ECU",14,"ELF","Elfenbeinküste",null,null,null,null,null,null,null,null,null,null,null,null,null,null,null,null,null,null,null,null,null,null,null,null,null,null,null,null,null,null,null,null,null,null,null,null,null,null,null,null,null,null,null,null,null,null,null,null,null,null,null,null,null,null,null,null,null,null,null,null,null,null,null,null,null,null,null,null,null,null,null,null,null,null,null,null,null,null,null,null,null,null,"ABCDGIKL",{"$f":"$CE$5","v":"Senegal"},{"$f":"$BB$19","v":"Iran"},"Bosnien-Herzegowina",{"$f":"$Y$19","v":"Schottland"},"Südkorea",{"$f":"$Y$26","v":"Paraguay"},{"$f":"$CE$26","v":"Ghana"},{"$f":"$CE$19","v":"DR Kongo"}]
[15,"Elfenbeinküste",null,null,null,null,"ELF",15,"ENG","England",null,null,null,null,null,null,null,null,null,null,null,null,null,null,null,null,null,null,null,null,null,null,null,null,null,null,null,null,null,null,null,null,null,null,null,null,null,null,null,null,null,null,null,null,null,null,null,null,null,null,null,null,null,null,null,null,null,null,null,null,null,null,null,null,null,null,null,null,null,null,null,null,null,null,null,null,null,null,null,null,null,null,"ABCDGJKL",{"$f":"$Y$19","v":"Schottland"},{"$f":"$CE$12","v":"Algerien"},{"$f":"$Y$12","v":"Bosnien-Herzegowina"},{"$f":"$Y$26","v":"Paraguay"},{"$f":"$Y$5","v":"Südkorea"},{"$f":"$BB$19","v":"Iran"},{"$f":"$CE$26","v":"Ghana"},{"$f":"$CE$19","v":"DR Kongo"}]
[16,"England",null,null,null,null,"ENG",16,"FRA","Frankreich",null,null,null,null,null,null,null,null,null,null,null,null,null,null,null,null,null,null,null,null,null,null,null,null,null,null,null,null,null,null,null,null,null,null,null,null,null,null,null,null,null,null,null,null,null,null,null,null,null,null,null,null,null,null,null,null,null,null,null,null,null,null,null,null,null,null,null,null,null,null,null,null,null,null,null,null,null,null,null,null,null,null,"ABCDHIJK",{"$f":"$BB$26","v":"Uruguay"},{"$f":"$CE$12","v":"Algerien"},"Bosnien-Herzegowina",{"$f":"$Y$19","v":"Schottland"},"Südkorea",{"$f":"$Y$26","v":"Paraguay"},{"$f":"$CE$5","v":"Senegal"},{"$f":"$CE$19","v":"DR Kongo"}]
[17,"Frankreich",null,null,null,null,"FRA",17,"GAN","Ghana",null,null,null,null,null,null,null,null,null,null,null,null,null,null,null,null,null,null,null,null,null,null,null,null,null,null,null,null,null,null,null,null,null,null,null,null,null,null,null,null,null,null,null,null,null,null,null,null,null,null,null,null,null,null,null,null,null,null,null,null,null,null,null,null,null,null,null,null,null,null,null,null,null,null,null,null,null,null,null,null,null,null,"ABCDHIJL",{"$f":"$BB$26","v":"Uruguay"},{"$f":"$CE$12","v":"Algerien"},"Bosnien-Herzegowina","Schottland","Südkorea",{"$f":"$Y$26","v":"Paraguay"},{"$f":"$CE$26","v":"Ghana"},{"$f":"$CE$5","v":"Senegal"}]
[18,"Ghana",null,null,null,null,"GAN",18,"HAI","Haiti",null,null,null,null,null,null,null,null,null,null,null,null,null,null,null,null,null,null,null,null,null,null,null,null,null,null,null,null,null,null,null,null,null,null,null,null,null,null,null,null,null,null,null,null,null,null,null,null,null,null,null,null,null,null,null,null,null,null,null,null,null,null,null,null,null,null,null,null,null,null,null,null,null,null,null,null,null,null,null,null,null,null,"ABCDHIKL",{"$f":"$BB$26","v":"Uruguay"},{"$f":"$CE$5","v":"Senegal"},"Bosnien-Herzegowina","Schottland","Südkorea",{"$f":"$Y$26","v":"Paraguay"},{"$f":"$CE$26","v":"Ghana"},{"$f":"$CE$19","v":"DR Kongo"}]
[19,"Haiti",null,null,null,null,"HAI",19,"HOL","Niederlande",null,null,null,null,null,null,null,null,null,null,null,null,null,null,null,null,null,null,null,null,null,null,null,null,null,null,null,null,null,null,null,null,null,null,null,null,null,null,null,null,null,null,null,null,null,null,null,null,null,null,null,null,null,null,null,null,null,null,null,null,null,null,null,null,null,null,null,null,null,null,null,null,null,null,null,null,null,null,null,null,null,null,"ABCDHJKL",{"$f":"$BB$26","v":"Uruguay"},{"$f":"$CE$12","v":"Algerien"},"Bosnien-Herzegowina","Schottland","Südkorea",{"$f":"$Y$26","v":"Paraguay"},{"$f":"$CE$26","v":"Ghana"},{"$f":"$CE$19","v":"DR Kongo"}]
[20,"Irak",null,null,null,null,"IRK",20,"IRK","Irak",null,null,null,null,null,null,null,null,null,null,null,null,null,null,null,null,null,null,null,null,null,null,null,null,null,null,null,null,null,null,null,null,null,null,null,null,null,null,null,null,null,null,null,null,null,null,null,null,null,null,null,null,null,null,null,null,null,null,null,null,null,null,null,null,null,null,null,null,null,null,null,null,null,null,null,null,null,null,null,null,null,null,"ABCDIJKL",{"$f":"$CE$5","v":"Senegal"},{"$f":"$CE$12","v":"Algerien"},"Bosnien-Herzegowina","Schottland","Südkorea",{"$f":"$Y$26","v":"Paraguay"},{"$f":"$CE$26","v":"Ghana"},{"$f":"$CE$19","v":"DR Kongo"}]
[21,"Iran",null,null,null,null,"IRN",21,"IRL","Irland",null,null,null,null,null,null,null,null,null,null,null,null,null,null,null,null,null,null,null,null,null,null,null,null,null,null,null,null,null,null,null,null,null,null,null,null,null,null,null,null,null,null,null,null,null,null,null,null,null,null,null,null,null,null,null,null,null,null,null,null,null,null,null,null,null,null,null,null,null,null,null,null,null,null,null,null,null,null,null,null,null,null,"ABCEFGHI",{"$f":"$BB$26","v":"Uruguay"},{"$f":"$BB$19","v":"Iran"},"Bosnien-Herzegowina","Schottland","Südkorea",{"$f":"$BB$12","v":"Schweden"},{"$f":"$BB$5","v":"Ecuador"},{"$f":"$CE$5","v":"Senegal"}]
[22,"Irland",null,null,null,null,"IRL",22,"IRN","Iran",null,null,null,null,null,null,null,null,null,null,null,null,null,null,null,null,null,null,null,null,null,null,null,null,null,null,null,null,null,null,null,null,null,null,null,null,null,null,null,null,null,null,null,null,null,null,null,null,null,null,null,null,null,null,null,null,null,null,null,null,null,null,null,null,null,null,null,null,null,null,null,null,null,null,null,null,null,null,null,null,null,null,"ABCEFGHJ",{"$f":"$BB$26","v":"Uruguay"},"Iran","Bosnien-Herzegowina","Schottland","Südkorea","Schweden",{"$f":"$BB$5","v":"Ecuador"},{"$f":"$CE$12","v":"Algerien"}]
[23,"Italien",null,null,null,null,"ITA",23,"ITA","Italien",null,null,null,null,null,null,null,null,null,null,null,null,null,null,null,null,null,null,null,null,null,null,null,null,null,null,null,null,null,null,null,null,null,null,null,null,null,null,null,null,null,null,null,null,null,null,null,null,null,null,null,null,null,null,null,null,null,null,null,null,null,null,null,null,null,null,null,null,null,null,null,null,null,null,null,null,null,null,null,null,null,null,"ABCEFGHK",{"$f":"$BB$26","v":"Uruguay"},"Iran","Bosnien-Herzegowina","Schottland","Südkorea","Schweden",{"$f":"$BB$5","v":"Ecuador"},{"$f":"$CE$19","v":"DR Kongo"}]
[24,"Jamaika",null,null,null,null,"JAM",24,"JAM","Jamaika",null,null,null,null,null,null,null,null,null,null,null,null,null,null,null,null,null,null,null,null,null,null,null,null,null,null,null,null,null,null,null,null,null,null,null,null,null,null,null,null,null,null,null,null,null,null,null,null,null,null,null,null,null,null,null,null,null,null,null,null,null,null,null,null,null,null,null,null,null,null,null,null,null,null,null,null,null,null,null,null,null,null,"ABCEFGHL",{"$f":"$BB$26","v":"Uruguay"},"Iran","Bosnien-Herzegowina","Schottland","Südkorea","Schweden",{"$f":"$CE$26","v":"Ghana"},{"$f":"$BB$5","v":"Ecuador"}]
[25,"Japan",null,null,null,null,"JAP",25,"JAP","Japan",null,null,null,null,null,null,null,null,null,null,null,null,null,null,null,null,null,null,null,null,null,null,null,null,null,null,null,null,null,null,null,null,null,null,null,null,null,null,null,null,null,null,null,null,null,null,null,null,null,null,null,null,null,null,null,null,null,null,null,null,null,null,null,null,null,null,null,null,null,null,null,null,null,null,null,null,null,null,null,null,null,null,"ABCEFGIJ",{"$f":"$BB$5","v":"Ecuador"},"Iran","Bosnien-Herzegowina","Schottland","Südkorea","Schweden",{"$f":"$CE$5","v":"Senegal"},{"$f":"$CE$12","v":"Algerien"}]
[26,"Jordanien",null,null,null,null,"JOR",26,"JOR","Jordanien",null,null,null,null,null,null,null,null,null,null,null,null,null,null,null,null,null,null,null,null,null,null,null,null,null,null,null,null,null,null,null,null,null,null,null,null,null,null,null,null,null,null,null,null,null,null,null,null,null,null,null,null,null,null,null,null,null,null,null,null,null,null,null,null,null,null,null,null,null,null,null,null,null,null,null,null,null,null,null,null,null,null,"ABCEFGIK","Ecuador","Iran","Bosnien-Herzegowina","Schottland","Südkorea","Schweden",{"$f":"$CE$5","v":"Senegal"},{"$f":"$CE$19","v":"DR Kongo"}]
[27,"Kanada",null,null,null,null,"KAN",27,"KAN","Kanada",null,null,null,null,null,null,null,null,null,null,null,null,null,null,null,null,null,null,null,null,null,null,null,null,null,null,null,null,null,null,null,null,null,null,null,null,null,null,null,null,null,null,null,null,null,null,null,null,null,null,null,null,null,null,null,null,null,null,null,null,null,null,null,null,null,null,null,null,null,null,null,null,null,null,null,null,null,null,null,null,null,null,"ABCEFGIL","Ecuador","Iran","Bosnien-Herzegowina","Schottland","Südkorea","Schweden",{"$f":"$CE$26","v":"Ghana"},{"$f":"$CE$5","v":"Senegal"}]
[28,"Kap Verde",null,null,null,null,"KVD",28,"KAT","Katar",null,null,null,null,null,null,null,null,null,null,null,null,null,null,null,null,null,null,null,null,null,null,null,null,null,null,null,null,null,null,null,null,null,null,null,null,null,null,null,null,null,null,null,null,null,null,null,null,null,null,null,null,null,null,null,null,null,null,null,null,null,null,null,null,null,null,null,null,null,null,null,null,null,null,null,null,null,null,null,null,null,null,"ABCEFGJK","Ecuador","Iran","Bosnien-Herzegowina","Schottland","Südkorea","Schweden",{"$f":"$CE$12","v":"Algerien"},{"$f":"$CE$19","v":"DR Kongo"}]
[29,"Katar",null,null,null,null,"KAT",29,"KOL","Kolumbien",null,null,null,null,null,null,null,null,null,null,null,null,null,null,null,null,null,null,null,null,null,null,null,null,null,null,null,null,null,null,null,null,null,null,null,null,null,null,null,null,null,null,null,null,null,null,null,null,null,null,null,null,null,null,null,null,null,null,null,null,null,null,null,null,null,null,null,null,null,null,null,null,null,null,null,null,null,null,null,null,null,null,"ABCEFGJL","Ecuador","Iran","Bosnien-Herzegowina","Schottland","Südkorea","Schweden",{"$f":"$CE$26","v":"Ghana"},{"$f":"$CE$12","v":"Algerien"}]
[30,"Kolumbien",null,null,null,null,"KOL",30,"KON","DR Kongo",null,null,null,null,null,null,null,null,null,null,null,null,null,null,null,null,null,null,null,null,null,null,null,null,null,null,null,null,null,null,null,null,null,null,null,null,null,null,null,null,null,null,null,null,null,null,null,null,null,null,null,null,null,null,null,null,null,null,null,null,null,null,null,null,null,null,null,null,null,null,null,null,null,null,null,null,null,null,null,null,null,null,"ABCEFGKL","Ecuador","Iran","Bosnien-Herzegowina","Schottland","Südkorea","Schweden",{"$f":"$CE$26","v":"Ghana"},{"$f":"$CE$19","v":"DR Kongo"}]
[31,"Kosovo",null,null,null,null,"KOS",31,"KOR","Südkorea",null,null,null,null,null,null,null,null,null,null,null,null,null,null,null,null,null,null,null,null,null,null,null,null,null,null,null,null,null,null,null,null,null,null,null,null,null,null,null,null,null,null,null,null,null,null,null,null,null,null,null,null,null,null,null,null,null,null,null,null,null,null,null,null,null,null,null,null,null,null,null,null,null,null,null,null,null,null,null,null,null,null,"ABCEFHIJ",{"$f":"$BB$26","v":"Uruguay"},{"$f":"$CE$12","v":"Algerien"},"Bosnien-Herzegowina","Schottland","Südkorea","Schweden",{"$f":"$BB$5","v":"Ecuador"},{"$f":"$CE$5","v":"Senegal"}]
[32,"Kroatien",null,null,null,null,"KRO",32,"KOS","Kosovo",null,null,null,null,null,null,null,null,null,null,null,null,null,null,null,null,null,null,null,null,null,null,null,null,null,null,null,null,null,null,null,null,null,null,null,null,null,null,null,null,null,null,null,null,null,null,null,null,null,null,null,null,null,null,null,null,null,null,null,null,null,null,null,null,null,null,null,null,null,null,null,null,null,null,null,null,null,null,null,null,null,null,"ABCEFHIK","Uruguay",{"$f":"$BB$5","v":"Ecuador"},"Bosnien-Herzegowina","Schottland","Südkorea","Schweden",{"$f":"$CE$5","v":"Senegal"},{"$f":"$CE$19","v":"DR Kongo"}]
[33,"Marokko",null,null,null,null,"MAR",33,"KRO","Kroatien",null,null,null,null,null,null,null,null,null,null,null,null,null,null,null,null,null,null,null,null,null,null,null,null,null,null,null,null,null,null,null,null,null,null,null,null,null,null,null,null,null,null,null,null,null,null,null,null,null,null,null,null,null,null,null,null,null,null,null,null,null,null,null,null,null,null,null,null,null,null,null,null,null,null,null,null,null,null,null,null,null,null,"ABCEFHIL","Uruguay",{"$f":"$BB$5","v":"Ecuador"},"Bosnien-Herzegowina","Schottland","Südkorea","Schweden",{"$f":"$CE$26","v":"Ghana"},{"$f":"$CE$5","v":"Senegal"}]
[34,"Mexiko",null,null,null,null,"MEX",34,"KVD","Kap Verde",null,null,null,null,null,null,null,null,null,null,null,null,null,null,null,null,null,null,null,null,null,null,null,null,null,null,null,null,null,null,null,null,null,null,null,null,null,null,null,null,null,null,null,null,null,null,null,null,null,null,null,null,null,null,null,null,null,null,null,null,null,null,null,null,null,null,null,null,null,null,null,null,null,null,null,null,null,null,null,null,null,null,"ABCEFHJK","Uruguay",{"$f":"$CE$12","v":"Algerien"},"Bosnien-Herzegowina","Schottland","Südkorea","Schweden",{"$f":"$BB$5","v":"Ecuador"},{"$f":"$CE$19","v":"DR Kongo"}]
[35,"Neukaledonien",null,null,null,null,"NKA",35,"MAR","Marokko",null,null,null,null,null,null,null,null,null,null,null,null,null,null,null,null,null,null,null,null,null,null,null,null,null,null,null,null,null,null,null,null,null,null,null,null,null,null,null,null,null,null,null,null,null,null,null,null,null,null,null,null,null,null,null,null,null,null,null,null,null,null,null,null,null,null,null,null,null,null,null,null,null,null,null,null,null,null,null,null,null,null,"ABCEFHJL","Uruguay",{"$f":"$CE$12","v":"Algerien"},"Bosnien-Herzegowina","Schottland","Südkorea","Schweden",{"$f":"$CE$26","v":"Ghana"},{"$f":"$BB$5","v":"Ecuador"}]
[36,"Neuseeland",null,null,null,null,"NEU",36,"MAZ","Nordmazedonien",null,null,null,null,null,null,null,null,null,null,null,null,null,null,null,null,null,null,null,null,null,null,null,null,null,null,null,null,null,null,null,null,null,null,null,null,null,null,null,null,null,null,null,null,null,null,null,null,null,null,null,null,null,null,null,null,null,null,null,null,null,null,null,null,null,null,null,null,null,null,null,null,null,null,null,null,null,null,null,null,null,null,"ABCEFHKL","Uruguay",{"$f":"$BB$5","v":"Ecuador"},"Bosnien-Herzegowina","Schottland","Südkorea","Schweden",{"$f":"$CE$26","v":"Ghana"},{"$f":"$CE$19","v":"DR Kongo"}]
[37,"Niederlande",null,null,null,null,"HOL",37,"MEX","Mexiko",null,null,null,null,null,null,null,null,null,null,null,null,null,null,null,null,null,null,null,null,null,null,null,null,null,null,null,null,null,null,null,null,null,null,null,null,null,null,null,null,null,null,null,null,null,null,null,null,null,null,null,null,null,null,null,null,null,null,null,null,null,null,null,null,null,null,null,null,null,null,null,null,null,null,null,null,null,null,null,null,null,null,"ABCEFIJK",{"$f":"$BB$5","v":"Ecuador"},{"$f":"$CE$12","v":"Algerien"},"Bosnien-Herzegowina","Schottland","Südkorea","Schweden",{"$f":"$CE$5","v":"Senegal"},{"$f":"$CE$19","v":"DR Kongo"}]
[38,"Nordirland",null,null,null,null,"NIR",38,"NEU","Neuseeland",null,null,null,null,null,null,null,null,null,null,null,null,null,null,null,null,null,null,null,null,null,null,null,null,null,null,null,null,null,null,null,null,null,null,null,null,null,null,null,null,null,null,null,null,null,null,null,null,null,null,null,null,null,null,null,null,null,null,null,null,null,null,null,null,null,null,null,null,null,null,null,null,null,null,null,null,null,null,null,null,null,null,"ABCEFIJL",{"$f":"$BB$5","v":"Ecuador"},{"$f":"$CE$12","v":"Algerien"},"Bosnien-Herzegowina","Schottland","Südkorea","Schweden",{"$f":"$CE$26","v":"Ghana"},{"$f":"$CE$5","v":"Senegal"}]
[39,"Nordmazedonien",null,null,null,null,"MAZ",39,"NIR","Nordirland",null,null,null,null,null,null,null,null,null,null,null,null,null,null,null,null,null,null,null,null,null,null,null,null,null,null,null,null,null,null,null,null,null,null,null,null,null,null,null,null,null,null,null,null,null,null,null,null,null,null,null,null,null,null,null,null,null,null,null,null,null,null,null,null,null,null,null,null,null,null,null,null,null,null,null,null,null,null,null,null,null,null,"ABCEFIKL",{"$f":"$BB$5","v":"Ecuador"},{"$f":"$CE$5","v":"Senegal"},"Bosnien-Herzegowina","Schottland","Südkorea","Schweden",{"$f":"$CE$26","v":"Ghana"},{"$f":"$CE$19","v":"DR Kongo"}]
[40,"Norwegen",null,null,null,null,"NOR",40,"NKA","Neukaledonien",null,null,null,null,null,null,null,null,null,null,null,null,null,null,null,null,null,null,null,null,null,null,null,null,null,null,null,null,null,null,null,null,null,null,null,null,null,null,null,null,null,null,null,null,null,null,null,null,null,null,null,null,null,null,null,null,null,null,null,null,null,null,null,null,null,null,null,null,null,null,null,null,null,null,null,null,null,null,null,null,null,null,"ABCEFJKL",{"$f":"$BB$5","v":"Ecuador"},{"$f":"$CE$12","v":"Algerien"},"Bosnien-Herzegowina","Schottland","Südkorea","Schweden",{"$f":"$CE$26","v":"Ghana"},{"$f":"$CE$19","v":"DR Kongo"}]
[41,"Österreich",null,null,null,null,"ÖST",41,"NOR","Norwegen",null,null,null,null,null,null,null,null,null,null,null,null,null,null,null,null,null,null,null,null,null,null,null,null,null,null,null,null,null,null,null,null,null,null,null,null,null,null,null,null,null,null,null,null,null,null,null,null,null,null,null,null,null,null,null,null,null,null,null,null,null,null,null,null,null,null,null,null,null,null,null,null,null,null,null,null,null,null,null,null,null,null,"ABCEGHIJ",{"$f":"$BB$26","v":"Uruguay"},{"$f":"$CE$12","v":"Algerien"},"Bosnien-Herzegowina","Schottland","Südkorea",{"$f":"$BB$19","v":"Iran"},{"$f":"$BB$5","v":"Ecuador"},{"$f":"$CE$5","v":"Senegal"}]
[42,"Panama",null,null,null,null,"PAN",42,"ÖST","Österreich",null,null,null,null,null,null,null,null,null,null,null,null,null,null,null,null,null,null,null,null,null,null,null,null,null,null,null,null,null,null,null,null,null,null,null,null,null,null,null,null,null,null,null,null,null,null,null,null,null,null,null,null,null,null,null,null,null,null,null,null,null,null,null,null,null,null,null,null,null,null,null,null,null,null,null,null,null,null,null,null,null,null,"ABCEGHIK",{"$f":"$BB$5","v":"Ecuador"},{"$f":"$BB$19","v":"Iran"},"Bosnien-Herzegowina","Schottland","Südkorea",{"$f":"$BB$26","v":"Uruguay"},{"$f":"$CE$5","v":"Senegal"},{"$f":"$CE$19","v":"DR Kongo"}]
[43,"Paraguay",null,null,null,null,"PAR",43,"PAN","Panama",null,null,null,null,null,null,null,null,null,null,null,null,null,null,null,null,null,null,null,null,null,null,null,null,null,null,null,null,null,null,null,null,null,null,null,null,null,null,null,null,null,null,null,null,null,null,null,null,null,null,null,null,null,null,null,null,null,null,null,null,null,null,null,null,null,null,null,null,null,null,null,null,null,null,null,null,null,null,null,null,null,null,"ABCEGHIL",{"$f":"$BB$5","v":"Ecuador"},{"$f":"$BB$19","v":"Iran"},"Bosnien-Herzegowina","Schottland","Südkorea",{"$f":"$BB$26","v":"Uruguay"},{"$f":"$CE$26","v":"Ghana"},{"$f":"$CE$5","v":"Senegal"}]
[44,"Polen",null,null,null,null,"POL",44,"PAR","Paraguay",null,null,null,null,null,null,null,null,null,null,null,null,null,null,null,null,null,null,null,null,null,null,null,null,null,null,null,null,null,null,null,null,null,null,null,null,null,null,null,null,null,null,null,null,null,null,null,null,null,null,null,null,null,null,null,null,null,null,null,null,null,null,null,null,null,null,null,null,null,null,null,null,null,null,null,null,null,null,null,null,null,null,"ABCEGHJK",{"$f":"$BB$26","v":"Uruguay"},{"$f":"$CE$12","v":"Algerien"},"Bosnien-Herzegowina","Schottland","Südkorea",{"$f":"$BB$19","v":"Iran"},{"$f":"$BB$5","v":"Ecuador"},{"$f":"$CE$19","v":"DR Kongo"}]
[45,"Portugal",null,null,null,null,"POR",45,"POL","Polen",null,null,null,null,null,null,null,null,null,null,null,null,null,null,null,null,null,null,null,null,null,null,null,null,null,null,null,null,null,null,null,null,null,null,null,null,null,null,null,null,null,null,null,null,null,null,null,null,null,null,null,null,null,null,null,null,null,null,null,null,null,null,null,null,null,null,null,null,null,null,null,null,null,null,null,null,null,null,null,null,null,null,"ABCEGHJL",{"$f":"$BB$26","v":"Uruguay"},{"$f":"$CE$12","v":"Algerien"},"Bosnien-Herzegowina","Schottland","Südkorea",{"$f":"$BB$19","v":"Iran"},{"$f":"$CE$26","v":"Ghana"},{"$f":"$BB$5","v":"Ecuador"}]
[46,"Rumänien",null,null,null,null,"RUM",46,"POR","Portugal",null,null,null,null,null,null,null,null,null,null,null,null,null,null,null,null,null,null,null,null,null,null,null,null,null,null,null,null,null,null,null,null,null,null,null,null,null,null,null,null,null,null,null,null,null,null,null,null,null,null,null,null,null,null,null,null,null,null,null,null,null,null,null,null,null,null,null,null,null,null,null,null,null,null,null,null,null,null,null,null,null,null,"ABCEGHKL",{"$f":"$BB$5","v":"Ecuador"},{"$f":"$BB$19","v":"Iran"},"Bosnien-Herzegowina","Schottland","Südkorea",{"$f":"$BB$26","v":"Uruguay"},{"$f":"$CE$26","v":"Ghana"},{"$f":"$CE$19","v":"DR Kongo"}]
[47,"Saudi-Arabien",null,null,null,null,"SAR",47,"RUM","Rumänien",null,null,null,null,null,null,null,null,null,null,null,null,null,null,null,null,null,null,null,null,null,null,null,null,null,null,null,null,null,null,null,null,null,null,null,null,null,null,null,null,null,null,null,null,null,null,null,null,null,null,null,null,null,null,null,null,null,null,null,null,null,null,null,null,null,null,null,null,null,null,null,null,null,null,null,null,null,null,null,null,null,null,"ABCEGIJK","Ecuador",{"$f":"$CE$12","v":"Algerien"},"Bosnien-Herzegowina","Schottland","Südkorea",{"$f":"$BB$19","v":"Iran"},{"$f":"$CE$5","v":"Senegal"},{"$f":"$CE$19","v":"DR Kongo"}]
[48,"Schottland",null,null,null,null,"SCO",48,"SAF","Südafrika",null,null,null,null,null,null,null,null,null,null,null,null,null,null,null,null,null,null,null,null,null,null,null,null,null,null,null,null,null,null,null,null,null,null,null,null,null,null,null,null,null,null,null,null,null,null,null,null,null,null,null,null,null,null,null,null,null,null,null,null,null,null,null,null,null,null,null,null,null,null,null,null,null,null,null,null,null,null,null,null,null,null,"ABCEGIJL","Ecuador",{"$f":"$CE$12","v":"Algerien"},"Bosnien-Herzegowina","Schottland","Südkorea",{"$f":"$BB$19","v":"Iran"},{"$f":"$CE$26","v":"Ghana"},{"$f":"$CE$5","v":"Senegal"}]
[49,"Schweden",null,null,null,null,"SWE",49,"SAR","Saudi-Arabien",null,null,null,null,null,null,null,null,null,null,null,null,null,null,null,null,null,null,null,null,null,null,null,null,null,null,null,null,null,null,null,null,null,null,null,null,null,null,null,null,null,null,null,null,null,null,null,null,null,null,null,null,null,null,null,null,null,null,null,null,null,null,null,null,null,null,null,null,null,null,null,null,null,null,null,null,null,null,null,null,null,null,"ABCEGIKL","Ecuador",{"$f":"$BB$19","v":"Iran"},"Bosnien-Herzegowina",{"$f":"$Y$5","v":"Südkorea"},{"$f":"$CE$5","v":"Senegal"},{"$f":"$Y$19","v":"Schottland"},{"$f":"$CE$26","v":"Ghana"},{"$f":"$CE$19","v":"DR Kongo"}]
[50,"Schweiz",null,null,null,null,"SCH",50,"SCH","Schweiz",null,null,null,null,null,null,null,null,null,null,null,null,null,null,null,null,null,null,null,null,null,null,null,null,null,null,null,null,null,null,null,null,null,null,null,null,null,null,null,null,null,null,null,null,null,null,null,null,null,null,null,null,null,null,null,null,null,null,null,null,null,null,null,null,null,null,null,null,null,null,null,null,null,null,null,null,null,null,null,null,null,null,"ABCEGJKL","Ecuador",{"$f":"$CE$12","v":"Algerien"},"Bosnien-Herzegowina",{"$f":"$Y$19","v":"Schottland"},{"$f":"$Y$5","v":"Südkorea"},{"$f":"$BB$19","v":"Iran"},{"$f":"$CE$26","v":"Ghana"},{"$f":"$CE$19","v":"DR Kongo"}]
[51,"Senegal",null,null,null,null,"SEN",51,"SCO","Schottland",null,null,null,null,null,null,null,null,null,null,null,null,null,null,null,null,null,null,null,null,null,null,null,null,null,null,null,null,null,null,null,null,null,null,null,null,null,null,null,null,null,null,null,null,null,null,null,null,null,null,null,null,null,null,null,null,null,null,null,null,null,null,null,null,null,null,null,null,null,null,null,null,null,null,null,null,null,null,null,null,null,null,"ABCEHIJK","Ecuador",{"$f":"$CE$12","v":"Algerien"},"Bosnien-Herzegowina",{"$f":"$Y$19","v":"Schottland"},{"$f":"$Y$5","v":"Südkorea"},{"$f":"$BB$26","v":"Uruguay"},{"$f":"$CE$5","v":"Senegal"},{"$f":"$CE$19","v":"DR Kongo"}]
[52,"Slowakei",null,null,null,null,"SLO",52,"SEN","Senegal",null,null,null,null,null,null,null,null,null,null,null,null,null,null,null,null,null,null,null,null,null,null,null,null,null,null,null,null,null,null,null,null,null,null,null,null,null,null,null,null,null,null,null,null,null,null,null,null,null,null,null,null,null,null,null,null,null,null,null,null,null,null,null,null,null,null,null,null,null,null,null,null,null,null,null,null,null,null,null,null,null,null,"ABCEHIJL","Ecuador",{"$f":"$CE$12","v":"Algerien"},"Bosnien-Herzegowina",{"$f":"$Y$19","v":"Schottland"},{"$f":"$Y$5","v":"Südkorea"},{"$f":"$BB$26","v":"Uruguay"},{"$f":"$CE$26","v":"Ghana"},{"$f":"$CE$5","v":"Senegal"}]
[53,"Spanien",null,null,null,null,"SPA",53,"SLO","Slowakei",null,null,null,null,null,null,null,null,null,null,null,null,null,null,null,null,null,null,null,null,null,null,null,null,null,null,null,null,null,null,null,null,null,null,null,null,null,null,null,null,null,null,null,null,null,null,null,null,null,null,null,null,null,null,null,null,null,null,null,null,null,null,null,null,null,null,null,null,null,null,null,null,null,null,null,null,null,null,null,null,null,null,"ABCEHIKL","Ecuador",{"$f":"$CE$5","v":"Senegal"},"Bosnien-Herzegowina",{"$f":"$Y$19","v":"Schottland"},{"$f":"$Y$5","v":"Südkorea"},{"$f":"$BB$26","v":"Uruguay"},{"$f":"$CE$26","v":"Ghana"},{"$f":"$CE$19","v":"DR Kongo"}]
[54,"Südafrika",null,null,null,null,"SAF",54,"SPA","Spanien",null,null,null,null,null,null,null,null,null,null,null,null,null,null,null,null,null,null,null,null,null,null,null,null,null,null,null,null,null,null,null,null,null,null,null,null,null,null,null,null,null,null,null,null,null,null,null,null,null,null,null,null,null,null,null,null,null,null,null,null,null,null,null,null,null,null,null,null,null,null,null,null,null,null,null,null,null,null,null,null,null,null,"ABCEHJKL","Ecuador",{"$f":"$CE$12","v":"Algerien"},"Bosnien-Herzegowina",{"$f":"$Y$19","v":"Schottland"},{"$f":"$Y$5","v":"Südkorea"},{"$f":"$BB$26","v":"Uruguay"},{"$f":"$CE$26","v":"Ghana"},{"$f":"$CE$19","v":"DR Kongo"}]
[55,"Südkorea",null,null,null,null,"KOR",55,"SUR","Suriname",null,null,null,null,null,null,null,null,null,null,null,null,null,null,null,null,null,null,null,null,null,null,null,null,null,null,null,null,null,null,null,null,null,null,null,null,null,null,null,null,null,null,null,null,null,null,null,null,null,null,null,null,null,null,null,null,null,null,null,null,null,null,null,null,null,null,null,null,null,null,null,null,null,null,null,null,null,null,null,null,null,null,"ABCEIJKL","Ecuador",{"$f":"$CE$12","v":"Algerien"},"Bosnien-Herzegowina",{"$f":"$Y$5","v":"Südkorea"},{"$f":"$CE$5","v":"Senegal"},{"$f":"$Y$19","v":"Schottland"},{"$f":"$CE$26","v":"Ghana"},{"$f":"$CE$19","v":"DR Kongo"}]
[56,"Suriname",null,null,null,null,"SUR",56,"SWE","Schweden",null,null,null,null,null,null,null,null,null,null,null,null,null,null,null,null,null,null,null,null,null,null,null,null,null,null,null,null,null,null,null,null,null,null,null,null,null,null,null,null,null,null,null,null,null,null,null,null,null,null,null,null,null,null,null,null,null,null,null,null,null,null,null,null,null,null,null,null,null,null,null,null,null,null,null,null,null,null,null,null,null,null,"ABCFGHIJ",{"$f":"$BB$26","v":"Uruguay"},{"$f":"$BB$19","v":"Iran"},"Bosnien-Herzegowina",{"$f":"$Y$19","v":"Schottland"},{"$f":"$Y$5","v":"Südkorea"},{"$f":"$BB$12","v":"Schweden"},{"$f":"$CE$5","v":"Senegal"},{"$f":"$CE$12","v":"Algerien"}]
[57,"Tschechien",null,null,null,null,"TCH",57,"TCH","Tschechien",null,null,null,null,null,null,null,null,null,null,null,null,null,null,null,null,null,null,null,null,null,null,null,null,null,null,null,null,null,null,null,null,null,null,null,null,null,null,null,null,null,null,null,null,null,null,null,null,null,null,null,null,null,null,null,null,null,null,null,null,null,null,null,null,null,null,null,null,null,null,null,null,null,null,null,null,null,null,null,null,null,null,"ABCFGHIK","Uruguay","Iran","Bosnien-Herzegowina","Schottland","Südkorea","Schweden",{"$f":"$CE$5","v":"Senegal"},{"$f":"$CE$19","v":"DR Kongo"}]
[58,"Tunesien",null,null,null,null,"TUN",58,"TUN","Tunesien",null,null,null,null,null,null,null,null,null,null,null,null,null,null,null,null,null,null,null,null,null,null,null,null,null,null,null,null,null,null,null,null,null,null,null,null,null,null,null,null,null,null,null,null,null,null,null,null,null,null,null,null,null,null,null,null,null,null,null,null,null,null,null,null,null,null,null,null,null,null,null,null,null,null,null,null,null,null,null,null,null,null,"ABCFGHIL","Uruguay","Iran","Bosnien-Herzegowina","Schottland","Südkorea","Schweden",{"$f":"$CE$26","v":"Ghana"},{"$f":"$CE$5","v":"Senegal"}]
[59,"Türkei",null,null,null,null,"TÜR",59,"TÜR","Türkei",null,null,null,null,null,null,null,null,null,null,null,null,null,null,null,null,null,null,null,null,null,null,null,null,null,null,null,null,null,null,null,null,null,null,null,null,null,null,null,null,null,null,null,null,null,null,null,null,null,null,null,null,null,null,null,null,null,null,null,null,null,null,null,null,null,null,null,null,null,null,null,null,null,null,null,null,null,null,null,null,null,null,"ABCFGHJK","Uruguay","Iran","Bosnien-Herzegowina","Schottland","Südkorea","Schweden",{"$f":"$CE$12","v":"Algerien"},{"$f":"$CE$19","v":"DR Kongo"}]
[60,"Ukraine",null,null,null,null,"UKR",60,"UKR","Ukraine",null,null,null,null,null,null,null,null,null,null,null,null,null,null,null,null,null,null,null,null,null,null,null,null,null,null,null,null,null,null,null,null,null,null,null,null,null,null,null,null,null,null,null,null,null,null,null,null,null,null,null,null,null,null,null,null,null,null,null,null,null,null,null,null,null,null,null,null,null,null,null,null,null,null,null,null,null,null,null,null,null,null,"ABCFGHJL","Uruguay","Iran","Bosnien-Herzegowina","Schottland","Südkorea","Schweden",{"$f":"$CE$26","v":"Ghana"},{"$f":"$CE$12","v":"Algerien"}]
[61,"Uruguay",null,null,null,null,"URU",61,"URU","Uruguay",null,null,null,null,null,null,null,null,null,null,null,null,null,null,null,null,null,null,null,null,null,null,null,null,null,null,null,null,null,null,null,null,null,null,null,null,null,null,null,null,null,null,null,null,null,null,null,null,null,null,null,null,null,null,null,null,null,null,null,null,null,null,null,null,null,null,null,null,null,null,null,null,null,null,null,null,null,null,null,null,null,null,"ABCFGHKL","Uruguay","Iran","Bosnien-Herzegowina","Schottland","Südkorea","Schweden",{"$f":"$CE$26","v":"Ghana"},{"$f":"$CE$19","v":"DR Kongo"}]
[62,"USA",null,null,null,null,"USA",62,"USA","USA",null,null,null,null,null,null,null,null,null,null,null,null,null,null,null,null,null,null,null,null,null,null,null,null,null,null,null,null,null,null,null,null,null,null,null,null,null,null,null,null,null,null,null,null,null,null,null,null,null,null,null,null,null,null,null,null,null,null,null,null,null,null,null,null,null,null,null,null,null,null,null,null,null,null,null,null,null,null,null,null,null,null,"ABCFGIJK",{"$f":"$Y$19","v":"Schottland"},{"$f":"$CE$12","v":"Algerien"},"Bosnien-Herzegowina",{"$f":"$BB$12","v":"Schweden"},"Südkorea",{"$f":"$BB$19","v":"Iran"},{"$f":"$CE$5","v":"Senegal"},{"$f":"$CE$19","v":"DR Kongo"}]
[63,"Usbekistan",null,null,null,null,"USB",63,"USB","Usbekistan",null,null,null,null,null,null,null,null,null,null,null,null,null,null,null,null,null,null,null,null,null,null,null,null,null,null,null,null,null,null,null,null,null,null,null,null,null,null,null,null,null,null,null,null,null,null,null,null,null,null,null,null,null,null,null,null,null,null,null,null,null,null,null,null,null,null,null,null,null,null,null,null,null,null,null,null,null,null,null,null,null,null,"ABCFGIJL",{"$f":"$Y$19","v":"Schottland"},{"$f":"$CE$12","v":"Algerien"},"Bosnien-Herzegowina",{"$f":"$BB$12","v":"Schweden"},"Südkorea",{"$f":"$BB$19","v":"Iran"},{"$f":"$CE$26","v":"Ghana"},{"$f":"$CE$5","v":"Senegal"}]
[64,"Wales",null,null,null,null,"WAL",64,"WAL","Wales",null,null,null,null,null,null,null,null,null,null,null,null,null,null,null,null,null,null,null,null,null,null,null,null,null,null,null,null,null,null,null,null,null,null,null,null,null,null,null,null,null,null,null,null,null,null,null,null,null,null,null,null,null,null,null,null,null,null,null,null,null,null,null,null,null,null,null,null,null,null,null,null,null,null,null,null,null,null,null,null,null,null,"ABCFGIKL",{"$f":"$CE$5","v":"Senegal"},{"$f":"$BB$19","v":"Iran"},"Bosnien-Herzegowina",{"$f":"$Y$19","v":"Schottland"},"Südkorea",{"$f":"$BB$12","v":"Schweden"},{"$f":"$CE$26","v":"Ghana"},{"$f":"$CE$19","v":"DR Kongo"}]
[null,null,null,null,null,null,null,null,null,null,null,null,null,null,null,null,null,null,null,null,null,null,null,null,null,null,null,null,null,null,null,null,null,null,null,null,null,null,null,null,null,null,null,null,null,null,null,null,null,null,null,null,null,null,null,null,null,null,null,null,null,null,null,null,null,null,null,null,null,null,null,null,null,null,null,null,null,null,null,null,null,null,null,null,null,null,null,null,null,null,null,null,"ABCFGJKL",{"$f":"$Y$19","v":"Schottland"},{"$f":"$CE$12","v":"Algerien"},"Bosnien-Herzegowina",{"$f":"$BB$12","v":"Schweden"},"Südkorea",{"$f":"$BB$19","v":"Iran"},{"$f":"$CE$26","v":"Ghana"},{"$f":"$CE$19","v":"DR Kongo"}]
[null,null,null,null,null,null,null,null,null,null,null,null,null,null,null,null,null,null,null,null,null,null,null,null,null,null,null,null,null,null,null,null,null,null,null,null,null,null,null,null,null,null,null,null,null,null,null,null,null,null,null,null,null,null,null,null,null,null,null,null,null,null,null,null,null,null,null,null,null,null,null,null,null,null,null,null,null,null,null,null,null,null,null,null,null,null,null,null,null,null,null,null,"ABCFHIJK",{"$f":"$BB$26","v":"Uruguay"},{"$f":"$CE$12","v":"Algerien"},"Bosnien-Herzegowina",{"$f":"$Y$19","v":"Schottland"},"Südkorea",{"$f":"$BB$12","v":"Schweden"},{"$f":"$CE$5","v":"Senegal"},{"$f":"$CE$19","v":"DR Kongo"}]
[null,null,null,null,null,null,null,null,null,null,null,null,null,null,null,null,null,null,null,null,null,null,null,null,null,null,null,null,null,null,null,null,null,null,null,null,null,null,null,null,null,null,null,null,null,null,null,null,null,null,null,null,null,null,null,null,null,null,null,null,null,null,null,null,null,null,null,null,null,null,null,null,null,null,null,null,null,null,null,null,null,null,null,null,null,null,null,null,null,null,null,null,"ABCFHIJL",{"$f":"$BB$26","v":"Uruguay"},{"$f":"$CE$12","v":"Algerien"},"Bosnien-Herzegowina","Schottland","Südkorea",{"$f":"$BB$12","v":"Schweden"},{"$f":"$CE$26","v":"Ghana"},{"$f":"$CE$5","v":"Senegal"}]
[null,null,null,null,null,null,null,null,null,null,null,null,null,null,null,null,null,null,null,null,null,null,null,null,null,null,null,null,null,null,null,null,null,null,null,null,null,null,null,null,null,null,null,null,null,null,null,null,null,null,null,null,null,null,null,null,null,null,null,null,null,null,null,null,null,null,null,null,null,null,null,null,null,null,null,null,null,null,null,null,null,null,null,null,null,null,null,null,null,null,null,null,"ABCFHIKL",{"$f":"$BB$26","v":"Uruguay"},{"$f":"$CE$5","v":"Senegal"},"Bosnien-Herzegowina","Schottland","Südkorea",{"$f":"$BB$12","v":"Schweden"},{"$f":"$CE$26","v":"Ghana"},{"$f":"$CE$19","v":"DR Kongo"}]
[null,null,null,null,null,null,null,null,null,null,null,null,null,null,null,null,null,null,null,null,null,null,null,null,null,null,null,null,null,null,null,null,null,null,null,null,null,null,null,null,null,null,null,null,null,null,null,null,null,null,null,null,null,null,null,null,null,null,null,null,null,null,null,null,null,null,null,null,null,null,null,null,null,null,null,null,null,null,null,null,null,null,null,null,null,null,null,null,null,null,null,null,"ABCFHJKL",{"$f":"$BB$26","v":"Uruguay"},{"$f":"$CE$12","v":"Algerien"},"Bosnien-Herzegowina","Schottland","Südkorea",{"$f":"$BB$12","v":"Schweden"},{"$f":"$CE$26","v":"Ghana"},{"$f":"$CE$19","v":"DR Kongo"}]
[null,null,null,null,null,null,null,null,null,null,null,null,null,null,null,null,null,null,null,null,null,null,null,null,null,null,null,null,null,null,null,null,null,null,null,null,null,null,null,null,null,null,null,null,null,null,null,null,null,null,null,null,null,null,null,null,null,null,null,null,null,null,null,null,null,null,null,null,null,null,null,null,null,null,null,null,null,null,null,null,null,null,null,null,null,null,null,null,null,null,null,null,"ABCFIJKL",{"$f":"$CE$5","v":"Senegal"},{"$f":"$CE$12","v":"Algerien"},"Bosnien-Herzegowina","Schottland","Südkorea",{"$f":"$BB$12","v":"Schweden"},{"$f":"$CE$26","v":"Ghana"},{"$f":"$CE$19","v":"DR Kongo"}]
[null,null,null,null,null,null,null,null,null,null,null,null,null,null,null,null,null,null,null,null,null,null,null,null,null,null,null,null,null,null,null,null,null,null,null,null,null,null,null,null,null,null,null,null,null,null,null,null,null,null,null,null,null,null,null,null,null,null,null,null,null,null,null,null,null,null,null,null,null,null,null,null,null,null,null,null,null,null,null,null,null,null,null,null,null,null,null,null,null,null,null,null,"ABCGHIJK",{"$f":"$BB$26","v":"Uruguay"},{"$f":"$CE$12","v":"Algerien"},"Bosnien-Herzegowina","Schottland","Südkorea",{"$f":"$BB$19","v":"Iran"},{"$f":"$CE$5","v":"Senegal"},{"$f":"$CE$19","v":"DR Kongo"}]
[null,null,null,null,null,null,null,null,null,null,null,null,null,null,null,null,null,null,null,null,null,null,null,null,null,null,null,null,null,null,null,null,null,null,null,null,null,null,null,null,null,null,null,null,null,null,null,null,null,null,null,null,null,null,null,null,null,null,null,null,null,null,null,null,null,null,null,null,null,null,null,null,null,null,null,null,null,null,null,null,null,null,null,null,null,null,null,null,null,null,null,null,"ABCGHIJL",{"$f":"$BB$26","v":"Uruguay"},{"$f":"$CE$12","v":"Algerien"},"Bosnien-Herzegowina","Schottland","Südkorea",{"$f":"$BB$19","v":"Iran"},{"$f":"$CE$26","v":"Ghana"},{"$f":"$CE$5","v":"Senegal"}]
[null,null,null,null,null,null,null,null,null,null,null,null,null,null,null,null,null,null,null,null,null,null,null,null,null,null,null,null,null,null,null,null,null,null,null,null,null,null,null,null,null,null,null,null,null,null,null,null,null,null,null,null,null,null,null,null,null,null,null,null,null,null,null,null,null,null,null,null,null,null,null,null,null,null,null,null,null,null,null,null,null,null,null,null,null,null,null,null,null,null,null,null,"ABCGHIKL",{"$f":"$CE$5","v":"Senegal"},{"$f":"$BB$19","v":"Iran"},"Bosnien-Herzegowina","Schottland","Südkorea",{"$f":"$BB$26","v":"Uruguay"},{"$f":"$CE$26","v":"Ghana"},{"$f":"$CE$19","v":"DR Kongo"}]
[null,null,null,null,null,null,null,null,null,null,null,null,null,null,null,null,null,null,null,null,null,null,null,null,null,null,null,null,null,null,null,null,null,null,null,null,null,null,null,null,null,null,null,null,null,null,null,null,null,null,null,null,null,null,null,null,null,null,null,null,null,null,null,null,null,null,null,null,null,null,null,null,null,null,null,null,null,null,null,null,null,null,null,null,null,null,null,null,null,null,null,null,"ABCGHJKL",{"$f":"$BB$26","v":"Uruguay"},{"$f":"$CE$12","v":"Algerien"},"Bosnien-Herzegowina","Schottland","Südkorea",{"$f":"$BB$19","v":"Iran"},{"$f":"$CE$26","v":"Ghana"},{"$f":"$CE$19","v":"DR Kongo"}]
[null,null,null,null,null,null,null,null,null,null,null,null,null,null,null,null,null,null,null,null,null,null,null,null,null,null,null,null,null,null,null,null,null,null,null,null,null,null,null,null,null,null,null,null,null,null,null,null,null,null,null,null,null,null,null,null,null,null,null,null,null,null,null,null,null,null,null,null,null,null,null,null,null,null,null,null,null,null,null,null,null,null,null,null,null,null,null,null,null,null,null,null,"ABCGIJKL",{"$f":"$CE$5","v":"Senegal"},{"$f":"$CE$12","v":"Algerien"},"Bosnien-Herzegowina","Schottland","Südkorea",{"$f":"$BB$19","v":"Iran"},{"$f":"$CE$26","v":"Ghana"},{"$f":"$CE$19","v":"DR Kongo"}]
[null,null,null,null,null,null,null,null,null,null,null,null,null,null,null,null,null,null,null,null,null,null,null,null,null,null,null,null,null,null,null,null,null,null,null,null,null,null,null,null,null,null,null,null,null,null,null,null,null,null,null,null,null,null,null,null,null,null,null,null,null,null,null,null,null,null,null,null,null,null,null,null,null,null,null,null,null,null,null,null,null,null,null,null,null,null,null,null,null,null,null,null,"ABCHIJKL",{"$f":"$CE$5","v":"Senegal"},{"$f":"$CE$12","v":"Algerien"},"Bosnien-Herzegowina","Schottland","Südkorea",{"$f":"$BB$26","v":"Uruguay"},{"$f":"$CE$26","v":"Ghana"},{"$f":"$CE$19","v":"DR Kongo"}]
[null,null,null,null,null,null,null,null,null,null,null,null,null,null,null,null,null,null,null,null,null,null,null,null,null,null,null,null,null,null,null,null,null,null,null,null,null,null,null,null,null,null,null,null,null,null,null,null,null,null,null,null,null,null,null,null,null,null,null,null,null,null,null,null,null,null,null,null,null,null,null,null,null,null,null,null,null,null,null,null,null,null,null,null,null,null,null,null,null,null,null,null,"ABDEFGHI",{"$f":"$BB$26","v":"Uruguay"},{"$f":"$BB$19","v":"Iran"},"Bosnien-Herzegowina",{"$f":"$Y$26","v":"Paraguay"},"Südkorea",{"$f":"$BB$12","v":"Schweden"},{"$f":"$BB$5","v":"Ecuador"},{"$f":"$CE$5","v":"Senegal"}]
[null,null,null,null,null,null,null,null,null,null,null,null,null,null,null,null,null,null,null,null,null,null,null,null,null,null,null,null,null,null,null,null,null,null,null,null,null,null,null,null,null,null,null,null,null,null,null,null,null,null,null,null,null,null,null,null,null,null,null,null,null,null,null,null,null,null,null,null,null,null,null,null,null,null,null,null,null,null,null,null,null,null,null,null,null,null,null,null,null,null,null,null,"ABDEFGHJ",{"$f":"$BB$26","v":"Uruguay"},"Iran","Bosnien-Herzegowina","Paraguay","Südkorea","Schweden",{"$f":"$BB$5","v":"Ecuador"},{"$f":"$CE$12","v":"Algerien"}]
[null,null,null,null,null,null,null,null,null,null,null,null,null,null,null,null,null,null,null,null,null,null,null,null,null,null,null,null,null,null,null,null,null,null,null,null,null,null,null,null,null,null,null,null,null,null,null,null,null,null,null,null,null,null,null,null,null,null,null,null,null,null,null,null,null,null,null,null,null,null,null,null,null,null,null,null,null,null,null,null,null,null,null,null,null,null,null,null,null,null,null,null,"ABDEFGHK",{"$f":"$BB$26","v":"Uruguay"},"Iran",{"$f":"$Y$12","v":"Bosnien-Herzegowina"},"Paraguay","Südkorea","Schweden",{"$f":"$BB$5","v":"Ecuador"},{"$f":"$CE$19","v":"DR Kongo"}]
[null,null,null,null,null,null,null,null,null,null,null,null,null,null,null,null,null,null,null,null,null,null,null,null,null,null,null,null,null,null,null,null,null,null,null,null,null,null,null,null,null,null,null,null,null,null,null,null,null,null,null,null,null,null,null,null,null,null,null,null,null,null,null,null,null,null,null,null,null,null,null,null,null,null,null,null,null,null,null,null,null,null,null,null,null,null,null,null,null,null,null,null,"ABDEFGHL",{"$f":"$BB$26","v":"Uruguay"},"Iran","Bosnien-Herzegowina","Paraguay","Südkorea","Schweden",{"$f":"$CE$26","v":"Ghana"},{"$f":"$BB$5","v":"Ecuador"}]
[null,null,null,null,null,null,null,null,null,null,null,null,null,null,null,null,null,null,null,null,null,null,null,null,null,null,null,null,null,null,null,null,null,null,null,null,null,null,null,null,null,null,null,null,null,null,null,null,null,null,null,null,null,null,null,null,null,null,null,null,null,null,null,null,null,null,null,null,null,null,null,null,null,null,null,null,null,null,null,null,null,null,null,null,null,null,null,null,null,null,null,null,"ABDEFGIJ",{"$f":"$BB$5","v":"Ecuador"},"Iran","Bosnien-Herzegowina","Paraguay","Südkorea","Schweden",{"$f":"$CE$5","v":"Senegal"},{"$f":"$CE$12","v":"Algerien"}]
[null,null,null,null,null,null,null,null,null,null,null,null,null,null,null,null,null,null,null,null,null,null,null,null,null,null,null,null,null,null,null,null,null,null,null,null,null,null,null,null,null,null,null,null,null,null,null,null,null,null,null,null,null,null,null,null,null,null,null,null,null,null,null,null,null,null,null,null,null,null,null,null,null,null,null,null,null,null,null,null,null,null,null,null,null,null,null,null,null,null,null,null,"ABDEFGIK","Ecuador","Iran","Bosnien-Herzegowina","Paraguay","Südkorea","Schweden",{"$f":"$CE$5","v":"Senegal"},{"$f":"$CE$19","v":"DR Kongo"}]
[null,null,null,null,null,null,null,null,null,null,null,null,null,null,null,null,null,null,null,null,null,null,null,null,null,null,null,null,null,null,null,null,null,null,null,null,null,null,null,null,null,null,null,null,null,null,null,null,null,null,null,null,null,null,null,null,null,null,null,null,null,null,null,null,null,null,null,null,null,null,null,null,null,null,null,null,null,null,null,null,null,null,null,null,null,null,null,null,null,null,null,null,"ABDEFGIL","Ecuador","Iran","Bosnien-Herzegowina","Paraguay","Südkorea","Schweden",{"$f":"$CE$26","v":"Ghana"},{"$f":"$CE$5","v":"Senegal"}]
[null,null,null,null,null,null,null,null,null,null,null,null,null,null,null,null,null,null,null,null,null,null,null,null,null,null,null,null,null,null,null,null,null,null,null,null,null,null,null,null,null,null,null,null,null,null,null,null,null,null,null,null,null,null,null,null,null,null,null,null,null,null,null,null,null,null,null,null,null,null,null,null,null,null,null,null,null,null,null,null,null,null,null,null,null,null,null,null,null,null,null,null,"ABDEFGJK","Ecuador","Iran","Bosnien-Herzegowina","Paraguay","Südkorea","Schweden",{"$f":"$CE$12","v":"Algerien"},{"$f":"$CE$19","v":"DR Kongo"}]
[null,null,null,null,null,null,null,null,null,null,null,null,null,null,null,null,null,null,null,null,null,null,null,null,null,null,null,null,null,null,null,null,null,null,null,null,null,null,null,null,null,null,null,null,null,null,null,null,null,null,null,null,null,null,null,null,null,null,null,null,null,null,null,null,null,null,null,null,null,null,null,null,null,null,null,null,null,null,null,null,null,null,null,null,null,null,null,null,null,null,null,null,"ABDEFGJL","Ecuador","Iran","Bosnien-Herzegowina","Paraguay","Südkorea","Schweden",{"$f":"$CE$26","v":"Ghana"},{"$f":"$CE$12","v":"Algerien"}]
[null,null,null,null,null,null,null,null,null,null,null,null,null,null,null,null,null,null,null,null,null,null,null,null,null,null,null,null,null,null,null,null,null,null,null,null,null,null,null,null,null,null,null,null,null,null,null,null,null,null,null,null,null,null,null,null,null,null,null,null,null,null,null,null,null,null,null,null,null,null,null,null,null,null,null,null,null,null,null,null,null,null,null,null,null,null,null,null,null,null,null,null,"ABDEFGKL","Ecuador","Iran","Bosnien-Herzegowina","Paraguay","Südkorea","Schweden",{"$f":"$CE$26","v":"Ghana"},{"$f":"$CE$19","v":"DR Kongo"}]
[null,null,null,null,null,null,null,null,null,null,null,null,null,null,null,null,null,null,null,null,null,null,null,null,null,null,null,null,null,null,null,null,null,null,null,null,null,null,null,null,null,null,null,null,null,null,null,null,null,null,null,null,null,null,null,null,null,null,null,null,null,null,null,null,null,null,null,null,null,null,null,null,null,null,null,null,null,null,null,null,null,null,null,null,null,null,null,null,null,null,null,null,"ABDEFHIJ",{"$f":"$BB$26","v":"Uruguay"},{"$f":"$CE$12","v":"Algerien"},"Bosnien-Herzegowina","Paraguay","Südkorea","Schweden",{"$f":"$BB$5","v":"Ecuador"},{"$f":"$CE$5","v":"Senegal"}]
[null,null,null,null,null,null,null,null,null,null,null,null,null,null,null,null,null,null,null,null,null,null,null,null,null,null,null,null,null,null,null,null,null,null,null,null,null,null,null,null,null,null,null,null,null,null,null,null,null,null,null,null,null,null,null,null,null,null,null,null,null,null,null,null,null,null,null,null,null,null,null,null,null,null,null,null,null,null,null,null,null,null,null,null,null,null,null,null,null,null,null,null,"ABDEFHIK","Uruguay",{"$f":"$BB$5","v":"Ecuador"},"Bosnien-Herzegowina","Paraguay",{"$f":"$Y$5","v":"Südkorea"},"Schweden",{"$f":"$CE$5","v":"Senegal"},{"$f":"$CE$19","v":"DR Kongo"}]
[null,null,null,null,null,null,null,null,null,null,null,null,null,null,null,null,null,null,null,null,null,null,null,null,null,null,null,null,null,null,null,null,null,null,null,null,null,null,null,null,null,null,null,null,null,null,null,null,null,null,null,null,null,null,null,null,null,null,null,null,null,null,null,null,null,null,null,null,null,null,null,null,null,null,null,null,null,null,null,null,null,null,null,null,null,null,null,null,null,null,null,null,"ABDEFHIL","Uruguay",{"$f":"$BB$5","v":"Ecuador"},"Bosnien-Herzegowina","Paraguay","Südkorea","Schweden",{"$f":"$CE$26","v":"Ghana"},{"$f":"$CE$5","v":"Senegal"}]
[null,null,null,null,null,null,null,null,null,null,null,null,null,null,null,null,null,null,null,null,null,null,null,null,null,null,null,null,null,null,null,null,null,null,null,null,null,null,null,null,null,null,null,null,null,null,null,null,null,null,null,null,null,null,null,null,null,null,null,null,null,null,null,null,null,null,null,null,null,null,null,null,null,null,null,null,null,null,null,null,null,null,null,null,null,null,null,null,null,null,null,null,"ABDEFHJK","Uruguay",{"$f":"$CE$12","v":"Algerien"},"Bosnien-Herzegowina","Paraguay","Südkorea","Schweden",{"$f":"$BB$5","v":"Ecuador"},{"$f":"$CE$19","v":"DR Kongo"}]
[null,null,null,null,null,null,null,null,null,null,null,null,null,null,null,null,null,null,null,null,null,null,null,null,null,null,null,null,null,null,null,null,null,null,null,null,null,null,null,null,null,null,null,null,null,null,null,null,null,null,null,null,null,null,null,null,null,null,null,null,null,null,null,null,null,null,null,null,null,null,null,null,null,null,null,null,null,null,null,null,null,null,null,null,null,null,null,null,null,null,null,null,"ABDEFHJL","Uruguay",{"$f":"$CE$12","v":"Algerien"},"Bosnien-Herzegowina","Paraguay","Südkorea","Schweden",{"$f":"$CE$26","v":"Ghana"},{"$f":"$BB$5","v":"Ecuador"}]
[null,null,null,null,null,null,null,null,null,null,null,null,null,null,null,null,null,null,null,null,null,null,null,null,null,null,null,null,null,null,null,null,null,null,null,null,null,null,null,null,null,null,null,null,null,null,null,null,null,null,null,null,null,null,null,null,null,null,null,null,null,null,null,null,null,null,null,null,null,null,null,null,null,null,null,null,null,null,null,null,null,null,null,null,null,null,null,null,null,null,null,null,"ABDEFHKL","Uruguay",{"$f":"$BB$5","v":"Ecuador"},"Bosnien-Herzegowina","Paraguay","Südkorea","Schweden",{"$f":"$CE$26","v":"Ghana"},{"$f":"$CE$19","v":"DR Kongo"}]
[null,null,null,null,null,null,null,null,null,null,null,null,null,null,null,null,null,null,null,null,null,null,null,null,null,null,null,null,null,null,null,null,null,null,null,null,null,null,null,null,null,null,null,null,null,null,null,null,null,null,null,null,null,null,null,null,null,null,null,null,null,null,null,null,null,null,null,null,null,null,null,null,null,null,null,null,null,null,null,null,null,null,null,null,null,null,null,null,null,null,null,null,"ABDEFIJK",{"$f":"$BB$5","v":"Ecuador"},{"$f":"$CE$12","v":"Algerien"},"Bosnien-Herzegowina","Paraguay","Südkorea","Schweden",{"$f":"$CE$5","v":"Senegal"},{"$f":"$CE$19","v":"DR Kongo"}]
[null,null,null,null,null,null,null,null,null,null,null,null,null,null,null,null,null,null,null,null,null,null,null,null,null,null,null,null,null,null,null,null,null,null,null,null,null,null,null,null,null,null,null,null,null,null,null,null,null,null,null,null,null,null,null,null,null,null,null,null,null,null,null,null,null,null,null,null,null,null,null,null,null,null,null,null,null,null,null,null,null,null,null,null,null,null,null,null,null,null,null,null,"ABDEFIJL",{"$f":"$BB$5","v":"Ecuador"},{"$f":"$CE$12","v":"Algerien"},"Bosnien-Herzegowina","Paraguay","Südkorea","Schweden",{"$f":"$CE$26","v":"Ghana"},{"$f":"$CE$5","v":"Senegal"}]
[null,null,null,null,null,null,null,null,null,null,null,null,null,null,null,null,null,null,null,null,null,null,null,null,null,null,null,null,null,null,null,null,null,null,null,null,null,null,null,null,null,null,null,null,null,null,null,null,null,null,null,null,null,null,null,null,null,null,null,null,null,null,null,null,null,null,null,null,null,null,null,null,null,null,null,null,null,null,null,null,null,null,null,null,null,null,null,null,null,null,null,null,"ABDEFIKL",{"$f":"$BB$5","v":"Ecuador"},{"$f":"$CE$5","v":"Senegal"},"Bosnien-Herzegowina","Paraguay","Südkorea","Schweden",{"$f":"$CE$26","v":"Ghana"},{"$f":"$CE$19","v":"DR Kongo"}]
[null,null,null,null,null,null,null,null,null,null,null,null,null,null,null,null,null,null,null,null,null,null,null,null,null,null,null,null,null,null,null,null,null,null,null,null,null,null,null,null,null,null,null,null,null,null,null,null,null,null,null,null,null,null,null,null,null,null,null,null,null,null,null,null,null,null,null,null,null,null,null,null,null,null,null,null,null,null,null,null,null,null,null,null,null,null,null,null,null,null,null,null,"ABDEFJKL",{"$f":"$BB$5","v":"Ecuador"},{"$f":"$CE$12","v":"Algerien"},"Bosnien-Herzegowina","Paraguay","Südkorea","Schweden",{"$f":"$CE$26","v":"Ghana"},{"$f":"$CE$19","v":"DR Kongo"}]
[null,null,null,null,null,null,null,null,null,null,null,null,null,null,null,null,null,null,null,null,null,null,null,null,null,null,null,null,null,null,null,null,null,null,null,null,null,null,null,null,null,null,null,null,null,null,null,null,null,null,null,null,null,null,null,null,null,null,null,null,null,null,null,null,null,null,null,null,null,null,null,null,null,null,null,null,null,null,null,null,null,null,null,null,null,null,null,null,null,null,null,null,"ABDEGHIJ",{"$f":"$BB$26","v":"Uruguay"},{"$f":"$CE$12","v":"Algerien"},"Bosnien-Herzegowina","Paraguay","Südkorea",{"$f":"$BB$19","v":"Iran"},{"$f":"$BB$5","v":"Ecuador"},{"$f":"$CE$5","v":"Senegal"}]
[null,null,null,null,null,null,null,null,null,null,null,null,null,null,null,null,null,null,null,null,null,null,null,null,null,null,null,null,null,null,null,null,null,null,null,null,null,null,null,null,null,null,null,null,null,null,null,null,null,null,null,null,null,null,null,null,null,null,null,null,null,null,null,null,null,null,null,null,null,null,null,null,null,null,null,null,null,null,null,null,null,null,null,null,null,null,null,null,null,null,null,null,"ABDEGHIK",{"$f":"$BB$5","v":"Ecuador"},{"$f":"$BB$19","v":"Iran"},"Bosnien-Herzegowina","Paraguay","Südkorea",{"$f":"$BB$26","v":"Uruguay"},{"$f":"$CE$5","v":"Senegal"},{"$f":"$CE$19","v":"DR Kongo"}]
[null,null,null,null,null,null,null,null,null,null,null,null,null,null,null,null,null,null,null,null,null,null,null,null,null,null,null,null,null,null,null,null,null,null,null,null,null,null,null,null,null,null,null,null,null,null,null,null,null,null,null,null,null,null,null,null,null,null,null,null,null,null,null,null,null,null,null,null,null,null,null,null,null,null,null,null,null,null,null,null,null,null,null,null,null,null,null,null,null,null,null,null,"ABDEGHIL",{"$f":"$BB$5","v":"Ecuador"},{"$f":"$BB$19","v":"Iran"},"Bosnien-Herzegowina","Paraguay","Südkorea",{"$f":"$BB$26","v":"Uruguay"},{"$f":"$CE$26","v":"Ghana"},{"$f":"$CE$5","v":"Senegal"}]
[null,null,null,null,null,null,null,null,null,null,null,null,null,null,null,null,null,null,null,null,null,null,null,null,null,null,null,null,null,null,null,null,null,null,null,null,null,null,null,null,null,null,null,null,null,null,null,null,null,null,null,null,null,null,null,null,null,null,null,null,null,null,null,null,null,null,null,null,null,null,null,null,null,null,null,null,null,null,null,null,null,null,null,null,null,null,null,null,null,null,null,null,"ABDEGHJK",{"$f":"$BB$26","v":"Uruguay"},{"$f":"$CE$12","v":"Algerien"},"Bosnien-Herzegowina","Paraguay","Südkorea",{"$f":"$BB$19","v":"Iran"},{"$f":"$BB$5","v":"Ecuador"},{"$f":"$CE$19","v":"DR Kongo"}]
[null,null,null,null,null,null,null,null,null,null,null,null,null,null,null,null,null,null,null,null,null,null,null,null,null,null,null,null,null,null,null,null,null,null,null,null,null,null,null,null,null,null,null,null,null,null,null,null,null,null,null,null,null,null,null,null,null,null,null,null,null,null,null,null,null,null,null,null,null,null,null,null,null,null,null,null,null,null,null,null,null,null,null,null,null,null,null,null,null,null,null,null,"ABDEGHJL",{"$f":"$BB$26","v":"Uruguay"},{"$f":"$CE$12","v":"Algerien"},"Bosnien-Herzegowina","Paraguay","Südkorea",{"$f":"$BB$19","v":"Iran"},{"$f":"$CE$26","v":"Ghana"},{"$f":"$BB$5","v":"Ecuador"}]
[null,null,null,null,null,null,null,null,null,null,null,null,null,null,null,null,null,null,null,null,null,null,null,null,null,null,null,null,null,null,null,null,null,null,null,null,null,null,null,null,null,null,null,null,null,null,null,null,null,null,null,null,null,null,null,null,null,null,null,null,null,null,null,null,null,null,null,null,null,null,null,null,null,null,null,null,null,null,null,null,null,null,null,null,null,null,null,null,null,null,null,null,"ABDEGHKL",{"$f":"$BB$5","v":"Ecuador"},{"$f":"$BB$19","v":"Iran"},"Bosnien-Herzegowina","Paraguay","Südkorea",{"$f":"$BB$26","v":"Uruguay"},{"$f":"$CE$26","v":"Ghana"},{"$f":"$CE$19","v":"DR Kongo"}]
[null,null,null,null,null,null,null,null,null,null,null,null,null,null,null,null,null,null,null,null,null,null,null,null,null,null,null,null,null,null,null,null,null,null,null,null,null,null,null,null,null,null,null,null,null,null,null,null,null,null,null,null,null,null,null,null,null,null,null,null,null,null,null,null,null,null,null,null,null,null,null,null,null,null,null,null,null,null,null,null,null,null,null,null,null,null,null,null,null,null,null,null,"ABDEGIJK","Ecuador",{"$f":"$CE$12","v":"Algerien"},"Bosnien-Herzegowina","Paraguay","Südkorea",{"$f":"$BB$19","v":"Iran"},{"$f":"$CE$5","v":"Senegal"},{"$f":"$CE$19","v":"DR Kongo"}]
[null,null,null,null,null,null,null,null,null,null,null,null,null,null,null,null,null,null,null,null,null,null,null,null,null,null,null,null,null,null,null,null,null,null,null,null,null,null,null,null,null,null,null,null,null,null,null,null,null,null,null,null,null,null,null,null,null,null,null,null,null,null,null,null,null,null,null,null,null,null,null,null,null,null,null,null,null,null,null,null,null,null,null,null,null,null,null,null,null,null,null,null,"ABDEGIJL","Ecuador",{"$f":"$CE$12","v":"Algerien"},"Bosnien-Herzegowina","Paraguay","Südkorea",{"$f":"$BB$19","v":"Iran"},{"$f":"$CE$26","v":"Ghana"},{"$f":"$CE$5","v":"Senegal"}]
[null,null,null,null,null,null,null,null,null,null,null,null,null,null,null,null,null,null,null,null,null,null,null,null,null,null,null,null,null,null,null,null,null,null,null,null,null,null,null,null,null,null,null,null,null,null,null,null,null,null,null,null,null,null,null,null,null,null,null,null,null,null,null,null,null,null,null,null,null,null,null,null,null,null,null,null,null,null,null,null,null,null,null,null,null,null,null,null,null,null,null,null,"ABDEGIKL","Ecuador",{"$f":"$BB$19","v":"Iran"},"Bosnien-Herzegowina",{"$f":"$Y$5","v":"Südkorea"},{"$f":"$CE$5","v":"Senegal"},{"$f":"$Y$26","v":"Paraguay"},{"$f":"$CE$26","v":"Ghana"},{"$f":"$CE$19","v":"DR Kongo"}]
[null,null,null,null,null,null,null,null,null,null,null,null,null,null,null,null,null,null,null,null,null,null,null,null,null,null,null,null,null,null,null,null,null,null,null,null,null,null,null,null,null,null,null,null,null,null,null,null,null,null,null,null,null,null,null,null,null,null,null,null,null,null,null,null,null,null,null,null,null,null,null,null,null,null,null,null,null,null,null,null,null,null,null,null,null,null,null,null,null,null,null,null,"ABDEGJKL","Ecuador",{"$f":"$CE$12","v":"Algerien"},"Bosnien-Herzegowina",{"$f":"$Y$26","v":"Paraguay"},{"$f":"$Y$5","v":"Südkorea"},{"$f":"$BB$19","v":"Iran"},{"$f":"$CE$26","v":"Ghana"},{"$f":"$CE$19","v":"DR Kongo"}]
[null,null,null,null,null,null,null,null,null,null,null,null,null,null,null,null,null,null,null,null,null,null,null,null,null,null,null,null,null,null,null,null,null,null,null,null,null,null,null,null,null,null,null,null,null,null,null,null,null,null,null,null,null,null,null,null,null,null,null,null,null,null,null,null,null,null,null,null,null,null,null,null,null,null,null,null,null,null,null,null,null,null,null,null,null,null,null,null,null,null,null,null,"ABDEHIJK","Ecuador",{"$f":"$CE$12","v":"Algerien"},"Bosnien-Herzegowina",{"$f":"$Y$26","v":"Paraguay"},{"$f":"$Y$5","v":"Südkorea"},{"$f":"$BB$26","v":"Uruguay"},{"$f":"$CE$5","v":"Senegal"},{"$f":"$CE$19","v":"DR Kongo"}]
[null,null,null,null,null,null,null,null,null,null,null,null,null,null,null,null,null,null,null,null,null,null,null,null,null,null,null,null,null,null,null,null,null,null,null,null,null,null,null,null,null,null,null,null,null,null,null,null,null,null,null,null,null,null,null,null,null,null,null,null,null,null,null,null,null,null,null,null,null,null,null,null,null,null,null,null,null,null,null,null,null,null,null,null,null,null,null,null,null,null,null,null,"ABDEHIJL","Ecuador",{"$f":"$CE$12","v":"Algerien"},"Bosnien-Herzegowina",{"$f":"$Y$26","v":"Paraguay"},{"$f":"$Y$5","v":"Südkorea"},{"$f":"$BB$26","v":"Uruguay"},{"$f":"$CE$26","v":"Ghana"},{"$f":"$CE$5","v":"Senegal"}]
[null,null,null,null,null,null,null,null,null,null,null,null,null,null,null,null,null,null,null,null,null,null,null,null,null,null,null,null,null,null,null,null,null,null,null,null,null,null,null,null,null,null,null,null,null,null,null,null,null,null,null,null,null,null,null,null,null,null,null,null,null,null,null,null,null,null,null,null,null,null,null,null,null,null,null,null,null,null,null,null,null,null,null,null,null,null,null,null,null,null,null,null,"ABDEHIKL","Ecuador",{"$f":"$CE$5","v":"Senegal"},"Bosnien-Herzegowina",{"$f":"$Y$26","v":"Paraguay"},{"$f":"$Y$5","v":"Südkorea"},{"$f":"$BB$26","v":"Uruguay"},{"$f":"$CE$26","v":"Ghana"},{"$f":"$CE$19","v":"DR Kongo"}]
[null,null,null,null,null,null,null,null,null,null,null,null,null,null,null,null,null,null,null,null,null,null,null,null,null,null,null,null,null,null,null,null,null,null,null,null,null,null,null,null,null,null,null,null,null,null,null,null,null,null,null,null,null,null,null,null,null,null,null,null,null,null,null,null,null,null,null,null,null,null,null,null,null,null,null,null,null,null,null,null,null,null,null,null,null,null,null,null,null,null,null,null,"ABDEHJKL","Ecuador",{"$f":"$CE$12","v":"Algerien"},"Bosnien-Herzegowina",{"$f":"$Y$26","v":"Paraguay"},{"$f":"$Y$5","v":"Südkorea"},{"$f":"$BB$26","v":"Uruguay"},{"$f":"$CE$26","v":"Ghana"},{"$f":"$CE$19","v":"DR Kongo"}]
[null,null,null,null,null,null,null,null,null,null,null,null,null,null,null,null,null,null,null,null,null,null,null,null,null,null,null,null,null,null,null,null,null,null,null,null,null,null,null,null,null,null,null,null,null,null,null,null,null,null,null,null,null,null,null,null,null,null,null,null,null,null,null,null,null,null,null,null,null,null,null,null,null,null,null,null,null,null,null,null,null,null,null,null,null,null,null,null,null,null,null,null,"ABDEIJKL","Ecuador",{"$f":"$CE$12","v":"Algerien"},"Bosnien-Herzegowina",{"$f":"$Y$5","v":"Südkorea"},{"$f":"$CE$5","v":"Senegal"},{"$f":"$Y$26","v":"Paraguay"},{"$f":"$CE$26","v":"Ghana"},{"$f":"$CE$19","v":"DR Kongo"}]
[null,null,null,null,null,null,null,null,null,null,null,null,null,null,null,null,null,null,null,null,null,null,null,null,null,null,null,null,null,null,null,null,null,null,null,null,null,null,null,null,null,null,null,null,null,null,null,null,null,null,null,null,null,null,null,null,null,null,null,null,null,null,null,null,null,null,null,null,null,null,null,null,null,null,null,null,null,null,null,null,null,null,null,null,null,null,null,null,null,null,null,null,"ABDFGHIJ",{"$f":"$BB$26","v":"Uruguay"},{"$f":"$BB$19","v":"Iran"},"Bosnien-Herzegowina",{"$f":"$Y$26","v":"Paraguay"},{"$f":"$Y$5","v":"Südkorea"},{"$f":"$BB$12","v":"Schweden"},{"$f":"$CE$5","v":"Senegal"},{"$f":"$CE$12","v":"Algerien"}]
[null,null,null,null,null,null,null,null,null,null,null,null,null,null,null,null,null,null,null,null,null,null,null,null,null,null,null,null,null,null,null,null,null,null,null,null,null,null,null,null,null,null,null,null,null,null,null,null,null,null,null,null,null,null,null,null,null,null,null,null,null,null,null,null,null,null,null,null,null,null,null,null,null,null,null,null,null,null,null,null,null,null,null,null,null,null,null,null,null,null,null,null,"ABDFGHIK","Uruguay","Iran","Bosnien-Herzegowina","Paraguay","Südkorea","Schweden",{"$f":"$CE$5","v":"Senegal"},{"$f":"$CE$19","v":"DR Kongo"}]
[null,null,null,null,null,null,null,null,null,null,null,null,null,null,null,null,null,null,null,null,null,null,null,null,null,null,null,null,null,null,null,null,null,null,null,null,null,null,null,null,null,null,null,null,null,null,null,null,null,null,null,null,null,null,null,null,null,null,null,null,null,null,null,null,null,null,null,null,null,null,null,null,null,null,null,null,null,null,null,null,null,null,null,null,null,null,null,null,null,null,null,null,"ABDFGHIL","Uruguay","Iran","Bosnien-Herzegowina","Paraguay","Südkorea","Schweden",{"$f":"$CE$26","v":"Ghana"},{"$f":"$CE$5","v":"Senegal"}]
[null,null,null,null,null,null,null,null,null,null,null,null,null,null,null,null,null,null,null,null,null,null,null,null,null,null,null,null,null,null,null,null,null,null,null,null,null,null,null,null,null,null,null,null,null,null,null,null,null,null,null,null,null,null,null,null,null,null,null,null,null,null,null,null,null,null,null,null,null,null,null,null,null,null,null,null,null,null,null,null,null,null,null,null,null,null,null,null,null,null,null,null,"ABDFGHJK","Uruguay","Iran","Bosnien-Herzegowina","Paraguay","Südkorea","Schweden",{"$f":"$CE$12","v":"Algerien"},{"$f":"$CE$19","v":"DR Kongo"}]
[null,null,null,null,null,null,null,null,null,null,null,null,null,null,null,null,null,null,null,null,null,null,null,null,null,null,null,null,null,null,null,null,null,null,null,null,null,null,null,null,null,null,null,null,null,null,null,null,null,null,null,null,null,null,null,null,null,null,null,null,null,null,null,null,null,null,null,null,null,null,null,null,null,null,null,null,null,null,null,null,null,null,null,null,null,null,null,null,null,null,null,null,"ABDFGHJL","Uruguay","Iran","Bosnien-Herzegowina","Paraguay","Südkorea","Schweden",{"$f":"$CE$26","v":"Ghana"},{"$f":"$CE$12","v":"Algerien"}]
[null,null,null,null,null,null,null,null,null,null,null,null,null,null,null,null,null,null,null,null,null,null,null,null,null,null,null,null,null,null,null,null,null,null,null,null,null,null,null,null,null,null,null,null,null,null,null,null,null,null,null,null,null,null,null,null,null,null,null,null,null,null,null,null,null,null,null,null,null,null,null,null,null,null,null,null,null,null,null,null,null,null,null,null,null,null,null,null,null,null,null,null,"ABDFGHKL","Uruguay","Iran","Bosnien-Herzegowina","Paraguay","Südkorea","Schweden",{"$f":"$CE$26","v":"Ghana"},{"$f":"$CE$19","v":"DR Kongo"}]
[null,null,null,null,null,null,null,null,null,null,null,null,null,null,null,null,null,null,null,null,null,null,null,null,null,null,null,null,null,null,null,null,null,null,null,null,null,null,null,null,null,null,null,null,null,null,null,null,null,null,null,null,null,null,null,null,null,null,null,null,null,null,null,null,null,null,null,null,null,null,null,null,null,null,null,null,null,null,null,null,null,null,null,null,null,null,null,null,null,null,null,null,"ABDFGIJK",{"$f":"$BB$12","v":"Schweden"},{"$f":"$CE$12","v":"Algerien"},"Bosnien-Herzegowina","Paraguay","Südkorea",{"$f":"$BB$19","v":"Iran"},{"$f":"$CE$5","v":"Senegal"},{"$f":"$CE$19","v":"DR Kongo"}]
[null,null,null,null,null,null,null,null,null,null,null,null,null,null,null,null,null,null,null,null,null,null,null,null,null,null,null,null,null,null,null,null,null,null,null,null,null,null,null,null,null,null,null,null,null,null,null,null,null,null,null,null,null,null,null,null,null,null,null,null,null,null,null,null,null,null,null,null,null,null,null,null,null,null,null,null,null,null,null,null,null,null,null,null,null,null,null,null,null,null,null,null,"ABDFGIJL",{"$f":"$BB$12","v":"Schweden"},{"$f":"$CE$12","v":"Algerien"},"Bosnien-Herzegowina","Paraguay","Südkorea",{"$f":"$BB$19","v":"Iran"},{"$f":"$CE$26","v":"Ghana"},{"$f":"$CE$5","v":"Senegal"}]
[null,null,null,null,null,null,null,null,null,null,null,null,null,null,null,null,null,null,null,null,null,null,null,null,null,null,null,null,null,null,null,null,null,null,null,null,null,null,null,null,null,null,null,null,null,null,null,null,null,null,null,null,null,null,null,null,null,null,null,null,null,null,null,null,null,null,null,null,null,null,null,null,null,null,null,null,null,null,null,null,null,null,null,null,null,null,null,null,null,null,null,null,"ABDFGIKL",{"$f":"$CE$5","v":"Senegal"},{"$f":"$BB$19","v":"Iran"},"Bosnien-Herzegowina","Paraguay","Südkorea",{"$f":"$BB$12","v":"Schweden"},{"$f":"$CE$26","v":"Ghana"},{"$f":"$CE$19","v":"DR Kongo"}]
[null,null,null,null,null,null,null,null,null,null,null,null,null,null,null,null,null,null,null,null,null,null,null,null,null,null,null,null,null,null,null,null,null,null,null,null,null,null,null,null,null,null,null,null,null,null,null,null,null,null,null,null,null,null,null,null,null,null,null,null,null,null,null,null,null,null,null,null,null,null,null,null,null,null,null,null,null,null,null,null,null,null,null,null,null,null,null,null,null,null,null,null,"ABDFGJKL",{"$f":"$BB$12","v":"Schweden"},{"$f":"$CE$12","v":"Algerien"},"Bosnien-Herzegowina","Paraguay","Südkorea",{"$f":"$BB$19","v":"Iran"},{"$f":"$CE$26","v":"Ghana"},{"$f":"$CE$19","v":"DR Kongo"}]
[null,null,null,null,null,null,null,null,null,null,null,null,null,null,null,null,null,null,null,null,null,null,null,null,null,null,null,null,null,null,null,null,null,null,null,null,null,null,null,null,null,null,null,null,null,null,null,null,null,null,null,null,null,null,null,null,null,null,null,null,null,null,null,null,null,null,null,null,null,null,null,null,null,null,null,null,null,null,null,null,null,null,null,null,null,null,null,null,null,null,null,null,"ABDFHIJK",{"$f":"$BB$26","v":"Uruguay"},{"$f":"$CE$12","v":"Algerien"},"Bosnien-Herzegowina","Paraguay","Südkorea",{"$f":"$BB$12","v":"Schweden"},{"$f":"$CE$5","v":"Senegal"},{"$f":"$CE$19","v":"DR Kongo"}]
[null,null,null,null,null,null,null,null,null,null,null,null,null,null,null,null,null,null,null,null,null,null,null,null,null,null,null,null,null,null,null,null,null,null,null,null,null,null,null,null,null,null,null,null,null,null,null,null,null,null,null,null,null,null,null,null,null,null,null,null,null,null,null,null,null,null,null,null,null,null,null,null,null,null,null,null,null,null,null,null,null,null,null,null,null,null,null,null,null,null,null,null,"ABDFHIJL",{"$f":"$BB$26","v":"Uruguay"},{"$f":"$CE$12","v":"Algerien"},"Bosnien-Herzegowina","Paraguay","Südkorea",{"$f":"$BB$12","v":"Schweden"},{"$f":"$CE$26","v":"Ghana"},{"$f":"$CE$5","v":"Senegal"}]
[null,null,null,null,null,null,null,null,null,null,null,null,null,null,null,null,null,null,null,null,null,null,null,null,null,null,null,null,null,null,null,null,null,null,null,null,null,null,null,null,null,null,null,null,null,null,null,null,null,null,null,null,null,null,null,null,null,null,null,null,null,null,null,null,null,null,null,null,null,null,null,null,null,null,null,null,null,null,null,null,null,null,null,null,null,null,null,null,null,null,null,null,"ABDFHIKL",{"$f":"$BB$26","v":"Uruguay"},{"$f":"$CE$5","v":"Senegal"},"Bosnien-Herzegowina","Paraguay","Südkorea",{"$f":"$BB$12","v":"Schweden"},{"$f":"$CE$26","v":"Ghana"},{"$f":"$CE$19","v":"DR Kongo"}]
[null,null,null,null,null,null,null,null,null,null,null,null,null,null,null,null,null,null,null,null,null,null,null,null,null,null,null,null,null,null,null,null,null,null,null,null,null,null,null,null,null,null,null,null,null,null,null,null,null,null,null,null,null,null,null,null,null,null,null,null,null,null,null,null,null,null,null,null,null,null,null,null,null,null,null,null,null,null,null,null,null,null,null,null,null,null,null,null,null,null,null,null,"ABDFHJKL",{"$f":"$BB$26","v":"Uruguay"},{"$f":"$CE$12","v":"Algerien"},"Bosnien-Herzegowina","Paraguay","Südkorea",{"$f":"$BB$12","v":"Schweden"},{"$f":"$CE$26","v":"Ghana"},{"$f":"$CE$19","v":"DR Kongo"}]
[null,null,null,null,null,null,null,null,null,null,null,null,null,null,null,null,null,null,null,null,null,null,null,null,null,null,null,null,null,null,null,null,null,null,null,null,null,null,null,null,null,null,null,null,null,null,null,null,null,null,null,null,null,null,null,null,null,null,null,null,null,null,null,null,null,null,null,null,null,null,null,null,null,null,null,null,null,null,null,null,null,null,null,null,null,null,null,null,null,null,null,null,"ABDFIJKL",{"$f":"$CE$5","v":"Senegal"},{"$f":"$CE$12","v":"Algerien"},"Bosnien-Herzegowina","Paraguay","Südkorea",{"$f":"$BB$12","v":"Schweden"},{"$f":"$CE$26","v":"Ghana"},{"$f":"$CE$19","v":"DR Kongo"}]
[null,null,null,null,null,null,null,null,null,null,null,null,null,null,null,null,null,null,null,null,null,null,null,null,null,null,null,null,null,null,null,null,null,null,null,null,null,null,null,null,null,null,null,null,null,null,null,null,null,null,null,null,null,null,null,null,null,null,null,null,null,null,null,null,null,null,null,null,null,null,null,null,null,null,null,null,null,null,null,null,null,null,null,null,null,null,null,null,null,null,null,null,"ABDGHIJK",{"$f":"$BB$26","v":"Uruguay"},{"$f":"$CE$12","v":"Algerien"},"Bosnien-Herzegowina","Paraguay","Südkorea",{"$f":"$BB$19","v":"Iran"},{"$f":"$CE$5","v":"Senegal"},{"$f":"$CE$19","v":"DR Kongo"}]
[null,null,null,null,null,null,null,null,null,null,null,null,null,null,null,null,null,null,null,null,null,null,null,null,null,null,null,null,null,null,null,null,null,null,null,null,null,null,null,null,null,null,null,null,null,null,null,null,null,null,null,null,null,null,null,null,null,null,null,null,null,null,null,null,null,null,null,null,null,null,null,null,null,null,null,null,null,null,null,null,null,null,null,null,null,null,null,null,null,null,null,null,"ABDGHIJL",{"$f":"$BB$26","v":"Uruguay"},{"$f":"$CE$12","v":"Algerien"},"Bosnien-Herzegowina","Paraguay","Südkorea",{"$f":"$BB$19","v":"Iran"},{"$f":"$CE$26","v":"Ghana"},{"$f":"$CE$5","v":"Senegal"}]
[null,null,null,null,null,null,null,null,null,null,null,null,null,null,null,null,null,null,null,null,null,null,null,null,null,null,null,null,null,null,null,null,null,null,null,null,null,null,null,null,null,null,null,null,null,null,null,null,null,null,null,null,null,null,null,null,null,null,null,null,null,null,null,null,null,null,null,null,null,null,null,null,null,null,null,null,null,null,null,null,null,null,null,null,null,null,null,null,null,null,null,null,"ABDGHIKL",{"$f":"$CE$5","v":"Senegal"},{"$f":"$BB$19","v":"Iran"},"Bosnien-Herzegowina","Paraguay","Südkorea",{"$f":"$BB$26","v":"Uruguay"},{"$f":"$CE$26","v":"Ghana"},{"$f":"$CE$19","v":"DR Kongo"}]
[null,null,null,null,null,null,null,null,null,null,null,null,null,null,null,null,null,null,null,null,null,null,null,null,null,null,null,null,null,null,null,null,null,null,null,null,null,null,null,null,null,null,null,null,null,null,null,null,null,null,null,null,null,null,null,null,null,null,null,null,null,null,null,null,null,null,null,null,null,null,null,null,null,null,null,null,null,null,null,null,null,null,null,null,null,null,null,null,null,null,null,null,"ABDGHJKL",{"$f":"$BB$26","v":"Uruguay"},{"$f":"$CE$12","v":"Algerien"},"Bosnien-Herzegowina","Paraguay","Südkorea",{"$f":"$BB$19","v":"Iran"},{"$f":"$CE$26","v":"Ghana"},{"$f":"$CE$19","v":"DR Kongo"}]
[null,null,null,null,null,null,null,null,null,null,null,null,null,null,null,null,null,null,null,null,null,null,null,null,null,null,null,null,null,null,null,null,null,null,null,null,null,null,null,null,null,null,null,null,null,null,null,null,null,null,null,null,null,null,null,null,null,null,null,null,null,null,null,null,null,null,null,null,null,null,null,null,null,null,null,null,null,null,null,null,null,null,null,null,null,null,null,null,null,null,null,null,"ABDGIJKL",{"$f":"$CE$5","v":"Senegal"},{"$f":"$CE$12","v":"Algerien"},"Bosnien-Herzegowina","Paraguay","Südkorea",{"$f":"$BB$19","v":"Iran"},{"$f":"$CE$26","v":"Ghana"},{"$f":"$CE$19","v":"DR Kongo"}]
[null,null,null,null,null,null,null,null,null,null,null,null,null,null,null,null,null,null,null,null,null,null,null,null,null,null,null,null,null,null,null,null,null,null,null,null,null,null,null,null,null,null,null,null,null,null,null,null,null,null,null,null,null,null,null,null,null,null,null,null,null,null,null,null,null,null,null,null,null,null,null,null,null,null,null,null,null,null,null,null,null,null,null,null,null,null,null,null,null,null,null,null,"ABDHIJKL",{"$f":"$CE$5","v":"Senegal"},{"$f":"$CE$12","v":"Algerien"},"Bosnien-Herzegowina","Paraguay","Südkorea",{"$f":"$BB$26","v":"Uruguay"},{"$f":"$CE$26","v":"Ghana"},{"$f":"$CE$19","v":"DR Kongo"}]
[null,null,null,null,null,null,null,null,null,null,null,null,null,null,null,null,null,null,null,null,null,null,null,null,null,null,null,null,null,null,null,null,null,null,null,null,null,null,null,null,null,null,null,null,null,null,null,null,null,null,null,null,null,null,null,null,null,null,null,null,null,null,null,null,null,null,null,null,null,null,null,null,null,null,null,null,null,null,null,null,null,null,null,null,null,null,null,null,null,null,null,null,"ABEFGHIJ",{"$f":"$BB$26","v":"Uruguay"},{"$f":"$CE$12","v":"Algerien"},"Bosnien-Herzegowina",{"$f":"$BB$12","v":"Schweden"},"Südkorea",{"$f":"$BB$19","v":"Iran"},{"$f":"$BB$5","v":"Ecuador"},{"$f":"$CE$5","v":"Senegal"}]
[null,null,null,null,null,null,null,null,null,null,null,null,null,null,null,null,null,null,null,null,null,null,null,null,null,null,null,null,null,null,null,null,null,null,null,null,null,null,null,null,null,null,null,null,null,null,null,null,null,null,null,null,null,null,null,null,null,null,null,null,null,null,null,null,null,null,null,null,null,null,null,null,null,null,null,null,null,null,null,null,null,null,null,null,null,null,null,null,null,null,null,null,"ABEFGHIK",{"$f":"$BB$5","v":"Ecuador"},{"$f":"$BB$19","v":"Iran"},"Bosnien-Herzegowina","Schweden","Südkorea",{"$f":"$BB$26","v":"Uruguay"},{"$f":"$CE$5","v":"Senegal"},{"$f":"$CE$19","v":"DR Kongo"}]
[null,null,null,null,null,null,null,null,null,null,null,null,null,null,null,null,null,null,null,null,null,null,null,null,null,null,null,null,null,null,null,null,null,null,null,null,null,null,null,null,null,null,null,null,null,null,null,null,null,null,null,null,null,null,null,null,null,null,null,null,null,null,null,null,null,null,null,null,null,null,null,null,null,null,null,null,null,null,null,null,null,null,null,null,null,null,null,null,null,null,null,null,"ABEFGHIL",{"$f":"$BB$5","v":"Ecuador"},{"$f":"$BB$19","v":"Iran"},"Bosnien-Herzegowina","Schweden","Südkorea",{"$f":"$BB$26","v":"Uruguay"},{"$f":"$CE$26","v":"Ghana"},{"$f":"$CE$5","v":"Senegal"}]
[null,null,null,null,null,null,null,null,null,null,null,null,null,null,null,null,null,null,null,null,null,null,null,null,null,null,null,null,null,null,null,null,null,null,null,null,null,null,null,null,null,null,null,null,null,null,null,null,null,null,null,null,null,null,null,null,null,null,null,null,null,null,null,null,null,null,null,null,null,null,null,null,null,null,null,null,null,null,null,null,null,null,null,null,null,null,null,null,null,null,null,null,"ABEFGHJK",{"$f":"$BB$26","v":"Uruguay"},{"$f":"$CE$12","v":"Algerien"},"Bosnien-Herzegowina","Schweden","Südkorea",{"$f":"$BB$19","v":"Iran"},{"$f":"$BB$5","v":"Ecuador"},{"$f":"$CE$19","v":"DR Kongo"}]
[null,null,null,null,null,null,null,null,null,null,null,null,null,null,null,null,null,null,null,null,null,null,null,null,null,null,null,null,null,null,null,null,null,null,null,null,null,null,null,null,null,null,null,null,null,null,null,null,null,null,null,null,null,null,null,null,null,null,null,null,null,null,null,null,null,null,null,null,null,null,null,null,null,null,null,null,null,null,null,null,null,null,null,null,null,null,null,null,null,null,null,null,"ABEFGHJL",{"$f":"$BB$26","v":"Uruguay"},{"$f":"$CE$12","v":"Algerien"},"Bosnien-Herzegowina","Schweden","Südkorea",{"$f":"$BB$19","v":"Iran"},{"$f":"$CE$26","v":"Ghana"},{"$f":"$BB$5","v":"Ecuador"}]
[null,null,null,null,null,null,null,null,null,null,null,null,null,null,null,null,null,null,null,null,null,null,null,null,null,null,null,null,null,null,null,null,null,null,null,null,null,null,null,null,null,null,null,null,null,null,null,null,null,null,null,null,null,null,null,null,null,null,null,null,null,null,null,null,null,null,null,null,null,null,null,null,null,null,null,null,null,null,null,null,null,null,null,null,null,null,null,null,null,null,null,null,"ABEFGHKL",{"$f":"$BB$5","v":"Ecuador"},{"$f":"$BB$19","v":"Iran"},"Bosnien-Herzegowina","Schweden","Südkorea",{"$f":"$BB$26","v":"Uruguay"},{"$f":"$CE$26","v":"Ghana"},{"$f":"$CE$19","v":"DR Kongo"}]
[null,null,null,null,null,null,null,null,null,null,null,null,null,null,null,null,null,null,null,null,null,null,null,null,null,null,null,null,null,null,null,null,null,null,null,null,null,null,null,null,null,null,null,null,null,null,null,null,null,null,null,null,null,null,null,null,null,null,null,null,null,null,null,null,null,null,null,null,null,null,null,null,null,null,null,null,null,null,null,null,null,null,null,null,null,null,null,null,null,null,null,null,"ABEFGIJK","Ecuador",{"$f":"$CE$12","v":"Algerien"},"Bosnien-Herzegowina","Schweden","Südkorea",{"$f":"$BB$19","v":"Iran"},{"$f":"$CE$5","v":"Senegal"},{"$f":"$CE$19","v":"DR Kongo"}]
[null,null,null,null,null,null,null,null,null,null,null,null,null,null,null,null,null,null,null,null,null,null,null,null,null,null,null,null,null,null,null,null,null,null,null,null,null,null,null,null,null,null,null,null,null,null,null,null,null,null,null,null,null,null,null,null,null,null,null,null,null,null,null,null,null,null,null,null,null,null,null,null,null,null,null,null,null,null,null,null,null,null,null,null,null,null,null,null,null,null,null,null,"ABEFGIJL","Ecuador",{"$f":"$CE$12","v":"Algerien"},"Bosnien-Herzegowina","Schweden","Südkorea",{"$f":"$BB$19","v":"Iran"},{"$f":"$CE$26","v":"Ghana"},{"$f":"$CE$5","v":"Senegal"}]
[null,null,null,null,null,null,null,null,null,null,null,null,null,null,null,null,null,null,null,null,null,null,null,null,null,null,null,null,null,null,null,null,null,null,null,null,null,null,null,null,null,null,null,null,null,null,null,null,null,null,null,null,null,null,null,null,null,null,null,null,null,null,null,null,null,null,null,null,null,null,null,null,null,null,null,null,null,null,null,null,null,null,null,null,null,null,null,null,null,null,null,null,"ABEFGIKL","Ecuador",{"$f":"$BB$19","v":"Iran"},"Bosnien-Herzegowina",{"$f":"$Y$5","v":"Südkorea"},{"$f":"$CE$5","v":"Senegal"},{"$f":"$BB$12","v":"Schweden"},{"$f":"$CE$26","v":"Ghana"},{"$f":"$CE$19","v":"DR Kongo"}]
[null,null,null,null,null,null,null,null,null,null,null,null,null,null,null,null,null,null,null,null,null,null,null,null,null,null,null,null,null,null,null,null,null,null,null,null,null,null,null,null,null,null,null,null,null,null,null,null,null,null,null,null,null,null,null,null,null,null,null,null,null,null,null,null,null,null,null,null,null,null,null,null,null,null,null,null,null,null,null,null,null,null,null,null,null,null,null,null,null,null,null,null,"ABEFGJKL","Ecuador",{"$f":"$CE$12","v":"Algerien"},"Bosnien-Herzegowina",{"$f":"$BB$12","v":"Schweden"},{"$f":"$Y$5","v":"Südkorea"},{"$f":"$BB$19","v":"Iran"},{"$f":"$CE$26","v":"Ghana"},{"$f":"$CE$19","v":"DR Kongo"}]
[null,null,null,null,null,null,null,null,null,null,null,null,null,null,null,null,null,null,null,null,null,null,null,null,null,null,null,null,null,null,null,null,null,null,null,null,null,null,null,null,null,null,null,null,null,null,null,null,null,null,null,null,null,null,null,null,null,null,null,null,null,null,null,null,null,null,null,null,null,null,null,null,null,null,null,null,null,null,null,null,null,null,null,null,null,null,null,null,null,null,null,null,"ABEFHIJK","Ecuador",{"$f":"$CE$12","v":"Algerien"},{"$f":"$Y$12","v":"Bosnien-Herzegowina"},{"$f":"$BB$12","v":"Schweden"},{"$f":"$Y$5","v":"Südkorea"},{"$f":"$BB$26","v":"Uruguay"},{"$f":"$CE$5","v":"Senegal"},{"$f":"$CE$19","v":"DR Kongo"}]
[null,null,null,null,null,null,null,null,null,null,null,null,null,null,null,null,null,null,null,null,null,null,null,null,null,null,null,null,null,null,null,null,null,null,null,null,null,null,null,null,null,null,null,null,null,null,null,null,null,null,null,null,null,null,null,null,null,null,null,null,null,null,null,null,null,null,null,null,null,null,null,null,null,null,null,null,null,null,null,null,null,null,null,null,null,null,null,null,null,null,null,null,"ABEFHIJL","Ecuador",{"$f":"$CE$12","v":"Algerien"},"Bosnien-Herzegowina",{"$f":"$BB$12","v":"Schweden"},{"$f":"$Y$5","v":"Südkorea"},{"$f":"$BB$26","v":"Uruguay"},{"$f":"$CE$26","v":"Ghana"},{"$f":"$CE$5","v":"Senegal"}]
[null,null,null,null,null,null,null,null,null,null,null,null,null,null,null,null,null,null,null,null,null,null,null,null,null,null,null,null,null,null,null,null,null,null,null,null,null,null,null,null,null,null,null,null,null,null,null,null,null,null,null,null,null,null,null,null,null,null,null,null,null,null,null,null,null,null,null,null,null,null,null,null,null,null,null,null,null,null,null,null,null,null,null,null,null,null,null,null,null,null,null,null,"ABEFHIKL","Ecuador",{"$f":"$CE$5","v":"Senegal"},"Bosnien-Herzegowina",{"$f":"$BB$12","v":"Schweden"},{"$f":"$Y$5","v":"Südkorea"},{"$f":"$BB$26","v":"Uruguay"},{"$f":"$CE$26","v":"Ghana"},{"$f":"$CE$19","v":"DR Kongo"}]
[null,null,null,null,null,null,null,null,null,null,null,null,null,null,null,null,null,null,null,null,null,null,null,null,null,null,null,null,null,null,null,null,null,null,null,null,null,null,null,null,null,null,null,null,null,null,null,null,null,null,null,null,null,null,null,null,null,null,null,null,null,null,null,null,null,null,null,null,null,null,null,null,null,null,null,null,null,null,null,null,null,null,null,null,null,null,null,null,null,null,null,null,"ABEFHJKL","Ecuador",{"$f":"$CE$12","v":"Algerien"},"Bosnien-Herzegowina",{"$f":"$BB$12","v":"Schweden"},{"$f":"$Y$5","v":"Südkorea"},{"$f":"$BB$26","v":"Uruguay"},{"$f":"$CE$26","v":"Ghana"},{"$f":"$CE$19","v":"DR Kongo"}]
[null,null,null,null,null,null,null,null,null,null,null,null,null,null,null,null,null,null,null,null,null,null,null,null,null,null,null,null,null,null,null,null,null,null,null,null,null,null,null,null,null,null,null,null,null,null,null,null,null,null,null,null,null,null,null,null,null,null,null,null,null,null,null,null,null,null,null,null,null,null,null,null,null,null,null,null,null,null,null,null,null,null,null,null,null,null,null,null,null,null,null,null,"ABEFIJKL","Ecuador",{"$f":"$CE$12","v":"Algerien"},"Bosnien-Herzegowina",{"$f":"$Y$5","v":"Südkorea"},{"$f":"$CE$5","v":"Senegal"},{"$f":"$BB$12","v":"Schweden"},{"$f":"$CE$26","v":"Ghana"},{"$f":"$CE$19","v":"DR Kongo"}]
[null,null,null,null,null,null,null,null,null,null,null,null,null,null,null,null,null,null,null,null,null,null,null,null,null,null,null,null,null,null,null,null,null,null,null,null,null,null,null,null,null,null,null,null,null,null,null,null,null,null,null,null,null,null,null,null,null,null,null,null,null,null,null,null,null,null,null,null,null,null,null,null,null,null,null,null,null,null,null,null,null,null,null,null,null,null,null,null,null,null,null,null,"ABEGHIJK","Ecuador",{"$f":"$CE$12","v":"Algerien"},"Bosnien-Herzegowina","Südkorea",{"$f":"$BB$26","v":"Uruguay"},{"$f":"$BB$19","v":"Iran"},{"$f":"$CE$5","v":"Senegal"},{"$f":"$CE$19","v":"DR Kongo"}]
[null,null,null,null,null,null,null,null,null,null,null,null,null,null,null,null,null,null,null,null,null,null,null,null,null,null,null,null,null,null,null,null,null,null,null,null,null,null,null,null,null,null,null,null,null,null,null,null,null,null,null,null,null,null,null,null,null,null,null,null,null,null,null,null,null,null,null,null,null,null,null,null,null,null,null,null,null,null,null,null,null,null,null,null,null,null,null,null,null,null,null,null,"ABEGHIJL","Ecuador",{"$f":"$CE$12","v":"Algerien"},"Bosnien-Herzegowina","Südkorea",{"$f":"$BB$26","v":"Uruguay"},{"$f":"$BB$19","v":"Iran"},{"$f":"$CE$26","v":"Ghana"},{"$f":"$CE$5","v":"Senegal"}]
[null,null,null,null,null,null,null,null,null,null,null,null,null,null,null,null,null,null,null,null,null,null,null,null,null,null,null,null,null,null,null,null,null,null,null,null,null,null,null,null,null,null,null,null,null,null,null,null,null,null,null,null,null,null,null,null,null,null,null,null,null,null,null,null,null,null,null,null,null,null,null,null,null,null,null,null,null,null,null,null,null,null,null,null,null,null,null,null,null,null,null,null,"ABEGHIKL","Ecuador",{"$f":"$BB$19","v":"Iran"},"Bosnien-Herzegowina","Südkorea",{"$f":"$CE$5","v":"Senegal"},{"$f":"$BB$26","v":"Uruguay"},{"$f":"$CE$26","v":"Ghana"},{"$f":"$CE$19","v":"DR Kongo"}]
[null,null,null,null,null,null,null,null,null,null,null,null,null,null,null,null,null,null,null,null,null,null,null,null,null,null,null,null,null,null,null,null,null,null,null,null,null,null,null,null,null,null,null,null,null,null,null,null,null,null,null,null,null,null,null,null,null,null,null,null,null,null,null,null,null,null,null,null,null,null,null,null,null,null,null,null,null,null,null,null,null,null,null,null,null,null,null,null,null,null,null,null,"ABEGHJKL","Ecuador",{"$f":"$CE$12","v":"Algerien"},"Bosnien-Herzegowina","Südkorea",{"$f":"$BB$26","v":"Uruguay"},{"$f":"$BB$19","v":"Iran"},{"$f":"$CE$26","v":"Ghana"},{"$f":"$CE$19","v":"DR Kongo"}]
[null,null,null,null,null,null,null,null,null,null,null,null,null,null,null,null,null,null,null,null,null,null,null,null,null,null,null,null,null,null,null,null,null,null,null,null,null,null,null,null,null,null,null,null,null,null,null,null,null,null,null,null,null,null,null,null,null,null,null,null,null,null,null,null,null,null,null,null,null,null,null,null,null,null,null,null,null,null,null,null,null,null,null,null,null,null,null,null,null,null,null,null,"ABEGIJKL","Ecuador",{"$f":"$CE$12","v":"Algerien"},"Bosnien-Herzegowina","Südkorea",{"$f":"$CE$5","v":"Senegal"},{"$f":"$BB$19","v":"Iran"},{"$f":"$CE$26","v":"Ghana"},{"$f":"$CE$19","v":"DR Kongo"}]
[null,null,null,null,null,null,null,null,null,null,null,null,null,null,null,null,null,null,null,null,null,null,null,null,null,null,null,null,null,null,null,null,null,null,null,null,null,null,null,null,null,null,null,null,null,null,null,null,null,null,null,null,null,null,null,null,null,null,null,null,null,null,null,null,null,null,null,null,null,null,null,null,null,null,null,null,null,null,null,null,null,null,null,null,null,null,null,null,null,null,null,null,"ABEHIJKL","Ecuador",{"$f":"$CE$12","v":"Algerien"},"Bosnien-Herzegowina","Südkorea",{"$f":"$CE$5","v":"Senegal"},{"$f":"$BB$26","v":"Uruguay"},{"$f":"$CE$26","v":"Ghana"},{"$f":"$CE$19","v":"DR Kongo"}]
[null,null,null,null,null,null,null,null,null,null,null,null,null,null,null,null,null,null,null,null,null,null,null,null,null,null,null,null,null,null,null,null,null,null,null,null,null,null,null,null,null,null,null,null,null,null,null,null,null,null,null,null,null,null,null,null,null,null,null,null,null,null,null,null,null,null,null,null,null,null,null,null,null,null,null,null,null,null,null,null,null,null,null,null,null,null,null,null,null,null,null,null,"ABFGHIJK",{"$f":"$BB$26","v":"Uruguay"},{"$f":"$CE$12","v":"Algerien"},"Bosnien-Herzegowina",{"$f":"$BB$12","v":"Schweden"},{"$f":"$Y$5","v":"Südkorea"},{"$f":"$BB$19","v":"Iran"},{"$f":"$CE$5","v":"Senegal"},{"$f":"$CE$19","v":"DR Kongo"}]
[null,null,null,null,null,null,null,null,null,null,null,null,null,null,null,null,null,null,null,null,null,null,null,null,null,null,null,null,null,null,null,null,null,null,null,null,null,null,null,null,null,null,null,null,null,null,null,null,null,null,null,null,null,null,null,null,null,null,null,null,null,null,null,null,null,null,null,null,null,null,null,null,null,null,null,null,null,null,null,null,null,null,null,null,null,null,null,null,null,null,null,null,"ABFGHIJL",{"$f":"$BB$26","v":"Uruguay"},{"$f":"$CE$12","v":"Algerien"},"Bosnien-Herzegowina",{"$f":"$BB$12","v":"Schweden"},{"$f":"$Y$5","v":"Südkorea"},{"$f":"$BB$19","v":"Iran"},{"$f":"$CE$26","v":"Ghana"},{"$f":"$CE$5","v":"Senegal"}]
[null,null,null,null,null,null,null,null,null,null,null,null,null,null,null,null,null,null,null,null,null,null,null,null,null,null,null,null,null,null,null,null,null,null,null,null,null,null,null,null,null,null,null,null,null,null,null,null,null,null,null,null,null,null,null,null,null,null,null,null,null,null,null,null,null,null,null,null,null,null,null,null,null,null,null,null,null,null,null,null,null,null,null,null,null,null,null,null,null,null,null,null,"ABFGHIKL",{"$f":"$BB$26","v":"Uruguay"},{"$f":"$BB$19","v":"Iran"},"Bosnien-Herzegowina",{"$f":"$Y$5","v":"Südkorea"},{"$f":"$CE$5","v":"Senegal"},{"$f":"$BB$12","v":"Schweden"},"Ghana",{"$f":"$CE$19","v":"DR Kongo"}]
[null,null,null,null,null,null,null,null,null,null,null,null,null,null,null,null,null,null,null,null,null,null,null,null,null,null,null,null,null,null,null,null,null,null,null,null,null,null,null,null,null,null,null,null,null,null,null,null,null,null,null,null,null,null,null,null,null,null,null,null,null,null,null,null,null,null,null,null,null,null,null,null,null,null,null,null,null,null,null,null,null,null,null,null,null,null,null,null,null,null,null,null,"ABFGHJKL",{"$f":"$BB$26","v":"Uruguay"},{"$f":"$CE$12","v":"Algerien"},"Bosnien-Herzegowina",{"$f":"$BB$12","v":"Schweden"},{"$f":"$Y$5","v":"Südkorea"},{"$f":"$BB$19","v":"Iran"},"Ghana",{"$f":"$CE$19","v":"DR Kongo"}]
[null,null,null,null,null,null,null,null,null,null,null,null,null,null,null,null,null,null,null,null,null,null,null,null,null,null,null,null,null,null,null,null,null,null,null,null,null,null,null,null,null,null,null,null,null,null,null,null,null,null,null,null,null,null,null,null,null,null,null,null,null,null,null,null,null,null,null,null,null,null,null,null,null,null,null,null,null,null,null,null,null,null,null,null,null,null,null,null,null,null,null,null,"ABFGIJKL",{"$f":"$CE$5","v":"Senegal"},{"$f":"$CE$12","v":"Algerien"},"Bosnien-Herzegowina",{"$f":"$BB$12","v":"Schweden"},{"$f":"$Y$5","v":"Südkorea"},{"$f":"$BB$19","v":"Iran"},"Ghana",{"$f":"$CE$19","v":"DR Kongo"}]
[null,null,null,null,null,null,null,null,null,null,null,null,null,null,null,null,null,null,null,null,null,null,null,null,null,null,null,null,null,null,null,null,null,null,null,null,null,null,null,null,null,null,null,null,null,null,null,null,null,null,null,null,null,null,null,null,null,null,null,null,null,null,null,null,null,null,null,null,null,null,null,null,null,null,null,null,null,null,null,null,null,null,null,null,null,null,null,null,null,null,null,null,"ABFHIJKL",{"$f":"$BB$26","v":"Uruguay"},{"$f":"$CE$12","v":"Algerien"},"Bosnien-Herzegowina",{"$f":"$Y$5","v":"Südkorea"},{"$f":"$CE$5","v":"Senegal"},{"$f":"$BB$12","v":"Schweden"},"Ghana",{"$f":"$CE$19","v":"DR Kongo"}]
[null,null,null,null,null,null,null,null,null,null,null,null,null,null,null,null,null,null,null,null,null,null,null,null,null,null,null,null,null,null,null,null,null,null,null,null,null,null,null,null,null,null,null,null,null,null,null,null,null,null,null,null,null,null,null,null,null,null,null,null,null,null,null,null,null,null,null,null,null,null,null,null,null,null,null,null,null,null,null,null,null,null,null,null,null,null,null,null,null,null,null,null,"ABGHIJKL","Uruguay",{"$f":"$CE$12","v":"Algerien"},"Bosnien-Herzegowina",{"$f":"$Y$5","v":"Südkorea"},{"$f":"$CE$5","v":"Senegal"},{"$f":"$BB$19","v":"Iran"},"Ghana",{"$f":"$CE$19","v":"DR Kongo"}]
[null,null,null,null,null,null,null,null,null,null,null,null,null,null,null,null,null,null,null,null,null,null,null,null,null,null,null,null,null,null,null,null,null,null,null,null,null,null,null,null,null,null,null,null,null,null,null,null,null,null,null,null,null,null,null,null,null,null,null,null,null,null,null,null,null,null,null,null,null,null,null,null,null,null,null,null,null,null,null,null,null,null,null,null,null,null,null,null,null,null,null,null,"ACDEFGHI","Uruguay",{"$f":"$BB$19","v":"Iran"},{"$f":"$BB$5","v":"Ecuador"},{"$f":"$Y$19","v":"Schottland"},{"$f":"$Y$5","v":"Südkorea"},{"$f":"$BB$12","v":"Schweden"},{"$f":"$Y$26","v":"Paraguay"},{"$f":"$CE$5","v":"Senegal"}]
[null,null,null,null,null,null,null,null,null,null,null,null,null,null,null,null,null,null,null,null,null,null,null,null,null,null,null,null,null,null,null,null,null,null,null,null,null,null,null,null,null,null,null,null,null,null,null,null,null,null,null,null,null,null,null,null,null,null,null,null,null,null,null,null,null,null,null,null,null,null,null,null,null,null,null,null,null,null,null,null,null,null,null,null,null,null,null,null,null,null,null,null,"ACDEFGHJ","Uruguay","Iran",{"$f":"$CE$12","v":"Algerien"},{"$f":"$Y$19","v":"Schottland"},"Südkorea",{"$f":"$BB$12","v":"Schweden"},{"$f":"$Y$26","v":"Paraguay"},{"$f":"$BB$5","v":"Ecuador"}]
[null,null,null,null,null,null,null,null,null,null,null,null,null,null,null,null,null,null,null,null,null,null,null,null,null,null,null,null,null,null,null,null,null,null,null,null,null,null,null,null,null,null,null,null,null,null,null,null,null,null,null,null,null,null,null,null,null,null,null,null,null,null,null,null,null,null,null,null,null,null,null,null,null,null,null,null,null,null,null,null,null,null,null,null,null,null,null,null,null,null,null,null,"ACDEFGHK","Uruguay","Iran",{"$f":"$BB$5","v":"Ecuador"},{"$f":"$Y$19","v":"Schottland"},"Südkorea",{"$f":"$BB$12","v":"Schweden"},{"$f":"$Y$26","v":"Paraguay"},{"$f":"$CE$19","v":"DR Kongo"}]
[null,null,null,null,null,null,null,null,null,null,null,null,null,null,null,null,null,null,null,null,null,null,null,null,null,null,null,null,null,null,null,null,null,null,null,null,null,null,null,null,null,null,null,null,null,null,null,null,null,null,null,null,null,null,null,null,null,null,null,null,null,null,null,null,null,null,null,null,null,null,null,null,null,null,null,null,null,null,null,null,null,null,null,null,null,null,null,null,null,null,null,null,"ACDEFGHL","Uruguay","Iran",{"$f":"$BB$12","v":"Schweden"},{"$f":"$Y$19","v":"Schottland"},"Südkorea",{"$f":"$Y$26","v":"Paraguay"},{"$f":"$CE$26","v":"Ghana"},{"$f":"$BB$5","v":"Ecuador"}]
[null,null,null,null,null,null,null,null,null,null,null,null,null,null,null,null,null,null,null,null,null,null,null,null,null,null,null,null,null,null,null,null,null,null,null,null,null,null,null,null,null,null,null,null,null,null,null,null,null,null,null,null,null,null,null,null,null,null,null,null,null,null,null,null,null,null,null,null,null,null,null,null,null,null,null,null,null,null,null,null,null,null,null,null,null,null,null,null,null,null,null,null,"ACDEFGIJ",{"$f":"$Y$19","v":"Schottland"},"Iran",{"$f":"$CE$12","v":"Algerien"},{"$f":"$Y$26","v":"Paraguay"},"Südkorea",{"$f":"$BB$12","v":"Schweden"},{"$f":"$BB$5","v":"Ecuador"},{"$f":"$CE$5","v":"Senegal"}]
[null,null,null,null,null,null,null,null,null,null,null,null,null,null,null,null,null,null,null,null,null,null,null,null,null,null,null,null,null,null,null,null,null,null,null,null,null,null,null,null,null,null,null,null,null,null,null,null,null,null,null,null,null,null,null,null,null,null,null,null,null,null,null,null,null,null,null,null,null,null,null,null,null,null,null,null,null,null,null,null,null,null,null,null,null,null,null,null,null,null,null,null,"ACDEFGIK","Schottland","Iran",{"$f":"$BB$5","v":"Ecuador"},"Paraguay","Südkorea","Schweden",{"$f":"$CE$5","v":"Senegal"},{"$f":"$CE$19","v":"DR Kongo"}]
[null,null,null,null,null,null,null,null,null,null,null,null,null,null,null,null,null,null,null,null,null,null,null,null,null,null,null,null,null,null,null,null,null,null,null,null,null,null,null,null,null,null,null,null,null,null,null,null,null,null,null,null,null,null,null,null,null,null,null,null,null,null,null,null,null,null,null,null,null,null,null,null,null,null,null,null,null,null,null,null,null,null,null,null,null,null,null,null,null,null,null,null,"ACDEFGIL","Schottland","Iran",{"$f":"$BB$5","v":"Ecuador"},"Paraguay","Südkorea","Schweden",{"$f":"$CE$26","v":"Ghana"},{"$f":"$CE$5","v":"Senegal"}]
[null,null,null,null,null,null,null,null,null,null,null,null,null,null,null,null,null,null,null,null,null,null,null,null,null,null,null,null,null,null,null,null,null,null,null,null,null,null,null,null,null,null,null,null,null,null,null,null,null,null,null,null,null,null,null,null,null,null,null,null,null,null,null,null,null,null,null,null,null,null,null,null,null,null,null,null,null,null,null,null,null,null,null,null,null,null,null,null,null,null,null,null,"ACDEFGJK","Schottland","Iran",{"$f":"$CE$12","v":"Algerien"},"Paraguay","Südkorea","Schweden",{"$f":"$BB$5","v":"Ecuador"},{"$f":"$CE$19","v":"DR Kongo"}]
[null,null,null,null,null,null,null,null,null,null,null,null,null,null,null,null,null,null,null,null,null,null,null,null,null,null,null,null,null,null,null,null,null,null,null,null,null,null,null,null,null,null,null,null,null,null,null,null,null,null,null,null,null,null,null,null,null,null,null,null,null,null,null,null,null,null,null,null,null,null,null,null,null,null,null,null,null,null,null,null,null,null,null,null,null,null,null,null,null,null,null,null,"ACDEFGJL","Schottland","Iran",{"$f":"$CE$12","v":"Algerien"},"Paraguay","Südkorea","Schweden",{"$f":"$CE$26","v":"Ghana"},{"$f":"$BB$5","v":"Ecuador"}]
[null,null,null,null,null,null,null,null,null,null,null,null,null,null,null,null,null,null,null,null,null,null,null,null,null,null,null,null,null,null,null,null,null,null,null,null,null,null,null,null,null,null,null,null,null,null,null,null,null,null,null,null,null,null,null,null,null,null,null,null,null,null,null,null,null,null,null,null,null,null,null,null,null,null,null,null,null,null,null,null,null,null,null,null,null,null,null,null,null,null,null,null,"ACDEFGKL","Schottland","Iran",{"$f":"$BB$5","v":"Ecuador"},"Paraguay","Südkorea","Schweden",{"$f":"$CE$26","v":"Ghana"},{"$f":"$CE$19","v":"DR Kongo"}]
[null,null,null,null,null,null,null,null,null,null,null,null,null,null,null,null,null,null,null,null,null,null,null,null,null,null,null,null,null,null,null,null,null,null,null,null,null,null,null,null,null,null,null,null,null,null,null,null,null,null,null,null,null,null,null,null,null,null,null,null,null,null,null,null,null,null,null,null,null,null,null,null,null,null,null,null,null,null,null,null,null,null,null,null,null,null,null,null,null,null,null,null,"ACDEFHIJ",{"$f":"$BB$26","v":"Uruguay"},{"$f":"$CE$12","v":"Algerien"},{"$f":"$BB$5","v":"Ecuador"},{"$f":"$Y$19","v":"Schottland"},"Südkorea","Schweden",{"$f":"$Y$26","v":"Paraguay"},{"$f":"$CE$5","v":"Senegal"}]
[null,null,null,null,null,null,null,null,null,null,null,null,null,null,null,null,null,null,null,null,null,null,null,null,null,null,null,null,null,null,null,null,null,null,null,null,null,null,null,null,null,null,null,null,null,null,null,null,null,null,null,null,null,null,null,null,null,null,null,null,null,null,null,null,null,null,null,null,null,null,null,null,null,null,null,null,null,null,null,null,null,null,null,null,null,null,null,null,null,null,null,null,"ACDEFHIK","Uruguay",{"$f":"$BB$5","v":"Ecuador"},{"$f":"$BB$12","v":"Schweden"},"Schottland","Südkorea",{"$f":"$Y$26","v":"Paraguay"},{"$f":"$CE$5","v":"Senegal"},{"$f":"$CE$19","v":"DR Kongo"}]
[null,null,null,null,null,null,null,null,null,null,null,null,null,null,null,null,null,null,null,null,null,null,null,null,null,null,null,null,null,null,null,null,null,null,null,null,null,null,null,null,null,null,null,null,null,null,null,null,null,null,null,null,null,null,null,null,null,null,null,null,null,null,null,null,null,null,null,null,null,null,null,null,null,null,null,null,null,null,null,null,null,null,null,null,null,null,null,null,null,null,null,null,"ACDEFHIL","Uruguay",{"$f":"$BB$5","v":"Ecuador"},{"$f":"$BB$12","v":"Schweden"},"Schottland","Südkorea",{"$f":"$Y$26","v":"Paraguay"},{"$f":"$CE$26","v":"Ghana"},{"$f":"$CE$5","v":"Senegal"}]
[null,null,null,null,null,null,null,null,null,null,null,null,null,null,null,null,null,null,null,null,null,null,null,null,null,null,null,null,null,null,null,null,null,null,null,null,null,null,null,null,null,null,null,null,null,null,null,null,null,null,null,null,null,null,null,null,null,null,null,null,null,null,null,null,null,null,null,null,null,null,null,null,null,null,null,null,null,null,null,null,null,null,null,null,null,null,null,null,null,null,null,null,"ACDEFHJK","Uruguay",{"$f":"$CE$12","v":"Algerien"},{"$f":"$BB$5","v":"Ecuador"},"Schottland","Südkorea",{"$f":"$BB$12","v":"Schweden"},{"$f":"$Y$26","v":"Paraguay"},{"$f":"$CE$19","v":"DR Kongo"}]
[null,null,null,null,null,null,null,null,null,null,null,null,null,null,null,null,null,null,null,null,null,null,null,null,null,null,null,null,null,null,null,null,null,null,null,null,null,null,null,null,null,null,null,null,null,null,null,null,null,null,null,null,null,null,null,null,null,null,null,null,null,null,null,null,null,null,null,null,null,null,null,null,null,null,null,null,null,null,null,null,null,null,null,null,null,null,null,null,null,null,null,null,"ACDEFHJL","Uruguay",{"$f":"$CE$12","v":"Algerien"},{"$f":"$BB$12","v":"Schweden"},"Schottland","Südkorea",{"$f":"$Y$26","v":"Paraguay"},{"$f":"$CE$26","v":"Ghana"},{"$f":"$BB$5","v":"Ecuador"}]
[null,null,null,null,null,null,null,null,null,null,null,null,null,null,null,null,null,null,null,null,null,null,null,null,null,null,null,null,null,null,null,null,null,null,null,null,null,null,null,null,null,null,null,null,null,null,null,null,null,null,null,null,null,null,null,null,null,null,null,null,null,null,null,null,null,null,null,null,null,null,null,null,null,null,null,null,null,null,null,null,null,null,null,null,null,null,null,null,null,null,null,null,"ACDEFHKL","Uruguay",{"$f":"$BB$5","v":"Ecuador"},{"$f":"$BB$12","v":"Schweden"},"Schottland","Südkorea",{"$f":"$Y$26","v":"Paraguay"},{"$f":"$CE$26","v":"Ghana"},{"$f":"$CE$19","v":"DR Kongo"}]
[null,null,null,null,null,null,null,null,null,null,null,null,null,null,null,null,null,null,null,null,null,null,null,null,null,null,null,null,null,null,null,null,null,null,null,null,null,null,null,null,null,null,null,null,null,null,null,null,null,null,null,null,null,null,null,null,null,null,null,null,null,null,null,null,null,null,null,null,null,null,null,null,null,null,null,null,null,null,null,null,null,null,null,null,null,null,null,null,null,null,null,null,"ACDEFIJK",{"$f":"$Y$19","v":"Schottland"},{"$f":"$CE$12","v":"Algerien"},{"$f":"$BB$5","v":"Ecuador"},{"$f":"$Y$26","v":"Paraguay"},"Südkorea",{"$f":"$BB$12","v":"Schweden"},{"$f":"$CE$5","v":"Senegal"},{"$f":"$CE$19","v":"DR Kongo"}]
[null,null,null,null,null,null,null,null,null,null,null,null,null,null,null,null,null,null,null,null,null,null,null,null,null,null,null,null,null,null,null,null,null,null,null,null,null,null,null,null,null,null,null,null,null,null,null,null,null,null,null,null,null,null,null,null,null,null,null,null,null,null,null,null,null,null,null,null,null,null,null,null,null,null,null,null,null,null,null,null,null,null,null,null,null,null,null,null,null,null,null,null,"ACDEFIJL",{"$f":"$Y$19","v":"Schottland"},{"$f":"$CE$12","v":"Algerien"},{"$f":"$BB$5","v":"Ecuador"},{"$f":"$Y$26","v":"Paraguay"},"Südkorea",{"$f":"$BB$12","v":"Schweden"},{"$f":"$CE$26","v":"Ghana"},{"$f":"$CE$5","v":"Senegal"}]
[null,null,null,null,null,null,null,null,null,null,null,null,null,null,null,null,null,null,null,null,null,null,null,null,null,null,null,null,null,null,null,null,null,null,null,null,null,null,null,null,null,null,null,null,null,null,null,null,null,null,null,null,null,null,null,null,null,null,null,null,null,null,null,null,null,null,null,null,null,null,null,null,null,null,null,null,null,null,null,null,null,null,null,null,null,null,null,null,null,null,null,null,"ACDEFIKL",{"$f":"$Y$19","v":"Schottland"},{"$f":"$BB$5","v":"Ecuador"},{"$f":"$CE$5","v":"Senegal"},{"$f":"$Y$26","v":"Paraguay"},"Südkorea",{"$f":"$BB$12","v":"Schweden"},{"$f":"$CE$26","v":"Ghana"},{"$f":"$CE$19","v":"DR Kongo"}]
[null,null,null,null,null,null,null,null,null,null,null,null,null,null,null,null,null,null,null,null,null,null,null,null,null,null,null,null,null,null,null,null,null,null,null,null,null,null,null,null,null,null,null,null,null,null,null,null,null,null,null,null,null,null,null,null,null,null,null,null,null,null,null,null,null,null,null,null,null,null,null,null,null,null,null,null,null,null,null,null,null,null,null,null,null,null,null,null,null,null,null,null,"ACDEFJKL",{"$f":"$Y$19","v":"Schottland"},{"$f":"$CE$12","v":"Algerien"},{"$f":"$BB$5","v":"Ecuador"},{"$f":"$Y$26","v":"Paraguay"},"Südkorea",{"$f":"$BB$12","v":"Schweden"},{"$f":"$CE$26","v":"Ghana"},{"$f":"$CE$19","v":"DR Kongo"}]
[null,null,null,null,null,null,null,null,null,null,null,null,null,null,null,null,null,null,null,null,null,null,null,null,null,null,null,null,null,null,null,null,null,null,null,null,null,null,null,null,null,null,null,null,null,null,null,null,null,null,null,null,null,null,null,null,null,null,null,null,null,null,null,null,null,null,null,null,null,null,null,null,null,null,null,null,null,null,null,null,null,null,null,null,null,null,null,null,null,null,null,null,"ACDEGHIJ",{"$f":"$BB$26","v":"Uruguay"},{"$f":"$BB$19","v":"Iran"},{"$f":"$CE$12","v":"Algerien"},{"$f":"$Y$19","v":"Schottland"},"Südkorea",{"$f":"$Y$26","v":"Paraguay"},{"$f":"$BB$5","v":"Ecuador"},{"$f":"$CE$5","v":"Senegal"}]
[null,null,null,null,null,null,null,null,null,null,null,null,null,null,null,null,null,null,null,null,null,null,null,null,null,null,null,null,null,null,null,null,null,null,null,null,null,null,null,null,null,null,null,null,null,null,null,null,null,null,null,null,null,null,null,null,null,null,null,null,null,null,null,null,null,null,null,null,null,null,null,null,null,null,null,null,null,null,null,null,null,null,null,null,null,null,null,null,null,null,null,null,"ACDEGHIK","Uruguay","Iran",{"$f":"$BB$5","v":"Ecuador"},"Schottland","Südkorea","Paraguay",{"$f":"$CE$5","v":"Senegal"},{"$f":"$CE$19","v":"DR Kongo"}]
[null,null,null,null,null,null,null,null,null,null,null,null,null,null,null,null,null,null,null,null,null,null,null,null,null,null,null,null,null,null,null,null,null,null,null,null,null,null,null,null,null,null,null,null,null,null,null,null,null,null,null,null,null,null,null,null,null,null,null,null,null,null,null,null,null,null,null,null,null,null,null,null,null,null,null,null,null,null,null,null,null,null,null,null,null,null,null,null,null,null,null,null,"ACDEGHIL","Uruguay","Iran",{"$f":"$BB$5","v":"Ecuador"},"Schottland","Südkorea","Paraguay",{"$f":"$CE$26","v":"Ghana"},{"$f":"$CE$5","v":"Senegal"}]
[null,null,null,null,null,null,null,null,null,null,null,null,null,null,null,null,null,null,null,null,null,null,null,null,null,null,null,null,null,null,null,null,null,null,null,null,null,null,null,null,null,null,null,null,null,null,null,null,null,null,null,null,null,null,null,null,null,null,null,null,null,null,null,null,null,null,null,null,null,null,null,null,null,null,null,null,null,null,null,null,null,null,null,null,null,null,null,null,null,null,null,null,"ACDEGHJK","Uruguay","Iran",{"$f":"$CE$12","v":"Algerien"},"Schottland","Südkorea","Paraguay",{"$f":"$BB$5","v":"Ecuador"},{"$f":"$CE$19","v":"DR Kongo"}]
[null,null,null,null,null,null,null,null,null,null,null,null,null,null,null,null,null,null,null,null,null,null,null,null,null,null,null,null,null,null,null,null,null,null,null,null,null,null,null,null,null,null,null,null,null,null,null,null,null,null,null,null,null,null,null,null,null,null,null,null,null,null,null,null,null,null,null,null,null,null,null,null,null,null,null,null,null,null,null,null,null,null,null,null,null,null,null,null,null,null,null,null,"ACDEGHJL","Uruguay","Iran",{"$f":"$CE$12","v":"Algerien"},"Schottland","Südkorea","Paraguay",{"$f":"$CE$26","v":"Ghana"},{"$f":"$BB$5","v":"Ecuador"}]
[null,null,null,null,null,null,null,null,null,null,null,null,null,null,null,null,null,null,null,null,null,null,null,null,null,null,null,null,null,null,null,null,null,null,null,null,null,null,null,null,null,null,null,null,null,null,null,null,null,null,null,null,null,null,null,null,null,null,null,null,null,null,null,null,null,null,null,null,null,null,null,null,null,null,null,null,null,null,null,null,null,null,null,null,null,null,null,null,null,null,null,null,"ACDEGHKL","Uruguay","Iran",{"$f":"$BB$5","v":"Ecuador"},"Schottland","Südkorea","Paraguay",{"$f":"$CE$26","v":"Ghana"},{"$f":"$CE$19","v":"DR Kongo"}]
[null,null,null,null,null,null,null,null,null,null,null,null,null,null,null,null,null,null,null,null,null,null,null,null,null,null,null,null,null,null,null,null,null,null,null,null,null,null,null,null,null,null,null,null,null,null,null,null,null,null,null,null,null,null,null,null,null,null,null,null,null,null,null,null,null,null,null,null,null,null,null,null,null,null,null,null,null,null,null,null,null,null,null,null,null,null,null,null,null,null,null,null,"ACDEGIJK",{"$f":"$BB$5","v":"Ecuador"},"Iran",{"$f":"$CE$12","v":"Algerien"},"Schottland","Südkorea","Paraguay",{"$f":"$CE$5","v":"Senegal"},{"$f":"$CE$19","v":"DR Kongo"}]
[null,null,null,null,null,null,null,null,null,null,null,null,null,null,null,null,null,null,null,null,null,null,null,null,null,null,null,null,null,null,null,null,null,null,null,null,null,null,null,null,null,null,null,null,null,null,null,null,null,null,null,null,null,null,null,null,null,null,null,null,null,null,null,null,null,null,null,null,null,null,null,null,null,null,null,null,null,null,null,null,null,null,null,null,null,null,null,null,null,null,null,null,"ACDEGIJL",{"$f":"$BB$5","v":"Ecuador"},"Iran",{"$f":"$CE$12","v":"Algerien"},"Schottland","Südkorea","Paraguay",{"$f":"$CE$26","v":"Ghana"},{"$f":"$CE$5","v":"Senegal"}]
[null,null,null,null,null,null,null,null,null,null,null,null,null,null,null,null,null,null,null,null,null,null,null,null,null,null,null,null,null,null,null,null,null,null,null,null,null,null,null,null,null,null,null,null,null,null,null,null,null,null,null,null,null,null,null,null,null,null,null,null,null,null,null,null,null,null,null,null,null,null,null,null,null,null,null,null,null,null,null,null,null,null,null,null,null,null,null,null,null,null,null,null,"ACDEGIKL",{"$f":"$BB$5","v":"Ecuador"},"Iran",{"$f":"$CE$5","v":"Senegal"},"Schottland","Südkorea","Paraguay",{"$f":"$CE$26","v":"Ghana"},{"$f":"$CE$19","v":"DR Kongo"}]
[null,null,null,null,null,null,null,null,null,null,null,null,null,null,null,null,null,null,null,null,null,null,null,null,null,null,null,null,null,null,null,null,null,null,null,null,null,null,null,null,null,null,null,null,null,null,null,null,null,null,null,null,null,null,null,null,null,null,null,null,null,null,null,null,null,null,null,null,null,null,null,null,null,null,null,null,null,null,null,null,null,null,null,null,null,null,null,null,null,null,null,null,"ACDEGJKL",{"$f":"$BB$5","v":"Ecuador"},"Iran",{"$f":"$CE$12","v":"Algerien"},"Schottland","Südkorea","Paraguay",{"$f":"$CE$26","v":"Ghana"},{"$f":"$CE$19","v":"DR Kongo"}]
[null,null,null,null,null,null,null,null,null,null,null,null,null,null,null,null,null,null,null,null,null,null,null,null,null,null,null,null,null,null,null,null,null,null,null,null,null,null,null,null,null,null,null,null,null,null,null,null,null,null,null,null,null,null,null,null,null,null,null,null,null,null,null,null,null,null,null,null,null,null,null,null,null,null,null,null,null,null,null,null,null,null,null,null,null,null,null,null,null,null,null,null,"ACDEHIJK",{"$f":"$BB$26","v":"Uruguay"},{"$f":"$CE$12","v":"Algerien"},{"$f":"$BB$5","v":"Ecuador"},"Schottland","Südkorea","Paraguay",{"$f":"$CE$5","v":"Senegal"},{"$f":"$CE$19","v":"DR Kongo"}]
[null,null,null,null,null,null,null,null,null,null,null,null,null,null,null,null,null,null,null,null,null,null,null,null,null,null,null,null,null,null,null,null,null,null,null,null,null,null,null,null,null,null,null,null,null,null,null,null,null,null,null,null,null,null,null,null,null,null,null,null,null,null,null,null,null,null,null,null,null,null,null,null,null,null,null,null,null,null,null,null,null,null,null,null,null,null,null,null,null,null,null,null,"ACDEHIJL",{"$f":"$BB$26","v":"Uruguay"},{"$f":"$CE$12","v":"Algerien"},{"$f":"$BB$5","v":"Ecuador"},"Schottland","Südkorea","Paraguay",{"$f":"$CE$26","v":"Ghana"},{"$f":"$CE$5","v":"Senegal"}]
[null,null,null,null,null,null,null,null,null,null,null,null,null,null,null,null,null,null,null,null,null,null,null,null,null,null,null,null,null,null,null,null,null,null,null,null,null,null,null,null,null,null,null,null,null,null,null,null,null,null,null,null,null,null,null,null,null,null,null,null,null,null,null,null,null,null,null,null,null,null,null,null,null,null,null,null,null,null,null,null,null,null,null,null,null,null,null,null,null,null,null,null,"ACDEHIKL",{"$f":"$BB$26","v":"Uruguay"},{"$f":"$BB$5","v":"Ecuador"},{"$f":"$CE$5","v":"Senegal"},"Schottland",{"$f":"$Y$5","v":"Südkorea"},"Paraguay",{"$f":"$CE$26","v":"Ghana"},{"$f":"$CE$19","v":"DR Kongo"}]
[null,null,null,null,null,null,null,null,null,null,null,null,null,null,null,null,null,null,null,null,null,null,null,null,null,null,null,null,null,null,null,null,null,null,null,null,null,null,null,null,null,null,null,null,null,null,null,null,null,null,null,null,null,null,null,null,null,null,null,null,null,null,null,null,null,null,null,null,null,null,null,null,null,null,null,null,null,null,null,null,null,null,null,null,null,null,null,null,null,null,null,null,"ACDEHJKL",{"$f":"$BB$26","v":"Uruguay"},{"$f":"$CE$12","v":"Algerien"},{"$f":"$BB$5","v":"Ecuador"},"Schottland","Südkorea","Paraguay",{"$f":"$CE$26","v":"Ghana"},{"$f":"$CE$19","v":"DR Kongo"}]
[null,null,null,null,null,null,null,null,null,null,null,null,null,null,null,null,null,null,null,null,null,null,null,null,null,null,null,null,null,null,null,null,null,null,null,null,null,null,null,null,null,null,null,null,null,null,null,null,null,null,null,null,null,null,null,null,null,null,null,null,null,null,null,null,null,null,null,null,null,null,null,null,null,null,null,null,null,null,null,null,null,null,null,null,null,null,null,null,null,null,null,null,"ACDEIJKL",{"$f":"$BB$5","v":"Ecuador"},{"$f":"$CE$12","v":"Algerien"},{"$f":"$CE$5","v":"Senegal"},"Schottland","Südkorea","Paraguay",{"$f":"$CE$26","v":"Ghana"},{"$f":"$CE$19","v":"DR Kongo"}]
[null,null,null,null,null,null,null,null,null,null,null,null,null,null,null,null,null,null,null,null,null,null,null,null,null,null,null,null,null,null,null,null,null,null,null,null,null,null,null,null,null,null,null,null,null,null,null,null,null,null,null,null,null,null,null,null,null,null,null,null,null,null,null,null,null,null,null,null,null,null,null,null,null,null,null,null,null,null,null,null,null,null,null,null,null,null,null,null,null,null,null,null,"ACDFGHIJ",{"$f":"$BB$26","v":"Uruguay"},{"$f":"$BB$19","v":"Iran"},{"$f":"$CE$12","v":"Algerien"},"Schottland","Südkorea",{"$f":"$BB$12","v":"Schweden"},{"$f":"$Y$26","v":"Paraguay"},{"$f":"$CE$5","v":"Senegal"}]
[null,null,null,null,null,null,null,null,null,null,null,null,null,null,null,null,null,null,null,null,null,null,null,null,null,null,null,null,null,null,null,null,null,null,null,null,null,null,null,null,null,null,null,null,null,null,null,null,null,null,null,null,null,null,null,null,null,null,null,null,null,null,null,null,null,null,null,null,null,null,null,null,null,null,null,null,null,null,null,null,null,null,null,null,null,null,null,null,null,null,null,null,"ACDFGHIK",{"$f":"$BB$26","v":"Uruguay"},"Iran",{"$f":"$BB$12","v":"Schweden"},"Schottland","Südkorea",{"$f":"$Y$26","v":"Paraguay"},{"$f":"$CE$5","v":"Senegal"},{"$f":"$CE$19","v":"DR Kongo"}]
[null,null,null,null,null,null,null,null,null,null,null,null,null,null,null,null,null,null,null,null,null,null,null,null,null,null,null,null,null,null,null,null,null,null,null,null,null,null,null,null,null,null,null,null,null,null,null,null,null,null,null,null,null,null,null,null,null,null,null,null,null,null,null,null,null,null,null,null,null,null,null,null,null,null,null,null,null,null,null,null,null,null,null,null,null,null,null,null,null,null,null,null,"ACDFGHIL",{"$f":"$BB$26","v":"Uruguay"},"Iran",{"$f":"$BB$12","v":"Schweden"},"Schottland","Südkorea",{"$f":"$Y$26","v":"Paraguay"},{"$f":"$CE$26","v":"Ghana"},{"$f":"$CE$5","v":"Senegal"}]
[null,null,null,null,null,null,null,null,null,null,null,null,null,null,null,null,null,null,null,null,null,null,null,null,null,null,null,null,null,null,null,null,null,null,null,null,null,null,null,null,null,null,null,null,null,null,null,null,null,null,null,null,null,null,null,null,null,null,null,null,null,null,null,null,null,null,null,null,null,null,null,null,null,null,null,null,null,null,null,null,null,null,null,null,null,null,null,null,null,null,null,null,"ACDFGHJK",{"$f":"$BB$26","v":"Uruguay"},"Iran",{"$f":"$CE$12","v":"Algerien"},"Schottland","Südkorea",{"$f":"$BB$12","v":"Schweden"},{"$f":"$Y$26","v":"Paraguay"},{"$f":"$CE$19","v":"DR Kongo"}]
[null,null,null,null,null,null,null,null,null,null,null,null,null,null,null,null,null,null,null,null,null,null,null,null,null,null,null,null,null,null,null,null,null,null,null,null,null,null,null,null,null,null,null,null,null,null,null,null,null,null,null,null,null,null,null,null,null,null,null,null,null,null,null,null,null,null,null,null,null,null,null,null,null,null,null,null,null,null,null,null,null,null,null,null,null,null,null,null,null,null,null,null,"ACDFGHJL",{"$f":"$Y$19","v":"Schottland"},"Iran",{"$f":"$CE$12","v":"Algerien"},{"$f":"$Y$26","v":"Paraguay"},"Südkorea",{"$f":"$BB$12","v":"Schweden"},{"$f":"$CE$26","v":"Ghana"},{"$f":"$BB$26","v":"Uruguay"}]
[null,null,null,null,null,null,null,null,null,null,null,null,null,null,null,null,null,null,null,null,null,null,null,null,null,null,null,null,null,null,null,null,null,null,null,null,null,null,null,null,null,null,null,null,null,null,null,null,null,null,null,null,null,null,null,null,null,null,null,null,null,null,null,null,null,null,null,null,null,null,null,null,null,null,null,null,null,null,null,null,null,null,null,null,null,null,null,null,null,null,null,null,"ACDFGHKL",{"$f":"$BB$26","v":"Uruguay"},"Iran",{"$f":"$BB$12","v":"Schweden"},{"$f":"$Y$19","v":"Schottland"},"Südkorea",{"$f":"$Y$26","v":"Paraguay"},{"$f":"$CE$26","v":"Ghana"},{"$f":"$CE$19","v":"DR Kongo"}]
[null,null,null,null,null,null,null,null,null,null,null,null,null,null,null,null,null,null,null,null,null,null,null,null,null,null,null,null,null,null,null,null,null,null,null,null,null,null,null,null,null,null,null,null,null,null,null,null,null,null,null,null,null,null,null,null,null,null,null,null,null,null,null,null,null,null,null,null,null,null,null,null,null,null,null,null,null,null,null,null,null,null,null,null,null,null,null,null,null,null,null,null,"ACDFGIJK",{"$f":"$Y$19","v":"Schottland"},"Iran",{"$f":"$CE$12","v":"Algerien"},{"$f":"$Y$26","v":"Paraguay"},"Südkorea",{"$f":"$BB$12","v":"Schweden"},{"$f":"$CE$5","v":"Senegal"},{"$f":"$CE$19","v":"DR Kongo"}]
[null,null,null,null,null,null,null,null,null,null,null,null,null,null,null,null,null,null,null,null,null,null,null,null,null,null,null,null,null,null,null,null,null,null,null,null,null,null,null,null,null,null,null,null,null,null,null,null,null,null,null,null,null,null,null,null,null,null,null,null,null,null,null,null,null,null,null,null,null,null,null,null,null,null,null,null,null,null,null,null,null,null,null,null,null,null,null,null,null,null,null,null,"ACDFGIJL",{"$f":"$Y$19","v":"Schottland"},"Iran",{"$f":"$CE$12","v":"Algerien"},{"$f":"$Y$26","v":"Paraguay"},"Südkorea",{"$f":"$BB$12","v":"Schweden"},{"$f":"$CE$26","v":"Ghana"},{"$f":"$CE$5","v":"Senegal"}]
[null,null,null,null,null,null,null,null,null,null,null,null,null,null,null,null,null,null,null,null,null,null,null,null,null,null,null,null,null,null,null,null,null,null,null,null,null,null,null,null,null,null,null,null,null,null,null,null,null,null,null,null,null,null,null,null,null,null,null,null,null,null,null,null,null,null,null,null,null,null,null,null,null,null,null,null,null,null,null,null,null,null,null,null,null,null,null,null,null,null,null,null,"ACDFGIKL",{"$f":"$Y$19","v":"Schottland"},"Iran",{"$f":"$CE$5","v":"Senegal"},{"$f":"$Y$26","v":"Paraguay"},"Südkorea",{"$f":"$BB$12","v":"Schweden"},{"$f":"$CE$26","v":"Ghana"},{"$f":"$CE$19","v":"DR Kongo"}]
[null,null,null,null,null,null,null,null,null,null,null,null,null,null,null,null,null,null,null,null,null,null,null,null,null,null,null,null,null,null,null,null,null,null,null,null,null,null,null,null,null,null,null,null,null,null,null,null,null,null,null,null,null,null,null,null,null,null,null,null,null,null,null,null,null,null,null,null,null,null,null,null,null,null,null,null,null,null,null,null,null,null,null,null,null,null,null,null,null,null,null,null,"ACDFGJKL",{"$f":"$Y$19","v":"Schottland"},"Iran",{"$f":"$CE$12","v":"Algerien"},{"$f":"$Y$26","v":"Paraguay"},"Südkorea",{"$f":"$BB$12","v":"Schweden"},{"$f":"$CE$26","v":"Ghana"},{"$f":"$CE$19","v":"DR Kongo"}]
[null,null,null,null,null,null,null,null,null,null,null,null,null,null,null,null,null,null,null,null,null,null,null,null,null,null,null,null,null,null,null,null,null,null,null,null,null,null,null,null,null,null,null,null,null,null,null,null,null,null,null,null,null,null,null,null,null,null,null,null,null,null,null,null,null,null,null,null,null,null,null,null,null,null,null,null,null,null,null,null,null,null,null,null,null,null,null,null,null,null,null,null,"ACDFHIJK",{"$f":"$BB$26","v":"Uruguay"},{"$f":"$CE$12","v":"Algerien"},{"$f":"$BB$12","v":"Schweden"},{"$f":"$Y$19","v":"Schottland"},"Südkorea",{"$f":"$Y$26","v":"Paraguay"},{"$f":"$CE$5","v":"Senegal"},{"$f":"$CE$19","v":"DR Kongo"}]
[null,null,null,null,null,null,null,null,null,null,null,null,null,null,null,null,null,null,null,null,null,null,null,null,null,null,null,null,null,null,null,null,null,null,null,null,null,null,null,null,null,null,null,null,null,null,null,null,null,null,null,null,null,null,null,null,null,null,null,null,null,null,null,null,null,null,null,null,null,null,null,null,null,null,null,null,null,null,null,null,null,null,null,null,null,null,null,null,null,null,null,null,"ACDFHIJL",{"$f":"$BB$26","v":"Uruguay"},{"$f":"$CE$12","v":"Algerien"},{"$f":"$BB$12","v":"Schweden"},{"$f":"$Y$19","v":"Schottland"},"Südkorea",{"$f":"$Y$26","v":"Paraguay"},{"$f":"$CE$26","v":"Ghana"},{"$f":"$CE$5","v":"Senegal"}]
[null,null,null,null,null,null,null,null,null,null,null,null,null,null,null,null,null,null,null,null,null,null,null,null,null,null,null,null,null,null,null,null,null,null,null,null,null,null,null,null,null,null,null,null,null,null,null,null,null,null,null,null,null,null,null,null,null,null,null,null,null,null,null,null,null,null,null,null,null,null,null,null,null,null,null,null,null,null,null,null,null,null,null,null,null,null,null,null,null,null,null,null,"ACDFHIKL",{"$f":"$BB$26","v":"Uruguay"},{"$f":"$BB$12","v":"Schweden"},{"$f":"$CE$5","v":"Senegal"},{"$f":"$Y$19","v":"Schottland"},"Südkorea",{"$f":"$Y$26","v":"Paraguay"},{"$f":"$CE$26","v":"Ghana"},{"$f":"$CE$19","v":"DR Kongo"}]
[null,null,null,null,null,null,null,null,null,null,null,null,null,null,null,null,null,null,null,null,null,null,null,null,null,null,null,null,null,null,null,null,null,null,null,null,null,null,null,null,null,null,null,null,null,null,null,null,null,null,null,null,null,null,null,null,null,null,null,null,null,null,null,null,null,null,null,null,null,null,null,null,null,null,null,null,null,null,null,null,null,null,null,null,null,null,null,null,null,null,null,null,"ACDFHJKL",{"$f":"$BB$26","v":"Uruguay"},{"$f":"$CE$12","v":"Algerien"},{"$f":"$BB$12","v":"Schweden"},{"$f":"$Y$19","v":"Schottland"},"Südkorea",{"$f":"$Y$26","v":"Paraguay"},{"$f":"$CE$26","v":"Ghana"},{"$f":"$CE$19","v":"DR Kongo"}]
[null,null,null,null,null,null,null,null,null,null,null,null,null,null,null,null,null,null,null,null,null,null,null,null,null,null,null,null,null,null,null,null,null,null,null,null,null,null,null,null,null,null,null,null,null,null,null,null,null,null,null,null,null,null,null,null,null,null,null,null,null,null,null,null,null,null,null,null,null,null,null,null,null,null,null,null,null,null,null,null,null,null,null,null,null,null,null,null,null,null,null,null,"ACDFIJKL",{"$f":"$Y$19","v":"Schottland"},{"$f":"$CE$12","v":"Algerien"},{"$f":"$CE$5","v":"Senegal"},{"$f":"$Y$26","v":"Paraguay"},"Südkorea",{"$f":"$BB$12","v":"Schweden"},{"$f":"$CE$26","v":"Ghana"},{"$f":"$CE$19","v":"DR Kongo"}]
[null,null,null,null,null,null,null,null,null,null,null,null,null,null,null,null,null,null,null,null,null,null,null,null,null,null,null,null,null,null,null,null,null,null,null,null,null,null,null,null,null,null,null,null,null,null,null,null,null,null,null,null,null,null,null,null,null,null,null,null,null,null,null,null,null,null,null,null,null,null,null,null,null,null,null,null,null,null,null,null,null,null,null,null,null,null,null,null,null,null,null,null,"ACDGHIJK",{"$f":"$BB$26","v":"Uruguay"},{"$f":"$BB$19","v":"Iran"},{"$f":"$CE$12","v":"Algerien"},{"$f":"$Y$19","v":"Schottland"},"Südkorea",{"$f":"$Y$26","v":"Paraguay"},{"$f":"$CE$5","v":"Senegal"},{"$f":"$CE$19","v":"DR Kongo"}]
[null,null,null,null,null,null,null,null,null,null,null,null,null,null,null,null,null,null,null,null,null,null,null,null,null,null,null,null,null,null,null,null,null,null,null,null,null,null,null,null,null,null,null,null,null,null,null,null,null,null,null,null,null,null,null,null,null,null,null,null,null,null,null,null,null,null,null,null,null,null,null,null,null,null,null,null,null,null,null,null,null,null,null,null,null,null,null,null,null,null,null,null,"ACDGHIJL",{"$f":"$BB$26","v":"Uruguay"},{"$f":"$BB$19","v":"Iran"},{"$f":"$CE$12","v":"Algerien"},"Schottland","Südkorea","Paraguay",{"$f":"$CE$26","v":"Ghana"},{"$f":"$CE$5","v":"Senegal"}]
[null,null,null,null,null,null,null,null,null,null,null,null,null,null,null,null,null,null,null,null,null,null,null,null,null,null,null,null,null,null,null,null,null,null,null,null,null,null,null,null,null,null,null,null,null,null,null,null,null,null,null,null,null,null,null,null,null,null,null,null,null,null,null,null,null,null,null,null,null,null,null,null,null,null,null,null,null,null,null,null,null,null,null,null,null,null,null,null,null,null,null,null,"ACDGHIKL",{"$f":"$BB$26","v":"Uruguay"},{"$f":"$BB$19","v":"Iran"},{"$f":"$CE$5","v":"Senegal"},"Schottland","Südkorea","Paraguay",{"$f":"$CE$26","v":"Ghana"},{"$f":"$CE$19","v":"DR Kongo"}]
[null,null,null,null,null,null,null,null,null,null,null,null,null,null,null,null,null,null,null,null,null,null,null,null,null,null,null,null,null,null,null,null,null,null,null,null,null,null,null,null,null,null,null,null,null,null,null,null,null,null,null,null,null,null,null,null,null,null,null,null,null,null,null,null,null,null,null,null,null,null,null,null,null,null,null,null,null,null,null,null,null,null,null,null,null,null,null,null,null,null,null,null,"ACDGHJKL",{"$f":"$BB$26","v":"Uruguay"},{"$f":"$BB$19","v":"Iran"},{"$f":"$CE$12","v":"Algerien"},"Schottland","Südkorea","Paraguay",{"$f":"$CE$26","v":"Ghana"},{"$f":"$CE$19","v":"DR Kongo"}]
[null,null,null,null,null,null,null,null,null,null,null,null,null,null,null,null,null,null,null,null,null,null,null,null,null,null,null,null,null,null,null,null,null,null,null,null,null,null,null,null,null,null,null,null,null,null,null,null,null,null,null,null,null,null,null,null,null,null,null,null,null,null,null,null,null,null,null,null,null,null,null,null,null,null,null,null,null,null,null,null,null,null,null,null,null,null,null,null,null,null,null,null,"ACDGIJKL",{"$f":"$CE$5","v":"Senegal"},{"$f":"$BB$19","v":"Iran"},{"$f":"$CE$12","v":"Algerien"},"Schottland","Südkorea","Paraguay",{"$f":"$CE$26","v":"Ghana"},{"$f":"$CE$19","v":"DR Kongo"}]
[null,null,null,null,null,null,null,null,null,null,null,null,null,null,null,null,null,null,null,null,null,null,null,null,null,null,null,null,null,null,null,null,null,null,null,null,null,null,null,null,null,null,null,null,null,null,null,null,null,null,null,null,null,null,null,null,null,null,null,null,null,null,null,null,null,null,null,null,null,null,null,null,null,null,null,null,null,null,null,null,null,null,null,null,null,null,null,null,null,null,null,null,"ACDHIJKL",{"$f":"$BB$26","v":"Uruguay"},{"$f":"$CE$12","v":"Algerien"},{"$f":"$CE$5","v":"Senegal"},"Schottland","Südkorea","Paraguay",{"$f":"$CE$26","v":"Ghana"},{"$f":"$CE$19","v":"DR Kongo"}]
[null,null,null,null,null,null,null,null,null,null,null,null,null,null,null,null,null,null,null,null,null,null,null,null,null,null,null,null,null,null,null,null,null,null,null,null,null,null,null,null,null,null,null,null,null,null,null,null,null,null,null,null,null,null,null,null,null,null,null,null,null,null,null,null,null,null,null,null,null,null,null,null,null,null,null,null,null,null,null,null,null,null,null,null,null,null,null,null,null,null,null,null,"ACEFGHIJ","Uruguay",{"$f":"$BB$19","v":"Iran"},{"$f":"$CE$12","v":"Algerien"},"Schottland","Südkorea",{"$f":"$BB$12","v":"Schweden"},{"$f":"$BB$5","v":"Ecuador"},{"$f":"$CE$5","v":"Senegal"}]
[null,null,null,null,null,null,null,null,null,null,null,null,null,null,null,null,null,null,null,null,null,null,null,null,null,null,null,null,null,null,null,null,null,null,null,null,null,null,null,null,null,null,null,null,null,null,null,null,null,null,null,null,null,null,null,null,null,null,null,null,null,null,null,null,null,null,null,null,null,null,null,null,null,null,null,null,null,null,null,null,null,null,null,null,null,null,null,null,null,null,null,null,"ACEFGHIK","Uruguay","Iran",{"$f":"$BB$5","v":"Ecuador"},"Schottland","Südkorea","Schweden",{"$f":"$CE$5","v":"Senegal"},{"$f":"$CE$19","v":"DR Kongo"}]
[null,null,null,null,null,null,null,null,null,null,null,null,null,null,null,null,null,null,null,null,null,null,null,null,null,null,null,null,null,null,null,null,null,null,null,null,null,null,null,null,null,null,null,null,null,null,null,null,null,null,null,null,null,null,null,null,null,null,null,null,null,null,null,null,null,null,null,null,null,null,null,null,null,null,null,null,null,null,null,null,null,null,null,null,null,null,null,null,null,null,null,null,"ACEFGHIL","Uruguay","Iran",{"$f":"$BB$5","v":"Ecuador"},"Schottland","Südkorea","Schweden",{"$f":"$CE$26","v":"Ghana"},{"$f":"$CE$5","v":"Senegal"}]
[null,null,null,null,null,null,null,null,null,null,null,null,null,null,null,null,null,null,null,null,null,null,null,null,null,null,null,null,null,null,null,null,null,null,null,null,null,null,null,null,null,null,null,null,null,null,null,null,null,null,null,null,null,null,null,null,null,null,null,null,null,null,null,null,null,null,null,null,null,null,null,null,null,null,null,null,null,null,null,null,null,null,null,null,null,null,null,null,null,null,null,null,"ACEFGHJK","Uruguay","Iran",{"$f":"$CE$12","v":"Algerien"},"Schottland","Südkorea","Schweden",{"$f":"$BB$5","v":"Ecuador"},{"$f":"$CE$19","v":"DR Kongo"}]
[null,null,null,null,null,null,null,null,null,null,null,null,null,null,null,null,null,null,null,null,null,null,null,null,null,null,null,null,null,null,null,null,null,null,null,null,null,null,null,null,null,null,null,null,null,null,null,null,null,null,null,null,null,null,null,null,null,null,null,null,null,null,null,null,null,null,null,null,null,null,null,null,null,null,null,null,null,null,null,null,null,null,null,null,null,null,null,null,null,null,null,null,"ACEFGHJL","Uruguay","Iran",{"$f":"$CE$12","v":"Algerien"},"Schottland","Südkorea","Schweden",{"$f":"$CE$26","v":"Ghana"},{"$f":"$BB$5","v":"Ecuador"}]
[null,null,null,null,null,null,null,null,null,null,null,null,null,null,null,null,null,null,null,null,null,null,null,null,null,null,null,null,null,null,null,null,null,null,null,null,null,null,null,null,null,null,null,null,null,null,null,null,null,null,null,null,null,null,null,null,null,null,null,null,null,null,null,null,null,null,null,null,null,null,null,null,null,null,null,null,null,null,null,null,null,null,null,null,null,null,null,null,null,null,null,null,"ACEFGHKL","Uruguay","Iran",{"$f":"$BB$5","v":"Ecuador"},"Schottland","Südkorea","Schweden",{"$f":"$CE$26","v":"Ghana"},{"$f":"$CE$19","v":"DR Kongo"}]
[null,null,null,null,null,null,null,null,null,null,null,null,null,null,null,null,null,null,null,null,null,null,null,null,null,null,null,null,null,null,null,null,null,null,null,null,null,null,null,null,null,null,null,null,null,null,null,null,null,null,null,null,null,null,null,null,null,null,null,null,null,null,null,null,null,null,null,null,null,null,null,null,null,null,null,null,null,null,null,null,null,null,null,null,null,null,null,null,null,null,null,null,"ACEFGIJK",{"$f":"$BB$5","v":"Ecuador"},"Iran",{"$f":"$CE$12","v":"Algerien"},"Schottland","Südkorea","Schweden",{"$f":"$CE$5","v":"Senegal"},{"$f":"$CE$19","v":"DR Kongo"}]
[null,null,null,null,null,null,null,null,null,null,null,null,null,null,null,null,null,null,null,null,null,null,null,null,null,null,null,null,null,null,null,null,null,null,null,null,null,null,null,null,null,null,null,null,null,null,null,null,null,null,null,null,null,null,null,null,null,null,null,null,null,null,null,null,null,null,null,null,null,null,null,null,null,null,null,null,null,null,null,null,null,null,null,null,null,null,null,null,null,null,null,null,"ACEFGIJL",{"$f":"$BB$5","v":"Ecuador"},"Iran",{"$f":"$CE$12","v":"Algerien"},"Schottland","Südkorea","Schweden",{"$f":"$CE$26","v":"Ghana"},{"$f":"$CE$5","v":"Senegal"}]
[null,null,null,null,null,null,null,null,null,null,null,null,null,null,null,null,null,null,null,null,null,null,null,null,null,null,null,null,null,null,null,null,null,null,null,null,null,null,null,null,null,null,null,null,null,null,null,null,null,null,null,null,null,null,null,null,null,null,null,null,null,null,null,null,null,null,null,null,null,null,null,null,null,null,null,null,null,null,null,null,null,null,null,null,null,null,null,null,null,null,null,null,"ACEFGIKL",{"$f":"$BB$5","v":"Ecuador"},"Iran",{"$f":"$CE$5","v":"Senegal"},"Schottland",{"$f":"$Y$5","v":"Südkorea"},"Schweden",{"$f":"$CE$26","v":"Ghana"},{"$f":"$CE$19","v":"DR Kongo"}]
[null,null,null,null,null,null,null,null,null,null,null,null,null,null,null,null,null,null,null,null,null,null,null,null,null,null,null,null,null,null,null,null,null,null,null,null,null,null,null,null,null,null,null,null,null,null,null,null,null,null,null,null,null,null,null,null,null,null,null,null,null,null,null,null,null,null,null,null,null,null,null,null,null,null,null,null,null,null,null,null,null,null,null,null,null,null,null,null,null,null,null,null,"ACEFGJKL",{"$f":"$BB$5","v":"Ecuador"},"Iran",{"$f":"$CE$12","v":"Algerien"},"Schottland","Südkorea","Schweden",{"$f":"$CE$26","v":"Ghana"},{"$f":"$CE$19","v":"DR Kongo"}]
[null,null,null,null,null,null,null,null,null,null,null,null,null,null,null,null,null,null,null,null,null,null,null,null,null,null,null,null,null,null,null,null,null,null,null,null,null,null,null,null,null,null,null,null,null,null,null,null,null,null,null,null,null,null,null,null,null,null,null,null,null,null,null,null,null,null,null,null,null,null,null,null,null,null,null,null,null,null,null,null,null,null,null,null,null,null,null,null,null,null,null,null,"ACEFHIJK",{"$f":"$BB$26","v":"Uruguay"},{"$f":"$CE$12","v":"Algerien"},{"$f":"$BB$5","v":"Ecuador"},"Schottland","Südkorea","Schweden",{"$f":"$CE$5","v":"Senegal"},{"$f":"$CE$19","v":"DR Kongo"}]
[null,null,null,null,null,null,null,null,null,null,null,null,null,null,null,null,null,null,null,null,null,null,null,null,null,null,null,null,null,null,null,null,null,null,null,null,null,null,null,null,null,null,null,null,null,null,null,null,null,null,null,null,null,null,null,null,null,null,null,null,null,null,null,null,null,null,null,null,null,null,null,null,null,null,null,null,null,null,null,null,null,null,null,null,null,null,null,null,null,null,null,null,"ACEFHIJL",{"$f":"$BB$26","v":"Uruguay"},{"$f":"$CE$12","v":"Algerien"},{"$f":"$BB$5","v":"Ecuador"},"Schottland","Südkorea","Schweden",{"$f":"$CE$26","v":"Ghana"},{"$f":"$CE$5","v":"Senegal"}]
[null,null,null,null,null,null,null,null,null,null,null,null,null,null,null,null,null,null,null,null,null,null,null,null,null,null,null,null,null,null,null,null,null,null,null,null,null,null,null,null,null,null,null,null,null,null,null,null,null,null,null,null,null,null,null,null,null,null,null,null,null,null,null,null,null,null,null,null,null,null,null,null,null,null,null,null,null,null,null,null,null,null,null,null,null,null,null,null,null,null,null,null,"ACEFHIKL",{"$f":"$BB$26","v":"Uruguay"},{"$f":"$BB$5","v":"Ecuador"},{"$f":"$CE$5","v":"Senegal"},"Schottland","Südkorea","Schweden",{"$f":"$CE$26","v":"Ghana"},{"$f":"$CE$19","v":"DR Kongo"}]
[null,null,null,null,null,null,null,null,null,null,null,null,null,null,null,null,null,null,null,null,null,null,null,null,null,null,null,null,null,null,null,null,null,null,null,null,null,null,null,null,null,null,null,null,null,null,null,null,null,null,null,null,null,null,null,null,null,null,null,null,null,null,null,null,null,null,null,null,null,null,null,null,null,null,null,null,null,null,null,null,null,null,null,null,null,null,null,null,null,null,null,null,"ACEFHJKL",{"$f":"$BB$26","v":"Uruguay"},{"$f":"$CE$12","v":"Algerien"},{"$f":"$BB$5","v":"Ecuador"},"Schottland","Südkorea","Schweden",{"$f":"$CE$26","v":"Ghana"},{"$f":"$CE$19","v":"DR Kongo"}]
[null,null,null,null,null,null,null,null,null,null,null,null,null,null,null,null,null,null,null,null,null,null,null,null,null,null,null,null,null,null,null,null,null,null,null,null,null,null,null,null,null,null,null,null,null,null,null,null,null,null,null,null,null,null,null,null,null,null,null,null,null,null,null,null,null,null,null,null,null,null,null,null,null,null,null,null,null,null,null,null,null,null,null,null,null,null,null,null,null,null,null,null,"ACEFIJKL",{"$f":"$BB$5","v":"Ecuador"},{"$f":"$CE$12","v":"Algerien"},{"$f":"$CE$5","v":"Senegal"},"Schottland","Südkorea","Schweden",{"$f":"$CE$26","v":"Ghana"},{"$f":"$CE$19","v":"DR Kongo"}]
[null,null,null,null,null,null,null,null,null,null,null,null,null,null,null,null,null,null,null,null,null,null,null,null,null,null,null,null,null,null,null,null,null,null,null,null,null,null,null,null,null,null,null,null,null,null,null,null,null,null,null,null,null,null,null,null,null,null,null,null,null,null,null,null,null,null,null,null,null,null,null,null,null,null,null,null,null,null,null,null,null,null,null,null,null,null,null,null,null,null,null,null,"ACEGHIJK","Ecuador",{"$f":"$BB$19","v":"Iran"},{"$f":"$CE$12","v":"Algerien"},"Schottland","Südkorea",{"$f":"$BB$26","v":"Uruguay"},{"$f":"$CE$5","v":"Senegal"},{"$f":"$CE$19","v":"DR Kongo"}]
[null,null,null,null,null,null,null,null,null,null,null,null,null,null,null,null,null,null,null,null,null,null,null,null,null,null,null,null,null,null,null,null,null,null,null,null,null,null,null,null,null,null,null,null,null,null,null,null,null,null,null,null,null,null,null,null,null,null,null,null,null,null,null,null,null,null,null,null,null,null,null,null,null,null,null,null,null,null,null,null,null,null,null,null,null,null,null,null,null,null,null,null,"ACEGHIJL","Ecuador",{"$f":"$BB$19","v":"Iran"},{"$f":"$CE$12","v":"Algerien"},"Schottland","Südkorea",{"$f":"$BB$26","v":"Uruguay"},{"$f":"$CE$26","v":"Ghana"},{"$f":"$CE$5","v":"Senegal"}]
[null,null,null,null,null,null,null,null,null,null,null,null,null,null,null,null,null,null,null,null,null,null,null,null,null,null,null,null,null,null,null,null,null,null,null,null,null,null,null,null,null,null,null,null,null,null,null,null,null,null,null,null,null,null,null,null,null,null,null,null,null,null,null,null,null,null,null,null,null,null,null,null,null,null,null,null,null,null,null,null,null,null,null,null,null,null,null,null,null,null,null,null,"ACEGHIKL","Ecuador",{"$f":"$BB$19","v":"Iran"},{"$f":"$CE$5","v":"Senegal"},"Schottland","Südkorea",{"$f":"$BB$26","v":"Uruguay"},{"$f":"$CE$26","v":"Ghana"},{"$f":"$CE$19","v":"DR Kongo"}]
[null,null,null,null,null,null,null,null,null,null,null,null,null,null,null,null,null,null,null,null,null,null,null,null,null,null,null,null,null,null,null,null,null,null,null,null,null,null,null,null,null,null,null,null,null,null,null,null,null,null,null,null,null,null,null,null,null,null,null,null,null,null,null,null,null,null,null,null,null,null,null,null,null,null,null,null,null,null,null,null,null,null,null,null,null,null,null,null,null,null,null,null,"ACEGHJKL","Ecuador",{"$f":"$BB$19","v":"Iran"},{"$f":"$CE$12","v":"Algerien"},"Schottland","Südkorea",{"$f":"$BB$26","v":"Uruguay"},{"$f":"$CE$26","v":"Ghana"},{"$f":"$CE$19","v":"DR Kongo"}]
[null,null,null,null,null,null,null,null,null,null,null,null,null,null,null,null,null,null,null,null,null,null,null,null,null,null,null,null,null,null,null,null,null,null,null,null,null,null,null,null,null,null,null,null,null,null,null,null,null,null,null,null,null,null,null,null,null,null,null,null,null,null,null,null,null,null,null,null,null,null,null,null,null,null,null,null,null,null,null,null,null,null,null,null,null,null,null,null,null,null,null,null,"ACEGIJKL","Ecuador",{"$f":"$CE$12","v":"Algerien"},{"$f":"$CE$5","v":"Senegal"},"Schottland","Südkorea",{"$f":"$BB$19","v":"Iran"},{"$f":"$CE$26","v":"Ghana"},{"$f":"$CE$19","v":"DR Kongo"}]
[null,null,null,null,null,null,null,null,null,null,null,null,null,null,null,null,null,null,null,null,null,null,null,null,null,null,null,null,null,null,null,null,null,null,null,null,null,null,null,null,null,null,null,null,null,null,null,null,null,null,null,null,null,null,null,null,null,null,null,null,null,null,null,null,null,null,null,null,null,null,null,null,null,null,null,null,null,null,null,null,null,null,null,null,null,null,null,null,null,null,null,null,"ACEHIJKL","Ecuador",{"$f":"$CE$12","v":"Algerien"},{"$f":"$CE$5","v":"Senegal"},"Schottland","Südkorea",{"$f":"$BB$26","v":"Uruguay"},{"$f":"$CE$26","v":"Ghana"},{"$f":"$CE$19","v":"DR Kongo"}]
[null,null,null,null,null,null,null,null,null,null,null,null,null,null,null,null,null,null,null,null,null,null,null,null,null,null,null,null,null,null,null,null,null,null,null,null,null,null,null,null,null,null,null,null,null,null,null,null,null,null,null,null,null,null,null,null,null,null,null,null,null,null,null,null,null,null,null,null,null,null,null,null,null,null,null,null,null,null,null,null,null,null,null,null,null,null,null,null,null,null,null,null,"ACFGHIJK",{"$f":"$BB$26","v":"Uruguay"},{"$f":"$BB$19","v":"Iran"},{"$f":"$CE$12","v":"Algerien"},"Schottland","Südkorea",{"$f":"$BB$12","v":"Schweden"},{"$f":"$CE$5","v":"Senegal"},{"$f":"$CE$19","v":"DR Kongo"}]
[null,null,null,null,null,null,null,null,null,null,null,null,null,null,null,null,null,null,null,null,null,null,null,null,null,null,null,null,null,null,null,null,null,null,null,null,null,null,null,null,null,null,null,null,null,null,null,null,null,null,null,null,null,null,null,null,null,null,null,null,null,null,null,null,null,null,null,null,null,null,null,null,null,null,null,null,null,null,null,null,null,null,null,null,null,null,null,null,null,null,null,null,"ACFGHIJL",{"$f":"$BB$26","v":"Uruguay"},{"$f":"$BB$19","v":"Iran"},{"$f":"$CE$12","v":"Algerien"},"Schottland","Südkorea","Schweden",{"$f":"$CE$26","v":"Ghana"},{"$f":"$CE$5","v":"Senegal"}]
[null,null,null,null,null,null,null,null,null,null,null,null,null,null,null,null,null,null,null,null,null,null,null,null,null,null,null,null,null,null,null,null,null,null,null,null,null,null,null,null,null,null,null,null,null,null,null,null,null,null,null,null,null,null,null,null,null,null,null,null,null,null,null,null,null,null,null,null,null,null,null,null,null,null,null,null,null,null,null,null,null,null,null,null,null,null,null,null,null,null,null,null,"ACFGHIKL",{"$f":"$BB$26","v":"Uruguay"},{"$f":"$BB$19","v":"Iran"},{"$f":"$CE$5","v":"Senegal"},"Schottland","Südkorea","Schweden","Ghana",{"$f":"$CE$19","v":"DR Kongo"}]
[null,null,null,null,null,null,null,null,null,null,null,null,null,null,null,null,null,null,null,null,null,null,null,null,null,null,null,null,null,null,null,null,null,null,null,null,null,null,null,null,null,null,null,null,null,null,null,null,null,null,null,null,null,null,null,null,null,null,null,null,null,null,null,null,null,null,null,null,null,null,null,null,null,null,null,null,null,null,null,null,null,null,null,null,null,null,null,null,null,null,null,null,"ACFGHJKL",{"$f":"$BB$26","v":"Uruguay"},{"$f":"$BB$19","v":"Iran"},{"$f":"$CE$12","v":"Algerien"},"Schottland","Südkorea","Schweden","Ghana",{"$f":"$CE$19","v":"DR Kongo"}]
[null,null,null,null,null,null,null,null,null,null,null,null,null,null,null,null,null,null,null,null,null,null,null,null,null,null,null,null,null,null,null,null,null,null,null,null,null,null,null,null,null,null,null,null,null,null,null,null,null,null,null,null,null,null,null,null,null,null,null,null,null,null,null,null,null,null,null,null,null,null,null,null,null,null,null,null,null,null,null,null,null,null,null,null,null,null,null,null,null,null,null,null,"ACFGIJKL",{"$f":"$CE$5","v":"Senegal"},{"$f":"$BB$19","v":"Iran"},{"$f":"$CE$12","v":"Algerien"},"Schottland","Südkorea","Schweden","Ghana",{"$f":"$CE$19","v":"DR Kongo"}]
[null,null,null,null,null,null,null,null,null,null,null,null,null,null,null,null,null,null,null,null,null,null,null,null,null,null,null,null,null,null,null,null,null,null,null,null,null,null,null,null,null,null,null,null,null,null,null,null,null,null,null,null,null,null,null,null,null,null,null,null,null,null,null,null,null,null,null,null,null,null,null,null,null,null,null,null,null,null,null,null,null,null,null,null,null,null,null,null,null,null,null,null,"ACFHIJKL",{"$f":"$BB$26","v":"Uruguay"},{"$f":"$CE$12","v":"Algerien"},{"$f":"$CE$5","v":"Senegal"},"Schottland","Südkorea","Schweden","Ghana",{"$f":"$CE$19","v":"DR Kongo"}]
[null,null,null,null,null,null,null,null,null,null,null,null,null,null,null,null,null,null,null,null,null,null,null,null,null,null,null,null,null,null,null,null,null,null,null,null,null,null,null,null,null,null,null,null,null,null,null,null,null,null,null,null,null,null,null,null,null,null,null,null,null,null,null,null,null,null,null,null,null,null,null,null,null,null,null,null,null,null,null,null,null,null,null,null,null,null,null,null,null,null,null,null,"ACGHIJKL","Uruguay",{"$f":"$CE$12","v":"Algerien"},{"$f":"$CE$5","v":"Senegal"},"Schottland","Südkorea",{"$f":"$BB$19","v":"Iran"},"Ghana",{"$f":"$CE$19","v":"DR Kongo"}]
[null,null,null,null,null,null,null,null,null,null,null,null,null,null,null,null,null,null,null,null,null,null,null,null,null,null,null,null,null,null,null,null,null,null,null,null,null,null,null,null,null,null,null,null,null,null,null,null,null,null,null,null,null,null,null,null,null,null,null,null,null,null,null,null,null,null,null,null,null,null,null,null,null,null,null,null,null,null,null,null,null,null,null,null,null,null,null,null,null,null,null,null,"ADEFGHIJ","Uruguay",{"$f":"$BB$19","v":"Iran"},{"$f":"$CE$12","v":"Algerien"},{"$f":"$Y$26","v":"Paraguay"},"Südkorea",{"$f":"$BB$12","v":"Schweden"},{"$f":"$BB$5","v":"Ecuador"},{"$f":"$CE$5","v":"Senegal"}]
[null,null,null,null,null,null,null,null,null,null,null,null,null,null,null,null,null,null,null,null,null,null,null,null,null,null,null,null,null,null,null,null,null,null,null,null,null,null,null,null,null,null,null,null,null,null,null,null,null,null,null,null,null,null,null,null,null,null,null,null,null,null,null,null,null,null,null,null,null,null,null,null,null,null,null,null,null,null,null,null,null,null,null,null,null,null,null,null,null,null,null,null,"ADEFGHIK","Uruguay","Iran",{"$f":"$BB$5","v":"Ecuador"},"Paraguay","Südkorea","Schweden",{"$f":"$CE$5","v":"Senegal"},{"$f":"$CE$19","v":"DR Kongo"}]
[null,null,null,null,null,null,null,null,null,null,null,null,null,null,null,null,null,null,null,null,null,null,null,null,null,null,null,null,null,null,null,null,null,null,null,null,null,null,null,null,null,null,null,null,null,null,null,null,null,null,null,null,null,null,null,null,null,null,null,null,null,null,null,null,null,null,null,null,null,null,null,null,null,null,null,null,null,null,null,null,null,null,null,null,null,null,null,null,null,null,null,null,"ADEFGHIL","Uruguay","Iran",{"$f":"$BB$5","v":"Ecuador"},"Paraguay","Südkorea","Schweden",{"$f":"$CE$26","v":"Ghana"},{"$f":"$CE$5","v":"Senegal"}]
[null,null,null,null,null,null,null,null,null,null,null,null,null,null,null,null,null,null,null,null,null,null,null,null,null,null,null,null,null,null,null,null,null,null,null,null,null,null,null,null,null,null,null,null,null,null,null,null,null,null,null,null,null,null,null,null,null,null,null,null,null,null,null,null,null,null,null,null,null,null,null,null,null,null,null,null,null,null,null,null,null,null,null,null,null,null,null,null,null,null,null,null,"ADEFGHJK","Uruguay","Iran",{"$f":"$CE$12","v":"Algerien"},"Paraguay","Südkorea","Schweden",{"$f":"$BB$5","v":"Ecuador"},{"$f":"$CE$19","v":"DR Kongo"}]
[null,null,null,null,null,null,null,null,null,null,null,null,null,null,null,null,null,null,null,null,null,null,null,null,null,null,null,null,null,null,null,null,null,null,null,null,null,null,null,null,null,null,null,null,null,null,null,null,null,null,null,null,null,null,null,null,null,null,null,null,null,null,null,null,null,null,null,null,null,null,null,null,null,null,null,null,null,null,null,null,null,null,null,null,null,null,null,null,null,null,null,null,"ADEFGHJL","Uruguay","Iran",{"$f":"$CE$12","v":"Algerien"},"Paraguay","Südkorea","Schweden",{"$f":"$CE$26","v":"Ghana"},{"$f":"$BB$5","v":"Ecuador"}]
[null,null,null,null,null,null,null,null,null,null,null,null,null,null,null,null,null,null,null,null,null,null,null,null,null,null,null,null,null,null,null,null,null,null,null,null,null,null,null,null,null,null,null,null,null,null,null,null,null,null,null,null,null,null,null,null,null,null,null,null,null,null,null,null,null,null,null,null,null,null,null,null,null,null,null,null,null,null,null,null,null,null,null,null,null,null,null,null,null,null,null,null,"ADEFGHKL","Uruguay","Iran",{"$f":"$BB$5","v":"Ecuador"},"Paraguay","Südkorea","Schweden",{"$f":"$CE$26","v":"Ghana"},{"$f":"$CE$19","v":"DR Kongo"}]
[null,null,null,null,null,null,null,null,null,null,null,null,null,null,null,null,null,null,null,null,null,null,null,null,null,null,null,null,null,null,null,null,null,null,null,null,null,null,null,null,null,null,null,null,null,null,null,null,null,null,null,null,null,null,null,null,null,null,null,null,null,null,null,null,null,null,null,null,null,null,null,null,null,null,null,null,null,null,null,null,null,null,null,null,null,null,null,null,null,null,null,null,"ADEFGIJK",{"$f":"$BB$5","v":"Ecuador"},"Iran",{"$f":"$CE$12","v":"Algerien"},"Paraguay","Südkorea","Schweden",{"$f":"$CE$5","v":"Senegal"},{"$f":"$CE$19","v":"DR Kongo"}]
[null,null,null,null,null,null,null,null,null,null,null,null,null,null,null,null,null,null,null,null,null,null,null,null,null,null,null,null,null,null,null,null,null,null,null,null,null,null,null,null,null,null,null,null,null,null,null,null,null,null,null,null,null,null,null,null,null,null,null,null,null,null,null,null,null,null,null,null,null,null,null,null,null,null,null,null,null,null,null,null,null,null,null,null,null,null,null,null,null,null,null,null,"ADEFGIJL",{"$f":"$BB$5","v":"Ecuador"},"Iran",{"$f":"$CE$12","v":"Algerien"},"Paraguay","Südkorea","Schweden",{"$f":"$CE$26","v":"Ghana"},{"$f":"$CE$5","v":"Senegal"}]
[null,null,null,null,null,null,null,null,null,null,null,null,null,null,null,null,null,null,null,null,null,null,null,null,null,null,null,null,null,null,null,null,null,null,null,null,null,null,null,null,null,null,null,null,null,null,null,null,null,null,null,null,null,null,null,null,null,null,null,null,null,null,null,null,null,null,null,null,null,null,null,null,null,null,null,null,null,null,null,null,null,null,null,null,null,null,null,null,null,null,null,null,"ADEFGIKL",{"$f":"$BB$5","v":"Ecuador"},"Iran",{"$f":"$CE$5","v":"Senegal"},"Paraguay","Südkorea","Schweden",{"$f":"$CE$26","v":"Ghana"},{"$f":"$CE$19","v":"DR Kongo"}]
[null,null,null,null,null,null,null,null,null,null,null,null,null,null,null,null,null,null,null,null,null,null,null,null,null,null,null,null,null,null,null,null,null,null,null,null,null,null,null,null,null,null,null,null,null,null,null,null,null,null,null,null,null,null,null,null,null,null,null,null,null,null,null,null,null,null,null,null,null,null,null,null,null,null,null,null,null,null,null,null,null,null,null,null,null,null,null,null,null,null,null,null,"ADEFGJKL",{"$f":"$BB$5","v":"Ecuador"},"Iran",{"$f":"$CE$12","v":"Algerien"},"Paraguay","Südkorea","Schweden",{"$f":"$CE$26","v":"Ghana"},{"$f":"$CE$19","v":"DR Kongo"}]
[null,null,null,null,null,null,null,null,null,null,null,null,null,null,null,null,null,null,null,null,null,null,null,null,null,null,null,null,null,null,null,null,null,null,null,null,null,null,null,null,null,null,null,null,null,null,null,null,null,null,null,null,null,null,null,null,null,null,null,null,null,null,null,null,null,null,null,null,null,null,null,null,null,null,null,null,null,null,null,null,null,null,null,null,null,null,null,null,null,null,null,null,"ADEFHIJK",{"$f":"$BB$26","v":"Uruguay"},{"$f":"$CE$12","v":"Algerien"},{"$f":"$BB$5","v":"Ecuador"},"Paraguay","Südkorea","Schweden",{"$f":"$CE$5","v":"Senegal"},{"$f":"$CE$19","v":"DR Kongo"}]
[null,null,null,null,null,null,null,null,null,null,null,null,null,null,null,null,null,null,null,null,null,null,null,null,null,null,null,null,null,null,null,null,null,null,null,null,null,null,null,null,null,null,null,null,null,null,null,null,null,null,null,null,null,null,null,null,null,null,null,null,null,null,null,null,null,null,null,null,null,null,null,null,null,null,null,null,null,null,null,null,null,null,null,null,null,null,null,null,null,null,null,null,"ADEFHIJL",{"$f":"$BB$26","v":"Uruguay"},{"$f":"$CE$12","v":"Algerien"},{"$f":"$BB$5","v":"Ecuador"},"Paraguay","Südkorea","Schweden",{"$f":"$CE$26","v":"Ghana"},{"$f":"$CE$5","v":"Senegal"}]
[null,null,null,null,null,null,null,null,null,null,null,null,null,null,null,null,null,null,null,null,null,null,null,null,null,null,null,null,null,null,null,null,null,null,null,null,null,null,null,null,null,null,null,null,null,null,null,null,null,null,null,null,null,null,null,null,null,null,null,null,null,null,null,null,null,null,null,null,null,null,null,null,null,null,null,null,null,null,null,null,null,null,null,null,null,null,null,null,null,null,null,null,"ADEFHIKL",{"$f":"$BB$26","v":"Uruguay"},{"$f":"$BB$5","v":"Ecuador"},{"$f":"$CE$5","v":"Senegal"},"Paraguay",{"$f":"$Y$5","v":"Südkorea"},"Schweden",{"$f":"$CE$26","v":"Ghana"},{"$f":"$CE$19","v":"DR Kongo"}]
[null,null,null,null,null,null,null,null,null,null,null,null,null,null,null,null,null,null,null,null,null,null,null,null,null,null,null,null,null,null,null,null,null,null,null,null,null,null,null,null,null,null,null,null,null,null,null,null,null,null,null,null,null,null,null,null,null,null,null,null,null,null,null,null,null,null,null,null,null,null,null,null,null,null,null,null,null,null,null,null,null,null,null,null,null,null,null,null,null,null,null,null,"ADEFHJKL",{"$f":"$BB$26","v":"Uruguay"},{"$f":"$CE$12","v":"Algerien"},{"$f":"$BB$5","v":"Ecuador"},"Paraguay","Südkorea","Schweden",{"$f":"$CE$26","v":"Ghana"},{"$f":"$CE$19","v":"DR Kongo"}]
[null,null,null,null,null,null,null,null,null,null,null,null,null,null,null,null,null,null,null,null,null,null,null,null,null,null,null,null,null,null,null,null,null,null,null,null,null,null,null,null,null,null,null,null,null,null,null,null,null,null,null,null,null,null,null,null,null,null,null,null,null,null,null,null,null,null,null,null,null,null,null,null,null,null,null,null,null,null,null,null,null,null,null,null,null,null,null,null,null,null,null,null,"ADEFIJKL",{"$f":"$BB$5","v":"Ecuador"},{"$f":"$CE$12","v":"Algerien"},{"$f":"$CE$5","v":"Senegal"},"Paraguay","Südkorea","Schweden",{"$f":"$CE$26","v":"Ghana"},{"$f":"$CE$19","v":"DR Kongo"}]
[null,null,null,null,null,null,null,null,null,null,null,null,null,null,null,null,null,null,null,null,null,null,null,null,null,null,null,null,null,null,null,null,null,null,null,null,null,null,null,null,null,null,null,null,null,null,null,null,null,null,null,null,null,null,null,null,null,null,null,null,null,null,null,null,null,null,null,null,null,null,null,null,null,null,null,null,null,null,null,null,null,null,null,null,null,null,null,null,null,null,null,null,"ADEGHIJK","Ecuador",{"$f":"$BB$19","v":"Iran"},{"$f":"$CE$12","v":"Algerien"},"Paraguay","Südkorea",{"$f":"$BB$26","v":"Uruguay"},{"$f":"$CE$5","v":"Senegal"},{"$f":"$CE$19","v":"DR Kongo"}]
[null,null,null,null,null,null,null,null,null,null,null,null,null,null,null,null,null,null,null,null,null,null,null,null,null,null,null,null,null,null,null,null,null,null,null,null,null,null,null,null,null,null,null,null,null,null,null,null,null,null,null,null,null,null,null,null,null,null,null,null,null,null,null,null,null,null,null,null,null,null,null,null,null,null,null,null,null,null,null,null,null,null,null,null,null,null,null,null,null,null,null,null,"ADEGHIJL","Ecuador",{"$f":"$BB$19","v":"Iran"},{"$f":"$CE$12","v":"Algerien"},"Paraguay","Südkorea",{"$f":"$BB$26","v":"Uruguay"},{"$f":"$CE$26","v":"Ghana"},{"$f":"$CE$5","v":"Senegal"}]
[null,null,null,null,null,null,null,null,null,null,null,null,null,null,null,null,null,null,null,null,null,null,null,null,null,null,null,null,null,null,null,null,null,null,null,null,null,null,null,null,null,null,null,null,null,null,null,null,null,null,null,null,null,null,null,null,null,null,null,null,null,null,null,null,null,null,null,null,null,null,null,null,null,null,null,null,null,null,null,null,null,null,null,null,null,null,null,null,null,null,null,null,"ADEGHIKL","Ecuador",{"$f":"$BB$19","v":"Iran"},{"$f":"$CE$5","v":"Senegal"},"Paraguay","Südkorea",{"$f":"$BB$26","v":"Uruguay"},{"$f":"$CE$26","v":"Ghana"},{"$f":"$CE$19","v":"DR Kongo"}]
[null,null,null,null,null,null,null,null,null,null,null,null,null,null,null,null,null,null,null,null,null,null,null,null,null,null,null,null,null,null,null,null,null,null,null,null,null,null,null,null,null,null,null,null,null,null,null,null,null,null,null,null,null,null,null,null,null,null,null,null,null,null,null,null,null,null,null,null,null,null,null,null,null,null,null,null,null,null,null,null,null,null,null,null,null,null,null,null,null,null,null,null,"ADEGHJKL","Ecuador",{"$f":"$BB$19","v":"Iran"},{"$f":"$CE$12","v":"Algerien"},"Paraguay","Südkorea",{"$f":"$BB$26","v":"Uruguay"},{"$f":"$CE$26","v":"Ghana"},{"$f":"$CE$19","v":"DR Kongo"}]
[null,null,null,null,null,null,null,null,null,null,null,null,null,null,null,null,null,null,null,null,null,null,null,null,null,null,null,null,null,null,null,null,null,null,null,null,null,null,null,null,null,null,null,null,null,null,null,null,null,null,null,null,null,null,null,null,null,null,null,null,null,null,null,null,null,null,null,null,null,null,null,null,null,null,null,null,null,null,null,null,null,null,null,null,null,null,null,null,null,null,null,null,"ADEGIJKL","Ecuador",{"$f":"$CE$12","v":"Algerien"},{"$f":"$CE$5","v":"Senegal"},"Paraguay","Südkorea",{"$f":"$BB$19","v":"Iran"},{"$f":"$CE$26","v":"Ghana"},{"$f":"$CE$19","v":"DR Kongo"}]
[null,null,null,null,null,null,null,null,null,null,null,null,null,null,null,null,null,null,null,null,null,null,null,null,null,null,null,null,null,null,null,null,null,null,null,null,null,null,null,null,null,null,null,null,null,null,null,null,null,null,null,null,null,null,null,null,null,null,null,null,null,null,null,null,null,null,null,null,null,null,null,null,null,null,null,null,null,null,null,null,null,null,null,null,null,null,null,null,null,null,null,null,"ADEHIJKL","Ecuador",{"$f":"$CE$12","v":"Algerien"},{"$f":"$CE$5","v":"Senegal"},"Paraguay","Südkorea",{"$f":"$BB$26","v":"Uruguay"},{"$f":"$CE$26","v":"Ghana"},{"$f":"$CE$19","v":"DR Kongo"}]
[null,null,null,null,null,null,null,null,null,null,null,null,null,null,null,null,null,null,null,null,null,null,null,null,null,null,null,null,null,null,null,null,null,null,null,null,null,null,null,null,null,null,null,null,null,null,null,null,null,null,null,null,null,null,null,null,null,null,null,null,null,null,null,null,null,null,null,null,null,null,null,null,null,null,null,null,null,null,null,null,null,null,null,null,null,null,null,null,null,null,null,null,"ADFGHIJK",{"$f":"$BB$26","v":"Uruguay"},{"$f":"$BB$19","v":"Iran"},{"$f":"$CE$12","v":"Algerien"},"Paraguay","Südkorea",{"$f":"$BB$12","v":"Schweden"},{"$f":"$CE$5","v":"Senegal"},{"$f":"$CE$19","v":"DR Kongo"}]
[null,null,null,null,null,null,null,null,null,null,null,null,null,null,null,null,null,null,null,null,null,null,null,null,null,null,null,null,null,null,null,null,null,null,null,null,null,null,null,null,null,null,null,null,null,null,null,null,null,null,null,null,null,null,null,null,null,null,null,null,null,null,null,null,null,null,null,null,null,null,null,null,null,null,null,null,null,null,null,null,null,null,null,null,null,null,null,null,null,null,null,null,"ADFGHIJL",{"$f":"$BB$26","v":"Uruguay"},{"$f":"$BB$19","v":"Iran"},{"$f":"$CE$12","v":"Algerien"},"Paraguay","Südkorea","Schweden",{"$f":"$CE$26","v":"Ghana"},{"$f":"$CE$5","v":"Senegal"}]
[null,null,null,null,null,null,null,null,null,null,null,null,null,null,null,null,null,null,null,null,null,null,null,null,null,null,null,null,null,null,null,null,null,null,null,null,null,null,null,null,null,null,null,null,null,null,null,null,null,null,null,null,null,null,null,null,null,null,null,null,null,null,null,null,null,null,null,null,null,null,null,null,null,null,null,null,null,null,null,null,null,null,null,null,null,null,null,null,null,null,null,null,"ADFGHIKL",{"$f":"$BB$26","v":"Uruguay"},{"$f":"$BB$19","v":"Iran"},{"$f":"$CE$5","v":"Senegal"},"Paraguay","Südkorea","Schweden","Ghana",{"$f":"$CE$19","v":"DR Kongo"}]
[null,null,null,null,null,null,null,null,null,null,null,null,null,null,null,null,null,null,null,null,null,null,null,null,null,null,null,null,null,null,null,null,null,null,null,null,null,null,null,null,null,null,null,null,null,null,null,null,null,null,null,null,null,null,null,null,null,null,null,null,null,null,null,null,null,null,null,null,null,null,null,null,null,null,null,null,null,null,null,null,null,null,null,null,null,null,null,null,null,null,null,null,"ADFGHJKL",{"$f":"$BB$26","v":"Uruguay"},{"$f":"$BB$19","v":"Iran"},{"$f":"$CE$12","v":"Algerien"},"Paraguay","Südkorea","Schweden","Ghana","DR Kongo"]
[null,null,null,null,null,null,null,null,null,null,null,null,null,null,null,null,null,null,null,null,null,null,null,null,null,null,null,null,null,null,null,null,null,null,null,null,null,null,null,null,null,null,null,null,null,null,null,null,null,null,null,null,null,null,null,null,null,null,null,null,null,null,null,null,null,null,null,null,null,null,null,null,null,null,null,null,null,null,null,null,null,null,null,null,null,null,null,null,null,null,null,null,"ADFGIJKL",{"$f":"$CE$5","v":"Senegal"},{"$f":"$BB$19","v":"Iran"},{"$f":"$CE$12","v":"Algerien"},"Paraguay","Südkorea","Schweden","Ghana","DR Kongo"]
[null,null,null,null,null,null,null,null,null,null,null,null,null,null,null,null,null,null,null,null,null,null,null,null,null,null,null,null,null,null,null,null,null,null,null,null,null,null,null,null,null,null,null,null,null,null,null,null,null,null,null,null,null,null,null,null,null,null,null,null,null,null,null,null,null,null,null,null,null,null,null,null,null,null,null,null,null,null,null,null,null,null,null,null,null,null,null,null,null,null,null,null,"ADFHIJKL",{"$f":"$BB$26","v":"Uruguay"},{"$f":"$CE$12","v":"Algerien"},{"$f":"$CE$5","v":"Senegal"},"Paraguay","Südkorea","Schweden","Ghana","DR Kongo"]
[null,null,null,null,null,null,null,null,null,null,null,null,null,null,null,null,null,null,null,null,null,null,null,null,null,null,null,null,null,null,null,null,null,null,null,null,null,null,null,null,null,null,null,null,null,null,null,null,null,null,null,null,null,null,null,null,null,null,null,null,null,null,null,null,null,null,null,null,null,null,null,null,null,null,null,null,null,null,null,null,null,null,null,null,null,null,null,null,null,null,null,null,"ADGHIJKL",{"$f":"$BB$26","v":"Uruguay"},{"$f":"$CE$12","v":"Algerien"},{"$f":"$CE$5","v":"Senegal"},"Paraguay","Südkorea",{"$f":"$BB$19","v":"Iran"},"Ghana","DR Kongo"]
[null,null,null,null,null,null,null,null,null,null,null,null,null,null,null,null,null,null,null,null,null,null,null,null,null,null,null,null,null,null,null,null,null,null,null,null,null,null,null,null,null,null,null,null,null,null,null,null,null,null,null,null,null,null,null,null,null,null,null,null,null,null,null,null,null,null,null,null,null,null,null,null,null,null,null,null,null,null,null,null,null,null,null,null,null,null,null,null,null,null,null,null,"AEFGHIJK",{"$f":"$BB$5","v":"Ecuador"},{"$f":"$BB$19","v":"Iran"},{"$f":"$CE$12","v":"Algerien"},{"$f":"$BB$12","v":"Schweden"},"Südkorea",{"$f":"$BB$26","v":"Uruguay"},{"$f":"$CE$5","v":"Senegal"},"DR Kongo"]
[null,null,null,null,null,null,null,null,null,null,null,null,null,null,null,null,null,null,null,null,null,null,null,null,null,null,null,null,null,null,null,null,null,null,null,null,null,null,null,null,null,null,null,null,null,null,null,null,null,null,null,null,null,null,null,null,null,null,null,null,null,null,null,null,null,null,null,null,null,null,null,null,null,null,null,null,null,null,null,null,null,null,null,null,null,null,null,null,null,null,null,null,"AEFGHIJL","Ecuador",{"$f":"$BB$19","v":"Iran"},{"$f":"$CE$12","v":"Algerien"},"Schweden","Südkorea",{"$f":"$BB$26","v":"Uruguay"},{"$f":"$CE$26","v":"Ghana"},{"$f":"$CE$5","v":"Senegal"}]
[null,null,null,null,null,null,null,null,null,null,null,null,null,null,null,null,null,null,null,null,null,null,null,null,null,null,null,null,null,null,null,null,null,null,null,null,null,null,null,null,null,null,null,null,null,null,null,null,null,null,null,null,null,null,null,null,null,null,null,null,null,null,null,null,null,null,null,null,null,null,null,null,null,null,null,null,null,null,null,null,null,null,null,null,null,null,null,null,null,null,null,null,"AEFGHIKL","Ecuador",{"$f":"$BB$19","v":"Iran"},{"$f":"$CE$5","v":"Senegal"},"Schweden","Südkorea",{"$f":"$BB$26","v":"Uruguay"},"Ghana",{"$f":"$CE$19","v":"DR Kongo"}]
[null,null,null,null,null,null,null,null,null,null,null,null,null,null,null,null,null,null,null,null,null,null,null,null,null,null,null,null,null,null,null,null,null,null,null,null,null,null,null,null,null,null,null,null,null,null,null,null,null,null,null,null,null,null,null,null,null,null,null,null,null,null,null,null,null,null,null,null,null,null,null,null,null,null,null,null,null,null,null,null,null,null,null,null,null,null,null,null,null,null,null,null,"AEFGHJKL","Ecuador",{"$f":"$BB$19","v":"Iran"},{"$f":"$CE$12","v":"Algerien"},"Schweden","Südkorea",{"$f":"$BB$26","v":"Uruguay"},"Ghana","DR Kongo"]
[null,null,null,null,null,null,null,null,null,null,null,null,null,null,null,null,null,null,null,null,null,null,null,null,null,null,null,null,null,null,null,null,null,null,null,null,null,null,null,null,null,null,null,null,null,null,null,null,null,null,null,null,null,null,null,null,null,null,null,null,null,null,null,null,null,null,null,null,null,null,null,null,null,null,null,null,null,null,null,null,null,null,null,null,null,null,null,null,null,null,null,null,"AEFGIJKL","Ecuador",{"$f":"$CE$12","v":"Algerien"},{"$f":"$CE$5","v":"Senegal"},"Schweden","Südkorea",{"$f":"$BB$19","v":"Iran"},"Ghana","DR Kongo"]
[null,null,null,null,null,null,null,null,null,null,null,null,null,null,null,null,null,null,null,null,null,null,null,null,null,null,null,null,null,null,null,null,null,null,null,null,null,null,null,null,null,null,null,null,null,null,null,null,null,null,null,null,null,null,null,null,null,null,null,null,null,null,null,null,null,null,null,null,null,null,null,null,null,null,null,null,null,null,null,null,null,null,null,null,null,null,null,null,null,null,null,null,"AEFHIJKL","Ecuador",{"$f":"$CE$12","v":"Algerien"},{"$f":"$CE$5","v":"Senegal"},"Schweden","Südkorea",{"$f":"$BB$26","v":"Uruguay"},"Ghana","DR Kongo"]
[null,null,null,null,null,null,null,null,null,null,null,null,null,null,null,null,null,null,null,null,null,null,null,null,null,null,null,null,null,null,null,null,null,null,null,null,null,null,null,null,null,null,null,null,null,null,null,null,null,null,null,null,null,null,null,null,null,null,null,null,null,null,null,null,null,null,null,null,null,null,null,null,null,null,null,null,null,null,null,null,null,null,null,null,null,null,null,null,null,null,null,null,"AEGHIJKL","Ecuador",{"$f":"$CE$12","v":"Algerien"},{"$f":"$CE$5","v":"Senegal"},{"$f":"$Y$5","v":"Südkorea"},{"$f":"$BB$26","v":"Uruguay"},{"$f":"$BB$19","v":"Iran"},"Ghana","DR Kongo"]
[null,null,null,null,null,null,null,null,null,null,null,null,null,null,null,null,null,null,null,null,null,null,null,null,null,null,null,null,null,null,null,null,null,null,null,null,null,null,null,null,null,null,null,null,null,null,null,null,null,null,null,null,null,null,null,null,null,null,null,null,null,null,null,null,null,null,null,null,null,null,null,null,null,null,null,null,null,null,null,null,null,null,null,null,null,null,null,null,null,null,null,null,"AFGHIJKL",{"$f":"$BB$26","v":"Uruguay"},{"$f":"$CE$12","v":"Algerien"},{"$f":"$CE$5","v":"Senegal"},{"$f":"$BB$12","v":"Schweden"},{"$f":"$Y$5","v":"Südkorea"},{"$f":"$BB$19","v":"Iran"},"Ghana","DR Kongo"]
[null,null,null,null,null,null,null,null,null,null,null,null,null,null,null,null,null,null,null,null,null,null,null,null,null,null,null,null,null,null,null,null,null,null,null,null,null,null,null,null,null,null,null,null,null,null,null,null,null,null,null,null,null,null,null,null,null,null,null,null,null,null,null,null,null,null,null,null,null,null,null,null,null,null,null,null,null,null,null,null,null,null,null,null,null,null,null,null,null,null,null,null,"BCDEFGHI",{"$f":"$Y$19","v":"Schottland"},{"$f":"$BB$19","v":"Iran"},{"$f":"$Y$12","v":"Bosnien-Herzegowina"},{"$f":"$Y$26","v":"Paraguay"},{"$f":"$BB$26","v":"Uruguay"},{"$f":"$BB$12","v":"Schweden"},{"$f":"$BB$5","v":"Ecuador"},{"$f":"$CE$5","v":"Senegal"}]
[null,null,null,null,null,null,null,null,null,null,null,null,null,null,null,null,null,null,null,null,null,null,null,null,null,null,null,null,null,null,null,null,null,null,null,null,null,null,null,null,null,null,null,null,null,null,null,null,null,null,null,null,null,null,null,null,null,null,null,null,null,null,null,null,null,null,null,null,null,null,null,null,null,null,null,null,null,null,null,null,null,null,null,null,null,null,null,null,null,null,null,null,"BCDEFGHJ",{"$f":"$BB$26","v":"Uruguay"},"Iran","Bosnien-Herzegowina",{"$f":"$Y$19","v":"Schottland"},{"$f":"$CE$12","v":"Algerien"},"Schweden",{"$f":"$Y$26","v":"Paraguay"},{"$f":"$BB$5","v":"Ecuador"}]
[null,null,null,null,null,null,null,null,null,null,null,null,null,null,null,null,null,null,null,null,null,null,null,null,null,null,null,null,null,null,null,null,null,null,null,null,null,null,null,null,null,null,null,null,null,null,null,null,null,null,null,null,null,null,null,null,null,null,null,null,null,null,null,null,null,null,null,null,null,null,null,null,null,null,null,null,null,null,null,null,null,null,null,null,null,null,null,null,null,null,null,null,"BCDEFGHK",{"$f":"$Y$19","v":"Schottland"},"Iran","Bosnien-Herzegowina",{"$f":"$Y$26","v":"Paraguay"},{"$f":"$BB$26","v":"Uruguay"},"Schweden",{"$f":"$BB$5","v":"Ecuador"},{"$f":"$CE$19","v":"DR Kongo"}]
[null,null,null,null,null,null,null,null,null,null,null,null,null,null,null,null,null,null,null,null,null,null,null,null,null,null,null,null,null,null,null,null,null,null,null,null,null,null,null,null,null,null,null,null,null,null,null,null,null,null,null,null,null,null,null,null,null,null,null,null,null,null,null,null,null,null,null,null,null,null,null,null,null,null,null,null,null,null,null,null,null,null,null,null,null,null,null,null,null,null,null,null,"BCDEFGHL","Schottland","Iran","Bosnien-Herzegowina","Paraguay",{"$f":"$BB$26","v":"Uruguay"},"Schweden",{"$f":"$CE$26","v":"Ghana"},{"$f":"$BB$5","v":"Ecuador"}]
[null,null,null,null,null,null,null,null,null,null,null,null,null,null,null,null,null,null,null,null,null,null,null,null,null,null,null,null,null,null,null,null,null,null,null,null,null,null,null,null,null,null,null,null,null,null,null,null,null,null,null,null,null,null,null,null,null,null,null,null,null,null,null,null,null,null,null,null,null,null,null,null,null,null,null,null,null,null,null,null,null,null,null,null,null,null,null,null,null,null,null,null,"BCDEFGIJ","Schottland","Iran","Bosnien-Herzegowina","Paraguay",{"$f":"$CE$12","v":"Algerien"},"Schweden",{"$f":"$BB$5","v":"Ecuador"},{"$f":"$CE$5","v":"Senegal"}]
[null,null,null,null,null,null,null,null,null,null,null,null,null,null,null,null,null,null,null,null,null,null,null,null,null,null,null,null,null,null,null,null,null,null,null,null,null,null,null,null,null,null,null,null,null,null,null,null,null,null,null,null,null,null,null,null,null,null,null,null,null,null,null,null,null,null,null,null,null,null,null,null,null,null,null,null,null,null,null,null,null,null,null,null,null,null,null,null,null,null,null,null,"BCDEFGIK","Schottland","Iran","Bosnien-Herzegowina","Paraguay",{"$f":"$BB$5","v":"Ecuador"},"Schweden",{"$f":"$CE$5","v":"Senegal"},{"$f":"$CE$19","v":"DR Kongo"}]
[null,null,null,null,null,null,null,null,null,null,null,null,null,null,null,null,null,null,null,null,null,null,null,null,null,null,null,null,null,null,null,null,null,null,null,null,null,null,null,null,null,null,null,null,null,null,null,null,null,null,null,null,null,null,null,null,null,null,null,null,null,null,null,null,null,null,null,null,null,null,null,null,null,null,null,null,null,null,null,null,null,null,null,null,null,null,null,null,null,null,null,null,"BCDEFGIL","Schottland","Iran","Bosnien-Herzegowina","Paraguay",{"$f":"$BB$5","v":"Ecuador"},"Schweden",{"$f":"$CE$26","v":"Ghana"},{"$f":"$CE$5","v":"Senegal"}]
[null,null,null,null,null,null,null,null,null,null,null,null,null,null,null,null,null,null,null,null,null,null,null,null,null,null,null,null,null,null,null,null,null,null,null,null,null,null,null,null,null,null,null,null,null,null,null,null,null,null,null,null,null,null,null,null,null,null,null,null,null,null,null,null,null,null,null,null,null,null,null,null,null,null,null,null,null,null,null,null,null,null,null,null,null,null,null,null,null,null,null,null,"BCDEFGJK","Schottland","Iran","Bosnien-Herzegowina","Paraguay",{"$f":"$CE$12","v":"Algerien"},"Schweden",{"$f":"$BB$5","v":"Ecuador"},{"$f":"$CE$19","v":"DR Kongo"}]
[null,null,null,null,null,null,null,null,null,null,null,null,null,null,null,null,null,null,null,null,null,null,null,null,null,null,null,null,null,null,null,null,null,null,null,null,null,null,null,null,null,null,null,null,null,null,null,null,null,null,null,null,null,null,null,null,null,null,null,null,null,null,null,null,null,null,null,null,null,null,null,null,null,null,null,null,null,null,null,null,null,null,null,null,null,null,null,null,null,null,null,null,"BCDEFGJL","Schottland","Iran","Bosnien-Herzegowina","Paraguay",{"$f":"$CE$12","v":"Algerien"},"Schweden",{"$f":"$CE$26","v":"Ghana"},{"$f":"$BB$5","v":"Ecuador"}]
[null,null,null,null,null,null,null,null,null,null,null,null,null,null,null,null,null,null,null,null,null,null,null,null,null,null,null,null,null,null,null,null,null,null,null,null,null,null,null,null,null,null,null,null,null,null,null,null,null,null,null,null,null,null,null,null,null,null,null,null,null,null,null,null,null,null,null,null,null,null,null,null,null,null,null,null,null,null,null,null,null,null,null,null,null,null,null,null,null,null,null,null,"BCDEFGKL","Schottland","Iran","Bosnien-Herzegowina","Paraguay",{"$f":"$BB$5","v":"Ecuador"},"Schweden",{"$f":"$CE$26","v":"Ghana"},{"$f":"$CE$19","v":"DR Kongo"}]
[null,null,null,null,null,null,null,null,null,null,null,null,null,null,null,null,null,null,null,null,null,null,null,null,null,null,null,null,null,null,null,null,null,null,null,null,null,null,null,null,null,null,null,null,null,null,null,null,null,null,null,null,null,null,null,null,null,null,null,null,null,null,null,null,null,null,null,null,null,null,null,null,null,null,null,null,null,null,null,null,null,null,null,null,null,null,null,null,null,null,null,null,"BCDEFHIJ","Schottland",{"$f":"$CE$12","v":"Algerien"},"Bosnien-Herzegowina","Paraguay",{"$f":"$BB$26","v":"Uruguay"},"Schweden",{"$f":"$BB$5","v":"Ecuador"},{"$f":"$CE$5","v":"Senegal"}]
[null,null,null,null,null,null,null,null,null,null,null,null,null,null,null,null,null,null,null,null,null,null,null,null,null,null,null,null,null,null,null,null,null,null,null,null,null,null,null,null,null,null,null,null,null,null,null,null,null,null,null,null,null,null,null,null,null,null,null,null,null,null,null,null,null,null,null,null,null,null,null,null,null,null,null,null,null,null,null,null,null,null,null,null,null,null,null,null,null,null,null,null,"BCDEFHIK","Schottland",{"$f":"$BB$5","v":"Ecuador"},"Bosnien-Herzegowina","Paraguay","Uruguay","Schweden",{"$f":"$CE$5","v":"Senegal"},{"$f":"$CE$19","v":"DR Kongo"}]
[null,null,null,null,null,null,null,null,null,null,null,null,null,null,null,null,null,null,null,null,null,null,null,null,null,null,null,null,null,null,null,null,null,null,null,null,null,null,null,null,null,null,null,null,null,null,null,null,null,null,null,null,null,null,null,null,null,null,null,null,null,null,null,null,null,null,null,null,null,null,null,null,null,null,null,null,null,null,null,null,null,null,null,null,null,null,null,null,null,null,null,null,"BCDEFHIL","Schottland",{"$f":"$BB$5","v":"Ecuador"},"Bosnien-Herzegowina","Paraguay","Uruguay","Schweden",{"$f":"$CE$26","v":"Ghana"},{"$f":"$CE$5","v":"Senegal"}]
[null,null,null,null,null,null,null,null,null,null,null,null,null,null,null,null,null,null,null,null,null,null,null,null,null,null,null,null,null,null,null,null,null,null,null,null,null,null,null,null,null,null,null,null,null,null,null,null,null,null,null,null,null,null,null,null,null,null,null,null,null,null,null,null,null,null,null,null,null,null,null,null,null,null,null,null,null,null,null,null,null,null,null,null,null,null,null,null,null,null,null,null,"BCDEFHJK","Schottland",{"$f":"$CE$12","v":"Algerien"},"Bosnien-Herzegowina","Paraguay","Uruguay","Schweden",{"$f":"$BB$5","v":"Ecuador"},{"$f":"$CE$19","v":"DR Kongo"}]
[null,null,null,null,null,null,null,null,null,null,null,null,null,null,null,null,null,null,null,null,null,null,null,null,null,null,null,null,null,null,null,null,null,null,null,null,null,null,null,null,null,null,null,null,null,null,null,null,null,null,null,null,null,null,null,null,null,null,null,null,null,null,null,null,null,null,null,null,null,null,null,null,null,null,null,null,null,null,null,null,null,null,null,null,null,null,null,null,null,null,null,null,"BCDEFHJL","Schottland",{"$f":"$CE$12","v":"Algerien"},"Bosnien-Herzegowina","Paraguay","Uruguay","Schweden",{"$f":"$CE$26","v":"Ghana"},{"$f":"$BB$5","v":"Ecuador"}]
[null,null,null,null,null,null,null,null,null,null,null,null,null,null,null,null,null,null,null,null,null,null,null,null,null,null,null,null,null,null,null,null,null,null,null,null,null,null,null,null,null,null,null,null,null,null,null,null,null,null,null,null,null,null,null,null,null,null,null,null,null,null,null,null,null,null,null,null,null,null,null,null,null,null,null,null,null,null,null,null,null,null,null,null,null,null,null,null,null,null,null,null,"BCDEFHKL","Schottland",{"$f":"$BB$5","v":"Ecuador"},"Bosnien-Herzegowina","Paraguay","Uruguay","Schweden",{"$f":"$CE$26","v":"Ghana"},{"$f":"$CE$19","v":"DR Kongo"}]
[null,null,null,null,null,null,null,null,null,null,null,null,null,null,null,null,null,null,null,null,null,null,null,null,null,null,null,null,null,null,null,null,null,null,null,null,null,null,null,null,null,null,null,null,null,null,null,null,null,null,null,null,null,null,null,null,null,null,null,null,null,null,null,null,null,null,null,null,null,null,null,null,null,null,null,null,null,null,null,null,null,null,null,null,null,null,null,null,null,null,null,null,"BCDEFIJK","Schottland",{"$f":"$CE$12","v":"Algerien"},"Bosnien-Herzegowina","Paraguay",{"$f":"$BB$5","v":"Ecuador"},"Schweden",{"$f":"$CE$5","v":"Senegal"},{"$f":"$CE$19","v":"DR Kongo"}]
[null,null,null,null,null,null,null,null,null,null,null,null,null,null,null,null,null,null,null,null,null,null,null,null,null,null,null,null,null,null,null,null,null,null,null,null,null,null,null,null,null,null,null,null,null,null,null,null,null,null,null,null,null,null,null,null,null,null,null,null,null,null,null,null,null,null,null,null,null,null,null,null,null,null,null,null,null,null,null,null,null,null,null,null,null,null,null,null,null,null,null,null,"BCDEFIJL","Schottland",{"$f":"$CE$12","v":"Algerien"},"Bosnien-Herzegowina","Paraguay",{"$f":"$BB$5","v":"Ecuador"},"Schweden",{"$f":"$CE$26","v":"Ghana"},{"$f":"$CE$5","v":"Senegal"}]
[null,null,null,null,null,null,null,null,null,null,null,null,null,null,null,null,null,null,null,null,null,null,null,null,null,null,null,null,null,null,null,null,null,null,null,null,null,null,null,null,null,null,null,null,null,null,null,null,null,null,null,null,null,null,null,null,null,null,null,null,null,null,null,null,null,null,null,null,null,null,null,null,null,null,null,null,null,null,null,null,null,null,null,null,null,null,null,null,null,null,null,null,"BCDEFIKL","Schottland",{"$f":"$BB$5","v":"Ecuador"},"Bosnien-Herzegowina","Paraguay",{"$f":"$CE$5","v":"Senegal"},"Schweden",{"$f":"$CE$26","v":"Ghana"},{"$f":"$CE$19","v":"DR Kongo"}]
[null,null,null,null,null,null,null,null,null,null,null,null,null,null,null,null,null,null,null,null,null,null,null,null,null,null,null,null,null,null,null,null,null,null,null,null,null,null,null,null,null,null,null,null,null,null,null,null,null,null,null,null,null,null,null,null,null,null,null,null,null,null,null,null,null,null,null,null,null,null,null,null,null,null,null,null,null,null,null,null,null,null,null,null,null,null,null,null,null,null,null,null,"BCDEFJKL","Schottland",{"$f":"$CE$12","v":"Algerien"},"Bosnien-Herzegowina","Paraguay",{"$f":"$BB$5","v":"Ecuador"},"Schweden",{"$f":"$CE$26","v":"Ghana"},{"$f":"$CE$19","v":"DR Kongo"}]
[null,null,null,null,null,null,null,null,null,null,null,null,null,null,null,null,null,null,null,null,null,null,null,null,null,null,null,null,null,null,null,null,null,null,null,null,null,null,null,null,null,null,null,null,null,null,null,null,null,null,null,null,null,null,null,null,null,null,null,null,null,null,null,null,null,null,null,null,null,null,null,null,null,null,null,null,null,null,null,null,null,null,null,null,null,null,null,null,null,null,null,null,"BCDEGHIJ",{"$f":"$BB$26","v":"Uruguay"},{"$f":"$BB$19","v":"Iran"},"Bosnien-Herzegowina",{"$f":"$Y$19","v":"Schottland"},{"$f":"$CE$12","v":"Algerien"},{"$f":"$Y$26","v":"Paraguay"},{"$f":"$BB$5","v":"Ecuador"},{"$f":"$CE$5","v":"Senegal"}]
[null,null,null,null,null,null,null,null,null,null,null,null,null,null,null,null,null,null,null,null,null,null,null,null,null,null,null,null,null,null,null,null,null,null,null,null,null,null,null,null,null,null,null,null,null,null,null,null,null,null,null,null,null,null,null,null,null,null,null,null,null,null,null,null,null,null,null,null,null,null,null,null,null,null,null,null,null,null,null,null,null,null,null,null,null,null,null,null,null,null,null,null,"BCDEGHIK",{"$f":"$BB$5","v":"Ecuador"},"Iran","Bosnien-Herzegowina","Schottland",{"$f":"$BB$26","v":"Uruguay"},"Paraguay",{"$f":"$CE$5","v":"Senegal"},{"$f":"$CE$19","v":"DR Kongo"}]
[null,null,null,null,null,null,null,null,null,null,null,null,null,null,null,null,null,null,null,null,null,null,null,null,null,null,null,null,null,null,null,null,null,null,null,null,null,null,null,null,null,null,null,null,null,null,null,null,null,null,null,null,null,null,null,null,null,null,null,null,null,null,null,null,null,null,null,null,null,null,null,null,null,null,null,null,null,null,null,null,null,null,null,null,null,null,null,null,null,null,null,null,"BCDEGHIL",{"$f":"$BB$5","v":"Ecuador"},"Iran","Bosnien-Herzegowina","Schottland",{"$f":"$BB$26","v":"Uruguay"},"Paraguay",{"$f":"$CE$26","v":"Ghana"},{"$f":"$CE$5","v":"Senegal"}]
[null,null,null,null,null,null,null,null,null,null,null,null,null,null,null,null,null,null,null,null,null,null,null,null,null,null,null,null,null,null,null,null,null,null,null,null,null,null,null,null,null,null,null,null,null,null,null,null,null,null,null,null,null,null,null,null,null,null,null,null,null,null,null,null,null,null,null,null,null,null,null,null,null,null,null,null,null,null,null,null,null,null,null,null,null,null,null,null,null,null,null,null,"BCDEGHJK",{"$f":"$BB$26","v":"Uruguay"},"Iran","Bosnien-Herzegowina","Schottland",{"$f":"$CE$12","v":"Algerien"},"Paraguay",{"$f":"$BB$5","v":"Ecuador"},{"$f":"$CE$19","v":"DR Kongo"}]
[null,null,null,null,null,null,null,null,null,null,null,null,null,null,null,null,null,null,null,null,null,null,null,null,null,null,null,null,null,null,null,null,null,null,null,null,null,null,null,null,null,null,null,null,null,null,null,null,null,null,null,null,null,null,null,null,null,null,null,null,null,null,null,null,null,null,null,null,null,null,null,null,null,null,null,null,null,null,null,null,null,null,null,null,null,null,null,null,null,null,null,null,"BCDEGHJL",{"$f":"$BB$26","v":"Uruguay"},"Iran","Bosnien-Herzegowina","Schottland",{"$f":"$CE$12","v":"Algerien"},"Paraguay",{"$f":"$CE$26","v":"Ghana"},{"$f":"$BB$5","v":"Ecuador"}]
[null,null,null,null,null,null,null,null,null,null,null,null,null,null,null,null,null,null,null,null,null,null,null,null,null,null,null,null,null,null,null,null,null,null,null,null,null,null,null,null,null,null,null,null,null,null,null,null,null,null,null,null,null,null,null,null,null,null,null,null,null,null,null,null,null,null,null,null,null,null,null,null,null,null,null,null,null,null,null,null,null,null,null,null,null,null,null,null,null,null,null,null,"BCDEGHKL",{"$f":"$BB$5","v":"Ecuador"},"Iran","Bosnien-Herzegowina","Schottland",{"$f":"$BB$26","v":"Uruguay"},"Paraguay",{"$f":"$CE$26","v":"Ghana"},{"$f":"$CE$19","v":"DR Kongo"}]
[null,null,null,null,null,null,null,null,null,null,null,null,null,null,null,null,null,null,null,null,null,null,null,null,null,null,null,null,null,null,null,null,null,null,null,null,null,null,null,null,null,null,null,null,null,null,null,null,null,null,null,null,null,null,null,null,null,null,null,null,null,null,null,null,null,null,null,null,null,null,null,null,null,null,null,null,null,null,null,null,null,null,null,null,null,null,null,null,null,null,null,null,"BCDEGIJK","Ecuador","Iran","Bosnien-Herzegowina","Schottland",{"$f":"$CE$12","v":"Algerien"},"Paraguay",{"$f":"$CE$5","v":"Senegal"},{"$f":"$CE$19","v":"DR Kongo"}]
[null,null,null,null,null,null,null,null,null,null,null,null,null,null,null,null,null,null,null,null,null,null,null,null,null,null,null,null,null,null,null,null,null,null,null,null,null,null,null,null,null,null,null,null,null,null,null,null,null,null,null,null,null,null,null,null,null,null,null,null,null,null,null,null,null,null,null,null,null,null,null,null,null,null,null,null,null,null,null,null,null,null,null,null,null,null,null,null,null,null,null,null,"BCDEGIJL","Ecuador","Iran","Bosnien-Herzegowina","Schottland",{"$f":"$CE$12","v":"Algerien"},"Paraguay",{"$f":"$CE$26","v":"Ghana"},{"$f":"$CE$5","v":"Senegal"}]
[null,null,null,null,null,null,null,null,null,null,null,null,null,null,null,null,null,null,null,null,null,null,null,null,null,null,null,null,null,null,null,null,null,null,null,null,null,null,null,null,null,null,null,null,null,null,null,null,null,null,null,null,null,null,null,null,null,null,null,null,null,null,null,null,null,null,null,null,null,null,null,null,null,null,null,null,null,null,null,null,null,null,null,null,null,null,null,null,null,null,null,null,"BCDEGIKL","Ecuador","Iran","Bosnien-Herzegowina","Schottland",{"$f":"$CE$5","v":"Senegal"},"Paraguay",{"$f":"$CE$26","v":"Ghana"},{"$f":"$CE$19","v":"DR Kongo"}]
[null,null,null,null,null,null,null,null,null,null,null,null,null,null,null,null,null,null,null,null,null,null,null,null,null,null,null,null,null,null,null,null,null,null,null,null,null,null,null,null,null,null,null,null,null,null,null,null,null,null,null,null,null,null,null,null,null,null,null,null,null,null,null,null,null,null,null,null,null,null,null,null,null,null,null,null,null,null,null,null,null,null,null,null,null,null,null,null,null,null,null,null,"BCDEGJKL","Ecuador","Iran","Bosnien-Herzegowina","Schottland",{"$f":"$CE$12","v":"Algerien"},"Paraguay",{"$f":"$CE$26","v":"Ghana"},{"$f":"$CE$19","v":"DR Kongo"}]
[null,null,null,null,null,null,null,null,null,null,null,null,null,null,null,null,null,null,null,null,null,null,null,null,null,null,null,null,null,null,null,null,null,null,null,null,null,null,null,null,null,null,null,null,null,null,null,null,null,null,null,null,null,null,null,null,null,null,null,null,null,null,null,null,null,null,null,null,null,null,null,null,null,null,null,null,null,null,null,null,null,null,null,null,null,null,null,null,null,null,null,null,"BCDEHIJK","Ecuador",{"$f":"$CE$12","v":"Algerien"},"Bosnien-Herzegowina","Schottland",{"$f":"$BB$26","v":"Uruguay"},"Paraguay",{"$f":"$CE$5","v":"Senegal"},{"$f":"$CE$19","v":"DR Kongo"}]
[null,null,null,null,null,null,null,null,null,null,null,null,null,null,null,null,null,null,null,null,null,null,null,null,null,null,null,null,null,null,null,null,null,null,null,null,null,null,null,null,null,null,null,null,null,null,null,null,null,null,null,null,null,null,null,null,null,null,null,null,null,null,null,null,null,null,null,null,null,null,null,null,null,null,null,null,null,null,null,null,null,null,null,null,null,null,null,null,null,null,null,null,"BCDEHIJL","Ecuador",{"$f":"$CE$12","v":"Algerien"},"Bosnien-Herzegowina","Schottland",{"$f":"$BB$26","v":"Uruguay"},"Paraguay",{"$f":"$CE$26","v":"Ghana"},{"$f":"$CE$5","v":"Senegal"}]
[null,null,null,null,null,null,null,null,null,null,null,null,null,null,null,null,null,null,null,null,null,null,null,null,null,null,null,null,null,null,null,null,null,null,null,null,null,null,null,null,null,null,null,null,null,null,null,null,null,null,null,null,null,null,null,null,null,null,null,null,null,null,null,null,null,null,null,null,null,null,null,null,null,null,null,null,null,null,null,null,null,null,null,null,null,null,null,null,null,null,null,null,"BCDEHIKL","Ecuador",{"$f":"$CE$5","v":"Senegal"},{"$f":"$Y$12","v":"Bosnien-Herzegowina"},"Schottland",{"$f":"$BB$26","v":"Uruguay"},"Paraguay",{"$f":"$CE$26","v":"Ghana"},{"$f":"$CE$19","v":"DR Kongo"}]
[null,null,null,null,null,null,null,null,null,null,null,null,null,null,null,null,null,null,null,null,null,null,null,null,null,null,null,null,null,null,null,null,null,null,null,null,null,null,null,null,null,null,null,null,null,null,null,null,null,null,null,null,null,null,null,null,null,null,null,null,null,null,null,null,null,null,null,null,null,null,null,null,null,null,null,null,null,null,null,null,null,null,null,null,null,null,null,null,null,null,null,null,"BCDEHJKL","Ecuador",{"$f":"$CE$12","v":"Algerien"},"Bosnien-Herzegowina","Schottland",{"$f":"$BB$26","v":"Uruguay"},"Paraguay",{"$f":"$CE$26","v":"Ghana"},{"$f":"$CE$19","v":"DR Kongo"}]
[null,null,null,null,null,null,null,null,null,null,null,null,null,null,null,null,null,null,null,null,null,null,null,null,null,null,null,null,null,null,null,null,null,null,null,null,null,null,null,null,null,null,null,null,null,null,null,null,null,null,null,null,null,null,null,null,null,null,null,null,null,null,null,null,null,null,null,null,null,null,null,null,null,null,null,null,null,null,null,null,null,null,null,null,null,null,null,null,null,null,null,null,"BCDEIJKL","Ecuador",{"$f":"$CE$12","v":"Algerien"},"Bosnien-Herzegowina","Schottland",{"$f":"$CE$5","v":"Senegal"},"Paraguay",{"$f":"$CE$26","v":"Ghana"},{"$f":"$CE$19","v":"DR Kongo"}]
[null,null,null,null,null,null,null,null,null,null,null,null,null,null,null,null,null,null,null,null,null,null,null,null,null,null,null,null,null,null,null,null,null,null,null,null,null,null,null,null,null,null,null,null,null,null,null,null,null,null,null,null,null,null,null,null,null,null,null,null,null,null,null,null,null,null,null,null,null,null,null,null,null,null,null,null,null,null,null,null,null,null,null,null,null,null,null,null,null,null,null,null,"BCDFGHIJ",{"$f":"$BB$26","v":"Uruguay"},{"$f":"$BB$19","v":"Iran"},"Bosnien-Herzegowina","Schottland",{"$f":"$CE$12","v":"Algerien"},{"$f":"$BB$12","v":"Schweden"},{"$f":"$Y$26","v":"Paraguay"},{"$f":"$CE$5","v":"Senegal"}]
[null,null,null,null,null,null,null,null,null,null,null,null,null,null,null,null,null,null,null,null,null,null,null,null,null,null,null,null,null,null,null,null,null,null,null,null,null,null,null,null,null,null,null,null,null,null,null,null,null,null,null,null,null,null,null,null,null,null,null,null,null,null,null,null,null,null,null,null,null,null,null,null,null,null,null,null,null,null,null,null,null,null,null,null,null,null,null,null,null,null,null,null,"BCDFGHIK",{"$f":"$Y$19","v":"Schottland"},"Iran","Bosnien-Herzegowina",{"$f":"$Y$26","v":"Paraguay"},{"$f":"$BB$26","v":"Uruguay"},"Schweden",{"$f":"$CE$5","v":"Senegal"},{"$f":"$CE$19","v":"DR Kongo"}]
[null,null,null,null,null,null,null,null,null,null,null,null,null,null,null,null,null,null,null,null,null,null,null,null,null,null,null,null,null,null,null,null,null,null,null,null,null,null,null,null,null,null,null,null,null,null,null,null,null,null,null,null,null,null,null,null,null,null,null,null,null,null,null,null,null,null,null,null,null,null,null,null,null,null,null,null,null,null,null,null,null,null,null,null,null,null,null,null,null,null,null,null,"BCDFGHIL",{"$f":"$Y$19","v":"Schottland"},"Iran","Bosnien-Herzegowina",{"$f":"$Y$26","v":"Paraguay"},{"$f":"$BB$26","v":"Uruguay"},"Schweden",{"$f":"$CE$26","v":"Ghana"},{"$f":"$CE$5","v":"Senegal"}]
[null,null,null,null,null,null,null,null,null,null,null,null,null,null,null,null,null,null,null,null,null,null,null,null,null,null,null,null,null,null,null,null,null,null,null,null,null,null,null,null,null,null,null,null,null,null,null,null,null,null,null,null,null,null,null,null,null,null,null,null,null,null,null,null,null,null,null,null,null,null,null,null,null,null,null,null,null,null,null,null,null,null,null,null,null,null,null,null,null,null,null,null,"BCDFGHJK",{"$f":"$BB$26","v":"Uruguay"},"Iran","Bosnien-Herzegowina",{"$f":"$Y$19","v":"Schottland"},{"$f":"$CE$12","v":"Algerien"},"Schweden",{"$f":"$Y$26","v":"Paraguay"},{"$f":"$CE$19","v":"DR Kongo"}]
[null,null,null,null,null,null,null,null,null,null,null,null,null,null,null,null,null,null,null,null,null,null,null,null,null,null,null,null,null,null,null,null,null,null,null,null,null,null,null,null,null,null,null,null,null,null,null,null,null,null,null,null,null,null,null,null,null,null,null,null,null,null,null,null,null,null,null,null,null,null,null,null,null,null,null,null,null,null,null,null,null,null,null,null,null,null,null,null,null,null,null,null,"BCDFGHJL",{"$f":"$Y$19","v":"Schottland"},"Iran","Bosnien-Herzegowina",{"$f":"$Y$26","v":"Paraguay"},{"$f":"$BB$26","v":"Uruguay"},"Schweden",{"$f":"$CE$26","v":"Ghana"},{"$f":"$CE$12","v":"Algerien"}]
[null,null,null,null,null,null,null,null,null,null,null,null,null,null,null,null,null,null,null,null,null,null,null,null,null,null,null,null,null,null,null,null,null,null,null,null,null,null,null,null,null,null,null,null,null,null,null,null,null,null,null,null,null,null,null,null,null,null,null,null,null,null,null,null,null,null,null,null,null,null,null,null,null,null,null,null,null,null,null,null,null,null,null,null,null,null,null,null,null,null,null,null,"BCDFGHKL","Schottland","Iran","Bosnien-Herzegowina","Paraguay",{"$f":"$BB$26","v":"Uruguay"},"Schweden",{"$f":"$CE$26","v":"Ghana"},{"$f":"$CE$19","v":"DR Kongo"}]
[null,null,null,null,null,null,null,null,null,null,null,null,null,null,null,null,null,null,null,null,null,null,null,null,null,null,null,null,null,null,null,null,null,null,null,null,null,null,null,null,null,null,null,null,null,null,null,null,null,null,null,null,null,null,null,null,null,null,null,null,null,null,null,null,null,null,null,null,null,null,null,null,null,null,null,null,null,null,null,null,null,null,null,null,null,null,null,null,null,null,null,null,"BCDFGIJK","Schottland","Iran","Bosnien-Herzegowina","Paraguay",{"$f":"$CE$12","v":"Algerien"},"Schweden",{"$f":"$CE$5","v":"Senegal"},{"$f":"$CE$19","v":"DR Kongo"}]
[null,null,null,null,null,null,null,null,null,null,null,null,null,null,null,null,null,null,null,null,null,null,null,null,null,null,null,null,null,null,null,null,null,null,null,null,null,null,null,null,null,null,null,null,null,null,null,null,null,null,null,null,null,null,null,null,null,null,null,null,null,null,null,null,null,null,null,null,null,null,null,null,null,null,null,null,null,null,null,null,null,null,null,null,null,null,null,null,null,null,null,null,"BCDFGIJL","Schottland","Iran","Bosnien-Herzegowina","Paraguay",{"$f":"$CE$12","v":"Algerien"},"Schweden",{"$f":"$CE$26","v":"Ghana"},{"$f":"$CE$5","v":"Senegal"}]
[null,null,null,null,null,null,null,null,null,null,null,null,null,null,null,null,null,null,null,null,null,null,null,null,null,null,null,null,null,null,null,null,null,null,null,null,null,null,null,null,null,null,null,null,null,null,null,null,null,null,null,null,null,null,null,null,null,null,null,null,null,null,null,null,null,null,null,null,null,null,null,null,null,null,null,null,null,null,null,null,null,null,null,null,null,null,null,null,null,null,null,null,"BCDFGIKL","Schottland","Iran","Bosnien-Herzegowina","Paraguay",{"$f":"$CE$5","v":"Senegal"},"Schweden",{"$f":"$CE$26","v":"Ghana"},{"$f":"$CE$19","v":"DR Kongo"}]
[null,null,null,null,null,null,null,null,null,null,null,null,null,null,null,null,null,null,null,null,null,null,null,null,null,null,null,null,null,null,null,null,null,null,null,null,null,null,null,null,null,null,null,null,null,null,null,null,null,null,null,null,null,null,null,null,null,null,null,null,null,null,null,null,null,null,null,null,null,null,null,null,null,null,null,null,null,null,null,null,null,null,null,null,null,null,null,null,null,null,null,null,"BCDFGJKL","Schottland","Iran","Bosnien-Herzegowina","Paraguay",{"$f":"$CE$12","v":"Algerien"},"Schweden",{"$f":"$CE$26","v":"Ghana"},{"$f":"$CE$19","v":"DR Kongo"}]
[null,null,null,null,null,null,null,null,null,null,null,null,null,null,null,null,null,null,null,null,null,null,null,null,null,null,null,null,null,null,null,null,null,null,null,null,null,null,null,null,null,null,null,null,null,null,null,null,null,null,null,null,null,null,null,null,null,null,null,null,null,null,null,null,null,null,null,null,null,null,null,null,null,null,null,null,null,null,null,null,null,null,null,null,null,null,null,null,null,null,null,null,"BCDFHIJK","Schottland",{"$f":"$CE$12","v":"Algerien"},"Bosnien-Herzegowina","Paraguay",{"$f":"$BB$26","v":"Uruguay"},"Schweden",{"$f":"$CE$5","v":"Senegal"},{"$f":"$CE$19","v":"DR Kongo"}]
[null,null,null,null,null,null,null,null,null,null,null,null,null,null,null,null,null,null,null,null,null,null,null,null,null,null,null,null,null,null,null,null,null,null,null,null,null,null,null,null,null,null,null,null,null,null,null,null,null,null,null,null,null,null,null,null,null,null,null,null,null,null,null,null,null,null,null,null,null,null,null,null,null,null,null,null,null,null,null,null,null,null,null,null,null,null,null,null,null,null,null,null,"BCDFHIJL","Schottland",{"$f":"$CE$12","v":"Algerien"},"Bosnien-Herzegowina","Paraguay",{"$f":"$BB$26","v":"Uruguay"},"Schweden",{"$f":"$CE$26","v":"Ghana"},{"$f":"$CE$5","v":"Senegal"}]
[null,null,null,null,null,null,null,null,null,null,null,null,null,null,null,null,null,null,null,null,null,null,null,null,null,null,null,null,null,null,null,null,null,null,null,null,null,null,null,null,null,null,null,null,null,null,null,null,null,null,null,null,null,null,null,null,null,null,null,null,null,null,null,null,null,null,null,null,null,null,null,null,null,null,null,null,null,null,null,null,null,null,null,null,null,null,null,null,null,null,null,null,"BCDFHIKL","Schottland",{"$f":"$CE$5","v":"Senegal"},"Bosnien-Herzegowina","Paraguay",{"$f":"$BB$26","v":"Uruguay"},"Schweden",{"$f":"$CE$26","v":"Ghana"},{"$f":"$CE$19","v":"DR Kongo"}]
[null,null,null,null,null,null,null,null,null,null,null,null,null,null,null,null,null,null,null,null,null,null,null,null,null,null,null,null,null,null,null,null,null,null,null,null,null,null,null,null,null,null,null,null,null,null,null,null,null,null,null,null,null,null,null,null,null,null,null,null,null,null,null,null,null,null,null,null,null,null,null,null,null,null,null,null,null,null,null,null,null,null,null,null,null,null,null,null,null,null,null,null,"BCDFHJKL","Schottland",{"$f":"$CE$12","v":"Algerien"},"Bosnien-Herzegowina","Paraguay",{"$f":"$BB$26","v":"Uruguay"},"Schweden",{"$f":"$CE$26","v":"Ghana"},{"$f":"$CE$19","v":"DR Kongo"}]
[null,null,null,null,null,null,null,null,null,null,null,null,null,null,null,null,null,null,null,null,null,null,null,null,null,null,null,null,null,null,null,null,null,null,null,null,null,null,null,null,null,null,null,null,null,null,null,null,null,null,null,null,null,null,null,null,null,null,null,null,null,null,null,null,null,null,null,null,null,null,null,null,null,null,null,null,null,null,null,null,null,null,null,null,null,null,null,null,null,null,null,null,"BCDFIJKL","Schottland",{"$f":"$CE$12","v":"Algerien"},"Bosnien-Herzegowina","Paraguay",{"$f":"$CE$5","v":"Senegal"},"Schweden",{"$f":"$CE$26","v":"Ghana"},{"$f":"$CE$19","v":"DR Kongo"}]
[null,null,null,null,null,null,null,null,null,null,null,null,null,null,null,null,null,null,null,null,null,null,null,null,null,null,null,null,null,null,null,null,null,null,null,null,null,null,null,null,null,null,null,null,null,null,null,null,null,null,null,null,null,null,null,null,null,null,null,null,null,null,null,null,null,null,null,null,null,null,null,null,null,null,null,null,null,null,null,null,null,null,null,null,null,null,null,null,null,null,null,null,"BCDGHIJK",{"$f":"$BB$26","v":"Uruguay"},{"$f":"$BB$19","v":"Iran"},"Bosnien-Herzegowina",{"$f":"$Y$19","v":"Schottland"},{"$f":"$CE$12","v":"Algerien"},{"$f":"$Y$26","v":"Paraguay"},{"$f":"$CE$5","v":"Senegal"},{"$f":"$CE$19","v":"DR Kongo"}]
[null,null,null,null,null,null,null,null,null,null,null,null,null,null,null,null,null,null,null,null,null,null,null,null,null,null,null,null,null,null,null,null,null,null,null,null,null,null,null,null,null,null,null,null,null,null,null,null,null,null,null,null,null,null,null,null,null,null,null,null,null,null,null,null,null,null,null,null,null,null,null,null,null,null,null,null,null,null,null,null,null,null,null,null,null,null,null,null,null,null,null,null,"BCDGHIJL",{"$f":"$BB$26","v":"Uruguay"},{"$f":"$BB$19","v":"Iran"},"Bosnien-Herzegowina","Schottland",{"$f":"$CE$12","v":"Algerien"},"Paraguay",{"$f":"$CE$26","v":"Ghana"},{"$f":"$CE$5","v":"Senegal"}]
[null,null,null,null,null,null,null,null,null,null,null,null,null,null,null,null,null,null,null,null,null,null,null,null,null,null,null,null,null,null,null,null,null,null,null,null,null,null,null,null,null,null,null,null,null,null,null,null,null,null,null,null,null,null,null,null,null,null,null,null,null,null,null,null,null,null,null,null,null,null,null,null,null,null,null,null,null,null,null,null,null,null,null,null,null,null,null,null,null,null,null,null,"BCDGHIKL",{"$f":"$BB$26","v":"Uruguay"},{"$f":"$BB$19","v":"Iran"},"Bosnien-Herzegowina","Schottland",{"$f":"$CE$5","v":"Senegal"},"Paraguay",{"$f":"$CE$26","v":"Ghana"},{"$f":"$CE$19","v":"DR Kongo"}]
[null,null,null,null,null,null,null,null,null,null,null,null,null,null,null,null,null,null,null,null,null,null,null,null,null,null,null,null,null,null,null,null,null,null,null,null,null,null,null,null,null,null,null,null,null,null,null,null,null,null,null,null,null,null,null,null,null,null,null,null,null,null,null,null,null,null,null,null,null,null,null,null,null,null,null,null,null,null,null,null,null,null,null,null,null,null,null,null,null,null,null,null,"BCDGHJKL",{"$f":"$BB$26","v":"Uruguay"},{"$f":"$BB$19","v":"Iran"},"Bosnien-Herzegowina","Schottland",{"$f":"$CE$12","v":"Algerien"},"Paraguay",{"$f":"$CE$26","v":"Ghana"},{"$f":"$CE$19","v":"DR Kongo"}]
[null,null,null,null,null,null,null,null,null,null,null,null,null,null,null,null,null,null,null,null,null,null,null,null,null,null,null,null,null,null,null,null,null,null,null,null,null,null,null,null,null,null,null,null,null,null,null,null,null,null,null,null,null,null,null,null,null,null,null,null,null,null,null,null,null,null,null,null,null,null,null,null,null,null,null,null,null,null,null,null,null,null,null,null,null,null,null,null,null,null,null,null,"BCDGIJKL",{"$f":"$CE$5","v":"Senegal"},{"$f":"$BB$19","v":"Iran"},"Bosnien-Herzegowina","Schottland",{"$f":"$CE$12","v":"Algerien"},"Paraguay",{"$f":"$CE$26","v":"Ghana"},{"$f":"$CE$19","v":"DR Kongo"}]
[null,null,null,null,null,null,null,null,null,null,null,null,null,null,null,null,null,null,null,null,null,null,null,null,null,null,null,null,null,null,null,null,null,null,null,null,null,null,null,null,null,null,null,null,null,null,null,null,null,null,null,null,null,null,null,null,null,null,null,null,null,null,null,null,null,null,null,null,null,null,null,null,null,null,null,null,null,null,null,null,null,null,null,null,null,null,null,null,null,null,null,null,"BCDHIJKL",{"$f":"$BB$26","v":"Uruguay"},{"$f":"$CE$12","v":"Algerien"},"Bosnien-Herzegowina","Schottland",{"$f":"$CE$5","v":"Senegal"},"Paraguay",{"$f":"$CE$26","v":"Ghana"},{"$f":"$CE$19","v":"DR Kongo"}]
[null,null,null,null,null,null,null,null,null,null,null,null,null,null,null,null,null,null,null,null,null,null,null,null,null,null,null,null,null,null,null,null,null,null,null,null,null,null,null,null,null,null,null,null,null,null,null,null,null,null,null,null,null,null,null,null,null,null,null,null,null,null,null,null,null,null,null,null,null,null,null,null,null,null,null,null,null,null,null,null,null,null,null,null,null,null,null,null,null,null,null,null,"BCEFGHIJ",{"$f":"$BB$26","v":"Uruguay"},{"$f":"$BB$19","v":"Iran"},"Bosnien-Herzegowina","Schottland",{"$f":"$CE$12","v":"Algerien"},{"$f":"$BB$12","v":"Schweden"},{"$f":"$BB$5","v":"Ecuador"},{"$f":"$CE$5","v":"Senegal"}]
[null,null,null,null,null,null,null,null,null,null,null,null,null,null,null,null,null,null,null,null,null,null,null,null,null,null,null,null,null,null,null,null,null,null,null,null,null,null,null,null,null,null,null,null,null,null,null,null,null,null,null,null,null,null,null,null,null,null,null,null,null,null,null,null,null,null,null,null,null,null,null,null,null,null,null,null,null,null,null,null,null,null,null,null,null,null,null,null,null,null,null,null,"BCEFGHIK",{"$f":"$BB$5","v":"Ecuador"},"Iran","Bosnien-Herzegowina","Schottland",{"$f":"$BB$26","v":"Uruguay"},"Schweden",{"$f":"$CE$5","v":"Senegal"},{"$f":"$CE$19","v":"DR Kongo"}]
[null,null,null,null,null,null,null,null,null,null,null,null,null,null,null,null,null,null,null,null,null,null,null,null,null,null,null,null,null,null,null,null,null,null,null,null,null,null,null,null,null,null,null,null,null,null,null,null,null,null,null,null,null,null,null,null,null,null,null,null,null,null,null,null,null,null,null,null,null,null,null,null,null,null,null,null,null,null,null,null,null,null,null,null,null,null,null,null,null,null,null,null,"BCEFGHIL",{"$f":"$BB$5","v":"Ecuador"},"Iran","Bosnien-Herzegowina","Schottland",{"$f":"$BB$26","v":"Uruguay"},"Schweden",{"$f":"$CE$26","v":"Ghana"},{"$f":"$CE$5","v":"Senegal"}]
[null,null,null,null,null,null,null,null,null,null,null,null,null,null,null,null,null,null,null,null,null,null,null,null,null,null,null,null,null,null,null,null,null,null,null,null,null,null,null,null,null,null,null,null,null,null,null,null,null,null,null,null,null,null,null,null,null,null,null,null,null,null,null,null,null,null,null,null,null,null,null,null,null,null,null,null,null,null,null,null,null,null,null,null,null,null,null,null,null,null,null,null,"BCEFGHJK",{"$f":"$BB$26","v":"Uruguay"},"Iran","Bosnien-Herzegowina","Schottland",{"$f":"$CE$12","v":"Algerien"},"Schweden",{"$f":"$BB$5","v":"Ecuador"},{"$f":"$CE$19","v":"DR Kongo"}]
[null,null,null,null,null,null,null,null,null,null,null,null,null,null,null,null,null,null,null,null,null,null,null,null,null,null,null,null,null,null,null,null,null,null,null,null,null,null,null,null,null,null,null,null,null,null,null,null,null,null,null,null,null,null,null,null,null,null,null,null,null,null,null,null,null,null,null,null,null,null,null,null,null,null,null,null,null,null,null,null,null,null,null,null,null,null,null,null,null,null,null,null,"BCEFGHJL",{"$f":"$BB$26","v":"Uruguay"},"Iran","Bosnien-Herzegowina","Schottland",{"$f":"$CE$12","v":"Algerien"},"Schweden",{"$f":"$CE$26","v":"Ghana"},{"$f":"$BB$5","v":"Ecuador"}]
[null,null,null,null,null,null,null,null,null,null,null,null,null,null,null,null,null,null,null,null,null,null,null,null,null,null,null,null,null,null,null,null,null,null,null,null,null,null,null,null,null,null,null,null,null,null,null,null,null,null,null,null,null,null,null,null,null,null,null,null,null,null,null,null,null,null,null,null,null,null,null,null,null,null,null,null,null,null,null,null,null,null,null,null,null,null,null,null,null,null,null,null,"BCEFGHKL",{"$f":"$BB$5","v":"Ecuador"},"Iran","Bosnien-Herzegowina","Schottland",{"$f":"$BB$26","v":"Uruguay"},"Schweden",{"$f":"$CE$26","v":"Ghana"},{"$f":"$CE$19","v":"DR Kongo"}]
[null,null,null,null,null,null,null,null,null,null,null,null,null,null,null,null,null,null,null,null,null,null,null,null,null,null,null,null,null,null,null,null,null,null,null,null,null,null,null,null,null,null,null,null,null,null,null,null,null,null,null,null,null,null,null,null,null,null,null,null,null,null,null,null,null,null,null,null,null,null,null,null,null,null,null,null,null,null,null,null,null,null,null,null,null,null,null,null,null,null,null,null,"BCEFGIJK","Ecuador","Iran","Bosnien-Herzegowina","Schottland",{"$f":"$CE$12","v":"Algerien"},"Schweden",{"$f":"$CE$5","v":"Senegal"},{"$f":"$CE$19","v":"DR Kongo"}]
[null,null,null,null,null,null,null,null,null,null,null,null,null,null,null,null,null,null,null,null,null,null,null,null,null,null,null,null,null,null,null,null,null,null,null,null,null,null,null,null,null,null,null,null,null,null,null,null,null,null,null,null,null,null,null,null,null,null,null,null,null,null,null,null,null,null,null,null,null,null,null,null,null,null,null,null,null,null,null,null,null,null,null,null,null,null,null,null,null,null,null,null,"BCEFGIJL","Ecuador","Iran","Bosnien-Herzegowina","Schottland",{"$f":"$CE$12","v":"Algerien"},"Schweden",{"$f":"$CE$26","v":"Ghana"},{"$f":"$CE$5","v":"Senegal"}]
[null,null,null,null,null,null,null,null,null,null,null,null,null,null,null,null,null,null,null,null,null,null,null,null,null,null,null,null,null,null,null,null,null,null,null,null,null,null,null,null,null,null,null,null,null,null,null,null,null,null,null,null,null,null,null,null,null,null,null,null,null,null,null,null,null,null,null,null,null,null,null,null,null,null,null,null,null,null,null,null,null,null,null,null,null,null,null,null,null,null,null,null,"BCEFGIKL","Ecuador","Iran",{"$f":"$Y$12","v":"Bosnien-Herzegowina"},"Schottland",{"$f":"$CE$5","v":"Senegal"},"Schweden",{"$f":"$CE$26","v":"Ghana"},{"$f":"$CE$19","v":"DR Kongo"}]
[null,null,null,null,null,null,null,null,null,null,null,null,null,null,null,null,null,null,null,null,null,null,null,null,null,null,null,null,null,null,null,null,null,null,null,null,null,null,null,null,null,null,null,null,null,null,null,null,null,null,null,null,null,null,null,null,null,null,null,null,null,null,null,null,null,null,null,null,null,null,null,null,null,null,null,null,null,null,null,null,null,null,null,null,null,null,null,null,null,null,null,null,"BCEFGJKL","Ecuador","Iran","Bosnien-Herzegowina","Schottland",{"$f":"$CE$12","v":"Algerien"},"Schweden",{"$f":"$CE$26","v":"Ghana"},{"$f":"$CE$19","v":"DR Kongo"}]
[null,null,null,null,null,null,null,null,null,null,null,null,null,null,null,null,null,null,null,null,null,null,null,null,null,null,null,null,null,null,null,null,null,null,null,null,null,null,null,null,null,null,null,null,null,null,null,null,null,null,null,null,null,null,null,null,null,null,null,null,null,null,null,null,null,null,null,null,null,null,null,null,null,null,null,null,null,null,null,null,null,null,null,null,null,null,null,null,null,null,null,null,"BCEFHIJK","Ecuador",{"$f":"$CE$12","v":"Algerien"},"Bosnien-Herzegowina","Schottland",{"$f":"$BB$26","v":"Uruguay"},"Schweden",{"$f":"$CE$5","v":"Senegal"},{"$f":"$CE$19","v":"DR Kongo"}]
[null,null,null,null,null,null,null,null,null,null,null,null,null,null,null,null,null,null,null,null,null,null,null,null,null,null,null,null,null,null,null,null,null,null,null,null,null,null,null,null,null,null,null,null,null,null,null,null,null,null,null,null,null,null,null,null,null,null,null,null,null,null,null,null,null,null,null,null,null,null,null,null,null,null,null,null,null,null,null,null,null,null,null,null,null,null,null,null,null,null,null,null,"BCEFHIJL","Ecuador",{"$f":"$CE$12","v":"Algerien"},"Bosnien-Herzegowina","Schottland",{"$f":"$BB$26","v":"Uruguay"},"Schweden",{"$f":"$CE$26","v":"Ghana"},{"$f":"$CE$5","v":"Senegal"}]
[null,null,null,null,null,null,null,null,null,null,null,null,null,null,null,null,null,null,null,null,null,null,null,null,null,null,null,null,null,null,null,null,null,null,null,null,null,null,null,null,null,null,null,null,null,null,null,null,null,null,null,null,null,null,null,null,null,null,null,null,null,null,null,null,null,null,null,null,null,null,null,null,null,null,null,null,null,null,null,null,null,null,null,null,null,null,null,null,null,null,null,null,"BCEFHIKL","Ecuador",{"$f":"$CE$5","v":"Senegal"},"Bosnien-Herzegowina","Schottland",{"$f":"$BB$26","v":"Uruguay"},"Schweden",{"$f":"$CE$26","v":"Ghana"},{"$f":"$CE$19","v":"DR Kongo"}]
[null,null,null,null,null,null,null,null,null,null,null,null,null,null,null,null,null,null,null,null,null,null,null,null,null,null,null,null,null,null,null,null,null,null,null,null,null,null,null,null,null,null,null,null,null,null,null,null,null,null,null,null,null,null,null,null,null,null,null,null,null,null,null,null,null,null,null,null,null,null,null,null,null,null,null,null,null,null,null,null,null,null,null,null,null,null,null,null,null,null,null,null,"BCEFHJKL","Ecuador",{"$f":"$CE$12","v":"Algerien"},"Bosnien-Herzegowina","Schottland",{"$f":"$BB$26","v":"Uruguay"},"Schweden",{"$f":"$CE$26","v":"Ghana"},{"$f":"$CE$19","v":"DR Kongo"}]
[null,null,null,null,null,null,null,null,null,null,null,null,null,null,null,null,null,null,null,null,null,null,null,null,null,null,null,null,null,null,null,null,null,null,null,null,null,null,null,null,null,null,null,null,null,null,null,null,null,null,null,null,null,null,null,null,null,null,null,null,null,null,null,null,null,null,null,null,null,null,null,null,null,null,null,null,null,null,null,null,null,null,null,null,null,null,null,null,null,null,null,null,"BCEFIJKL","Ecuador",{"$f":"$CE$12","v":"Algerien"},"Bosnien-Herzegowina","Schottland",{"$f":"$CE$5","v":"Senegal"},"Schweden",{"$f":"$CE$26","v":"Ghana"},{"$f":"$CE$19","v":"DR Kongo"}]
[null,null,null,null,null,null,null,null,null,null,null,null,null,null,null,null,null,null,null,null,null,null,null,null,null,null,null,null,null,null,null,null,null,null,null,null,null,null,null,null,null,null,null,null,null,null,null,null,null,null,null,null,null,null,null,null,null,null,null,null,null,null,null,null,null,null,null,null,null,null,null,null,null,null,null,null,null,null,null,null,null,null,null,null,null,null,null,null,null,null,null,null,"BCEGHIJK","Ecuador",{"$f":"$CE$12","v":"Algerien"},"Bosnien-Herzegowina","Schottland",{"$f":"$BB$26","v":"Uruguay"},{"$f":"$BB$19","v":"Iran"},{"$f":"$CE$5","v":"Senegal"},{"$f":"$CE$19","v":"DR Kongo"}]
[null,null,null,null,null,null,null,null,null,null,null,null,null,null,null,null,null,null,null,null,null,null,null,null,null,null,null,null,null,null,null,null,null,null,null,null,null,null,null,null,null,null,null,null,null,null,null,null,null,null,null,null,null,null,null,null,null,null,null,null,null,null,null,null,null,null,null,null,null,null,null,null,null,null,null,null,null,null,null,null,null,null,null,null,null,null,null,null,null,null,null,null,"BCEGHIJL","Ecuador",{"$f":"$CE$12","v":"Algerien"},"Bosnien-Herzegowina","Schottland",{"$f":"$BB$26","v":"Uruguay"},{"$f":"$BB$19","v":"Iran"},{"$f":"$CE$26","v":"Ghana"},{"$f":"$CE$5","v":"Senegal"}]
[null,null,null,null,null,null,null,null,null,null,null,null,null,null,null,null,null,null,null,null,null,null,null,null,null,null,null,null,null,null,null,null,null,null,null,null,null,null,null,null,null,null,null,null,null,null,null,null,null,null,null,null,null,null,null,null,null,null,null,null,null,null,null,null,null,null,null,null,null,null,null,null,null,null,null,null,null,null,null,null,null,null,null,null,null,null,null,null,null,null,null,null,"BCEGHIKL","Ecuador",{"$f":"$BB$19","v":"Iran"},"Bosnien-Herzegowina","Schottland",{"$f":"$CE$5","v":"Senegal"},{"$f":"$BB$26","v":"Uruguay"},{"$f":"$CE$26","v":"Ghana"},{"$f":"$CE$19","v":"DR Kongo"}]
[null,null,null,null,null,null,null,null,null,null,null,null,null,null,null,null,null,null,null,null,null,null,null,null,null,null,null,null,null,null,null,null,null,null,null,null,null,null,null,null,null,null,null,null,null,null,null,null,null,null,null,null,null,null,null,null,null,null,null,null,null,null,null,null,null,null,null,null,null,null,null,null,null,null,null,null,null,null,null,null,null,null,null,null,null,null,null,null,null,null,null,null,"BCEGHJKL","Ecuador",{"$f":"$CE$12","v":"Algerien"},"Bosnien-Herzegowina","Schottland",{"$f":"$BB$26","v":"Uruguay"},{"$f":"$BB$19","v":"Iran"},{"$f":"$CE$26","v":"Ghana"},{"$f":"$CE$19","v":"DR Kongo"}]
[null,null,null,null,null,null,null,null,null,null,null,null,null,null,null,null,null,null,null,null,null,null,null,null,null,null,null,null,null,null,null,null,null,null,null,null,null,null,null,null,null,null,null,null,null,null,null,null,null,null,null,null,null,null,null,null,null,null,null,null,null,null,null,null,null,null,null,null,null,null,null,null,null,null,null,null,null,null,null,null,null,null,null,null,null,null,null,null,null,null,null,null,"BCEGIJKL","Ecuador",{"$f":"$CE$12","v":"Algerien"},"Bosnien-Herzegowina","Schottland",{"$f":"$CE$5","v":"Senegal"},{"$f":"$BB$19","v":"Iran"},{"$f":"$CE$26","v":"Ghana"},{"$f":"$CE$19","v":"DR Kongo"}]
[null,null,null,null,null,null,null,null,null,null,null,null,null,null,null,null,null,null,null,null,null,null,null,null,null,null,null,null,null,null,null,null,null,null,null,null,null,null,null,null,null,null,null,null,null,null,null,null,null,null,null,null,null,null,null,null,null,null,null,null,null,null,null,null,null,null,null,null,null,null,null,null,null,null,null,null,null,null,null,null,null,null,null,null,null,null,null,null,null,null,null,null,"BCEHIJKL","Ecuador",{"$f":"$CE$12","v":"Algerien"},"Bosnien-Herzegowina","Schottland",{"$f":"$CE$5","v":"Senegal"},{"$f":"$BB$26","v":"Uruguay"},{"$f":"$CE$26","v":"Ghana"},{"$f":"$CE$19","v":"DR Kongo"}]
[null,null,null,null,null,null,null,null,null,null,null,null,null,null,null,null,null,null,null,null,null,null,null,null,null,null,null,null,null,null,null,null,null,null,null,null,null,null,null,null,null,null,null,null,null,null,null,null,null,null,null,null,null,null,null,null,null,null,null,null,null,null,null,null,null,null,null,null,null,null,null,null,null,null,null,null,null,null,null,null,null,null,null,null,null,null,null,null,null,null,null,null,"BCFGHIJK",{"$f":"$BB$26","v":"Uruguay"},{"$f":"$BB$19","v":"Iran"},"Bosnien-Herzegowina","Schottland",{"$f":"$CE$12","v":"Algerien"},{"$f":"$BB$12","v":"Schweden"},{"$f":"$CE$5","v":"Senegal"},{"$f":"$CE$19","v":"DR Kongo"}]
[null,null,null,null,null,null,null,null,null,null,null,null,null,null,null,null,null,null,null,null,null,null,null,null,null,null,null,null,null,null,null,null,null,null,null,null,null,null,null,null,null,null,null,null,null,null,null,null,null,null,null,null,null,null,null,null,null,null,null,null,null,null,null,null,null,null,null,null,null,null,null,null,null,null,null,null,null,null,null,null,null,null,null,null,null,null,null,null,null,null,null,null,"BCFGHIJL",{"$f":"$BB$26","v":"Uruguay"},{"$f":"$BB$19","v":"Iran"},"Bosnien-Herzegowina","Schottland",{"$f":"$CE$12","v":"Algerien"},"Schweden",{"$f":"$CE$26","v":"Ghana"},{"$f":"$CE$5","v":"Senegal"}]
[null,null,null,null,null,null,null,null,null,null,null,null,null,null,null,null,null,null,null,null,null,null,null,null,null,null,null,null,null,null,null,null,null,null,null,null,null,null,null,null,null,null,null,null,null,null,null,null,null,null,null,null,null,null,null,null,null,null,null,null,null,null,null,null,null,null,null,null,null,null,null,null,null,null,null,null,null,null,null,null,null,null,null,null,null,null,null,null,null,null,null,null,"BCFGHIKL",{"$f":"$BB$26","v":"Uruguay"},{"$f":"$BB$19","v":"Iran"},"Bosnien-Herzegowina","Schottland",{"$f":"$CE$5","v":"Senegal"},"Schweden","Ghana",{"$f":"$CE$19","v":"DR Kongo"}]
[null,null,null,null,null,null,null,null,null,null,null,null,null,null,null,null,null,null,null,null,null,null,null,null,null,null,null,null,null,null,null,null,null,null,null,null,null,null,null,null,null,null,null,null,null,null,null,null,null,null,null,null,null,null,null,null,null,null,null,null,null,null,null,null,null,null,null,null,null,null,null,null,null,null,null,null,null,null,null,null,null,null,null,null,null,null,null,null,null,null,null,null,"BCFGHJKL",{"$f":"$BB$26","v":"Uruguay"},{"$f":"$BB$19","v":"Iran"},"Bosnien-Herzegowina","Schottland",{"$f":"$CE$12","v":"Algerien"},"Schweden","Ghana",{"$f":"$CE$19","v":"DR Kongo"}]
[null,null,null,null,null,null,null,null,null,null,null,null,null,null,null,null,null,null,null,null,null,null,null,null,null,null,null,null,null,null,null,null,null,null,null,null,null,null,null,null,null,null,null,null,null,null,null,null,null,null,null,null,null,null,null,null,null,null,null,null,null,null,null,null,null,null,null,null,null,null,null,null,null,null,null,null,null,null,null,null,null,null,null,null,null,null,null,null,null,null,null,null,"BCFGIJKL",{"$f":"$CE$5","v":"Senegal"},{"$f":"$BB$19","v":"Iran"},"Bosnien-Herzegowina","Schottland",{"$f":"$CE$12","v":"Algerien"},"Schweden","Ghana",{"$f":"$CE$19","v":"DR Kongo"}]
[null,null,null,null,null,null,null,null,null,null,null,null,null,null,null,null,null,null,null,null,null,null,null,null,null,null,null,null,null,null,null,null,null,null,null,null,null,null,null,null,null,null,null,null,null,null,null,null,null,null,null,null,null,null,null,null,null,null,null,null,null,null,null,null,null,null,null,null,null,null,null,null,null,null,null,null,null,null,null,null,null,null,null,null,null,null,null,null,null,null,null,null,"BCFHIJKL",{"$f":"$BB$26","v":"Uruguay"},{"$f":"$CE$12","v":"Algerien"},"Bosnien-Herzegowina","Schottland",{"$f":"$CE$5","v":"Senegal"},"Schweden","Ghana",{"$f":"$CE$19","v":"DR Kongo"}]
[null,null,null,null,null,null,null,null,null,null,null,null,null,null,null,null,null,null,null,null,null,null,null,null,null,null,null,null,null,null,null,null,null,null,null,null,null,null,null,null,null,null,null,null,null,null,null,null,null,null,null,null,null,null,null,null,null,null,null,null,null,null,null,null,null,null,null,null,null,null,null,null,null,null,null,null,null,null,null,null,null,null,null,null,null,null,null,null,null,null,null,null,"BCGHIJKL",{"$f":"$BB$26","v":"Uruguay"},{"$f":"$CE$12","v":"Algerien"},"Bosnien-Herzegowina","Schottland",{"$f":"$CE$5","v":"Senegal"},{"$f":"$BB$19","v":"Iran"},"Ghana",{"$f":"$CE$19","v":"DR Kongo"}]
[null,null,null,null,null,null,null,null,null,null,null,null,null,null,null,null,null,null,null,null,null,null,null,null,null,null,null,null,null,null,null,null,null,null,null,null,null,null,null,null,null,null,null,null,null,null,null,null,null,null,null,null,null,null,null,null,null,null,null,null,null,null,null,null,null,null,null,null,null,null,null,null,null,null,null,null,null,null,null,null,null,null,null,null,null,null,null,null,null,null,null,null,"BDEFGHIJ",{"$f":"$BB$26","v":"Uruguay"},{"$f":"$BB$19","v":"Iran"},"Bosnien-Herzegowina",{"$f":"$Y$26","v":"Paraguay"},{"$f":"$CE$12","v":"Algerien"},{"$f":"$BB$12","v":"Schweden"},{"$f":"$BB$5","v":"Ecuador"},{"$f":"$CE$5","v":"Senegal"}]
[null,null,null,null,null,null,null,null,null,null,null,null,null,null,null,null,null,null,null,null,null,null,null,null,null,null,null,null,null,null,null,null,null,null,null,null,null,null,null,null,null,null,null,null,null,null,null,null,null,null,null,null,null,null,null,null,null,null,null,null,null,null,null,null,null,null,null,null,null,null,null,null,null,null,null,null,null,null,null,null,null,null,null,null,null,null,null,null,null,null,null,null,"BDEFGHIK",{"$f":"$BB$5","v":"Ecuador"},"Iran","Bosnien-Herzegowina","Paraguay",{"$f":"$BB$26","v":"Uruguay"},"Schweden",{"$f":"$CE$5","v":"Senegal"},{"$f":"$CE$19","v":"DR Kongo"}]
[null,null,null,null,null,null,null,null,null,null,null,null,null,null,null,null,null,null,null,null,null,null,null,null,null,null,null,null,null,null,null,null,null,null,null,null,null,null,null,null,null,null,null,null,null,null,null,null,null,null,null,null,null,null,null,null,null,null,null,null,null,null,null,null,null,null,null,null,null,null,null,null,null,null,null,null,null,null,null,null,null,null,null,null,null,null,null,null,null,null,null,null,"BDEFGHIL",{"$f":"$BB$5","v":"Ecuador"},"Iran","Bosnien-Herzegowina","Paraguay",{"$f":"$BB$26","v":"Uruguay"},"Schweden",{"$f":"$CE$26","v":"Ghana"},{"$f":"$CE$5","v":"Senegal"}]
[null,null,null,null,null,null,null,null,null,null,null,null,null,null,null,null,null,null,null,null,null,null,null,null,null,null,null,null,null,null,null,null,null,null,null,null,null,null,null,null,null,null,null,null,null,null,null,null,null,null,null,null,null,null,null,null,null,null,null,null,null,null,null,null,null,null,null,null,null,null,null,null,null,null,null,null,null,null,null,null,null,null,null,null,null,null,null,null,null,null,null,null,"BDEFGHJK",{"$f":"$BB$26","v":"Uruguay"},"Iran","Bosnien-Herzegowina","Paraguay",{"$f":"$CE$12","v":"Algerien"},"Schweden",{"$f":"$BB$5","v":"Ecuador"},{"$f":"$CE$19","v":"DR Kongo"}]
[null,null,null,null,null,null,null,null,null,null,null,null,null,null,null,null,null,null,null,null,null,null,null,null,null,null,null,null,null,null,null,null,null,null,null,null,null,null,null,null,null,null,null,null,null,null,null,null,null,null,null,null,null,null,null,null,null,null,null,null,null,null,null,null,null,null,null,null,null,null,null,null,null,null,null,null,null,null,null,null,null,null,null,null,null,null,null,null,null,null,null,null,"BDEFGHJL",{"$f":"$BB$26","v":"Uruguay"},"Iran","Bosnien-Herzegowina","Paraguay",{"$f":"$CE$12","v":"Algerien"},"Schweden",{"$f":"$CE$26","v":"Ghana"},{"$f":"$BB$5","v":"Ecuador"}]
[null,null,null,null,null,null,null,null,null,null,null,null,null,null,null,null,null,null,null,null,null,null,null,null,null,null,null,null,null,null,null,null,null,null,null,null,null,null,null,null,null,null,null,null,null,null,null,null,null,null,null,null,null,null,null,null,null,null,null,null,null,null,null,null,null,null,null,null,null,null,null,null,null,null,null,null,null,null,null,null,null,null,null,null,null,null,null,null,null,null,null,null,"BDEFGHKL",{"$f":"$BB$5","v":"Ecuador"},"Iran","Bosnien-Herzegowina","Paraguay",{"$f":"$BB$26","v":"Uruguay"},"Schweden",{"$f":"$CE$26","v":"Ghana"},{"$f":"$CE$19","v":"DR Kongo"}]
[null,null,null,null,null,null,null,null,null,null,null,null,null,null,null,null,null,null,null,null,null,null,null,null,null,null,null,null,null,null,null,null,null,null,null,null,null,null,null,null,null,null,null,null,null,null,null,null,null,null,null,null,null,null,null,null,null,null,null,null,null,null,null,null,null,null,null,null,null,null,null,null,null,null,null,null,null,null,null,null,null,null,null,null,null,null,null,null,null,null,null,null,"BDEFGIJK","Ecuador","Iran","Bosnien-Herzegowina","Paraguay",{"$f":"$CE$12","v":"Algerien"},"Schweden",{"$f":"$CE$5","v":"Senegal"},{"$f":"$CE$19","v":"DR Kongo"}]
[null,null,null,null,null,null,null,null,null,null,null,null,null,null,null,null,null,null,null,null,null,null,null,null,null,null,null,null,null,null,null,null,null,null,null,null,null,null,null,null,null,null,null,null,null,null,null,null,null,null,null,null,null,null,null,null,null,null,null,null,null,null,null,null,null,null,null,null,null,null,null,null,null,null,null,null,null,null,null,null,null,null,null,null,null,null,null,null,null,null,null,null,"BDEFGIJL","Ecuador","Iran","Bosnien-Herzegowina","Paraguay",{"$f":"$CE$12","v":"Algerien"},"Schweden",{"$f":"$CE$26","v":"Ghana"},{"$f":"$CE$5","v":"Senegal"}]
[null,null,null,null,null,null,null,null,null,null,null,null,null,null,null,null,null,null,null,null,null,null,null,null,null,null,null,null,null,null,null,null,null,null,null,null,null,null,null,null,null,null,null,null,null,null,null,null,null,null,null,null,null,null,null,null,null,null,null,null,null,null,null,null,null,null,null,null,null,null,null,null,null,null,null,null,null,null,null,null,null,null,null,null,null,null,null,null,null,null,null,null,"BDEFGIKL","Ecuador","Iran","Bosnien-Herzegowina","Paraguay",{"$f":"$CE$5","v":"Senegal"},"Schweden",{"$f":"$CE$26","v":"Ghana"},{"$f":"$CE$19","v":"DR Kongo"}]
[null,null,null,null,null,null,null,null,null,null,null,null,null,null,null,null,null,null,null,null,null,null,null,null,null,null,null,null,null,null,null,null,null,null,null,null,null,null,null,null,null,null,null,null,null,null,null,null,null,null,null,null,null,null,null,null,null,null,null,null,null,null,null,null,null,null,null,null,null,null,null,null,null,null,null,null,null,null,null,null,null,null,null,null,null,null,null,null,null,null,null,null,"BDEFGJKL","Ecuador","Iran","Bosnien-Herzegowina","Paraguay",{"$f":"$CE$12","v":"Algerien"},"Schweden",{"$f":"$CE$26","v":"Ghana"},{"$f":"$CE$19","v":"DR Kongo"}]
[null,null,null,null,null,null,null,null,null,null,null,null,null,null,null,null,null,null,null,null,null,null,null,null,null,null,null,null,null,null,null,null,null,null,null,null,null,null,null,null,null,null,null,null,null,null,null,null,null,null,null,null,null,null,null,null,null,null,null,null,null,null,null,null,null,null,null,null,null,null,null,null,null,null,null,null,null,null,null,null,null,null,null,null,null,null,null,null,null,null,null,null,"BDEFHIJK","Ecuador",{"$f":"$CE$12","v":"Algerien"},"Bosnien-Herzegowina","Paraguay",{"$f":"$BB$26","v":"Uruguay"},"Schweden",{"$f":"$CE$5","v":"Senegal"},{"$f":"$CE$19","v":"DR Kongo"}]
[null,null,null,null,null,null,null,null,null,null,null,null,null,null,null,null,null,null,null,null,null,null,null,null,null,null,null,null,null,null,null,null,null,null,null,null,null,null,null,null,null,null,null,null,null,null,null,null,null,null,null,null,null,null,null,null,null,null,null,null,null,null,null,null,null,null,null,null,null,null,null,null,null,null,null,null,null,null,null,null,null,null,null,null,null,null,null,null,null,null,null,null,"BDEFHIJL","Ecuador",{"$f":"$CE$12","v":"Algerien"},"Bosnien-Herzegowina","Paraguay",{"$f":"$BB$26","v":"Uruguay"},"Schweden",{"$f":"$CE$26","v":"Ghana"},{"$f":"$CE$5","v":"Senegal"}]
[null,null,null,null,null,null,null,null,null,null,null,null,null,null,null,null,null,null,null,null,null,null,null,null,null,null,null,null,null,null,null,null,null,null,null,null,null,null,null,null,null,null,null,null,null,null,null,null,null,null,null,null,null,null,null,null,null,null,null,null,null,null,null,null,null,null,null,null,null,null,null,null,null,null,null,null,null,null,null,null,null,null,null,null,null,null,null,null,null,null,null,null,"BDEFHIKL","Ecuador",{"$f":"$CE$5","v":"Senegal"},{"$f":"$Y$12","v":"Bosnien-Herzegowina"},"Paraguay",{"$f":"$BB$26","v":"Uruguay"},"Schweden",{"$f":"$CE$26","v":"Ghana"},{"$f":"$CE$19","v":"DR Kongo"}]
[null,null,null,null,null,null,null,null,null,null,null,null,null,null,null,null,null,null,null,null,null,null,null,null,null,null,null,null,null,null,null,null,null,null,null,null,null,null,null,null,null,null,null,null,null,null,null,null,null,null,null,null,null,null,null,null,null,null,null,null,null,null,null,null,null,null,null,null,null,null,null,null,null,null,null,null,null,null,null,null,null,null,null,null,null,null,null,null,null,null,null,null,"BDEFHJKL","Ecuador",{"$f":"$CE$12","v":"Algerien"},"Bosnien-Herzegowina","Paraguay",{"$f":"$BB$26","v":"Uruguay"},"Schweden",{"$f":"$CE$26","v":"Ghana"},{"$f":"$CE$19","v":"DR Kongo"}]
[null,null,null,null,null,null,null,null,null,null,null,null,null,null,null,null,null,null,null,null,null,null,null,null,null,null,null,null,null,null,null,null,null,null,null,null,null,null,null,null,null,null,null,null,null,null,null,null,null,null,null,null,null,null,null,null,null,null,null,null,null,null,null,null,null,null,null,null,null,null,null,null,null,null,null,null,null,null,null,null,null,null,null,null,null,null,null,null,null,null,null,null,"BDEFIJKL","Ecuador",{"$f":"$CE$12","v":"Algerien"},"Bosnien-Herzegowina","Paraguay",{"$f":"$CE$5","v":"Senegal"},"Schweden",{"$f":"$CE$26","v":"Ghana"},{"$f":"$CE$19","v":"DR Kongo"}]
[null,null,null,null,null,null,null,null,null,null,null,null,null,null,null,null,null,null,null,null,null,null,null,null,null,null,null,null,null,null,null,null,null,null,null,null,null,null,null,null,null,null,null,null,null,null,null,null,null,null,null,null,null,null,null,null,null,null,null,null,null,null,null,null,null,null,null,null,null,null,null,null,null,null,null,null,null,null,null,null,null,null,null,null,null,null,null,null,null,null,null,null,"BDEGHIJK","Ecuador",{"$f":"$CE$12","v":"Algerien"},"Bosnien-Herzegowina","Paraguay",{"$f":"$BB$26","v":"Uruguay"},{"$f":"$BB$19","v":"Iran"},{"$f":"$CE$5","v":"Senegal"},{"$f":"$CE$19","v":"DR Kongo"}]
[null,null,null,null,null,null,null,null,null,null,null,null,null,null,null,null,null,null,null,null,null,null,null,null,null,null,null,null,null,null,null,null,null,null,null,null,null,null,null,null,null,null,null,null,null,null,null,null,null,null,null,null,null,null,null,null,null,null,null,null,null,null,null,null,null,null,null,null,null,null,null,null,null,null,null,null,null,null,null,null,null,null,null,null,null,null,null,null,null,null,null,null,"BDEGHIJL","Ecuador",{"$f":"$CE$12","v":"Algerien"},"Bosnien-Herzegowina","Paraguay",{"$f":"$BB$26","v":"Uruguay"},{"$f":"$BB$19","v":"Iran"},{"$f":"$CE$26","v":"Ghana"},{"$f":"$CE$5","v":"Senegal"}]
[null,null,null,null,null,null,null,null,null,null,null,null,null,null,null,null,null,null,null,null,null,null,null,null,null,null,null,null,null,null,null,null,null,null,null,null,null,null,null,null,null,null,null,null,null,null,null,null,null,null,null,null,null,null,null,null,null,null,null,null,null,null,null,null,null,null,null,null,null,null,null,null,null,null,null,null,null,null,null,null,null,null,null,null,null,null,null,null,null,null,null,null,"BDEGHIKL","Ecuador",{"$f":"$BB$19","v":"Iran"},"Bosnien-Herzegowina","Paraguay",{"$f":"$CE$5","v":"Senegal"},{"$f":"$BB$26","v":"Uruguay"},{"$f":"$CE$26","v":"Ghana"},{"$f":"$CE$19","v":"DR Kongo"}]
[null,null,null,null,null,null,null,null,null,null,null,null,null,null,null,null,null,null,null,null,null,null,null,null,null,null,null,null,null,null,null,null,null,null,null,null,null,null,null,null,null,null,null,null,null,null,null,null,null,null,null,null,null,null,null,null,null,null,null,null,null,null,null,null,null,null,null,null,null,null,null,null,null,null,null,null,null,null,null,null,null,null,null,null,null,null,null,null,null,null,null,null,"BDEGHJKL","Ecuador",{"$f":"$CE$12","v":"Algerien"},"Bosnien-Herzegowina","Paraguay",{"$f":"$BB$26","v":"Uruguay"},{"$f":"$BB$19","v":"Iran"},{"$f":"$CE$26","v":"Ghana"},{"$f":"$CE$19","v":"DR Kongo"}]
[null,null,null,null,null,null,null,null,null,null,null,null,null,null,null,null,null,null,null,null,null,null,null,null,null,null,null,null,null,null,null,null,null,null,null,null,null,null,null,null,null,null,null,null,null,null,null,null,null,null,null,null,null,null,null,null,null,null,null,null,null,null,null,null,null,null,null,null,null,null,null,null,null,null,null,null,null,null,null,null,null,null,null,null,null,null,null,null,null,null,null,null,"BDEGIJKL","Ecuador",{"$f":"$CE$12","v":"Algerien"},"Bosnien-Herzegowina","Paraguay",{"$f":"$CE$5","v":"Senegal"},{"$f":"$BB$19","v":"Iran"},{"$f":"$CE$26","v":"Ghana"},{"$f":"$CE$19","v":"DR Kongo"}]
[null,null,null,null,null,null,null,null,null,null,null,null,null,null,null,null,null,null,null,null,null,null,null,null,null,null,null,null,null,null,null,null,null,null,null,null,null,null,null,null,null,null,null,null,null,null,null,null,null,null,null,null,null,null,null,null,null,null,null,null,null,null,null,null,null,null,null,null,null,null,null,null,null,null,null,null,null,null,null,null,null,null,null,null,null,null,null,null,null,null,null,null,"BDEHIJKL","Ecuador",{"$f":"$CE$12","v":"Algerien"},"Bosnien-Herzegowina","Paraguay",{"$f":"$CE$5","v":"Senegal"},{"$f":"$BB$26","v":"Uruguay"},{"$f":"$CE$26","v":"Ghana"},{"$f":"$CE$19","v":"DR Kongo"}]
[null,null,null,null,null,null,null,null,null,null,null,null,null,null,null,null,null,null,null,null,null,null,null,null,null,null,null,null,null,null,null,null,null,null,null,null,null,null,null,null,null,null,null,null,null,null,null,null,null,null,null,null,null,null,null,null,null,null,null,null,null,null,null,null,null,null,null,null,null,null,null,null,null,null,null,null,null,null,null,null,null,null,null,null,null,null,null,null,null,null,null,null,"BDFGHIJK",{"$f":"$BB$26","v":"Uruguay"},{"$f":"$BB$19","v":"Iran"},"Bosnien-Herzegowina","Paraguay",{"$f":"$CE$12","v":"Algerien"},{"$f":"$BB$12","v":"Schweden"},{"$f":"$CE$5","v":"Senegal"},{"$f":"$CE$19","v":"DR Kongo"}]
[null,null,null,null,null,null,null,null,null,null,null,null,null,null,null,null,null,null,null,null,null,null,null,null,null,null,null,null,null,null,null,null,null,null,null,null,null,null,null,null,null,null,null,null,null,null,null,null,null,null,null,null,null,null,null,null,null,null,null,null,null,null,null,null,null,null,null,null,null,null,null,null,null,null,null,null,null,null,null,null,null,null,null,null,null,null,null,null,null,null,null,null,"BDFGHIJL",{"$f":"$BB$26","v":"Uruguay"},{"$f":"$BB$19","v":"Iran"},"Bosnien-Herzegowina","Paraguay",{"$f":"$CE$12","v":"Algerien"},"Schweden",{"$f":"$CE$26","v":"Ghana"},{"$f":"$CE$5","v":"Senegal"}]
[null,null,null,null,null,null,null,null,null,null,null,null,null,null,null,null,null,null,null,null,null,null,null,null,null,null,null,null,null,null,null,null,null,null,null,null,null,null,null,null,null,null,null,null,null,null,null,null,null,null,null,null,null,null,null,null,null,null,null,null,null,null,null,null,null,null,null,null,null,null,null,null,null,null,null,null,null,null,null,null,null,null,null,null,null,null,null,null,null,null,null,null,"BDFGHIKL",{"$f":"$BB$26","v":"Uruguay"},{"$f":"$BB$19","v":"Iran"},"Bosnien-Herzegowina","Paraguay",{"$f":"$CE$5","v":"Senegal"},"Schweden","Ghana",{"$f":"$CE$19","v":"DR Kongo"}]
[null,null,null,null,null,null,null,null,null,null,null,null,null,null,null,null,null,null,null,null,null,null,null,null,null,null,null,null,null,null,null,null,null,null,null,null,null,null,null,null,null,null,null,null,null,null,null,null,null,null,null,null,null,null,null,null,null,null,null,null,null,null,null,null,null,null,null,null,null,null,null,null,null,null,null,null,null,null,null,null,null,null,null,null,null,null,null,null,null,null,null,null,"BDFGHJKL",{"$f":"$BB$26","v":"Uruguay"},{"$f":"$BB$19","v":"Iran"},"Bosnien-Herzegowina","Paraguay",{"$f":"$CE$12","v":"Algerien"},"Schweden","Ghana","DR Kongo"]
[null,null,null,null,null,null,null,null,null,null,null,null,null,null,null,null,null,null,null,null,null,null,null,null,null,null,null,null,null,null,null,null,null,null,null,null,null,null,null,null,null,null,null,null,null,null,null,null,null,null,null,null,null,null,null,null,null,null,null,null,null,null,null,null,null,null,null,null,null,null,null,null,null,null,null,null,null,null,null,null,null,null,null,null,null,null,null,null,null,null,null,null,"BDFGIJKL",{"$f":"$CE$5","v":"Senegal"},{"$f":"$BB$19","v":"Iran"},"Bosnien-Herzegowina","Paraguay",{"$f":"$CE$12","v":"Algerien"},"Schweden","Ghana","DR Kongo"]
[null,null,null,null,null,null,null,null,null,null,null,null,null,null,null,null,null,null,null,null,null,null,null,null,null,null,null,null,null,null,null,null,null,null,null,null,null,null,null,null,null,null,null,null,null,null,null,null,null,null,null,null,null,null,null,null,null,null,null,null,null,null,null,null,null,null,null,null,null,null,null,null,null,null,null,null,null,null,null,null,null,null,null,null,null,null,null,null,null,null,null,null,"BDFHIJKL",{"$f":"$BB$26","v":"Uruguay"},{"$f":"$CE$12","v":"Algerien"},"Bosnien-Herzegowina","Paraguay",{"$f":"$CE$5","v":"Senegal"},"Schweden","Ghana","DR Kongo"]
[null,null,null,null,null,null,null,null,null,null,null,null,null,null,null,null,null,null,null,null,null,null,null,null,null,null,null,null,null,null,null,null,null,null,null,null,null,null,null,null,null,null,null,null,null,null,null,null,null,null,null,null,null,null,null,null,null,null,null,null,null,null,null,null,null,null,null,null,null,null,null,null,null,null,null,null,null,null,null,null,null,null,null,null,null,null,null,null,null,null,null,null,"BDGHIJKL",{"$f":"$BB$26","v":"Uruguay"},{"$f":"$CE$12","v":"Algerien"},"Bosnien-Herzegowina","Paraguay",{"$f":"$CE$5","v":"Senegal"},{"$f":"$BB$19","v":"Iran"},"Ghana","DR Kongo"]
[null,null,null,null,null,null,null,null,null,null,null,null,null,null,null,null,null,null,null,null,null,null,null,null,null,null,null,null,null,null,null,null,null,null,null,null,null,null,null,null,null,null,null,null,null,null,null,null,null,null,null,null,null,null,null,null,null,null,null,null,null,null,null,null,null,null,null,null,null,null,null,null,null,null,null,null,null,null,null,null,null,null,null,null,null,null,null,null,null,null,null,null,"BEFGHIJK",{"$f":"$BB$5","v":"Ecuador"},{"$f":"$CE$12","v":"Algerien"},"Bosnien-Herzegowina",{"$f":"$BB$12","v":"Schweden"},{"$f":"$BB$26","v":"Uruguay"},{"$f":"$BB$19","v":"Iran"},{"$f":"$CE$5","v":"Senegal"},"DR Kongo"]
[null,null,null,null,null,null,null,null,null,null,null,null,null,null,null,null,null,null,null,null,null,null,null,null,null,null,null,null,null,null,null,null,null,null,null,null,null,null,null,null,null,null,null,null,null,null,null,null,null,null,null,null,null,null,null,null,null,null,null,null,null,null,null,null,null,null,null,null,null,null,null,null,null,null,null,null,null,null,null,null,null,null,null,null,null,null,null,null,null,null,null,null,"BEFGHIJL","Ecuador",{"$f":"$CE$12","v":"Algerien"},"Bosnien-Herzegowina","Schweden",{"$f":"$BB$26","v":"Uruguay"},{"$f":"$BB$19","v":"Iran"},{"$f":"$CE$26","v":"Ghana"},{"$f":"$CE$5","v":"Senegal"}]
[null,null,null,null,null,null,null,null,null,null,null,null,null,null,null,null,null,null,null,null,null,null,null,null,null,null,null,null,null,null,null,null,null,null,null,null,null,null,null,null,null,null,null,null,null,null,null,null,null,null,null,null,null,null,null,null,null,null,null,null,null,null,null,null,null,null,null,null,null,null,null,null,null,null,null,null,null,null,null,null,null,null,null,null,null,null,null,null,null,null,null,null,"BEFGHIKL","Ecuador",{"$f":"$BB$19","v":"Iran"},"Bosnien-Herzegowina","Schweden",{"$f":"$CE$5","v":"Senegal"},{"$f":"$BB$26","v":"Uruguay"},"Ghana",{"$f":"$CE$19","v":"DR Kongo"}]
[null,null,null,null,null,null,null,null,null,null,null,null,null,null,null,null,null,null,null,null,null,null,null,null,null,null,null,null,null,null,null,null,null,null,null,null,null,null,null,null,null,null,null,null,null,null,null,null,null,null,null,null,null,null,null,null,null,null,null,null,null,null,null,null,null,null,null,null,null,null,null,null,null,null,null,null,null,null,null,null,null,null,null,null,null,null,null,null,null,null,null,null,"BEFGHJKL","Ecuador",{"$f":"$CE$12","v":"Algerien"},"Bosnien-Herzegowina","Schweden",{"$f":"$BB$26","v":"Uruguay"},{"$f":"$BB$19","v":"Iran"},"Ghana","DR Kongo"]
[null,null,null,null,null,null,null,null,null,null,null,null,null,null,null,null,null,null,null,null,null,null,null,null,null,null,null,null,null,null,null,null,null,null,null,null,null,null,null,null,null,null,null,null,null,null,null,null,null,null,null,null,null,null,null,null,null,null,null,null,null,null,null,null,null,null,null,null,null,null,null,null,null,null,null,null,null,null,null,null,null,null,null,null,null,null,null,null,null,null,null,null,"BEFGIJKL","Ecuador",{"$f":"$CE$12","v":"Algerien"},"Bosnien-Herzegowina","Schweden",{"$f":"$CE$5","v":"Senegal"},{"$f":"$BB$19","v":"Iran"},"Ghana","DR Kongo"]
[null,null,null,null,null,null,null,null,null,null,null,null,null,null,null,null,null,null,null,null,null,null,null,null,null,null,null,null,null,null,null,null,null,null,null,null,null,null,null,null,null,null,null,null,null,null,null,null,null,null,null,null,null,null,null,null,null,null,null,null,null,null,null,null,null,null,null,null,null,null,null,null,null,null,null,null,null,null,null,null,null,null,null,null,null,null,null,null,null,null,null,null,"BEFHIJKL","Ecuador",{"$f":"$CE$12","v":"Algerien"},"Bosnien-Herzegowina","Schweden",{"$f":"$CE$5","v":"Senegal"},{"$f":"$BB$26","v":"Uruguay"},"Ghana","DR Kongo"]
[null,null,null,null,null,null,null,null,null,null,null,null,null,null,null,null,null,null,null,null,null,null,null,null,null,null,null,null,null,null,null,null,null,null,null,null,null,null,null,null,null,null,null,null,null,null,null,null,null,null,null,null,null,null,null,null,null,null,null,null,null,null,null,null,null,null,null,null,null,null,null,null,null,null,null,null,null,null,null,null,null,null,null,null,null,null,null,null,null,null,null,null,"BEGHIJKL","Ecuador",{"$f":"$CE$12","v":"Algerien"},{"$f":"$CE$5","v":"Senegal"},{"$f":"$Y$12","v":"Bosnien-Herzegowina"},{"$f":"$BB$26","v":"Uruguay"},{"$f":"$BB$19","v":"Iran"},"Ghana","DR Kongo"]
[null,null,null,null,null,null,null,null,null,null,null,null,null,null,null,null,null,null,null,null,null,null,null,null,null,null,null,null,null,null,null,null,null,null,null,null,null,null,null,null,null,null,null,null,null,null,null,null,null,null,null,null,null,null,null,null,null,null,null,null,null,null,null,null,null,null,null,null,null,null,null,null,null,null,null,null,null,null,null,null,null,null,null,null,null,null,null,null,null,null,null,null,"BFGHIJKL",{"$f":"$BB$26","v":"Uruguay"},{"$f":"$CE$12","v":"Algerien"},{"$f":"$Y$12","v":"Bosnien-Herzegowina"},{"$f":"$BB$12","v":"Schweden"},{"$f":"$CE$5","v":"Senegal"},{"$f":"$BB$19","v":"Iran"},"Ghana","DR Kongo"]
[null,null,null,null,null,null,null,null,null,null,null,null,null,null,null,null,null,null,null,null,null,null,null,null,null,null,null,null,null,null,null,null,null,null,null,null,null,null,null,null,null,null,null,null,null,null,null,null,null,null,null,null,null,null,null,null,null,null,null,null,null,null,null,null,null,null,null,null,null,null,null,null,null,null,null,null,null,null,null,null,null,null,null,null,null,null,null,null,null,null,null,null,"CDEFGHIJ",{"$f":"$Y$19","v":"Schottland"},{"$f":"$BB$19","v":"Iran"},{"$f":"$CE$12","v":"Algerien"},{"$f":"$Y$26","v":"Paraguay"},{"$f":"$BB$26","v":"Uruguay"},{"$f":"$BB$12","v":"Schweden"},{"$f":"$BB$5","v":"Ecuador"},{"$f":"$CE$5","v":"Senegal"}]
[null,null,null,null,null,null,null,null,null,null,null,null,null,null,null,null,null,null,null,null,null,null,null,null,null,null,null,null,null,null,null,null,null,null,null,null,null,null,null,null,null,null,null,null,null,null,null,null,null,null,null,null,null,null,null,null,null,null,null,null,null,null,null,null,null,null,null,null,null,null,null,null,null,null,null,null,null,null,null,null,null,null,null,null,null,null,null,null,null,null,null,null,"CDEFGHIK","Schottland","Iran",{"$f":"$BB$5","v":"Ecuador"},"Paraguay","Uruguay","Schweden",{"$f":"$CE$5","v":"Senegal"},{"$f":"$CE$19","v":"DR Kongo"}]
[null,null,null,null,null,null,null,null,null,null,null,null,null,null,null,null,null,null,null,null,null,null,null,null,null,null,null,null,null,null,null,null,null,null,null,null,null,null,null,null,null,null,null,null,null,null,null,null,null,null,null,null,null,null,null,null,null,null,null,null,null,null,null,null,null,null,null,null,null,null,null,null,null,null,null,null,null,null,null,null,null,null,null,null,null,null,null,null,null,null,null,null,"CDEFGHIL","Schottland","Iran",{"$f":"$BB$5","v":"Ecuador"},"Paraguay","Uruguay","Schweden",{"$f":"$CE$26","v":"Ghana"},{"$f":"$CE$5","v":"Senegal"}]
[null,null,null,null,null,null,null,null,null,null,null,null,null,null,null,null,null,null,null,null,null,null,null,null,null,null,null,null,null,null,null,null,null,null,null,null,null,null,null,null,null,null,null,null,null,null,null,null,null,null,null,null,null,null,null,null,null,null,null,null,null,null,null,null,null,null,null,null,null,null,null,null,null,null,null,null,null,null,null,null,null,null,null,null,null,null,null,null,null,null,null,null,"CDEFGHJK","Schottland","Iran",{"$f":"$CE$12","v":"Algerien"},"Paraguay","Uruguay","Schweden",{"$f":"$BB$5","v":"Ecuador"},{"$f":"$CE$19","v":"DR Kongo"}]
[null,null,null,null,null,null,null,null,null,null,null,null,null,null,null,null,null,null,null,null,null,null,null,null,null,null,null,null,null,null,null,null,null,null,null,null,null,null,null,null,null,null,null,null,null,null,null,null,null,null,null,null,null,null,null,null,null,null,null,null,null,null,null,null,null,null,null,null,null,null,null,null,null,null,null,null,null,null,null,null,null,null,null,null,null,null,null,null,null,null,null,null,"CDEFGHJL","Schottland","Iran",{"$f":"$CE$12","v":"Algerien"},"Paraguay","Uruguay","Schweden",{"$f":"$CE$26","v":"Ghana"},{"$f":"$BB$5","v":"Ecuador"}]
[null,null,null,null,null,null,null,null,null,null,null,null,null,null,null,null,null,null,null,null,null,null,null,null,null,null,null,null,null,null,null,null,null,null,null,null,null,null,null,null,null,null,null,null,null,null,null,null,null,null,null,null,null,null,null,null,null,null,null,null,null,null,null,null,null,null,null,null,null,null,null,null,null,null,null,null,null,null,null,null,null,null,null,null,null,null,null,null,null,null,null,null,"CDEFGHKL","Schottland","Iran",{"$f":"$BB$5","v":"Ecuador"},"Paraguay","Uruguay","Schweden",{"$f":"$CE$26","v":"Ghana"},{"$f":"$CE$19","v":"DR Kongo"}]
[null,null,null,null,null,null,null,null,null,null,null,null,null,null,null,null,null,null,null,null,null,null,null,null,null,null,null,null,null,null,null,null,null,null,null,null,null,null,null,null,null,null,null,null,null,null,null,null,null,null,null,null,null,null,null,null,null,null,null,null,null,null,null,null,null,null,null,null,null,null,null,null,null,null,null,null,null,null,null,null,null,null,null,null,null,null,null,null,null,null,null,null,"CDEFGIJK","Schottland","Iran","Ecuador","Paraguay",{"$f":"$CE$12","v":"Algerien"},"Schweden",{"$f":"$CE$5","v":"Senegal"},{"$f":"$CE$19","v":"DR Kongo"}]
[null,null,null,null,null,null,null,null,null,null,null,null,null,null,null,null,null,null,null,null,null,null,null,null,null,null,null,null,null,null,null,null,null,null,null,null,null,null,null,null,null,null,null,null,null,null,null,null,null,null,null,null,null,null,null,null,null,null,null,null,null,null,null,null,null,null,null,null,null,null,null,null,null,null,null,null,null,null,null,null,null,null,null,null,null,null,null,null,null,null,null,null,"CDEFGIJL","Schottland","Iran","Ecuador","Paraguay",{"$f":"$CE$12","v":"Algerien"},"Schweden",{"$f":"$CE$26","v":"Ghana"},{"$f":"$CE$5","v":"Senegal"}]
[null,null,null,null,null,null,null,null,null,null,null,null,null,null,null,null,null,null,null,null,null,null,null,null,null,null,null,null,null,null,null,null,null,null,null,null,null,null,null,null,null,null,null,null,null,null,null,null,null,null,null,null,null,null,null,null,null,null,null,null,null,null,null,null,null,null,null,null,null,null,null,null,null,null,null,null,null,null,null,null,null,null,null,null,null,null,null,null,null,null,null,null,"CDEFGIKL","Schottland","Iran","Ecuador","Paraguay",{"$f":"$CE$5","v":"Senegal"},"Schweden",{"$f":"$CE$26","v":"Ghana"},{"$f":"$CE$19","v":"DR Kongo"}]
[null,null,null,null,null,null,null,null,null,null,null,null,null,null,null,null,null,null,null,null,null,null,null,null,null,null,null,null,null,null,null,null,null,null,null,null,null,null,null,null,null,null,null,null,null,null,null,null,null,null,null,null,null,null,null,null,null,null,null,null,null,null,null,null,null,null,null,null,null,null,null,null,null,null,null,null,null,null,null,null,null,null,null,null,null,null,null,null,null,null,null,null,"CDEFGJKL","Schottland","Iran","Ecuador","Paraguay",{"$f":"$CE$12","v":"Algerien"},"Schweden",{"$f":"$CE$26","v":"Ghana"},{"$f":"$CE$19","v":"DR Kongo"}]
[null,null,null,null,null,null,null,null,null,null,null,null,null,null,null,null,null,null,null,null,null,null,null,null,null,null,null,null,null,null,null,null,null,null,null,null,null,null,null,null,null,null,null,null,null,null,null,null,null,null,null,null,null,null,null,null,null,null,null,null,null,null,null,null,null,null,null,null,null,null,null,null,null,null,null,null,null,null,null,null,null,null,null,null,null,null,null,null,null,null,null,null,"CDEFHIJK","Schottland",{"$f":"$CE$12","v":"Algerien"},"Ecuador","Paraguay",{"$f":"$BB$26","v":"Uruguay"},"Schweden",{"$f":"$CE$5","v":"Senegal"},{"$f":"$CE$19","v":"DR Kongo"}]
[null,null,null,null,null,null,null,null,null,null,null,null,null,null,null,null,null,null,null,null,null,null,null,null,null,null,null,null,null,null,null,null,null,null,null,null,null,null,null,null,null,null,null,null,null,null,null,null,null,null,null,null,null,null,null,null,null,null,null,null,null,null,null,null,null,null,null,null,null,null,null,null,null,null,null,null,null,null,null,null,null,null,null,null,null,null,null,null,null,null,null,null,"CDEFHIJL","Schottland",{"$f":"$CE$12","v":"Algerien"},"Ecuador","Paraguay",{"$f":"$BB$26","v":"Uruguay"},"Schweden",{"$f":"$CE$26","v":"Ghana"},{"$f":"$CE$5","v":"Senegal"}]
[null,null,null,null,null,null,null,null,null,null,null,null,null,null,null,null,null,null,null,null,null,null,null,null,null,null,null,null,null,null,null,null,null,null,null,null,null,null,null,null,null,null,null,null,null,null,null,null,null,null,null,null,null,null,null,null,null,null,null,null,null,null,null,null,null,null,null,null,null,null,null,null,null,null,null,null,null,null,null,null,null,null,null,null,null,null,null,null,null,null,null,null,"CDEFHIKL","Schottland",{"$f":"$BB$5","v":"Ecuador"},{"$f":"$CE$5","v":"Senegal"},"Paraguay",{"$f":"$BB$26","v":"Uruguay"},"Schweden",{"$f":"$CE$26","v":"Ghana"},{"$f":"$CE$19","v":"DR Kongo"}]
[null,null,null,null,null,null,null,null,null,null,null,null,null,null,null,null,null,null,null,null,null,null,null,null,null,null,null,null,null,null,null,null,null,null,null,null,null,null,null,null,null,null,null,null,null,null,null,null,null,null,null,null,null,null,null,null,null,null,null,null,null,null,null,null,null,null,null,null,null,null,null,null,null,null,null,null,null,null,null,null,null,null,null,null,null,null,null,null,null,null,null,null,"CDEFHJKL","Schottland",{"$f":"$CE$12","v":"Algerien"},{"$f":"$BB$5","v":"Ecuador"},"Paraguay",{"$f":"$BB$26","v":"Uruguay"},"Schweden",{"$f":"$CE$26","v":"Ghana"},{"$f":"$CE$19","v":"DR Kongo"}]
[null,null,null,null,null,null,null,null,null,null,null,null,null,null,null,null,null,null,null,null,null,null,null,null,null,null,null,null,null,null,null,null,null,null,null,null,null,null,null,null,null,null,null,null,null,null,null,null,null,null,null,null,null,null,null,null,null,null,null,null,null,null,null,null,null,null,null,null,null,null,null,null,null,null,null,null,null,null,null,null,null,null,null,null,null,null,null,null,null,null,null,null,"CDEFIJKL","Schottland",{"$f":"$CE$12","v":"Algerien"},{"$f":"$BB$5","v":"Ecuador"},"Paraguay",{"$f":"$CE$5","v":"Senegal"},"Schweden",{"$f":"$CE$26","v":"Ghana"},{"$f":"$CE$19","v":"DR Kongo"}]
[null,null,null,null,null,null,null,null,null,null,null,null,null,null,null,null,null,null,null,null,null,null,null,null,null,null,null,null,null,null,null,null,null,null,null,null,null,null,null,null,null,null,null,null,null,null,null,null,null,null,null,null,null,null,null,null,null,null,null,null,null,null,null,null,null,null,null,null,null,null,null,null,null,null,null,null,null,null,null,null,null,null,null,null,null,null,null,null,null,null,null,null,"CDEGHIJK",{"$f":"$BB$5","v":"Ecuador"},{"$f":"$BB$19","v":"Iran"},{"$f":"$CE$12","v":"Algerien"},{"$f":"$Y$19","v":"Schottland"},{"$f":"$BB$26","v":"Uruguay"},{"$f":"$Y$26","v":"Paraguay"},{"$f":"$CE$5","v":"Senegal"},{"$f":"$CE$19","v":"DR Kongo"}]
[null,null,null,null,null,null,null,null,null,null,null,null,null,null,null,null,null,null,null,null,null,null,null,null,null,null,null,null,null,null,null,null,null,null,null,null,null,null,null,null,null,null,null,null,null,null,null,null,null,null,null,null,null,null,null,null,null,null,null,null,null,null,null,null,null,null,null,null,null,null,null,null,null,null,null,null,null,null,null,null,null,null,null,null,null,null,null,null,null,null,null,null,"CDEGHIJL","Ecuador",{"$f":"$BB$19","v":"Iran"},{"$f":"$CE$12","v":"Algerien"},"Schottland",{"$f":"$BB$26","v":"Uruguay"},"Paraguay",{"$f":"$CE$26","v":"Ghana"},{"$f":"$CE$5","v":"Senegal"}]
[null,null,null,null,null,null,null,null,null,null,null,null,null,null,null,null,null,null,null,null,null,null,null,null,null,null,null,null,null,null,null,null,null,null,null,null,null,null,null,null,null,null,null,null,null,null,null,null,null,null,null,null,null,null,null,null,null,null,null,null,null,null,null,null,null,null,null,null,null,null,null,null,null,null,null,null,null,null,null,null,null,null,null,null,null,null,null,null,null,null,null,null,"CDEGHIKL","Ecuador",{"$f":"$BB$19","v":"Iran"},{"$f":"$CE$5","v":"Senegal"},"Schottland",{"$f":"$BB$26","v":"Uruguay"},"Paraguay",{"$f":"$CE$26","v":"Ghana"},{"$f":"$CE$19","v":"DR Kongo"}]
[null,null,null,null,null,null,null,null,null,null,null,null,null,null,null,null,null,null,null,null,null,null,null,null,null,null,null,null,null,null,null,null,null,null,null,null,null,null,null,null,null,null,null,null,null,null,null,null,null,null,null,null,null,null,null,null,null,null,null,null,null,null,null,null,null,null,null,null,null,null,null,null,null,null,null,null,null,null,null,null,null,null,null,null,null,null,null,null,null,null,null,null,"CDEGHJKL","Ecuador",{"$f":"$BB$19","v":"Iran"},{"$f":"$CE$12","v":"Algerien"},"Schottland",{"$f":"$BB$26","v":"Uruguay"},"Paraguay",{"$f":"$CE$26","v":"Ghana"},{"$f":"$CE$19","v":"DR Kongo"}]
[null,null,null,null,null,null,null,null,null,null,null,null,null,null,null,null,null,null,null,null,null,null,null,null,null,null,null,null,null,null,null,null,null,null,null,null,null,null,null,null,null,null,null,null,null,null,null,null,null,null,null,null,null,null,null,null,null,null,null,null,null,null,null,null,null,null,null,null,null,null,null,null,null,null,null,null,null,null,null,null,null,null,null,null,null,null,null,null,null,null,null,null,"CDEGIJKL","Ecuador",{"$f":"$BB$19","v":"Iran"},{"$f":"$CE$5","v":"Senegal"},"Schottland",{"$f":"$CE$12","v":"Algerien"},"Paraguay",{"$f":"$CE$26","v":"Ghana"},{"$f":"$CE$19","v":"DR Kongo"}]
[null,null,null,null,null,null,null,null,null,null,null,null,null,null,null,null,null,null,null,null,null,null,null,null,null,null,null,null,null,null,null,null,null,null,null,null,null,null,null,null,null,null,null,null,null,null,null,null,null,null,null,null,null,null,null,null,null,null,null,null,null,null,null,null,null,null,null,null,null,null,null,null,null,null,null,null,null,null,null,null,null,null,null,null,null,null,null,null,null,null,null,null,"CDEHIJKL","Ecuador",{"$f":"$CE$12","v":"Algerien"},{"$f":"$CE$5","v":"Senegal"},"Schottland",{"$f":"$BB$26","v":"Uruguay"},"Paraguay",{"$f":"$CE$26","v":"Ghana"},{"$f":"$CE$19","v":"DR Kongo"}]
[null,null,null,null,null,null,null,null,null,null,null,null,null,null,null,null,null,null,null,null,null,null,null,null,null,null,null,null,null,null,null,null,null,null,null,null,null,null,null,null,null,null,null,null,null,null,null,null,null,null,null,null,null,null,null,null,null,null,null,null,null,null,null,null,null,null,null,null,null,null,null,null,null,null,null,null,null,null,null,null,null,null,null,null,null,null,null,null,null,null,null,null,"CDFGHIJK",{"$f":"$Y$19","v":"Schottland"},{"$f":"$BB$19","v":"Iran"},{"$f":"$CE$12","v":"Algerien"},{"$f":"$Y$26","v":"Paraguay"},{"$f":"$BB$26","v":"Uruguay"},{"$f":"$BB$12","v":"Schweden"},{"$f":"$CE$5","v":"Senegal"},{"$f":"$CE$19","v":"DR Kongo"}]
[null,null,null,null,null,null,null,null,null,null,null,null,null,null,null,null,null,null,null,null,null,null,null,null,null,null,null,null,null,null,null,null,null,null,null,null,null,null,null,null,null,null,null,null,null,null,null,null,null,null,null,null,null,null,null,null,null,null,null,null,null,null,null,null,null,null,null,null,null,null,null,null,null,null,null,null,null,null,null,null,null,null,null,null,null,null,null,null,null,null,null,null,"CDFGHIJL","Schottland",{"$f":"$BB$19","v":"Iran"},{"$f":"$CE$12","v":"Algerien"},"Paraguay",{"$f":"$BB$26","v":"Uruguay"},"Schweden",{"$f":"$CE$26","v":"Ghana"},{"$f":"$CE$5","v":"Senegal"}]
[null,null,null,null,null,null,null,null,null,null,null,null,null,null,null,null,null,null,null,null,null,null,null,null,null,null,null,null,null,null,null,null,null,null,null,null,null,null,null,null,null,null,null,null,null,null,null,null,null,null,null,null,null,null,null,null,null,null,null,null,null,null,null,null,null,null,null,null,null,null,null,null,null,null,null,null,null,null,null,null,null,null,null,null,null,null,null,null,null,null,null,null,"CDFGHIKL","Schottland",{"$f":"$BB$19","v":"Iran"},{"$f":"$CE$5","v":"Senegal"},"Paraguay",{"$f":"$BB$26","v":"Uruguay"},"Schweden","Ghana",{"$f":"$CE$19","v":"DR Kongo"}]
[null,null,null,null,null,null,null,null,null,null,null,null,null,null,null,null,null,null,null,null,null,null,null,null,null,null,null,null,null,null,null,null,null,null,null,null,null,null,null,null,null,null,null,null,null,null,null,null,null,null,null,null,null,null,null,null,null,null,null,null,null,null,null,null,null,null,null,null,null,null,null,null,null,null,null,null,null,null,null,null,null,null,null,null,null,null,null,null,null,null,null,null,"CDFGHJKL","Schottland",{"$f":"$BB$19","v":"Iran"},{"$f":"$CE$12","v":"Algerien"},"Paraguay",{"$f":"$BB$26","v":"Uruguay"},"Schweden","Ghana","DR Kongo"]
[null,null,null,null,null,null,null,null,null,null,null,null,null,null,null,null,null,null,null,null,null,null,null,null,null,null,null,null,null,null,null,null,null,null,null,null,null,null,null,null,null,null,null,null,null,null,null,null,null,null,null,null,null,null,null,null,null,null,null,null,null,null,null,null,null,null,null,null,null,null,null,null,null,null,null,null,null,null,null,null,null,null,null,null,null,null,null,null,null,null,null,null,"CDFGIJKL","Schottland",{"$f":"$BB$19","v":"Iran"},{"$f":"$CE$5","v":"Senegal"},"Paraguay",{"$f":"$CE$12","v":"Algerien"},"Schweden","Ghana","DR Kongo"]
[null,null,null,null,null,null,null,null,null,null,null,null,null,null,null,null,null,null,null,null,null,null,null,null,null,null,null,null,null,null,null,null,null,null,null,null,null,null,null,null,null,null,null,null,null,null,null,null,null,null,null,null,null,null,null,null,null,null,null,null,null,null,null,null,null,null,null,null,null,null,null,null,null,null,null,null,null,null,null,null,null,null,null,null,null,null,null,null,null,null,null,null,"CDFHIJKL","Schottland",{"$f":"$CE$12","v":"Algerien"},{"$f":"$CE$5","v":"Senegal"},"Paraguay",{"$f":"$BB$26","v":"Uruguay"},"Schweden","Ghana","DR Kongo"]
[null,null,null,null,null,null,null,null,null,null,null,null,null,null,null,null,null,null,null,null,null,null,null,null,null,null,null,null,null,null,null,null,null,null,null,null,null,null,null,null,null,null,null,null,null,null,null,null,null,null,null,null,null,null,null,null,null,null,null,null,null,null,null,null,null,null,null,null,null,null,null,null,null,null,null,null,null,null,null,null,null,null,null,null,null,null,null,null,null,null,null,null,"CDGHIJKL",{"$f":"$BB$26","v":"Uruguay"},{"$f":"$BB$19","v":"Iran"},{"$f":"$CE$5","v":"Senegal"},{"$f":"$Y$19","v":"Schottland"},{"$f":"$CE$12","v":"Algerien"},{"$f":"$Y$26","v":"Paraguay"},"Ghana","DR Kongo"]
[null,null,null,null,null,null,null,null,null,null,null,null,null,null,null,null,null,null,null,null,null,null,null,null,null,null,null,null,null,null,null,null,null,null,null,null,null,null,null,null,null,null,null,null,null,null,null,null,null,null,null,null,null,null,null,null,null,null,null,null,null,null,null,null,null,null,null,null,null,null,null,null,null,null,null,null,null,null,null,null,null,null,null,null,null,null,null,null,null,null,null,null,"CEFGHIJK",{"$f":"$BB$5","v":"Ecuador"},"Iran",{"$f":"$CE$12","v":"Algerien"},"Schottland",{"$f":"$BB$26","v":"Uruguay"},{"$f":"$BB$12","v":"Schweden"},{"$f":"$CE$5","v":"Senegal"},"DR Kongo"]
[null,null,null,null,null,null,null,null,null,null,null,null,null,null,null,null,null,null,null,null,null,null,null,null,null,null,null,null,null,null,null,null,null,null,null,null,null,null,null,null,null,null,null,null,null,null,null,null,null,null,null,null,null,null,null,null,null,null,null,null,null,null,null,null,null,null,null,null,null,null,null,null,null,null,null,null,null,null,null,null,null,null,null,null,null,null,null,null,null,null,null,null,"CEFGHIJL","Ecuador","Iran",{"$f":"$CE$12","v":"Algerien"},"Schottland",{"$f":"$BB$26","v":"Uruguay"},"Schweden",{"$f":"$CE$26","v":"Ghana"},{"$f":"$CE$5","v":"Senegal"}]
[null,null,null,null,null,null,null,null,null,null,null,null,null,null,null,null,null,null,null,null,null,null,null,null,null,null,null,null,null,null,null,null,null,null,null,null,null,null,null,null,null,null,null,null,null,null,null,null,null,null,null,null,null,null,null,null,null,null,null,null,null,null,null,null,null,null,null,null,null,null,null,null,null,null,null,null,null,null,null,null,null,null,null,null,null,null,null,null,null,null,null,null,"CEFGHIKL","Ecuador","Iran",{"$f":"$CE$5","v":"Senegal"},"Schottland",{"$f":"$BB$26","v":"Uruguay"},"Schweden","Ghana",{"$f":"$CE$19","v":"DR Kongo"}]
[null,null,null,null,null,null,null,null,null,null,null,null,null,null,null,null,null,null,null,null,null,null,null,null,null,null,null,null,null,null,null,null,null,null,null,null,null,null,null,null,null,null,null,null,null,null,null,null,null,null,null,null,null,null,null,null,null,null,null,null,null,null,null,null,null,null,null,null,null,null,null,null,null,null,null,null,null,null,null,null,null,null,null,null,null,null,null,null,null,null,null,null,"CEFGHJKL","Ecuador","Iran",{"$f":"$CE$12","v":"Algerien"},"Schottland",{"$f":"$BB$26","v":"Uruguay"},"Schweden","Ghana","DR Kongo"]
[null,null,null,null,null,null,null,null,null,null,null,null,null,null,null,null,null,null,null,null,null,null,null,null,null,null,null,null,null,null,null,null,null,null,null,null,null,null,null,null,null,null,null,null,null,null,null,null,null,null,null,null,null,null,null,null,null,null,null,null,null,null,null,null,null,null,null,null,null,null,null,null,null,null,null,null,null,null,null,null,null,null,null,null,null,null,null,null,null,null,null,null,"CEFGIJKL","Ecuador","Iran",{"$f":"$CE$5","v":"Senegal"},"Schottland",{"$f":"$CE$12","v":"Algerien"},"Schweden","Ghana","DR Kongo"]
[null,null,null,null,null,null,null,null,null,null,null,null,null,null,null,null,null,null,null,null,null,null,null,null,null,null,null,null,null,null,null,null,null,null,null,null,null,null,null,null,null,null,null,null,null,null,null,null,null,null,null,null,null,null,null,null,null,null,null,null,null,null,null,null,null,null,null,null,null,null,null,null,null,null,null,null,null,null,null,null,null,null,null,null,null,null,null,null,null,null,null,null,"CEFHIJKL","Ecuador",{"$f":"$CE$12","v":"Algerien"},{"$f":"$CE$5","v":"Senegal"},"Schottland",{"$f":"$BB$26","v":"Uruguay"},"Schweden","Ghana","DR Kongo"]
[null,null,null,null,null,null,null,null,null,null,null,null,null,null,null,null,null,null,null,null,null,null,null,null,null,null,null,null,null,null,null,null,null,null,null,null,null,null,null,null,null,null,null,null,null,null,null,null,null,null,null,null,null,null,null,null,null,null,null,null,null,null,null,null,null,null,null,null,null,null,null,null,null,null,null,null,null,null,null,null,null,null,null,null,null,null,null,null,null,null,null,null,"CEGHIJKL","Ecuador",{"$f":"$CE$12","v":"Algerien"},{"$f":"$CE$5","v":"Senegal"},"Schottland",{"$f":"$BB$26","v":"Uruguay"},{"$f":"$BB$19","v":"Iran"},"Ghana","DR Kongo"]
[null,null,null,null,null,null,null,null,null,null,null,null,null,null,null,null,null,null,null,null,null,null,null,null,null,null,null,null,null,null,null,null,null,null,null,null,null,null,null,null,null,null,null,null,null,null,null,null,null,null,null,null,null,null,null,null,null,null,null,null,null,null,null,null,null,null,null,null,null,null,null,null,null,null,null,null,null,null,null,null,null,null,null,null,null,null,null,null,null,null,null,null,"CFGHIJKL",{"$f":"$BB$26","v":"Uruguay"},{"$f":"$BB$19","v":"Iran"},{"$f":"$CE$5","v":"Senegal"},"Schottland",{"$f":"$CE$12","v":"Algerien"},{"$f":"$BB$12","v":"Schweden"},"Ghana","DR Kongo"]
[null,null,null,null,null,null,null,null,null,null,null,null,null,null,null,null,null,null,null,null,null,null,null,null,null,null,null,null,null,null,null,null,null,null,null,null,null,null,null,null,null,null,null,null,null,null,null,null,null,null,null,null,null,null,null,null,null,null,null,null,null,null,null,null,null,null,null,null,null,null,null,null,null,null,null,null,null,null,null,null,null,null,null,null,null,null,null,null,null,null,null,null,"DEFGHIJK",{"$f":"$BB$5","v":"Ecuador"},"Iran",{"$f":"$CE$12","v":"Algerien"},{"$f":"$Y$26","v":"Paraguay"},{"$f":"$BB$26","v":"Uruguay"},"Schweden",{"$f":"$CE$5","v":"Senegal"},"DR Kongo"]
[null,null,null,null,null,null,null,null,null,null,null,null,null,null,null,null,null,null,null,null,null,null,null,null,null,null,null,null,null,null,null,null,null,null,null,null,null,null,null,null,null,null,null,null,null,null,null,null,null,null,null,null,null,null,null,null,null,null,null,null,null,null,null,null,null,null,null,null,null,null,null,null,null,null,null,null,null,null,null,null,null,null,null,null,null,null,null,null,null,null,null,null,"DEFGHIJL","Ecuador","Iran",{"$f":"$CE$12","v":"Algerien"},"Paraguay",{"$f":"$BB$26","v":"Uruguay"},"Schweden",{"$f":"$CE$26","v":"Ghana"},{"$f":"$CE$5","v":"Senegal"}]
[null,null,null,null,null,null,null,null,null,null,null,null,null,null,null,null,null,null,null,null,null,null,null,null,null,null,null,null,null,null,null,null,null,null,null,null,null,null,null,null,null,null,null,null,null,null,null,null,null,null,null,null,null,null,null,null,null,null,null,null,null,null,null,null,null,null,null,null,null,null,null,null,null,null,null,null,null,null,null,null,null,null,null,null,null,null,null,null,null,null,null,null,"DEFGHIKL","Ecuador","Iran",{"$f":"$CE$5","v":"Senegal"},"Paraguay",{"$f":"$BB$26","v":"Uruguay"},"Schweden","Ghana",{"$f":"$CE$19","v":"DR Kongo"}]
[null,null,null,null,null,null,null,null,null,null,null,null,null,null,null,null,null,null,null,null,null,null,null,null,null,null,null,null,null,null,null,null,null,null,null,null,null,null,null,null,null,null,null,null,null,null,null,null,null,null,null,null,null,null,null,null,null,null,null,null,null,null,null,null,null,null,null,null,null,null,null,null,null,null,null,null,null,null,null,null,null,null,null,null,null,null,null,null,null,null,null,null,"DEFGHJKL","Ecuador","Iran",{"$f":"$CE$12","v":"Algerien"},"Paraguay",{"$f":"$BB$26","v":"Uruguay"},"Schweden","Ghana","DR Kongo"]
[null,null,null,null,null,null,null,null,null,null,null,null,null,null,null,null,null,null,null,null,null,null,null,null,null,null,null,null,null,null,null,null,null,null,null,null,null,null,null,null,null,null,null,null,null,null,null,null,null,null,null,null,null,null,null,null,null,null,null,null,null,null,null,null,null,null,null,null,null,null,null,null,null,null,null,null,null,null,null,null,null,null,null,null,null,null,null,null,null,null,null,null,"DEFGIJKL","Ecuador","Iran",{"$f":"$CE$5","v":"Senegal"},"Paraguay",{"$f":"$CE$12","v":"Algerien"},"Schweden","Ghana","DR Kongo"]
[null,null,null,null,null,null,null,null,null,null,null,null,null,null,null,null,null,null,null,null,null,null,null,null,null,null,null,null,null,null,null,null,null,null,null,null,null,null,null,null,null,null,null,null,null,null,null,null,null,null,null,null,null,null,null,null,null,null,null,null,null,null,null,null,null,null,null,null,null,null,null,null,null,null,null,null,null,null,null,null,null,null,null,null,null,null,null,null,null,null,null,null,"DEFHIJKL","Ecuador",{"$f":"$CE$12","v":"Algerien"},"Senegal","Paraguay",{"$f":"$BB$26","v":"Uruguay"},"Schweden","Ghana","DR Kongo"]
[null,null,null,null,null,null,null,null,null,null,null,null,null,null,null,null,null,null,null,null,null,null,null,null,null,null,null,null,null,null,null,null,null,null,null,null,null,null,null,null,null,null,null,null,null,null,null,null,null,null,null,null,null,null,null,null,null,null,null,null,null,null,null,null,null,null,null,null,null,null,null,null,null,null,null,null,null,null,null,null,null,null,null,null,null,null,null,null,null,null,null,null,"DEGHIJKL","Ecuador",{"$f":"$CE$12","v":"Algerien"},"Senegal","Paraguay",{"$f":"$BB$26","v":"Uruguay"},{"$f":"$BB$19","v":"Iran"},"Ghana","DR Kongo"]
[null,null,null,null,null,null,null,null,null,null,null,null,null,null,null,null,null,null,null,null,null,null,null,null,null,null,null,null,null,null,null,null,null,null,null,null,null,null,null,null,null,null,null,null,null,null,null,null,null,null,null,null,null,null,null,null,null,null,null,null,null,null,null,null,null,null,null,null,null,null,null,null,null,null,null,null,null,null,null,null,null,null,null,null,null,null,null,null,null,null,null,null,"DFGHIJKL",{"$f":"$BB$26","v":"Uruguay"},{"$f":"$BB$19","v":"Iran"},"Senegal","Paraguay",{"$f":"$CE$12","v":"Algerien"},{"$f":"$BB$12","v":"Schweden"},"Ghana","DR Kongo"]
[null,null,null,null,null,null,null,null,null,null,null,null,null,null,null,null,null,null,null,null,null,null,null,null,null,null,null,null,null,null,null,null,null,null,null,null,null,null,null,null,null,null,null,null,null,null,null,null,null,null,null,null,null,null,null,null,null,null,null,null,null,null,null,null,null,null,null,null,null,null,null,null,null,null,null,null,null,null,null,null,null,null,null,null,null,null,null,null,null,null,null,null,"EFGHIJKL",{"$f":"$BB$5","v":"Ecuador"},{"$f":"$CE$12","v":"Algerien"},"Senegal",{"$f":"$BB$12","v":"Schweden"},{"$f":"$BB$26","v":"Uruguay"},{"$f":"$BB$19","v":"Iran"},"Ghana","DR Kongo"]
[null,null,null,null,null,null,null,null,null,null,null,null,null,null,null,null,null,null,null,null,null,null,null,null,null,null,null,null,null,null,null,null,null,null,null,null,null,null,null,null,null,null,null,null,null,null,null,null,null,null,null,null,null,null,null,null,null,null,null,null,null,null,null,null,null,null,null,null,null,null,null,null,null,null,null,null,null,null,null,null,null,null,null,null,null,null,null,null,null,null,null,null,"EFGHIJKL",{"$f":"$BB$5","v":"Ecuador"},{"$f":"$CE$12","v":"Algerien"},"Senegal",{"$f":"$BB$12","v":"Schweden"},{"$f":"$BB$26","v":"Uruguay"},{"$f":"$BB$19","v":"Iran"},"Ghana","DR Kongo"]

{"sheet":"KO-Runde 073-088","index":4,"n_rows":28,"n_cols":118,"rows_kept":28,"cut":false,"hidden":false,"merged":[[26,112,26,114],[27,112,27,114],[26,79,27,81],[26,82,27,84],[26,85,27,87],[26,64,27,66],[26,67,27,69],[26,70,27,72],[26,73,27,75],[26,76,27,78],[26,97,27,99],[26,100,27,102],[26,103,27,105],[26,106,27,108],[26,109,27,111],[0,109,5,111],[1,112,5,112],[1,113,5,113],[1,114,5,114],[0,64,5,66],[0,67,5,69],[0,70,5,72],[0,73,5,75],[0,76,5,78],[0,79,5,81],[0,82,5,84],[0,85,5,87],[0,97,5,99],[0,100,5,102],[0,103,5,105],[0,106,5,108],[1,46,5,46],[1,37,5,37],[1,38,5,38],[1,39,5,39],[1,40,5,40],[1,41,5,41],[1,55,5,55],[1,56,5,56],[1,57,5,57],[1,50,5,50],[1,51,5,51],[1,52,5,52],[1,53,5,53],[1,54,5,54],[1,47,5,47],[1,48,5,48],[1,49,5,49],[0,18,0,20],[0,21,0,23],[0,24,0,26],[0,27,0,29],[0,30,0,32],[1,42,5,42],[1,43,5,43],[1,44,5,44],[1,45,5,45],[1,33,5,33],[1,34,5,34],[1,35,5,35],[1,36,5,36],[1,27,5,27],[1,28,5,28],[1,29,5,29],[1,30,5,30],[1,31,5,31],[1,32,5,32],[26,63,27,63],[26,88,27,90],[26,91,27,93],[26,94,27,96],[0,63,5,63],[0,88,5,90],[0,91,5,93],[0,94,5,96],[0,57,0,59],[0,60,0,62],[1,60,5,60],[1,61,5,61],[1,62,5,62],[1,58,5,58],[1,59,5,59],[0,4,0,6],[0,7,0,9],[0,51,0,53],[0,54,0,56],[0,39,0,41],[0,42,0,44],[0,45,0,47],[0,48,0,50],[0,33,0,35],[0,36,0,38],[0,14,5,14],[1,15,5,15],[1,16,5,16],[1,17,5,17],[1,18,5,18],[1,19,5,19],[1,20,5,20],[1,21,5,21],[1,22,5,22],[1,23,5,23],[1,24,5,24],[1,25,5,25],[1,26,5,26],[0,15,0,17]]}
["Spiele 73-88   (chronologisch)","Anstoßzeit","Ortszeit","Spiel-Nr.","Spielpaarungen / Gruppen",null,null,"Ergebnis",null,null,"Austragungsort / Stadion","K.O.-Runde","Live-TV Übertragungsrechte"," - ","NAME",{"$f":"$D$2","v":73},null,null,{"$f":"$D$3","v":76},null,null,{"$f":"$D$4","v":74},null,null,{"$f":"$D$5","v":75},null,null,{"$f":"$D$6","v":78},null,null,{"$f":"$D$7","v":77},null,null,{"$f":"$D$8","v":79},null,null,{"$f":"$D$9","v":80},null,null,{"$f":"$D$10","v":82},null,null,{"$f":"$D$11","v":81},null,null,{"$f":"$D$12","v":84},null,null,{"$f":"$D$13","v":83},null,null,{"$f":"$D$14","v":85},null,null,{"$f":"$D$15","v":88},null,null,{"$f":"$D$16","v":86},null,null,{"$f":"$D$17","v":87},null,null,"NAME",{"$f":"$P$1","v":73},null,null,{"$f":"$S$1","v":76},null,null,{"$f":"$V$1","v":74},null,null,{"$f":"$Y$1","v":75},null,null,{"$f":"$AB$1","v":78},null,null,{"$f":"$AE$1","v":77},null,null,{"$f":"$AH$1","v":79},null,null,{"$f":"$AK$1","v":80},null,null,{"$f":"$AN$1","v":82},null,null,{"$f":"$AQ$1","v":81},null,null,{"$f":"$AT$1","v":84},null,null,{"$f":"$AW$1","v":83},null,null,{"$f":"$AZ$1","v":85},null,null,{"$f":"$BC$1","v":88},null,null,{"$f":"$BF$1","v":86},null,null,{"$f":"$BI$1","v":87},null,null,"PUNKTE","PUNKTE","PUNKTE",null,"Ausgeschiedene Mannschaften",{"$f":"TODAY()","v":"2026-07-20"}]
["2026-06-28T21:00:00",46201.875,"2026-06-28T12:00:00",73,{"$f":"IF('Vorrunde (Tabellen)'!$BT$12=\"\",\"2. Gruppe A\",'Vorrunde (Tabellen)'!$Y$4)","v":"Südafrika"},"-",{"$f":"IF('Vorrunde (Tabellen)'!$BT$12=\"\",\"2. Gruppe B\",'Vorrunde (Tabellen)'!$Y$11)","v":"Kanada"},0,":",1,"USA / SoFi Stadium (Los Angeles)","Sechzehntelfinale","ARD und MagentaTV",{"$f":"IF($J2<>\"\",1,0)","v":1},null,"2. Gruppe A",{"$f":"$B$2","v":"2026-06-28T21:00:00"},"2. Gruppe B","1. Gruppe C",{"$f":"$B$3","v":"2026-06-29T19:00:00"},"2. Gruppe F","1. Gruppe E",{"$f":"$B$4","v":"2026-06-29T22:30:00"},"3. Gruppe A/B/C/D/F","1. Gruppe F",{"$f":"$B$5","v":"2026-06-30T03:00:00"},"2. Gruppe C","2. Gruppe E",{"$f":"$B$6","v":"2026-06-30T19:00:00"},"2. Gruppe I","1. Gruppe I",{"$f":"$B$7","v":"2026-06-30T23:00:00"},"3. Gruppe C/D/F/G/H","1. Gruppe A",{"$f":"$B$8","v":"2026-07-01T03:00:00"},"3. Gruppe C/E/F/H/I","1. Gruppe L",{"$f":"$B$9","v":"2026-07-01T18:00:00"},"3. Gruppe E/H/I/J/K","1. Gruppe G",{"$f":"$B$10","v":"2026-07-01T22:00:00"},"3. Gruppe A/E/H/I/J","1. Gruppe D",{"$f":"$B$11","v":"2026-07-02T02:00:00"},"3. Gruppe B/E/F/I/J","1. Gruppe H",{"$f":"$B$12","v":"2026-07-02T21:00:00"},"2. Gruppe J","2. Gruppe K",{"$f":"$B$13","v":"2026-07-03T01:00:00"},"2. Gruppe L","1. Gruppe B",{"$f":"$B$14","v":"2026-07-03T05:00:00"},"3. Gruppe E/F/G/I/J","2. Gruppe D",{"$f":"$B$15","v":"2026-07-03T20:00:00"},"2. Gruppe G","1. Gruppe J",{"$f":"$B$16","v":"2026-07-04"},"2. Gruppe H","1. Gruppe K",{"$f":"$B$17","v":"2026-07-04T03:30:00"},"3. Gruppe D/E/I/J/L",null,null,null,null,null,null,null,null,null,null,null,null,null,null,null,null,null,null,null,null,null,null,null,null,null,null,null,null,null,null,null,null,null,null,null,null,null,null,null,null,null,null,null,null,null,null,null,null,null,"Summe","Übertrag","GESAMT",null,{"$f":"IF('KO-Runde 089-104'!DO2=\"\",\"\",'KO-Runde 089-104'!DO2)","v":"TCH"},"Team 1"]
["2026-06-29T19:00:00",46202.791666666664,"2026-06-29T12:00:00",76,{"$f":"IF('Vorrunde (Tabellen)'!$BT$12=\"\",\"1. Gruppe C\",'Vorrunde (Tabellen)'!$Y$17)","v":"Brasilien"},"-",{"$f":"IF('Vorrunde (Tabellen)'!$BT$12=\"\",\"2. Gruppe F\",'Vorrunde (Tabellen)'!$BB$11)","v":"Japan"},2,":",1,"USA / NRG Stadium (Houston)","Sechzehntelfinale","ZDF und MagentaTV",{"$f":"IF($J3<>\"\",1,0)","v":1},null,null,null,null,null,null,null,null,null,null,null,null,null,null,null,null,null,null,null,null,null,null,null,null,null,null,null,null,null,null,null,null,null,null,null,null,null,null,null,null,null,null,null,null,null,null,null,null,null,null,null,null,null,null,null,null,null,null,null,null,null,null,null,null,null,null,null,null,null,null,null,null,null,null,null,null,null,null,null,null,null,null,null,null,null,null,null,null,null,null,null,null,null,null,null,null,null,null,null,null,null,null,{"$f":"IF('KO-Runde 089-104'!DO3=\"\",\"\",'KO-Runde 089-104'!DO3)","v":"KAT"},"Team 2"]
["2026-06-29T22:30:00",46202.9375,"2026-06-29T16:30:00",74,{"$f":"IF('Vorrunde (Tabellen)'!$BT$12=\"\",\"1. Gruppe E\",'Vorrunde (Tabellen)'!$BB$3)","v":"Deutschland"},"-",{"$f":"IF('Vorrunde (Tabellen)'!$BT$12=\"\",\"3. Gruppe A/B/C/D/F\",VLOOKUP('Vorrunde (Tabellen)'!$K$34,'Vorrunde (Tabellen)'!$CO$2:$CW$497,5))","v":"Paraguay"},4,":",5,"USA / Gillette Stadium (Boston)","Sechzehntelfinale","ZDF und MagentaTV",1,null,null,null,null,null,null,null,null,null,null,null,null,null,null,null,null,null,null,null,null,null,null,null,null,null,null,null,null,null,null,null,null,null,null,null,null,null,null,null,null,null,null,null,null,null,null,null,null,null,null,null,null,null,null,null,null,null,null,null,null,null,null,null,null,null,null,null,null,null,null,null,null,null,null,null,null,null,null,null,null,null,null,null,null,null,null,null,null,null,null,null,null,null,null,null,null,null,null,null,null,null,null,{"$f":"IF('KO-Runde 089-104'!DO4=\"\",\"\",'KO-Runde 089-104'!DO4)","v":"HAI"},"Team 3"]
["2026-06-30T03:00:00",46203.125,"2026-06-29T19:00:00",75,{"$f":"IF('Vorrunde (Tabellen)'!$BT$12=\"\",\"1. Gruppe F\",'Vorrunde (Tabellen)'!$BB$10)","v":"Niederlande"},"-",{"$f":"IF('Vorrunde (Tabellen)'!$BT$12=\"\",\"2. Gruppe C\",'Vorrunde (Tabellen)'!$Y$18)","v":"Marokko"},3,":",4,"Mexiko / Estadio BBVA (Monterrey)","Sechzehntelfinale","MagentaTV exklusiv",1,null,null,null,null,null,null,null,null,null,null,null,null,null,null,null,null,null,null,null,null,null,null,null,null,null,null,null,null,null,null,null,null,null,null,null,null,null,null,null,null,null,null,null,null,null,null,null,null,null,null,null,null,null,null,null,null,null,null,null,null,null,null,null,null,null,null,null,null,null,null,null,null,null,null,null,null,null,null,null,null,null,null,null,null,null,null,null,null,null,null,null,null,null,null,null,null,null,null,null,null,null,null,{"$f":"IF('KO-Runde 089-104'!DO5=\"\",\"\",'KO-Runde 089-104'!DO5)","v":"TÜR"},"Team 4"]
["2026-06-30T19:00:00",46203.791666666664,"2026-06-30T12:00:00",78,{"$f":"IF('Vorrunde (Tabellen)'!$BT$12=\"\",\"2. Gruppe E\",'Vorrunde (Tabellen)'!$BB$4)","v":"Elfenbeinküste"},"-",{"$f":"IF('Vorrunde (Tabellen)'!$BT$12=\"\",\"2. Gruppe I\",'Vorrunde (Tabellen)'!$CE$4)","v":"Norwegen"},1,":",2,"USA / AT&T Stadium (Dallas)","Sechzehntelfinale","ARD und MagentaTV",1,null,null,null,null,null,null,null,null,null,null,null,null,null,null,null,null,null,null,null,null,null,null,null,null,null,null,null,null,null,null,null,null,null,null,null,null,null,null,null,null,null,null,null,null,null,null,null,null,null,null,null,null,null,null,null,null,null,null,null,null,null,null,null,null,null,null,null,null,null,null,null,null,null,null,null,null,null,null,null,null,null,null,null,null,null,null,null,null,null,null,null,null,null,null,null,null,null,null,null,null,null,null,{"$f":"IF('KO-Runde 089-104'!DO6=\"\",\"\",'KO-Runde 089-104'!DO6)","v":"CUR"},"Team 5"]
["2026-06-30T23:00:00",46203.958333333336,"2026-06-30T17:00:00",77,{"$f":"IF('Vorrunde (Tabellen)'!$BT$12=\"\",\"1. Gruppe I\",'Vorrunde (Tabellen)'!$CE$3)","v":"Frankreich"},"-",{"$f":"IF('Vorrunde (Tabellen)'!$BT$12=\"\",\"3. Gruppe C/D/F/G/H\",VLOOKUP('Vorrunde (Tabellen)'!$K$34,'Vorrunde (Tabellen)'!$CO$2:$CW$497,7))","v":"Schweden"},3,":",0,"USA / MetLife Stadium (New York/New Jersey)","Sechzehntelfinale","MagentaTV exklusiv",1,{"$f":"IF('Vorrunde 01-24'!$O7<>\"\",'Vorrunde 01-24'!$O7,\"\")","v":"Tilo Schott"},"KOR",":","KAN","BRA",":","JAP","DEU",":","SCO","HOL",":","MAR","ECU",":","NOR","FRA",":","SAR","MEX",":","ELF","ENG",":","SEN","BEL",":","TCH","USA",":","BOH","SPA",":","ÖST","KOL",":","KRO","SCH",":","ALG","TÜR",":","ÄGY","ARG",":","URU","POR",":","GAN",{"$f":"IF('Vorrunde 01-24'!$O7<>\"\",'Vorrunde 01-24'!$O7,\"\")","v":"Tilo Schott"},{"$f":"IF(OR(P7=$P$27,P7=$R$27,P7=$S$27,P7=$U$27,P7=$V$27,P7=$X$27,P7=$Y$27,P7=$AA$27,P7=$AB$27,P7=$AD$27,P7=$AE$27,P7=$AG$27,P7=$AH$27,P7=$AJ$27,P7=$AK$27,P7=$AM$27,P7=$AN$27,P7=$AP$27,P7=$AQ$27,P7=$AS$27,P7=$AT$27,P7=$AV$27,P7=$AW$27,P7=$AY$27,P7=$AZ$27,P7=$BB$27,P7=$BC$27,P7=$BE$27,P7=$BF$27,P7=$BH$27,P7=$BI$27,P7=$BK$27),3,0)","v":0},{"$f":"IF(OR(R7=$P$27,R7=$R$27,R7=$S$27,R7=$U$27,R7=$V$27,R7=$X$27,R7=$Y$27,R7=$AA$27,R7=$AB$27,R7=$AD$27,R7=$AE$27,R7=$AG$27,R7=$AH$27,R7=$AJ$27,R7=$AK$27,R7=$AM$27,R7=$AN$27,R7=$AP$27,R7=$AQ$27,R7=$AS$27,R7=$AT$27,R7=$AV$27,R7=$AW$27,R7=$AY$27,R7=$AZ$27,R7=$BB$27,R7=$BC$27,R7=$BE$27,R7=$BF$27,R7=$BH$27,R7=$BI$27,R7=$BK$27),3,0)","v":3},{"$f":"IF($P$27=\"TEAM\",0,SUM(BM7:BN7))","v":3},{"$f":"IF(OR(S7=$P$27,S7=$R$27,S7=$S$27,S7=$U$27,S7=$V$27,S7=$X$27,S7=$Y$27,S7=$AA$27,S7=$AB$27,S7=$AD$27,S7=$AE$27,S7=$AG$27,S7=$AH$27,S7=$AJ$27,S7=$AK$27,S7=$AM$27,S7=$AN$27,S7=$AP$27,S7=$AQ$27,S7=$AS$27,S7=$AT$27,S7=$AV$27,S7=$AW$27,S7=$AY$27,S7=$AZ$27,S7=$BB$27,S7=$BC$27,S7=$BE$27,S7=$BF$27,S7=$BH$27,S7=$BI$27,S7=$BK$27),3,0)","v":3},{"$f":"IF(OR(U7=$P$27,U7=$R$27,U7=$S$27,U7=$U$27,U7=$V$27,U7=$X$27,U7=$Y$27,U7=$AA$27,U7=$AB$27,U7=$AD$27,U7=$AE$27,U7=$AG$27,U7=$AH$27,U7=$AJ$27,U7=$AK$27,U7=$AM$27,U7=$AN$27,U7=$AP$27,U7=$AQ$27,U7=$AS$27,U7=$AT$27,U7=$AV$27,U7=$AW$27,U7=$AY$27,U7=$AZ$27,U7=$BB$27,U7=$BC$27,U7=$BE$27,U7=$BF$27,U7=$BH$27,U7=$BI$27,U7=$BK$27),3,0)","v":3},{"$f":"IF($S$27=\"TEAM\",0,SUM(BP7:BQ7))","v":6},{"$f":"IF(OR(V7=$P$27,V7=$R$27,V7=$S$27,V7=$U$27,V7=$V$27,V7=$X$27,V7=$Y$27,V7=$AA$27,V7=$AB$27,V7=$AD$27,V7=$AE$27,V7=$AG$27,V7=$AH$27,V7=$AJ$27,V7=$AK$27,V7=$AM$27,V7=$AN$27,V7=$AP$27,V7=$AQ$27,V7=$AS$27,V7=$AT$27,V7=$AV$27,V7=$AW$27,V7=$AY$27,V7=$AZ$27,V7=$BB$27,V7=$BC$27,V7=$BE$27,V7=$BF$27,V7=$BH$27,V7=$BI$27,V7=$BK$27),3,0)","v":3},{"$f":"IF(OR(X7=$P$27,X7=$R$27,X7=$S$27,X7=$U$27,X7=$V$27,X7=$X$27,X7=$Y$27,X7=$AA$27,X7=$AB$27,X7=$AD$27,X7=$AE$27,X7=$AG$27,X7=$AH$27,X7=$AJ$27,X7=$AK$27,X7=$AM$27,X7=$AN$27,X7=$AP$27,X7=$AQ$27,X7=$AS$27,X7=$AT$27,X7=$AV$27,X7=$AW$27,X7=$AY$27,X7=$AZ$27,X7=$BB$27,X7=$BC$27,X7=$BE$27,X7=$BF$27,X7=$BH$27,X7=$BI$27,X7=$BK$27),3,0)","v":0},{"$f":"IF($V$27=\"TEAM\",0,SUM(BS7:BT7))","v":3},{"$f":"IF(OR(Y7=$P$27,Y7=$R$27,Y7=$S$27,Y7=$U$27,Y7=$V$27,Y7=$X$27,Y7=$Y$27,Y7=$AA$27,Y7=$AB$27,Y7=$AD$27,Y7=$AE$27,Y7=$AG$27,Y7=$AH$27,Y7=$AJ$27,Y7=$AK$27,Y7=$AM$27,Y7=$AN$27,Y7=$AP$27,Y7=$AQ$27,Y7=$AS$27,Y7=$AT$27,Y7=$AV$27,Y7=$AW$27,Y7=$AY$27,Y7=$AZ$27,Y7=$BB$27,Y7=$BC$27,Y7=$BE$27,Y7=$BF$27,Y7=$BH$27,Y7=$BI$27,Y7=$BK$27),3,0)","v":3},{"$f":"IF(OR(AA7=$P$27,AA7=$R$27,AA7=$S$27,AA7=$U$27,AA7=$V$27,AA7=$X$27,AA7=$Y$27,AA7=$AA$27,AA7=$AB$27,AA7=$AD$27,AA7=$AE$27,AA7=$AG$27,AA7=$AH$27,AA7=$AJ$27,AA7=$AK$27,AA7=$AM$27,AA7=$AN$27,AA7=$AP$27,AA7=$AQ$27,AA7=$AS$27,AA7=$AT$27,AA7=$AV$27,AA7=$AW$27,AA7=$AY$27,AA7=$AZ$27,AA7=$BB$27,AA7=$BC$27,AA7=$BE$27,AA7=$BF$27,AA7=$BH$27,AA7=$BI$27,AA7=$BK$27),3,0)","v":3},{"$f":"IF($Y$27=\"TEAM\",0,SUM(BV7:BW7))","v":6},{"$f":"IF(OR(AB7=$P$27,AB7=$R$27,AB7=$S$27,AB7=$U$27,AB7=$V$27,AB7=$X$27,AB7=$Y$27,AB7=$AA$27,AB7=$AB$27,AB7=$AD$27,AB7=$AE$27,AB7=$AG$27,AB7=$AH$27,AB7=$AJ$27,AB7=$AK$27,AB7=$AM$27,AB7=$AN$27,AB7=$AP$27,AB7=$AQ$27,AB7=$AS$27,AB7=$AT$27,AB7=$AV$27,AB7=$AW$27,AB7=$AY$27,AB7=$AZ$27,AB7=$BB$27,AB7=$BC$27,AB7=$BE$27,AB7=$BF$27,AB7=$BH$27,AB7=$BI$27,AB7=$BK$27),3,0)","v":3},{"$f":"IF(OR(AD7=$P$27,AD7=$R$27,AD7=$S$27,AD7=$U$27,AD7=$V$27,AD7=$X$27,AD7=$Y$27,AD7=$AA$27,AD7=$AB$27,AD7=$AD$27,AD7=$AE$27,AD7=$AG$27,AD7=$AH$27,AD7=$AJ$27,AD7=$AK$27,AD7=$AM$27,AD7=$AN$27,AD7=$AP$27,AD7=$AQ$27,AD7=$AS$27,AD7=$AT$27,AD7=$AV$27,AD7=$AW$27,AD7=$AY$27,AD7=$AZ$27,AD7=$BB$27,AD7=$BC$27,AD7=$BE$27,AD7=$BF$27,AD7=$BH$27,AD7=$BI$27,AD7=$BK$27),3,0)","v":3},{"$f":"IF($AB$27=\"TEAM\",0,SUM(BY7:BZ7))","v":6},{"$f":"IF(OR(AE7=$P$27,AE7=$R$27,AE7=$S$27,AE7=$U$27,AE7=$V$27,AE7=$X$27,AE7=$Y$27,AE7=$AA$27,AE7=$AB$27,AE7=$AD$27,AE7=$AE$27,AE7=$AG$27,AE7=$AH$27,AE7=$AJ$27,AE7=$AK$27,AE7=$AM$27,AE7=$AN$27,AE7=$AP$27,AE7=$AQ$27,AE7=$AS$27,AE7=$AT$27,AE7=$AV$27,AE7=$AW$27,AE7=$AY$27,AE7=$AZ$27,AE7=$BB$27,AE7=$BC$27,AE7=$BE$27,AE7=$BF$27,AE7=$BH$27,AE7=$BI$27,AE7=$BK$27),3,0)","v":3},{"$f":"IF(OR(AG7=$P$27,AG7=$R$27,AG7=$S$27,AG7=$U$27,AG7=$V$27,AG7=$X$27,AG7=$Y$27,AG7=$AA$27,AG7=$AB$27,AG7=$AD$27,AG7=$AE$27,AG7=$AG$27,AG7=$AH$27,AG7=$AJ$27,AG7=$AK$27,AG7=$AM$27,AG7=$AN$27,AG7=$AP$27,AG7=$AQ$27,AG7=$AS$27,AG7=$AT$27,AG7=$AV$27,AG7=$AW$27,AG7=$AY$27,AG7=$AZ$27,AG7=$BB$27,AG7=$BC$27,AG7=$BE$27,AG7=$BF$27,AG7=$BH$27,AG7=$BI$27,AG7=$BK$27),3,0)","v":0},{"$f":"IF($AE$27=\"TEAM\",0,SUM(CB7:CC7))","v":3},{"$f":"IF(OR(AH7=$P$27,AH7=$R$27,AH7=$S$27,AH7=$U$27,AH7=$V$27,AH7=$X$27,AH7=$Y$27,AH7=$AA$27,AH7=$AB$27,AH7=$AD$27,AH7=$AE$27,AH7=$AG$27,AH7=$AH$27,AH7=$AJ$27,AH7=$AK$27,AH7=$AM$27,AH7=$AN$27,AH7=$AP$27,AH7=$AQ$27,AH7=$AS$27,AH7=$AT$27,AH7=$AV$27,AH7=$AW$27,AH7=$AY$27,AH7=$AZ$27,AH7=$BB$27,AH7=$BC$27,AH7=$BE$27,AH7=$BF$27,AH7=$BH$27,AH7=$BI$27,AH7=$BK$27),3,0)","v":3},{"$f":"IF(OR(AJ7=$P$27,AJ7=$R$27,AJ7=$S$27,AJ7=$U$27,AJ7=$V$27,AJ7=$X$27,AJ7=$Y$27,AJ7=$AA$27,AJ7=$AB$27,AJ7=$AD$27,AJ7=$AE$27,AJ7=$AG$27,AJ7=$AH$27,AJ7=$AJ$27,AJ7=$AK$27,AJ7=$AM$27,AJ7=$AN$27,AJ7=$AP$27,AJ7=$AQ$27,AJ7=$AS$27,AJ7=$AT$27,AJ7=$AV$27,AJ7=$AW$27,AJ7=$AY$27,AJ7=$AZ$27,AJ7=$BB$27,AJ7=$BC$27,AJ7=$BE$27,AJ7=$BF$27,AJ7=$BH$27,AJ7=$BI$27,AJ7=$BK$27),3,0)","v":3},{"$f":"IF($AH$27=\"TEAM\",0,SUM(CE7:CF7))","v":6},{"$f":"IF(OR(AK7=$P$27,AK7=$R$27,AK7=$S$27,AK7=$U$27,AK7=$V$27,AK7=$X$27,AK7=$Y$27,AK7=$AA$27,AK7=$AB$27,AK7=$AD$27,AK7=$AE$27,AK7=$AG$27,AK7=$AH$27,AK7=$AJ$27,AK7=$AK$27,AK7=$AM$27,AK7=$AN$27,AK7=$AP$27,AK7=$AQ$27,AK7=$AS$27,AK7=$AT$27,AK7=$AV$27,AK7=$AW$27,AK7=$AY$27,AK7=$AZ$27,AK7=$BB$27,AK7=$BC$27,AK7=$BE$27,AK7=$BF$27,AK7=$BH$27,AK7=$BI$27,AK7=$BK$27),3,0)","v":3},{"$f":"IF(OR(AM7=$P$27,AM7=$R$27,AM7=$S$27,AM7=$U$27,AM7=$V$27,AM7=$X$27,AM7=$Y$27,AM7=$AA$27,AM7=$AB$27,AM7=$AD$27,AM7=$AE$27,AM7=$AG$27,AM7=$AH$27,AM7=$AJ$27,AM7=$AK$27,AM7=$AM$27,AM7=$AN$27,AM7=$AP$27,AM7=$AQ$27,AM7=$AS$27,AM7=$AT$27,AM7=$AV$27,AM7=$AW$27,AM7=$AY$27,AM7=$AZ$27,AM7=$BB$27,AM7=$BC$27,AM7=$BE$27,AM7=$BF$27,AM7=$BH$27,AM7=$BI$27,AM7=$BK$27),3,0)","v":3},{"$f":"IF($AK$27=\"TEAM\",0,SUM(CH7:CI7))","v":6},{"$f":"IF(OR(AN7=$P$27,AN7=$R$27,AN7=$S$27,AN7=$U$27,AN7=$V$27,AN7=$X$27,AN7=$Y$27,AN7=$AA$27,AN7=$AB$27,AN7=$AD$27,AN7=$AE$27,AN7=$AG$27,AN7=$AH$27,AN7=$AJ$27,AN7=$AK$27,AN7=$AM$27,AN7=$AN$27,AN7=$AP$27,AN7=$AQ$27,AN7=$AS$27,AN7=$AT$27,AN7=$AV$27,AN7=$AW$27,AN7=$AY$27,AN7=$AZ$27,AN7=$BB$27,AN7=$BC$27,AN7=$BE$27,AN7=$BF$27,AN7=$BH$27,AN7=$BI$27,AN7=$BK$27),3,0)","v":3},{"$f":"IF(OR(AP7=$P$27,AP7=$R$27,AP7=$S$27,AP7=$U$27,AP7=$V$27,AP7=$X$27,AP7=$Y$27,AP7=$AA$27,AP7=$AB$27,AP7=$AD$27,AP7=$AE$27,AP7=$AG$27,AP7=$AH$27,AP7=$AJ$27,AP7=$AK$27,AP7=$AM$27,AP7=$AN$27,AP7=$AP$27,AP7=$AQ$27,AP7=$AS$27,AP7=$AT$27,AP7=$AV$27,AP7=$AW$27,AP7=$AY$27,AP7=$AZ$27,AP7=$BB$27,AP7=$BC$27,AP7=$BE$27,AP7=$BF$27,AP7=$BH$27,AP7=$BI$27,AP7=$BK$27),3,0)","v":0},{"$f":"IF($AN$27=\"TEAM\",0,SUM(CK7:CL7))","v":3},{"$f":"IF(OR(AQ7=$P$27,AQ7=$R$27,AQ7=$S$27,AQ7=$U$27,AQ7=$V$27,AQ7=$X$27,AQ7=$Y$27,AQ7=$AA$27,AQ7=$AB$27,AQ7=$AD$27,AQ7=$AE$27,AQ7=$AG$27,AQ7=$AH$27,AQ7=$AJ$27,AQ7=$AK$27,AQ7=$AM$27,AQ7=$AN$27,AQ7=$AP$27,AQ7=$AQ$27,AQ7=$AS$27,AQ7=$AT$27,AQ7=$AV$27,AQ7=$AW$27,AQ7=$AY$27,AQ7=$AZ$27,AQ7=$BB$27,AQ7=$BC$27,AQ7=$BE$27,AQ7=$BF$27,AQ7=$BH$27,AQ7=$BI$27,AQ7=$BK$27),3,0)","v":3},{"$f":"IF(OR(AS7=$P$27,AS7=$R$27,AS7=$S$27,AS7=$U$27,AS7=$V$27,AS7=$X$27,AS7=$Y$27,AS7=$AA$27,AS7=$AB$27,AS7=$AD$27,AS7=$AE$27,AS7=$AG$27,AS7=$AH$27,AS7=$AJ$27,AS7=$AK$27,AS7=$AM$27,AS7=$AN$27,AS7=$AP$27,AS7=$AQ$27,AS7=$AS$27,AS7=$AT$27,AS7=$AV$27,AS7=$AW$27,AS7=$AY$27,AS7=$AZ$27,AS7=$BB$27,AS7=$BC$27,AS7=$BE$27,AS7=$BF$27,AS7=$BH$27,AS7=$BI$27,AS7=$BK$27),3,0)","v":3},{"$f":"IF($AQ$27=\"TEAM\",0,SUM(CN7:CO7))","v":6},{"$f":"IF(OR(AT7=$P$27,AT7=$R$27,AT7=$S$27,AT7=$U$27,AT7=$V$27,AT7=$X$27,AT7=$Y$27,AT7=$AA$27,AT7=$AB$27,AT7=$AD$27,AT7=$AE$27,AT7=$AG$27,AT7=$AH$27,AT7=$AJ$27,AT7=$AK$27,AT7=$AM$27,AT7=$AN$27,AT7=$AP$27,AT7=$AQ$27,AT7=$AS$27,AT7=$AT$27,AT7=$AV$27,AT7=$AW$27,AT7=$AY$27,AT7=$AZ$27,AT7=$BB$27,AT7=$BC$27,AT7=$BE$27,AT7=$BF$27,AT7=$BH$27,AT7=$BI$27,AT7=$BK$27),3,0)","v":3},{"$f":"IF(OR(AV7=$P$27,AV7=$R$27,AV7=$S$27,AV7=$U$27,AV7=$V$27,AV7=$X$27,AV7=$Y$27,AV7=$AA$27,AV7=$AB$27,AV7=$AD$27,AV7=$AE$27,AV7=$AG$27,AV7=$AH$27,AV7=$AJ$27,AV7=$AK$27,AV7=$AM$27,AV7=$AN$27,AV7=$AP$27,AV7=$AQ$27,AV7=$AS$27,AV7=$AT$27,AV7=$AV$27,AV7=$AW$27,AV7=$AY$27,AV7=$AZ$27,AV7=$BB$27,AV7=$BC$27,AV7=$BE$27,AV7=$BF$27,AV7=$BH$27,AV7=$BI$27,AV7=$BK$27),3,0)","v":3},{"$f":"IF($AT$27=\"TEAM\",0,SUM(CQ7:CR7))","v":6},{"$f":"IF(OR(AW7=$P$27,AW7=$R$27,AW7=$S$27,AW7=$U$27,AW7=$V$27,AW7=$X$27,AW7=$Y$27,AW7=$AA$27,AW7=$AB$27,AW7=$AD$27,AW7=$AE$27,AW7=$AG$27,AW7=$AH$27,AW7=$AJ$27,AW7=$AK$27,AW7=$AM$27,AW7=$AN$27,AW7=$AP$27,AW7=$AQ$27,AW7=$AS$27,AW7=$AT$27,AW7=$AV$27,AW7=$AW$27,AW7=$AY$27,AW7=$AZ$27,AW7=$BB$27,AW7=$BC$27,AW7=$BE$27,AW7=$BF$27,AW7=$BH$27,AW7=$BI$27,AW7=$BK$27),3,0)","v":3},{"$f":"IF(OR(AY7=$P$27,AY7=$R$27,AY7=$S$27,AY7=$U$27,AY7=$V$27,AY7=$X$27,AY7=$Y$27,AY7=$AA$27,AY7=$AB$27,AY7=$AD$27,AY7=$AE$27,AY7=$AG$27,AY7=$AH$27,AY7=$AJ$27,AY7=$AK$27,AY7=$AM$27,AY7=$AN$27,AY7=$AP$27,AY7=$AQ$27,AY7=$AS$27,AY7=$AT$27,AY7=$AV$27,AY7=$AW$27,AY7=$AY$27,AY7=$AZ$27,AY7=$BB$27,AY7=$BC$27,AY7=$BE$27,AY7=$BF$27,AY7=$BH$27,AY7=$BI$27,AY7=$BK$27),3,0)","v":3},{"$f":"IF($AW$27=\"TEAM\",0,SUM(CT7:CU7))","v":6},{"$f":"IF(OR(AZ7=$P$27,AZ7=$R$27,AZ7=$S$27,AZ7=$U$27,AZ7=$V$27,AZ7=$X$27,AZ7=$Y$27,AZ7=$AA$27,AZ7=$AB$27,AZ7=$AD$27,AZ7=$AE$27,AZ7=$AG$27,AZ7=$AH$27,AZ7=$AJ$27,AZ7=$AK$27,AZ7=$AM$27,AZ7=$AN$27,AZ7=$AP$27,AZ7=$AQ$27,AZ7=$AS$27,AZ7=$AT$27,AZ7=$AV$27,AZ7=$AW$27,AZ7=$AY$27,AZ7=$AZ$27,AZ7=$BB$27,AZ7=$BC$27,AZ7=$BE$27,AZ7=$BF$27,AZ7=$BH$27,AZ7=$BI$27,AZ7=$BK$27),3,0)","v":3},{"$f":"IF(OR(BB7=$P$27,BB7=$R$27,BB7=$S$27,BB7=$U$27,BB7=$V$27,BB7=$X$27,BB7=$Y$27,BB7=$AA$27,BB7=$AB$27,BB7=$AD$27,BB7=$AE$27,BB7=$AG$27,BB7=$AH$27,BB7=$AJ$27,BB7=$AK$27,BB7=$AM$27,BB7=$AN$27,BB7=$AP$27,BB7=$AQ$27,BB7=$AS$27,BB7=$AT$27,BB7=$AV$27,BB7=$AW$27,BB7=$AY$27,BB7=$AZ$27,BB7=$BB$27,BB7=$BC$27,BB7=$BE$27,BB7=$BF$27,BB7=$BH$27,BB7=$BI$27,BB7=$BK$27),3,0)","v":3},{"$f":"IF($AZ$27=\"TEAM\",0,SUM(CW7:CX7))","v":6},{"$f":"IF(OR(BC7=$P$27,BC7=$R$27,BC7=$S$27,BC7=$U$27,BC7=$V$27,BC7=$X$27,BC7=$Y$27,BC7=$AA$27,BC7=$AB$27,BC7=$AD$27,BC7=$AE$27,BC7=$AG$27,BC7=$AH$27,BC7=$AJ$27,BC7=$AK$27,BC7=$AM$27,BC7=$AN$27,BC7=$AP$27,BC7=$AQ$27,BC7=$AS$27,BC7=$AT$27,BC7=$AV$27,BC7=$AW$27,BC7=$AY$27,BC7=$AZ$27,BC7=$BB$27,BC7=$BC$27,BC7=$BE$27,BC7=$BF$27,BC7=$BH$27,BC7=$BI$27,BC7=$BK$27),3,0)","v":0},{"$f":"IF(OR(BE7=$P$27,BE7=$R$27,BE7=$S$27,BE7=$U$27,BE7=$V$27,BE7=$X$27,BE7=$Y$27,BE7=$AA$27,BE7=$AB$27,BE7=$AD$27,BE7=$AE$27,BE7=$AG$27,BE7=$AH$27,BE7=$AJ$27,BE7=$AK$27,BE7=$AM$27,BE7=$AN$27,BE7=$AP$27,BE7=$AQ$27,BE7=$AS$27,BE7=$AT$27,BE7=$AV$27,BE7=$AW$27,BE7=$AY$27,BE7=$AZ$27,BE7=$BB$27,BE7=$BC$27,BE7=$BE$27,BE7=$BF$27,BE7=$BH$27,BE7=$BI$27,BE7=$BK$27),3,0)","v":3},{"$f":"IF($BC$27=\"TEAM\",0,SUM(CZ7:DA7))","v":3},{"$f":"IF(OR(BF7=$P$27,BF7=$R$27,BF7=$S$27,BF7=$U$27,BF7=$V$27,BF7=$X$27,BF7=$Y$27,BF7=$AA$27,BF7=$AB$27,BF7=$AD$27,BF7=$AE$27,BF7=$AG$27,BF7=$AH$27,BF7=$AJ$27,BF7=$AK$27,BF7=$AM$27,BF7=$AN$27,BF7=$AP$27,BF7=$AQ$27,BF7=$AS$27,BF7=$AT$27,BF7=$AV$27,BF7=$AW$27,BF7=$AY$27,BF7=$AZ$27,BF7=$BB$27,BF7=$BC$27,BF7=$BE$27,BF7=$BF$27,BF7=$BH$27,BF7=$BI$27,BF7=$BK$27),3,0)","v":3},{"$f":"IF(OR(BH7=$P$27,BH7=$R$27,BH7=$S$27,BH7=$U$27,BH7=$V$27,BH7=$X$27,BH7=$Y$27,BH7=$AA$27,BH7=$AB$27,BH7=$AD$27,BH7=$AE$27,BH7=$AG$27,BH7=$AH$27,BH7=$AJ$27,BH7=$AK$27,BH7=$AM$27,BH7=$AN$27,BH7=$AP$27,BH7=$AQ$27,BH7=$AS$27,BH7=$AT$27,BH7=$AV$27,BH7=$AW$27,BH7=$AY$27,BH7=$AZ$27,BH7=$BB$27,BH7=$BC$27,BH7=$BE$27,BH7=$BF$27,BH7=$BH$27,BH7=$BI$27,BH7=$BK$27),3,0)","v":0},{"$f":"IF($BF$27=\"TEAM\",0,SUM(DC7:DD7))","v":3},{"$f":"IF(OR(BI7=$P$27,BI7=$R$27,BI7=$S$27,BI7=$U$27,BI7=$V$27,BI7=$X$27,BI7=$Y$27,BI7=$AA$27,BI7=$AB$27,BI7=$AD$27,BI7=$AE$27,BI7=$AG$27,BI7=$AH$27,BI7=$AJ$27,BI7=$AK$27,BI7=$AM$27,BI7=$AN$27,BI7=$AP$27,BI7=$AQ$27,BI7=$AS$27,BI7=$AT$27,BI7=$AV$27,BI7=$AW$27,BI7=$AY$27,BI7=$AZ$27,BI7=$BB$27,BI7=$BC$27,BI7=$BE$27,BI7=$BF$27,BI7=$BH$27,BI7=$BI$27,BI7=$BK$27),3,0)","v":3},{"$f":"IF(OR(BK7=$P$27,BK7=$R$27,BK7=$S$27,BK7=$U$27,BK7=$V$27,BK7=$X$27,BK7=$Y$27,BK7=$AA$27,BK7=$AB$27,BK7=$AD$27,BK7=$AE$27,BK7=$AG$27,BK7=$AH$27,BK7=$AJ$27,BK7=$AK$27,BK7=$AM$27,BK7=$AN$27,BK7=$AP$27,BK7=$AQ$27,BK7=$AS$27,BK7=$AT$27,BK7=$AV$27,BK7=$AW$27,BK7=$AY$27,BK7=$AZ$27,BK7=$BB$27,BK7=$BC$27,BK7=$BE$27,BK7=$BF$27,BK7=$BH$27,BK7=$BI$27,BK7=$BK$27),3,0)","v":3},{"$f":"IF($BI$27=\"TEAM\",0,SUM(DF7:DG7))","v":6},{"$f":"SUM(BO7,BR7,BU7,BX7,CA7,CD7,CG7,CJ7,CM7,CP7,CS7,CV7,CY7,DB7,DE7,DH7)","v":78},{"$f":"'Vorrunde 49-72'!HC7","v":106},{"$f":"SUM(DI7,DJ7)","v":184},null,{"$f":"IF('KO-Runde 089-104'!DO7=\"\",\"\",'KO-Runde 089-104'!DO7)","v":"TUN"},"Team 6"]
["2026-07-01T03:00:00",46204.125,"2026-06-30T19:00:00",79,{"$f":"IF('Vorrunde (Tabellen)'!$BT$12=\"\",\"1. Gruppe A\",'Vorrunde (Tabellen)'!$Y$3)","v":"Mexiko"},"-",{"$f":"IF('Vorrunde (Tabellen)'!$BT$12=\"\",\"3. Gruppe C/E/F/H/I\",VLOOKUP('Vorrunde (Tabellen)'!$K$34,'Vorrunde (Tabellen)'!$CO$2:$CW$497,2))","v":"Ecuador"},2,":",0,"Mexiko / Azteca (Mexico City)","Sechzehntelfinale","MagentaTV exklusiv",1,{"$f":"IF('Vorrunde 01-24'!$O8<>\"\",'Vorrunde 01-24'!$O8,\"\")","v":"Arno Schneucker"},"TCH",":","KAN","BRA",":","JAP","DEU",":","MAR","HOL",":","SCO","ELF",":","SEN","FRA",":","NEU","MEX",":","ECU","ENG",":","NOR","BEL",":","KOR","USA",":","BOH","SPA",":","ALG","POR",":","GAN","SCH",":","ÖST","TÜR",":","ÄGY","ARG",":","KVD","KOL",":","KRO",{"$f":"IF('Vorrunde 01-24'!$O8<>\"\",'Vorrunde 01-24'!$O8,\"\")","v":"Arno Schneucker"},0,3,3,3,3,6,3,3,6,3,0,3,3,3,6,3,0,3,3,3,6,3,3,6,3,0,3,3,3,6,3,3,6,3,3,6,3,3,6,0,3,3,3,3,6,3,3,6,{"$f":"SUM(BO8,BR8,BU8,BX8,CA8,CD8,CG8,CJ8,CM8,CP8,CS8,CV8,CY8,DB8,DE8,DH8)","v":81},{"$f":"'Vorrunde 49-72'!HC8","v":86},{"$f":"SUM(DI8,DJ8)","v":167},null,{"$f":"IF('KO-Runde 089-104'!DO8=\"\",\"\",'KO-Runde 089-104'!DO8)","v":"NEU"},"Team 7"]
["2026-07-01T18:00:00",46204.75,"2026-07-01T12:00:00",80,{"$f":"IF('Vorrunde (Tabellen)'!$BT$12=\"\",\"1. Gruppe L\",'Vorrunde (Tabellen)'!$CE$24)","v":"England"},"-",{"$f":"IF('Vorrunde (Tabellen)'!$BT$12=\"\",\"3. Gruppe E/H/I/J/K\",VLOOKUP('Vorrunde (Tabellen)'!$K$34,'Vorrunde (Tabellen)'!$CO$2:$CW$497,9))","v":"DR Kongo"},2,":",1,"USA / Mercedes-Benz Stadium (Atlanta)","Sechzehntelfinale","ARD und MagentaTV",1,{"$f":"IF('Vorrunde 01-24'!$O9<>\"\",'Vorrunde 01-24'!$O9,\"\")","v":"Silke Seibert"},"TCH",":","BOH","BRA",":","JAP","DEU",":","SCO","HOL",":","MAR","ELF",":","NOR","FRA",":","SWE","MEX",":","SAR","ENG",":","SEN","BEL",":","KOR","TÜR",":","KAN","SPA",":","ÖST","KOL",":","KRO","SCH",":","ECU","USA",":","ÄGY","ARG",":","URU","POR",":","GAN",{"$f":"IF('Vorrunde 01-24'!$O9<>\"\",'Vorrunde 01-24'!$O9,\"\")","v":"Silke Seibert"},0,3,3,3,3,6,3,0,3,3,3,6,3,3,6,3,3,6,3,0,3,3,3,6,3,0,3,0,3,3,3,3,6,3,3,6,3,3,6,3,3,6,3,0,3,3,3,6,78,{"$f":"'Vorrunde 49-72'!HC9","v":89},167,null,{"$f":"IF('KO-Runde 089-104'!DO9=\"\",\"\",'KO-Runde 089-104'!DO9)","v":"SAR"},"Team 8"]
["2026-07-01T22:00:00",46204.916666666664,"2026-07-01T13:00:00",82,{"$f":"IF('Vorrunde (Tabellen)'!$BT$12=\"\",\"1. Gruppe G\",'Vorrunde (Tabellen)'!$BB$17)","v":"Belgien"},"-",{"$f":"IF('Vorrunde (Tabellen)'!$BT$12=\"\",\"3. Gruppe A/E/H/I/J\",VLOOKUP('Vorrunde (Tabellen)'!$K$34,'Vorrunde (Tabellen)'!$CO$2:$CW$497,6))","v":"Senegal"},3,":",2,"USA / Lumen Field (Seattle)","Sechzehntelfinale","ARD und MagentaTV",1,{"$f":"IF('Vorrunde 01-24'!$O10<>\"\",'Vorrunde 01-24'!$O10,\"\")","v":"Robert Krieg"},"KOR",":","KAN","BRA",":","JAP","DEU",":","SCO","HOL",":","MAR","ELF",":","SEN","FRA",":","TUN","MEX",":","ECU","ENG",":","KON","BEL",":","SAF","USA",":","BOH","SPA",":","ÖST","KOL",":","GAN","SCH",":","NOR","PAR",":","ÄGY","ARG",":","URU","POR",":","KRO",{"$f":"IF('Vorrunde 01-24'!$O10<>\"\",'Vorrunde 01-24'!$O10,\"\")","v":"Robert Krieg"},0,3,3,3,3,6,3,0,3,3,3,6,3,3,6,3,0,3,3,3,6,3,3,6,3,3,6,3,3,6,3,3,6,3,3,6,3,3,6,3,3,6,3,0,3,3,3,6,84,{"$f":"'Vorrunde 49-72'!HC10","v":97},181,null,{"$f":"IF('KO-Runde 089-104'!DO10=\"\",\"\",'KO-Runde 089-104'!DO10)","v":"IRK"},"Team 9"]
["2026-07-02T02:00:00",46205.083333333336,"2026-07-01T17:00:00",81,{"$f":"IF('Vorrunde (Tabellen)'!$BT$12=\"\",\"1. Gruppe D\",'Vorrunde (Tabellen)'!$Y$24)","v":"USA"},"-",{"$f":"IF('Vorrunde (Tabellen)'!$BT$12=\"\",\"3. Gruppe B/E/F/I/J\",VLOOKUP('Vorrunde (Tabellen)'!$K$34,'Vorrunde (Tabellen)'!$CO$2:$CW$497,4))","v":"Bosnien-Herzegowina"},2,":",0,"USA / Levi's Stadium (San Francisco Bay Area)","Sechzehntelfinale","MagentaTV exklusiv",1,{"$f":"IF('Vorrunde 01-24'!$O11<>\"\",'Vorrunde 01-24'!$O11,\"\")","v":"Lothar Jungk"},"TCH",":","SCH","BRA",":","JAP","DEU",":","USA","HOL",":","MAR","ELF",":","NOR","FRA",":","SWE","MEX",":","SCO","ENG",":","SEN","BEL",":","SAF","TÜR",":","KAN","SPA",":","ÖST","POR",":","GAN","BOH",":","ALG","PAR",":","ÄGY","ARG",":","URU","KOL",":","KRO",{"$f":"IF('Vorrunde 01-24'!$O11<>\"\",'Vorrunde 01-24'!$O11,\"\")","v":"Lothar Jungk"},0,3,3,3,3,6,3,3,6,3,3,6,3,3,6,3,3,6,3,0,3,3,3,6,3,3,6,0,3,3,3,3,6,3,3,6,3,3,6,3,3,6,3,0,3,3,3,6,84,{"$f":"'Vorrunde 49-72'!HC11","v":95},179,null,{"$f":"IF('KO-Runde 089-104'!DO11=\"\",\"\",'KO-Runde 089-104'!DO11)","v":"JOR"},"Team 10"]
["2026-07-02T21:00:00",46205.875,"2026-07-02T12:00:00",84,{"$f":"IF('Vorrunde (Tabellen)'!$BT$12=\"\",\"1. Gruppe H\",'Vorrunde (Tabellen)'!$BB$24)","v":"Spanien"},"-",{"$f":"IF('Vorrunde (Tabellen)'!$BT$12=\"\",\"2. Gruppe J\",'Vorrunde (Tabellen)'!$CE$11)","v":"Österreich"},3,":",0,"USA / SoFi Stadium (Los Angeles)","Sechzehntelfinale","ARD und MagentaTV",1,{"$f":"IF('Vorrunde 01-24'!$O12<>\"\",'Vorrunde 01-24'!$O12,\"\")","v":"Jakob Well"},"KOR",":","KAN","BRA",":","JAP","DEU",":","SCO","HOL",":","MAR","ELF",":","NOR","FRA",":","AUS","MEX",":","KVD","ENG",":","SEN","BEL",":","TCH","TÜR",":","ECU","SPA",":","ÖST","KOL",":","KRO","SCH",":","ALG","USA",":","ÄGY","ARG",":","URU","POR",":","GAN",{"$f":"IF('Vorrunde 01-24'!$O12<>\"\",'Vorrunde 01-24'!$O12,\"\")","v":"Jakob Well"},0,3,3,3,3,6,3,0,3,3,3,6,3,3,6,3,3,6,3,3,6,3,3,6,3,0,3,0,3,3,3,3,6,3,3,6,3,3,6,3,3,6,3,0,3,3,3,6,81,{"$f":"'Vorrunde 49-72'!HC12","v":96},177,null,{"$f":"IF('KO-Runde 089-104'!DO12=\"\",\"\",'KO-Runde 089-104'!DO12)","v":"USB"},"Team 11"]
["2026-07-03T01:00:00",46206.041666666664,"2026-07-02T19:00:00",83,{"$f":"IF('Vorrunde (Tabellen)'!$BT$12=\"\",\"2. Gruppe K\",'Vorrunde (Tabellen)'!$CE$18)","v":"Portugal"},"-",{"$f":"IF('Vorrunde (Tabellen)'!$BT$12=\"\",\"2. Gruppe L\",'Vorrunde (Tabellen)'!$CE$25)","v":"Kroatien"},2,":",1,"Kanada / BMO Field (Toronto)","Sechzehntelfinale","MagentaTV exklusiv",1,{"$f":"IF('Vorrunde 01-24'!$O13<>\"\",'Vorrunde 01-24'!$O13,\"\")","v":"Marco Frank"},"KOR",":","BOH","BRA",":","JAP","DEU",":","SCO","HOL",":","MAR","ELF",":","SEN","FRA",":","PAR","MEX",":","ECU","ENG",":","ALG","BEL",":","TCH","TÜR",":","KAN","SPA",":","ÖST","KOL",":","KRO","SCH",":","IRN","USA",":","ÄGY","ARG",":","URU","POR",":","NOR",{"$f":"IF('Vorrunde 01-24'!$O13<>\"\",'Vorrunde 01-24'!$O13,\"\")","v":"Marco Frank"},0,3,3,3,3,6,3,0,3,3,3,6,3,3,6,3,3,6,3,3,6,3,3,6,3,0,3,0,3,3,3,3,6,3,3,6,3,0,3,3,3,6,3,0,3,3,3,6,78,{"$f":"'Vorrunde 49-72'!HC13","v":101},179,null,{"$f":"IF('KO-Runde 089-104'!DO13=\"\",\"\",'KO-Runde 089-104'!DO13)","v":"PAN"},"Team 12"]
["2026-07-03T05:00:00",46206.208333333336,"2026-07-02T20:00:00",85,{"$f":"IF('Vorrunde (Tabellen)'!$BT$12=\"\",\"1. Gruppe B\",'Vorrunde (Tabellen)'!$Y$10)","v":"Schweiz"},"-",{"$f":"IF('Vorrunde (Tabellen)'!$BT$12=\"\",\"3. Gruppe E/F/G/I/J\",VLOOKUP('Vorrunde (Tabellen)'!$K$34,'Vorrunde (Tabellen)'!$CO$2:$CW$497,3))","v":"Algerien"},2,":",0,"Kanada / BC Place Stadium (Vancouver)","Sechzehntelfinale","ZDF und MagentaTV",1,{"$f":"IF('Vorrunde 01-24'!$O14<>\"\",'Vorrunde 01-24'!$O14,\"\")","v":"Simon Schott"},"TCH",":","KAN","BRA",":","JAP","DEU",":","MAR","HOL",":","SCO","ECU",":","SEN","FRA",":","SWE","MEX",":","SAR","ENG",":","NOR","BEL",":","SAF","TÜR",":","BOH","SPA",":","ÖST","POR",":","KRO","SCH",":","IRN","USA",":","ÄGY","ARG",":","URU","KOL",":","AUS",{"$f":"IF('Vorrunde 01-24'!$O14<>\"\",'Vorrunde 01-24'!$O14,\"\")","v":"Simon Schott"},0,3,3,3,3,6,3,3,6,3,0,3,3,3,6,3,3,6,3,0,3,3,3,6,3,3,6,0,3,3,3,3,6,3,3,6,3,0,3,3,3,6,3,0,3,3,3,6,78,{"$f":"'Vorrunde 49-72'!HC14","v":90},168,null,{"$f":"IF('KO-Runde 089-104'!DO14=\"\",\"\",'KO-Runde 089-104'!DO14)","v":"KOR"},"Team 13"]
["2026-07-03T20:00:00",46206.833333333336,"2026-07-03T13:00:00",88,{"$f":"IF('Vorrunde (Tabellen)'!$BT$12=\"\",\"2. Gruppe D\",'Vorrunde (Tabellen)'!$Y$25)","v":"Australien"},"-",{"$f":"IF('Vorrunde (Tabellen)'!$BT$12=\"\",\"2. Gruppe G\",'Vorrunde (Tabellen)'!$BB$18)","v":"Ägypten"},3,":",5,"USA / AT&T Stadium (Dallas)","Sechzehntelfinale","ZDF und MagentaTV",1,{"$f":"IF('Vorrunde 01-24'!$O15<>\"\",'Vorrunde 01-24'!$O15,\"\")","v":"Lennart Rechmann"},"TCH",":","BOH","BRA",":","HOL","DEU",":","SCO","SWE",":","MAR","ELF",":","NOR","FRA",":","JAP","MEX",":","ECU","ENG",":","ÖST","BEL",":","SAF","USA",":","KAN","SPA",":","ALG","POR",":","KRO","SCH",":","NEU","TÜR",":","ÄGY","ARG",":","URU","KOL",":","GAN",{"$f":"IF('Vorrunde 01-24'!$O15<>\"\",'Vorrunde 01-24'!$O15,\"\")","v":"Lennart Rechmann"},0,3,3,3,3,6,3,0,3,3,3,6,3,3,6,3,3,6,3,3,6,3,3,6,3,3,6,3,3,6,3,3,6,3,3,6,3,0,3,0,3,3,3,0,3,3,3,6,81,{"$f":"'Vorrunde 49-72'!HC15","v":88},169,null,{"$f":"IF('KO-Runde 089-104'!DO15=\"\",\"\",'KO-Runde 089-104'!DO15)","v":"SCO"},"Team 14"]
["2026-07-04",46207,"2026-07-03T18:00:00",86,{"$f":"IF('Vorrunde (Tabellen)'!$BT$12=\"\",\"1. Gruppe J\",'Vorrunde (Tabellen)'!$CE$10)","v":"Argentinien"},"-",{"$f":"IF('Vorrunde (Tabellen)'!$BT$12=\"\",\"2. Gruppe H\",'Vorrunde (Tabellen)'!$BB$25)","v":"Kap Verde"},3,":",2,"USA / Hard Rock Stadium (Miami)","Sechzehntelfinale","MagentaTV exklusiv",1,{"$f":"IF('Vorrunde 01-24'!$O16<>\"\",'Vorrunde 01-24'!$O16,\"\")","v":"Albrecht Well"},"KOR",":","KAN","BRA",":","JAP","DEU",":","SCO","HOL",":","MAR","ELF",":","SEN","FRA",":","PAR","MEX",":","URU","ENG",":","ALG","BEL",":","SAF","USA",":","KAT","SPA",":","ARG","KOL",":","KRO","SCH",":","NEU","TÜR",":","IRN","ÖST",":","KVD","POR",":","GAN",{"$f":"IF('Vorrunde 01-24'!$O16<>\"\",'Vorrunde 01-24'!$O16,\"\")","v":"Albrecht Well"},0,3,3,3,3,6,3,0,3,3,3,6,3,3,6,3,3,6,3,0,3,3,3,6,3,3,6,3,0,3,3,3,6,3,3,6,3,0,3,0,0,0,3,3,6,3,3,6,75,{"$f":"'Vorrunde 49-72'!HC16","v":84},159,null,{"$f":"IF('KO-Runde 089-104'!DO16=\"\",\"\",'KO-Runde 089-104'!DO16)","v":"IRN"},"Team 15"]
["2026-07-04T03:30:00",46207.145833333336,"2026-07-03T20:30:00",87,{"$f":"IF('Vorrunde (Tabellen)'!$BT$12=\"\",\"1. Gruppe K\",'Vorrunde (Tabellen)'!$CE$17)","v":"Kolumbien"},"-",{"$f":"IF('Vorrunde (Tabellen)'!$BT$12=\"\",\"3. Gruppe D/E/I/J/L\",VLOOKUP('Vorrunde (Tabellen)'!$K$34,'Vorrunde (Tabellen)'!$CO$2:$CW$497,8))","v":"Ghana"},1,":",0,"USA / Arrowhead Stadium (Kansas City)","Sechzehntelfinale","ZDF und MagentaTV",1,{"$f":"IF('Vorrunde 01-24'!$O17<>\"\",'Vorrunde 01-24'!$O17,\"\")","v":"Christoph Hoffmann "},"TCH",":","KAN","BRA",":","TUN","DEU",":","PAR","JAP",":","MAR","ELF",":","NOR","FRA",":","HOL","MEX",":","SCO","ENG",":","KON","BEL",":","KOR","TÜR",":","BOH","SPA",":","ÖST","KOL",":","KRO","SCH",":","ECU","USA",":","ÄGY","ARG",":","URU","POR",":","PAN",{"$f":"IF('Vorrunde 01-24'!$O17<>\"\",'Vorrunde 01-24'!$O17,\"\")","v":"Christoph Hoffmann "},0,3,3,3,0,3,3,3,6,3,3,6,3,3,6,3,3,6,3,0,3,3,3,6,3,0,3,0,3,3,3,3,6,3,3,6,3,3,6,3,3,6,3,0,3,3,0,3,75,{"$f":"'Vorrunde 49-72'!HC17","v":91},166,null,{"$f":"IF('KO-Runde 089-104'!DO17=\"\",\"\",'KO-Runde 089-104'!DO17)","v":"URU"},"Team 16"]
[null,null,null,null,null,null,null,null,null,null,null,null,null,{"$f":"SUM(N2:N17)","v":16},{"$f":"IF('Vorrunde 01-24'!$O18<>\"\",'Vorrunde 01-24'!$O18,\"\")","v":"Helen Rechmann"},"KOR",":","BOH","MAR",":","JAP","DEU",":","PAR","HOL",":","BRA","ELF",":","NOR","FRA",":","SWE","MEX",":","ECU","ENG",":","KON","BEL",":","SEN","TÜR",":","KAN","SPA",":","ARG","POR",":","KRO","SCH",":","ÄGY","USA",":","IRN","ÖST",":","URU","KOL",":","GAN",{"$f":"IF('Vorrunde 01-24'!$O18<>\"\",'Vorrunde 01-24'!$O18,\"\")","v":"Helen Rechmann"},0,3,3,3,3,6,3,3,6,3,3,6,3,3,6,3,3,6,3,3,6,3,3,6,3,3,6,0,3,3,3,3,6,3,3,6,3,3,6,3,0,3,3,0,3,3,3,6,84,{"$f":"'Vorrunde 49-72'!HC18","v":100},184,null,{"$f":"IF('KO-Runde 089-104'!DO18=\"\",\"\",'KO-Runde 089-104'!DO18)","v":"SAF"},"Team 17"]
[null,null,null,null,null,null,null,null,null,null,null,null,null,null,{"$f":"IF('Vorrunde 01-24'!$O19<>\"\",'Vorrunde 01-24'!$O19,\"\")","v":"Ingrid Well"},"TCH",":","SCH","BRA",":","SWE","DEU",":","TÜR","HOL",":","MAR","ELF",":","NOR","FRA",":","JAP","MEX",":","SCO","ENG",":","SEN","BEL",":","KOR","USA",":","ALG","SPA",":","ÖST","KOL",":","KRO","KAN",":","ÄGY","PAR",":","IRN","ARG",":","URU","POR",":","ECU",{"$f":"IF('Vorrunde 01-24'!$O19<>\"\",'Vorrunde 01-24'!$O19,\"\")","v":"Ingrid Well"},0,3,3,3,3,6,3,0,3,3,3,6,3,3,6,3,3,6,3,0,3,3,3,6,3,0,3,3,3,6,3,3,6,3,3,6,3,3,6,3,0,3,3,0,3,3,3,6,78,{"$f":"'Vorrunde 49-72'!HC19","v":92},170,null,{"$f":"IF('KO-Runde 089-104'!DO19=\"\",\"\",'KO-Runde 089-104'!DO19)","v":"JAP"},"Team 18"]
[null,null,null,null,null,null,null,null,null,null,null,null,null,null,{"$f":"IF('Vorrunde 01-24'!$O20<>\"\",'Vorrunde 01-24'!$O20,\"\")","v":"Joachim Well"},"TCH",":","KAN","BRA",":","SWE","DEU",":","SCO","HOL",":","MAR","ELF",":","NOR","FRA",":","JAP","MEX",":","ECU","ENG",":","ALG","BEL",":","KOR","USA",":","BOH","SPA",":","ÖST","KOL",":","KRO","SCH",":","ÄGY","TÜR",":","IRN","ARG",":","URU","POR",":","SEN",{"$f":"IF('Vorrunde 01-24'!$O20<>\"\",'Vorrunde 01-24'!$O20,\"\")","v":"Joachim Well"},0,3,3,3,3,6,3,0,3,3,3,6,3,3,6,3,3,6,3,3,6,3,3,6,3,0,3,3,3,6,3,3,6,3,3,6,3,3,6,0,0,0,3,0,3,3,3,6,78,{"$f":"'Vorrunde 49-72'!HC20","v":103},181,null,{"$f":"IF('KO-Runde 089-104'!DO20=\"\",\"\",'KO-Runde 089-104'!DO20)","v":"DEU"},"Team 19"]
[null,null,null,null,null,null,null,null,null,null,null,null,null,null,{"$f":"IF('Vorrunde 01-24'!$O21<>\"\",'Vorrunde 01-24'!$O21,\"\")","v":"Lea Müller"},"KOR",":","KAN","BRA",":","JAP","DEU",":","USA","HOL",":","SCO","ELF",":","IRK","FRA",":","TUN","MEX",":","MAR","ENG",":","USB","NEU",":","TCH","TÜR",":","CUR","SPA",":","ÖST","KOL",":","KRO","SCH",":","IRN","AUS",":","BEL","ARG",":","URU","POR",":","NOR",{"$f":"IF('Vorrunde 01-24'!$O21<>\"\",'Vorrunde 01-24'!$O21,\"\")","v":"Lea Müller"},0,3,3,3,3,6,3,3,6,3,0,3,3,0,3,3,0,3,3,3,6,3,0,3,0,0,0,0,0,0,3,3,6,3,3,6,3,0,3,3,3,6,3,0,3,3,3,6,63,{"$f":"'Vorrunde 49-72'!HC21","v":79},142,null,{"$f":"IF('KO-Runde 089-104'!DO21=\"\",\"\",'KO-Runde 089-104'!DO21)","v":"HOL"},"Team 20"]
[null,null,null,null,null,null,null,null,null,null,null,null,null,null,{"$f":"IF('Vorrunde 01-24'!$O22<>\"\",'Vorrunde 01-24'!$O22,\"\")","v":"Sebastian Hausmann"},"KOR",":","BOH","BRA",":","SWE","DEU",":","SCO","JAP",":","MAR","ECU",":","NOR","FRA",":","HOL","MEX",":","ELF","ENG",":","ALG","ÄGY",":","TCH","TÜR",":","KAN","SPA",":","ÖST","KOL",":","KRO","SCH",":","IRN","USA",":","BEL","ARG",":","URU","POR",":","GAN",{"$f":"IF('Vorrunde 01-24'!$O22<>\"\",'Vorrunde 01-24'!$O22,\"\")","v":"Sebastian Hausmann"},0,3,3,3,3,6,3,0,3,3,3,6,3,3,6,3,3,6,3,3,6,3,3,6,3,0,3,0,3,3,3,3,6,3,3,6,3,0,3,3,3,6,3,0,3,3,3,6,78,{"$f":"'Vorrunde 49-72'!HC22","v":107},185,null,{"$f":"IF('KO-Runde 089-104'!DO22=\"\",\"\",'KO-Runde 089-104'!DO22)","v":"ELF"},"Team 21"]
[null,null,null,null,null,null,null,null,null,null,null,null,null,null,{"$f":"IF('Vorrunde 01-24'!$O23<>\"\",'Vorrunde 01-24'!$O23,\"\")","v":"Stefan Rechmann"},"SAF",":","BOH","BRA",":","SWE","DEU",":","SCO","HOL",":","MAR","ECU",":","NOR","FRA",":","PAR","MEX",":","ELF","ENG",":","SEN","BEL",":","KOR","TÜR",":","KAN","SPA",":","ARG","KOL",":","KRO","SCH",":","ALG","USA",":","ÄGY","ÖST",":","URU","POR",":","GAN",{"$f":"IF('Vorrunde 01-24'!$O23<>\"\",'Vorrunde 01-24'!$O23,\"\")","v":"Stefan Rechmann"},3,3,6,3,3,6,3,0,3,3,3,6,3,3,6,3,3,6,3,3,6,3,3,6,3,0,3,0,3,3,3,3,6,3,3,6,3,3,6,3,3,6,3,0,3,3,3,6,84,{"$f":"'Vorrunde 49-72'!HC23","v":102},186,null,{"$f":"IF('KO-Runde 089-104'!DO23=\"\",\"\",'KO-Runde 089-104'!DO23)","v":"SWE"},"Team 22"]
[null,null,null,null,null,null,null,null,null,null,null,null,null,null,{"$f":"IF('Vorrunde 01-24'!$O24<>\"\",'Vorrunde 01-24'!$O24,\"\")","v":"Uwe Diegel"},"KOR",":","KAN","BRA",":","JAP","DEU",":","SCO","HOL",":","MAR","ECU",":","SEN","FRA",":","PAR","MEX",":","ELF","ENG",":","ALG","BEL",":","TCH","USA",":","BOH","SPA",":","ÖST","KOL",":","KRO","SCH",":","IRN","TÜR",":","ÄGY","ARG",":","URU","POR",":","NOR",{"$f":"IF('Vorrunde 01-24'!$O24<>\"\",'Vorrunde 01-24'!$O24,\"\")","v":"Uwe Diegel"},0,3,3,3,3,6,3,0,3,3,3,6,3,3,6,3,3,6,3,3,6,3,3,6,3,0,3,3,3,6,3,3,6,3,3,6,3,0,3,0,3,3,3,0,3,3,3,6,78,{"$f":"'Vorrunde 49-72'!HC24","v":101},179,null,{"$f":"IF('KO-Runde 089-104'!DO24=\"\",\"\",'KO-Runde 089-104'!DO24)","v":"ECU"},"Team 23"]
[null,null,null,null,null,null,null,null,null,null,null,null,null,null,{"$f":"IF('Vorrunde 01-24'!$O25<>\"\",'Vorrunde 01-24'!$O25,\"\")","v":"Stephan Seipp"},"MEX",":","KAN","BRA",":","HOL","DEU",":","MAR","JAP",":","SCO","ELF",":","SEN","FRA",":","TÜR","TCH",":","SAR","ENG",":","NOR","BEL",":","KOR","USA",":","BOH","SPA",":","ÖST","KOL",":","KRO","SCH",":","SWE","PAR",":","ÄGY","ARG",":","URU","POR",":","GAN",{"$f":"IF('Vorrunde 01-24'!$O25<>\"\",'Vorrunde 01-24'!$O25,\"\")","v":"Stephan Seipp"},3,3,6,3,3,6,3,3,6,3,0,3,3,3,6,3,0,3,0,0,0,3,3,6,3,0,3,3,3,6,3,3,6,3,3,6,3,3,6,3,3,6,3,0,3,3,3,6,78,{"$f":"'Vorrunde 49-72'!HC25","v":95},173,null,{"$f":"IF('KO-Runde 089-104'!DO25=\"\",\"\",'KO-Runde 089-104'!DO25)","v":"KON"},"Team 24"]
[null,null,null,null,null,null,null,null,null,null,null,null,null,null,{"$f":"IF('Vorrunde 01-24'!$O26<>\"\",'Vorrunde 01-24'!$O26,\"\")","v":"Andreas Dechert"},"MEX",":","BOH","BRA",":","SWE","DEU",":","USA","HOL",":","SCO","ELF",":","NOR","FRA",":","JAP","TCH",":","MAR","ENG",":","USB","BEL",":","KOR","TÜR",":","ECU","SPA",":","ÖST","KOL",":","KRO","SCH",":","IRN","PAR",":","ÄGY","ARG",":","URU","POR",":","SEN",{"$f":"IF('Vorrunde 01-24'!$O26<>\"\",'Vorrunde 01-24'!$O26,\"\")","v":"Andreas Dechert"},3,3,6,3,3,6,3,3,6,3,0,3,3,3,6,3,3,6,0,3,3,3,0,3,3,0,3,0,3,3,3,3,6,3,3,6,3,0,3,3,3,6,3,0,3,3,3,6,75,{"$f":"'Vorrunde 49-72'!HC26","v":75},150,null,{"$f":"IF('KO-Runde 089-104'!DO26=\"\",\"\",'KO-Runde 089-104'!DO26)","v":"SEN"},"Team 25"]
[null,null,null,null,null,null,null,null,null,null,null,null,null,null,"Ergebnis",{"$f":"IF($P$28=$P$2,\"TEAM\",VLOOKUP($P$28,'Vorrunde (Tabellen)'!$B$52:$G$115,6,FALSE))","v":"SAF"},"-",{"$f":"IF($R$28=$R$2,\"TEAM\",VLOOKUP($R$28,'Vorrunde (Tabellen)'!$B$52:$G$115,6,FALSE))","v":"KAN"},{"$f":"IF($S$28=$S$2,\"TEAM\",VLOOKUP($S$28,'Vorrunde (Tabellen)'!$B$52:$G$115,6,FALSE))","v":"BRA"},"-",{"$f":"IF($U$28=$U$2,\"TEAM\",VLOOKUP($U$28,'Vorrunde (Tabellen)'!$B$52:$G$115,6,FALSE))","v":"JAP"},{"$f":"IF($V$28=$V$2,\"TEAM\",VLOOKUP($V$28,'Vorrunde (Tabellen)'!$B$52:$G$115,6,FALSE))","v":"DEU"},"-",{"$f":"IF($X$28=$X$2,\"TEAM\",VLOOKUP($X$28,'Vorrunde (Tabellen)'!$B$52:$G$115,6,FALSE))","v":"PAR"},{"$f":"IF($Y$28=$Y$2,\"TEAM\",VLOOKUP($Y$28,'Vorrunde (Tabellen)'!$B$52:$G$115,6,FALSE))","v":"HOL"},"-",{"$f":"IF($AA$28=$AA$2,\"TEAM\",VLOOKUP($AA$28,'Vorrunde (Tabellen)'!$B$52:$G$115,6,FALSE))","v":"MAR"},{"$f":"IF($AB$28=$AB$2,\"TEAM\",VLOOKUP($AB$28,'Vorrunde (Tabellen)'!$B$52:$G$115,6,FALSE))","v":"ELF"},"-",{"$f":"IF($AD$28=$AD$2,\"TEAM\",VLOOKUP($AD$28,'Vorrunde (Tabellen)'!$B$52:$G$115,6,FALSE))","v":"NOR"},{"$f":"IF($AE$28=$AE$2,\"TEAM\",VLOOKUP($AE$28,'Vorrunde (Tabellen)'!$B$52:$G$115,6,FALSE))","v":"FRA"},"-",{"$f":"IF($AG$28=$AG$2,\"TEAM\",VLOOKUP($AG$28,'Vorrunde (Tabellen)'!$B$52:$G$115,6,FALSE))","v":"SWE"},{"$f":"IF($AH$28=$AH$2,\"TEAM\",VLOOKUP($AH$28,'Vorrunde (Tabellen)'!$B$52:$G$115,6,FALSE))","v":"MEX"},"-",{"$f":"IF($AJ$28=$AJ$2,\"TEAM\",VLOOKUP($AJ$28,'Vorrunde (Tabellen)'!$B$52:$G$115,6,FALSE))","v":"ECU"},{"$f":"IF($AK$28=$AK$2,\"TEAM\",VLOOKUP($AK$28,'Vorrunde (Tabellen)'!$B$52:$G$115,6,FALSE))","v":"ENG"},"-",{"$f":"IF($AM$28=$AM$2,\"TEAM\",VLOOKUP($AM$28,'Vorrunde (Tabellen)'!$B$52:$G$115,6,FALSE))","v":"KON"},{"$f":"IF($AN$28=$AN$2,\"TEAM\",VLOOKUP($AN$28,'Vorrunde (Tabellen)'!$B$52:$G$115,6,FALSE))","v":"BEL"},"-",{"$f":"IF($AP$28=$AP$2,\"TEAM\",VLOOKUP($AP$28,'Vorrunde (Tabellen)'!$B$52:$G$115,6,FALSE))","v":"SEN"},{"$f":"IF($AQ$28=$AQ$2,\"TEAM\",VLOOKUP($AQ$28,'Vorrunde (Tabellen)'!$B$52:$G$115,6,FALSE))","v":"USA"},"-",{"$f":"IF($AS$28=$AS$2,\"TEAM\",VLOOKUP($AS$28,'Vorrunde (Tabellen)'!$B$52:$G$115,6,FALSE))","v":"BOH"},{"$f":"IF($AT$28=$AT$2,\"TEAM\",VLOOKUP($AT$28,'Vorrunde (Tabellen)'!$B$52:$G$115,6,FALSE))","v":"SPA"},"-",{"$f":"IF($AV$28=$AV$2,\"TEAM\",VLOOKUP($AV$28,'Vorrunde (Tabellen)'!$B$52:$G$115,6,FALSE))","v":"ÖST"},{"$f":"IF($AW$28=$AW$2,\"TEAM\",VLOOKUP($AW$28,'Vorrunde (Tabellen)'!$B$52:$G$115,6,FALSE))","v":"POR"},"-",{"$f":"IF($AY$28=$AY$2,\"TEAM\",VLOOKUP($AY$28,'Vorrunde (Tabellen)'!$B$52:$G$115,6,FALSE))","v":"KRO"},{"$f":"IF($AZ$28=$AZ$2,\"TEAM\",VLOOKUP($AZ$28,'Vorrunde (Tabellen)'!$B$52:$G$115,6,FALSE))","v":"SCH"},"-",{"$f":"IF($BB$28=$BB$2,\"TEAM\",VLOOKUP($BB$28,'Vorrunde (Tabellen)'!$B$52:$G$115,6,FALSE))","v":"ALG"},{"$f":"IF($BC$28=$BC$2,\"TEAM\",VLOOKUP($BC$28,'Vorrunde (Tabellen)'!$B$52:$G$115,6,FALSE))","v":"AUS"},"-",{"$f":"IF($BE$28=$BE$2,\"TEAM\",VLOOKUP($BE$28,'Vorrunde (Tabellen)'!$B$52:$G$115,6,FALSE))","v":"ÄGY"},{"$f":"IF($BF$28=$BF$2,\"TEAM\",VLOOKUP($BF$28,'Vorrunde (Tabellen)'!$B$52:$G$115,6,FALSE))","v":"ARG"},"-",{"$f":"IF($BH$28=$BH$2,\"TEAM\",VLOOKUP($BH$28,'Vorrunde (Tabellen)'!$B$52:$G$115,6,FALSE))","v":"KVD"},{"$f":"IF($BI$28=$BI$2,\"TEAM\",VLOOKUP($BI$28,'Vorrunde (Tabellen)'!$B$52:$G$115,6,FALSE))","v":"KOL"},"-",{"$f":"IF($BK$28=$BK$2,\"TEAM\",VLOOKUP($BK$28,'Vorrunde (Tabellen)'!$B$52:$G$115,6,FALSE))","v":"GAN"},"ENDRUNDE",{"$f":"$P$1","v":73},null,null,{"$f":"$S$1","v":76},null,null,{"$f":"$V$1","v":74},null,null,{"$f":"$Y$1","v":75},null,null,{"$f":"$AB$1","v":78},null,null,{"$f":"$AE$1","v":77},null,null,{"$f":"$AH$1","v":79},null,null,{"$f":"$AK$1","v":80},null,null,{"$f":"$AN$1","v":82},null,null,{"$f":"$AQ$1","v":81},null,null,{"$f":"$AT$1","v":84},null,null,{"$f":"$AW$1","v":83},null,null,{"$f":"$AZ$1","v":85},null,null,{"$f":"$BC$1","v":88},null,null,{"$f":"$BF$1","v":86},null,null,{"$f":"$BI$1","v":87},null,null,"Stand vom :"]
[null,null,null,null,null,null,null,null,null,null,null,null,null,null,"ENDRUNDE",{"$f":"$E$2","v":"Südafrika"},{"$f":"$K$2","v":"USA / SoFi Stadium (Los Angeles)"},{"$f":"$G$2","v":"Kanada"},{"$f":"$E$3","v":"Brasilien"},{"$f":"$K$3","v":"USA / NRG Stadium (Houston)"},{"$f":"$G$3","v":"Japan"},{"$f":"$E$4","v":"Deutschland"},{"$f":"$K$4","v":"USA / Gillette Stadium (Boston)"},{"$f":"$G$4","v":"Paraguay"},{"$f":"$E$5","v":"Niederlande"},{"$f":"$K$5","v":"Mexiko / Estadio BBVA (Monterrey)"},{"$f":"$G$5","v":"Marokko"},{"$f":"$E$6","v":"Elfenbeinküste"},{"$f":"$K$6","v":"USA / AT&T Stadium (Dallas)"},{"$f":"$G$6","v":"Norwegen"},{"$f":"$E$7","v":"Frankreich"},{"$f":"$K$7","v":"USA / MetLife Stadium (New York/New Jersey)"},{"$f":"$G$7","v":"Schweden"},{"$f":"$E$8","v":"Mexiko"},{"$f":"$K$8","v":"Mexiko / Azteca (Mexico City)"},{"$f":"$G$8","v":"Ecuador"},{"$f":"$E$9","v":"England"},{"$f":"$K$9","v":"USA / Mercedes-Benz Stadium (Atlanta)"},{"$f":"$G$9","v":"DR Kongo"},{"$f":"$E$10","v":"Belgien"},{"$f":"$K$10","v":"USA / Lumen Field (Seattle)"},{"$f":"$G$10","v":"Senegal"},{"$f":"$E$11","v":"USA"},{"$f":"$K$11","v":"USA / Levi's Stadium (San Francisco Bay Area)"},{"$f":"$G$11","v":"Bosnien-Herzegowina"},{"$f":"$E$12","v":"Spanien"},{"$f":"$K$12","v":"USA / SoFi Stadium (Los Angeles)"},{"$f":"$G$12","v":"Österreich"},{"$f":"$E$13","v":"Portugal"},{"$f":"$K$13","v":"Kanada / BMO Field (Toronto)"},{"$f":"$G$13","v":"Kroatien"},{"$f":"$E$14","v":"Schweiz"},{"$f":"$K$14","v":"Kanada / BC Place Stadium (Vancouver)"},{"$f":"$G$14","v":"Algerien"},{"$f":"$E$15","v":"Australien"},{"$f":"$K$15","v":"USA / AT&T Stadium (Dallas)"},{"$f":"$G$15","v":"Ägypten"},{"$f":"$E$16","v":"Argentinien"},{"$f":"$K$16","v":"USA / Hard Rock Stadium (Miami)"},{"$f":"$G$16","v":"Kap Verde"},{"$f":"$E$17","v":"Kolumbien"},{"$f":"$K$17","v":"USA / Arrowhead Stadium (Kansas City)"},{"$f":"$G$17","v":"Ghana"},null,null,null,null,null,null,null,null,null,null,null,null,null,null,null,null,null,null,null,null,null,null,null,null,null,null,null,null,null,null,null,null,null,null,null,null,null,null,null,null,null,null,null,null,null,null,null,null,null,{"$f":"TODAY()","v":"2026-07-20"}]

{"sheet":"KO-Runde 089-104","index":5,"n_rows":47,"n_cols":121,"rows_kept":47,"cut":false,"hidden":false,"merged":[[0,4,0,6],[0,7,0,9],[0,14,5,14],[0,15,0,17],[0,18,0,20],[0,36,0,38],[0,39,0,41],[0,42,0,44],[0,45,0,47],[1,30,5,30],[1,31,5,31],[1,32,5,32],[1,33,5,33],[1,34,5,34],[1,35,5,35],[1,36,5,36],[1,37,5,37],[1,38,5,38],[1,39,5,39],[1,24,5,24],[1,25,5,25],[1,26,5,26],[1,27,5,27],[1,28,5,28],[1,59,5,59],[1,60,5,60],[1,61,5,61],[1,62,5,62],[0,48,0,50],[0,21,0,23],[0,24,0,26],[0,27,0,29],[0,30,0,32],[0,33,0,35],[0,51,0,53],[0,54,0,56],[0,57,0,59],[1,29,5,29],[0,95,5,97],[0,98,5,100],[0,101,5,103],[1,40,5,40],[1,41,5,41],[1,42,5,42],[1,43,5,43],[1,44,5,44],[0,80,5,82],[0,83,5,85],[0,86,5,88],[0,89,5,91],[0,92,5,94],[0,65,5,67],[0,68,5,70],[0,71,5,73],[0,74,5,76],[0,77,5,79],[0,60,0,62],[0,64,5,64],[1,55,5,55],[1,56,5,56],[1,57,5,57],[1,58,5,58],[1,15,5,15],[1,16,5,16],[1,17,5,17],[1,18,5,18],[1,19,5,19],[1,20,5,20],[1,21,5,21],[1,22,5,22],[1,23,5,23],[26,98,27,100],[1,50,5,50],[1,51,5,51],[1,52,5,52],[1,53,5,53],[1,54,5,54],[1,45,5,45],[1,46,5,46],[1,47,5,47],[1,48,5,48],[1,49,5,49],[0,63,5,63],[26,64,27,64],[26,65,27,67],[26,68,27,70],[26,71,27,73],[26,74,27,76],[26,77,27,79],[26,80,27,82],[26,83,27,85],[26,86,27,88],[26,89,27,91],[26,92,27,94],[26,95,27,97],[0,113,5,113],[26,113,27,113],[26,101,27,103],[26,104,27,106],[26,107,27,109],[26,110,27,112],[26,114,26,116],[27,114,27,116],[1,114,5,114],[1,115,5,115],[1,116,5,116],[0,110,5,112],[0,104,5,106],[0,107,5,109]]}
["Spiele 89-104   (chronologisch)","Anstoßzeit","Ortszeit","Spiel-Nr.","Spielpaarungen / Gruppen",null,null,"Ergebnis",null,null,"Austragungsort / Stadion","K.O.-Runde","Live-TV Übertragungsrechte"," - ","NAME",{"$f":"$D$2","v":90},null,null,{"$f":"$D$3","v":89},null,null,{"$f":"$D$4","v":91},null,null,{"$f":"$D$5","v":92},null,null,{"$f":"$D$6","v":93},null,null,{"$f":"$D$7","v":94},null,null,{"$f":"$D$8","v":95},null,null,{"$f":"$D$9","v":96},null,null,{"$f":"$D$10","v":97},null,null,{"$f":"$D$11","v":98},null,null,{"$f":"$D$12","v":99},null,null,{"$f":"$D$13","v":100},null,null,{"$f":"$D$14","v":101},null,null,{"$f":"$D$15","v":102},null,null,{"$f":"$D$16","v":103},null,null,{"$f":"$D$17","v":104},null,null,"Fußball-Weltmeister  2026","NAME",{"$f":"$P$1","v":90},null,null,{"$f":"$S$1","v":89},null,null,{"$f":"$V$1","v":91},null,null,{"$f":"$Y$1","v":92},null,null,{"$f":"$AB$1","v":93},null,null,{"$f":"$AE$1","v":94},null,null,{"$f":"$AH$1","v":95},null,null,{"$f":"$AK$1","v":96},null,null,{"$f":"$AN$1","v":97},null,null,{"$f":"$AQ$1","v":98},null,null,{"$f":"$AT$1","v":99},null,null,{"$f":"$AW$1","v":100},null,null,{"$f":"$AZ$1","v":101},null,null,{"$f":"$BC$1","v":102},null,null,{"$f":"$BF$1","v":103},null,null,{"$f":"$BI$1","v":104},null,null,{"$f":"BL1","v":"Fußball-Weltmeister  2026"},"PUNKTE","PUNKTE","PUNKTE",null,"Ausgeschiedene Mannschaften",{"$f":"TODAY()","v":"2026-07-20"},"Absolvierte SPIELE"]
["2026-07-04T19:00:00",46207.791666666664,"2026-07-04T12:00:00",90,{"$f":"IF('KO-Runde 073-088'!$H$2>'KO-Runde 073-088'!$J$2,'KO-Runde 073-088'!$E$2,IF('KO-Runde 073-088'!$J$2>'KO-Runde 073-088'!$H$2,'KO-Runde 073-088'!$G$2,\"Sieger Spiel 73\"))","v":"Kanada"},"-",{"$f":"IF('KO-Runde 073-088'!$H$5>'KO-Runde 073-088'!$J$5,'KO-Runde 073-088'!$E$5,IF('KO-Runde 073-088'!$J$5>'KO-Runde 073-088'!$H$5,'KO-Runde 073-088'!$G$5,\"Sieger Spiel 75\"))","v":"Marokko"},0,":",3,"USA / NRG Stadium (Houston)","Achtelfinale","ZDF und MagentaTV",{"$f":"IF($J2<>\"\",1,0)","v":1},null,"Sieger Spiel 73",{"$f":"$B$2","v":"2026-07-04T19:00:00"},"Sieger Spiel 75","Sieger Spiel 74",{"$f":"$B$3","v":"2026-07-04T23:00:00"},"Sieger Spiel 77","Sieger Spiel 76",{"$f":"$B$4","v":"2026-07-05T22:00:00"},"Sieger Spiel 78","Sieger Spiel 79",{"$f":"$B$5","v":"2026-07-06T02:00:00"},"Sieger Spiel 80","Sieger Spiel 83",{"$f":"$B$6","v":"2026-07-06T21:00:00"},"Sieger Spiel 84","Sieger Spiel 81",{"$f":"$B$7","v":"2026-07-07T02:00:00"},"Sieger Spiel 82","Sieger Spiel 86",{"$f":"$B$8","v":"2026-07-07T18:00:00"},"Sieger Spiel 88","Sieger Spiel 85",{"$f":"$B$9","v":"2026-07-07T22:00:00"},"Sieger Spiel 87","Sieger Spiel 89",{"$f":"$B$10","v":"2026-07-09T22:00:00"},"Sieger Spiel 90","Sieger Spiel 93",{"$f":"$B$11","v":"2026-07-10T21:00:00"},"Sieger Spiel 94","Sieger Spiel 91",{"$f":"$B$12","v":"2026-07-11T23:00:00"},"Sieger Spiel 92","Sieger Spiel 95",{"$f":"$B$13","v":"2026-07-12T03:00:00"},"Sieger Spiel 96","Sieger Spiel 97",{"$f":"$B$14","v":"2026-07-14T21:00:00"},"Sieger Spiel 98","Sieger Spiel 99",{"$f":"$B$15","v":"2026-07-15T21:00:00"},"Sieger Spiel 100","Verlierer Spiel 101",{"$f":"$B$16","v":"2026-07-18T23:00:00"},"Verlierer Spiel 102","Sieger Spiel 101",{"$f":"$B$17","v":"2026-07-19T21:00:00"},"Sieger Spiel 102",null,null,null,null,null,null,null,null,null,null,null,null,null,null,null,null,null,null,null,null,null,null,null,null,null,null,null,null,null,null,null,null,null,null,null,null,null,null,null,null,null,null,null,null,null,null,null,null,null,null,null,"Summe","Übertrag","GESAMT",null,"TCH","Team 1",{"$f":"'Vorrunde 01-24'!$N$26","v":24}]
["2026-07-04T23:00:00",46207.958333333336,"2026-07-04T17:00:00",89,{"$f":"IF('KO-Runde 073-088'!$H$4>'KO-Runde 073-088'!$J$4,'KO-Runde 073-088'!$E$4,IF('KO-Runde 073-088'!$J$4>'KO-Runde 073-088'!$H$4,'KO-Runde 073-088'!$G$4,\"Sieger Spiel 74\"))","v":"Paraguay"},"-",{"$f":"IF('KO-Runde 073-088'!$H$7>'KO-Runde 073-088'!$J$7,'KO-Runde 073-088'!$E$7,IF('KO-Runde 073-088'!$J$7>'KO-Runde 073-088'!$H$7,'KO-Runde 073-088'!$G$7,\"Sieger Spiel 77\"))","v":"Frankreich"},0,":",1,"USA / Lincoln Financial Field (Philadelphia)","Achtelfinale","MagentaTV exklusiv",{"$f":"IF($J3<>\"\",1,0)","v":1},null,null,null,null,null,null,null,null,null,null,null,null,null,null,null,null,null,null,null,null,null,null,null,null,null,null,null,null,null,null,null,null,null,null,null,null,null,null,null,null,null,null,null,null,null,null,null,null,null,null,null,null,null,null,null,null,null,null,null,null,null,null,null,null,null,null,null,null,null,null,null,null,null,null,null,null,null,null,null,null,null,null,null,null,null,null,null,null,null,null,null,null,null,null,null,null,null,null,null,null,null,null,null,null,"KAT","Team 2",{"$f":"'Vorrunde 25-48'!$N$26","v":24}]
["2026-07-05T22:00:00",46208.916666666664,"2026-07-05T16:00:00",91,{"$f":"IF('KO-Runde 073-088'!$H$3>'KO-Runde 073-088'!$J$3,'KO-Runde 073-088'!$E$3,IF('KO-Runde 073-088'!$J$3>'KO-Runde 073-088'!$H$3,'KO-Runde 073-088'!$G$3,\"Sieger Spiel 76\"))","v":"Brasilien"},"-",{"$f":"IF('KO-Runde 073-088'!$H$6>'KO-Runde 073-088'!$J$6,'KO-Runde 073-088'!$E$6,IF('KO-Runde 073-088'!$J$6>'KO-Runde 073-088'!$H$6,'KO-Runde 073-088'!$G$6,\"Sieger Spiel 78\"))","v":"Norwegen"},1,":",2,"USA / MetLife Stadium (New York/New Jersey)","Achtelfinale","MagentaTV exklusiv",1,null,null,null,null,null,null,null,null,null,null,null,null,null,null,null,null,null,null,null,null,null,null,null,null,null,null,null,null,null,null,null,null,null,null,null,null,null,null,null,null,null,null,null,null,null,null,null,null,null,null,null,null,null,null,null,null,null,null,null,null,null,null,null,null,null,null,null,null,null,null,null,null,null,null,null,null,null,null,null,null,null,null,null,null,null,null,null,null,null,null,null,null,null,null,null,null,null,null,null,null,null,null,null,null,"HAI","Team 3",{"$f":"'Vorrunde 49-72'!$N$26","v":24}]
["2026-07-06T02:00:00",46209.083333333336,"2026-07-05T18:00:00",92,{"$f":"IF('KO-Runde 073-088'!$H$8>'KO-Runde 073-088'!$J$8,'KO-Runde 073-088'!$E$8,IF('KO-Runde 073-088'!$J$8>'KO-Runde 073-088'!$H$8,'KO-Runde 073-088'!$G$8,\"Sieger Spiel 79\"))","v":"Mexiko"},"-",{"$f":"IF('KO-Runde 073-088'!$H$9>'KO-Runde 073-088'!$J$9,'KO-Runde 073-088'!$E$9,IF('KO-Runde 073-088'!$J$9>'KO-Runde 073-088'!$H$9,'KO-Runde 073-088'!$G$9,\"Sieger Spiel 80\"))","v":"England"},2,":",3,"Mexiko / Azteca (Mexico City)","Achtelfinale","MagentaTV exklusiv",1,null,null,null,null,null,null,null,null,null,null,null,null,null,null,null,null,null,null,null,null,null,null,null,null,null,null,null,null,null,null,null,null,null,null,null,null,null,null,null,null,null,null,null,null,null,null,null,null,null,null,null,null,null,null,null,null,null,null,null,null,null,null,null,null,null,null,null,null,null,null,null,null,null,null,null,null,null,null,null,null,null,null,null,null,null,null,null,null,null,null,null,null,null,null,null,null,null,null,null,null,null,null,null,null,"TÜR","Team 4",{"$f":"'KO-Runde 073-088'!$N$18","v":16}]
["2026-07-06T21:00:00",46209.875,"2026-07-06T14:00:00",93,{"$f":"IF('KO-Runde 073-088'!$H$13>'KO-Runde 073-088'!$J$13,'KO-Runde 073-088'!$E$13,IF('KO-Runde 073-088'!$J$13>'KO-Runde 073-088'!$H$13,'KO-Runde 073-088'!$G$13,\"Sieger Spiel 83\"))","v":"Portugal"},"-",{"$f":"IF('KO-Runde 073-088'!$H$12>'KO-Runde 073-088'!$J$12,'KO-Runde 073-088'!$E$12,IF('KO-Runde 073-088'!$J$12>'KO-Runde 073-088'!$H$12,'KO-Runde 073-088'!$G$12,\"Sieger Spiel 84\"))","v":"Spanien"},0,":",1,"USA / AT&T Stadium (Dallas)","Achtelfinale","ZDF und MagentaTV",1,null,null,null,null,null,null,null,null,null,null,null,null,null,null,null,null,null,null,null,null,null,null,null,null,null,null,null,null,null,null,null,null,null,null,null,null,null,null,null,null,null,null,null,null,null,null,null,null,null,null,null,null,null,null,null,null,null,null,null,null,null,null,null,null,null,null,null,null,null,null,null,null,null,null,null,null,null,null,null,null,null,null,null,null,null,null,null,null,null,null,null,null,null,null,null,null,null,null,null,null,null,null,null,null,"CUR","Team 5",{"$f":"'KO-Runde 089-104'!$N$18","v":16}]
["2026-07-07T02:00:00",46210.083333333336,"2026-07-06T17:00:00",94,{"$f":"IF('KO-Runde 073-088'!$H$11>'KO-Runde 073-088'!$J$11,'KO-Runde 073-088'!$E$11,IF('KO-Runde 073-088'!$J$11>'KO-Runde 073-088'!$H$11,'KO-Runde 073-088'!$G$11,\"Sieger Spiel 81\"))","v":"USA"},"-",{"$f":"IF('KO-Runde 073-088'!$H$10>'KO-Runde 073-088'!$J$10,'KO-Runde 073-088'!$E$10,IF('KO-Runde 073-088'!$J$10>'KO-Runde 073-088'!$H$10,'KO-Runde 073-088'!$G$10,\"Sieger Spiel 82\"))","v":"Belgien"},1,":",4,"USA / Lumen Field (Seattle)","Achtelfinale","ARD und MagentaTV",1,{"$f":"IF('Vorrunde 01-24'!$O7<>\"\",'Vorrunde 01-24'!$O7,\"\")","v":"Tilo Schott"},"KAN",":","HOL","DEU",":","FRA","BRA",":","NOR","MEX",":","ENG","KOL",":","SPA","USA",":","BEL","ARG",":","TÜR","SCH",":","POR","FRA",":","HOL","SPA",":","BEL","BRA",":","ENG","ARG",":","POR","FRA",":","SPA","ENG",":","ARG","SPA",":","ARG","FRA",":","ENG","ENG",{"$f":"IF('Vorrunde 01-24'!$O7<>\"\",'Vorrunde 01-24'!$O7,\"\")","v":"Tilo Schott"},{"$f":"IF(OR(P7=$P$27,P7=$R$27,P7=$S$27,P7=$U$27,P7=$V$27,P7=$X$27,P7=$Y$27,P7=$AA$27,P7=$AB$27,P7=$AD$27,P7=$AE$27,P7=$AG$27,P7=$AH$27,P7=$AJ$27,P7=$AK$27,P7=$AM$27),4,0)","v":4},{"$f":"IF(OR(R7=$P$27,R7=$R$27,R7=$S$27,R7=$U$27,R7=$V$27,R7=$X$27,R7=$Y$27,R7=$AA$27,R7=$AB$27,R7=$AD$27,R7=$AE$27,R7=$AG$27,R7=$AH$27,R7=$AJ$27,R7=$AK$27,R7=$AM$27),4,0)","v":0},{"$f":"IF($P$27=\"TEAM\",0,SUM(BN7:BO7))","v":4},{"$f":"IF(OR(S7=$P$27,S7=$R$27,S7=$S$27,S7=$U$27,S7=$V$27,S7=$X$27,S7=$Y$27,S7=$AA$27,S7=$AB$27,S7=$AD$27,S7=$AE$27,S7=$AG$27,S7=$AH$27,S7=$AJ$27,S7=$AK$27,S7=$AM$27),4,0)","v":0},{"$f":"IF(OR(U7=$P$27,U7=$R$27,U7=$S$27,U7=$U$27,U7=$V$27,U7=$X$27,U7=$Y$27,U7=$AA$27,U7=$AB$27,U7=$AD$27,U7=$AE$27,U7=$AG$27,U7=$AH$27,U7=$AJ$27,U7=$AK$27,U7=$AM$27),4,0)","v":4},{"$f":"IF($P$27=\"TEAM\",0,SUM(BQ7:BR7))","v":4},{"$f":"IF(OR(V7=$P$27,V7=$R$27,V7=$S$27,V7=$U$27,V7=$V$27,V7=$X$27,V7=$Y$27,V7=$AA$27,V7=$AB$27,V7=$AD$27,V7=$AE$27,V7=$AG$27,V7=$AH$27,V7=$AJ$27,V7=$AK$27,V7=$AM$27),4,0)","v":4},{"$f":"IF(OR(X7=$P$27,X7=$R$27,X7=$S$27,X7=$U$27,X7=$V$27,X7=$X$27,X7=$Y$27,X7=$AA$27,X7=$AB$27,X7=$AD$27,X7=$AE$27,X7=$AG$27,X7=$AH$27,X7=$AJ$27,X7=$AK$27,X7=$AM$27),4,0)","v":4},{"$f":"IF($P$27=\"TEAM\",0,SUM(BT7:BU7))","v":8},{"$f":"IF(OR(Y7=$P$27,Y7=$R$27,Y7=$S$27,Y7=$U$27,Y7=$V$27,Y7=$X$27,Y7=$Y$27,Y7=$AA$27,Y7=$AB$27,Y7=$AD$27,Y7=$AE$27,Y7=$AG$27,Y7=$AH$27,Y7=$AJ$27,Y7=$AK$27,Y7=$AM$27),4,0)","v":4},{"$f":"IF(OR(AA7=$P$27,AA7=$R$27,AA7=$S$27,AA7=$U$27,AA7=$V$27,AA7=$X$27,AA7=$Y$27,AA7=$AA$27,AA7=$AB$27,AA7=$AD$27,AA7=$AE$27,AA7=$AG$27,AA7=$AH$27,AA7=$AJ$27,AA7=$AK$27,AA7=$AM$27),4,0)","v":4},{"$f":"IF($P$27=\"TEAM\",0,SUM(BW7:BX7))","v":8},{"$f":"IF(OR(AB7=$P$27,AB7=$R$27,AB7=$S$27,AB7=$U$27,AB7=$V$27,AB7=$X$27,AB7=$Y$27,AB7=$AA$27,AB7=$AB$27,AB7=$AD$27,AB7=$AE$27,AB7=$AG$27,AB7=$AH$27,AB7=$AJ$27,AB7=$AK$27,AB7=$AM$27),4,0)","v":4},{"$f":"IF(OR(AD7=$P$27,AD7=$R$27,AD7=$S$27,AD7=$U$27,AD7=$V$27,AD7=$X$27,AD7=$Y$27,AD7=$AA$27,AD7=$AB$27,AD7=$AD$27,AD7=$AE$27,AD7=$AG$27,AD7=$AH$27,AD7=$AJ$27,AD7=$AK$27,AD7=$AM$27),4,0)","v":4},{"$f":"IF($P$27=\"TEAM\",0,SUM(BZ7:CA7))","v":8},{"$f":"IF(OR(AE7=$P$27,AE7=$R$27,AE7=$S$27,AE7=$U$27,AE7=$V$27,AE7=$X$27,AE7=$Y$27,AE7=$AA$27,AE7=$AB$27,AE7=$AD$27,AE7=$AE$27,AE7=$AG$27,AE7=$AH$27,AE7=$AJ$27,AE7=$AK$27,AE7=$AM$27),4,0)","v":4},{"$f":"IF(OR(AG7=$P$27,AG7=$R$27,AG7=$S$27,AG7=$U$27,AG7=$V$27,AG7=$X$27,AG7=$Y$27,AG7=$AA$27,AG7=$AB$27,AG7=$AD$27,AG7=$AE$27,AG7=$AG$27,AG7=$AH$27,AG7=$AJ$27,AG7=$AK$27,AG7=$AM$27),4,0)","v":4},{"$f":"IF($P$27=\"TEAM\",0,SUM(CC7:CD7))","v":8},{"$f":"IF(OR(AH7=$P$27,AH7=$R$27,AH7=$S$27,AH7=$U$27,AH7=$V$27,AH7=$X$27,AH7=$Y$27,AH7=$AA$27,AH7=$AB$27,AH7=$AD$27,AH7=$AE$27,AH7=$AG$27,AH7=$AH$27,AH7=$AJ$27,AH7=$AK$27,AH7=$AM$27),4,0)","v":4},{"$f":"IF(OR(AJ7=$P$27,AJ7=$R$27,AJ7=$S$27,AJ7=$U$27,AJ7=$V$27,AJ7=$X$27,AJ7=$Y$27,AJ7=$AA$27,AJ7=$AB$27,AJ7=$AD$27,AJ7=$AE$27,AJ7=$AG$27,AJ7=$AH$27,AJ7=$AJ$27,AJ7=$AK$27,AJ7=$AM$27),4,0)","v":0},{"$f":"IF($P$27=\"TEAM\",0,SUM(CF7:CG7))","v":4},{"$f":"IF(OR(AK7=$P$27,AK7=$R$27,AK7=$S$27,AK7=$U$27,AK7=$V$27,AK7=$X$27,AK7=$Y$27,AK7=$AA$27,AK7=$AB$27,AK7=$AD$27,AK7=$AE$27,AK7=$AG$27,AK7=$AH$27,AK7=$AJ$27,AK7=$AK$27,AK7=$AM$27),4,0)","v":4},{"$f":"IF(OR(AM7=$P$27,AM7=$R$27,AM7=$S$27,AM7=$U$27,AM7=$V$27,AM7=$X$27,AM7=$Y$27,AM7=$AA$27,AM7=$AB$27,AM7=$AD$27,AM7=$AE$27,AM7=$AG$27,AM7=$AH$27,AM7=$AJ$27,AM7=$AK$27,AM7=$AM$27),4,0)","v":4},{"$f":"IF($P$27=\"TEAM\",0,SUM(CI7:CJ7))","v":8},{"$f":"IF(OR(AN7=$AN$27,AN7=$AP$27,AN7=$AQ$27,AN7=$AS$27,AN7=$AT$27,AN7=$AV$27,AN7=$AW$27,AN7=$AY$27),5,0)","v":5},{"$f":"IF(OR(AP7=$AN$27,AP7=$AP$27,AP7=$AQ$27,AP7=$AS$27,AP7=$AT$27,AP7=$AV$27,AP7=$AW$27,AP7=$AY$27),5,0)","v":0},{"$f":"IF($AN$27=\"TEAM\",0,SUM(CL7:CM7))","v":5},{"$f":"IF(OR(AQ7=$AN$27,AQ7=$AP$27,AQ7=$AQ$27,AQ7=$AS$27,AQ7=$AT$27,AQ7=$AV$27,AQ7=$AW$27,AQ7=$AY$27),5,0)","v":5},{"$f":"IF(OR(AS7=$AN$27,AS7=$AP$27,AS7=$AQ$27,AS7=$AS$27,AS7=$AT$27,AS7=$AV$27,AS7=$AW$27,AS7=$AY$27),5,0)","v":5},{"$f":"IF($AN$27=\"TEAM\",0,SUM(CO7:CP7))","v":10},{"$f":"IF(OR(AT7=$AN$27,AT7=$AP$27,AT7=$AQ$27,AT7=$AS$27,AT7=$AT$27,AT7=$AV$27,AT7=$AW$27,AT7=$AY$27),5,0)","v":0},{"$f":"IF(OR(AV7=$AN$27,AV7=$AP$27,AV7=$AQ$27,AV7=$AS$27,AV7=$AT$27,AV7=$AV$27,AV7=$AW$27,AV7=$AY$27),5,0)","v":5},{"$f":"IF($AN$27=\"TEAM\",0,SUM(CR7:CS7))","v":5},{"$f":"IF(OR(AW7=$AN$27,AW7=$AP$27,AW7=$AQ$27,AW7=$AS$27,AW7=$AT$27,AW7=$AV$27,AW7=$AW$27,AW7=$AY$27),5,0)","v":5},{"$f":"IF(OR(AY7=$AN$27,AY7=$AP$27,AY7=$AQ$27,AY7=$AS$27,AY7=$AT$27,AY7=$AV$27,AY7=$AW$27,AY7=$AY$27),5,0)","v":0},{"$f":"IF($AN$27=\"TEAM\",0,SUM(CU7:CV7))","v":5},{"$f":"IF(OR(AZ7=$AZ$27,AZ7=$BB$27,AZ7=$BC$27,AZ7=$BE$27),6,0)","v":6},{"$f":"IF(OR(BB7=$AZ$27,BB7=$BB$27,BB7=$BC$27,BB7=$BE$27),6,0)","v":6},{"$f":"IF($AZ$27=\"TEAM\",0,SUM(CX7:CY7))","v":12},{"$f":"IF(OR(BC7=$AZ$27,BC7=$BB$27,BC7=$BC$27,BC7=$BE$27),6,0)","v":6},{"$f":"IF(OR(BE7=$AZ$27,BE7=$BB$27,BE7=$BC$27,BE7=$BE$27),6,0)","v":6},{"$f":"IF($AZ$27=\"TEAM\",0,SUM(DA7:DB7))","v":12},{"$f":"IF(OR(BF7=$BF$27,BF7=$BH$27),1,0)","v":0},{"$f":"IF(OR(BH7=$BF$27,BH7=$BH$27),1,0)","v":0},{"$f":"IF($BF$27=\"TEAM\",0,SUM(DD7:DE7))","v":0},{"$f":"IF(OR(BI7=$BI$27,BI7=$BK$27),7,0)","v":0},{"$f":"IF(OR(BK7=$BI$27,BK7=$BK$27),7,0)","v":0},{"$f":"IF($BF$27=\"TEAM\",0,SUM(DG7:DH7))","v":0},{"$f":"IF(BL7=$BL$27,8,0)","v":0},{"$f":"SUM(BP7,BS7,BV7,BY7,CB7,CE7,CH7,CK7,CN7,CQ7,CT7,CW7,CZ7,DC7,DF7,DI7,DJ7)","v":101},{"$f":"'KO-Runde 073-088'!DK7","v":184},{"$f":"SUM(DK7,DL7)","v":285},null,"TUN","Team 6",{"$f":"SUM(DQ2:DQ6)","v":104}]
["2026-07-07T18:00:00",46210.75,"2026-07-07T12:00:00",95,{"$f":"IF('KO-Runde 073-088'!$H$16>'KO-Runde 073-088'!$J$16,'KO-Runde 073-088'!$E$16,IF('KO-Runde 073-088'!$J$16>'KO-Runde 073-088'!$H$16,'KO-Runde 073-088'!$G$16,\"Sieger Spiel 86\"))","v":"Argentinien"},"-",{"$f":"IF('KO-Runde 073-088'!$H$15>'KO-Runde 073-088'!$J$15,'KO-Runde 073-088'!$E$15,IF('KO-Runde 073-088'!$J$15>'KO-Runde 073-088'!$H$15,'KO-Runde 073-088'!$G$15,\"Sieger Spiel 88\"))","v":"Ägypten"},3,":",2,"USA / Mercedes-Benz Stadium (Atlanta)","Achtelfinale","ARD und MagentaTV",1,{"$f":"IF('Vorrunde 01-24'!$O8<>\"\",'Vorrunde 01-24'!$O8,\"\")","v":"Arno Schneucker"},"TCH",":","HOL","DEU",":","FRA","BRA",":","ELF","MEX",":","ENG","GAN",":","SPA","USA",":","BEL","ARG",":","TÜR","SCH",":","KOL","DEU",":","HOL","SPA",":","USA","BRA",":","ENG","ARG",":","SCH","DEU",":","SPA","BRA",":","ARG","DEU",":","BRA","SPA",":","ARG","SPA",{"$f":"IF('Vorrunde 01-24'!$O8<>\"\",'Vorrunde 01-24'!$O8,\"\")","v":"Arno Schneucker"},0,0,0,0,4,4,4,0,4,4,4,8,0,4,4,4,4,8,4,0,4,4,4,8,0,0,0,5,0,5,0,5,5,5,5,10,0,6,6,0,6,6,0,0,0,7,7,14,8,{"$f":"SUM(BP8,BS8,BV8,BY8,CB8,CE8,CH8,CK8,CN8,CQ8,CT8,CW8,CZ8,DC8,DF8,DI8,DJ8)","v":94},{"$f":"'KO-Runde 073-088'!DK8","v":167},{"$f":"SUM(DK8,DL8)","v":261},null,"NEU","Team 7"]
["2026-07-07T22:00:00",46210.916666666664,"2026-07-07T13:00:00",96,{"$f":"IF('KO-Runde 073-088'!$H$14>'KO-Runde 073-088'!$J$14,'KO-Runde 073-088'!$E$14,IF('KO-Runde 073-088'!$J$14>'KO-Runde 073-088'!$H$14,'KO-Runde 073-088'!$G$14,\"Sieger Spiel 85\"))","v":"Schweiz"},"-",{"$f":"IF('KO-Runde 073-088'!$H$17>'KO-Runde 073-088'!$J$17,'KO-Runde 073-088'!$E$17,IF('KO-Runde 073-088'!$J$17>'KO-Runde 073-088'!$H$17,'KO-Runde 073-088'!$G$17,\"Sieger Spiel 87\"))","v":"Kolumbien"},4,":",3,"Kanada / BC Place Stadium (Vancouver)","Achtelfinale","ARD und MagentaTV",1,{"$f":"IF('Vorrunde 01-24'!$O9<>\"\",'Vorrunde 01-24'!$O9,\"\")","v":"Silke Seibert"},"BOH",":","HOL","DEU",":","FRA","BRA",":","NOR","MEX",":","ENG","KOL",":","SPA","TÜR",":","BEL","ARG",":","USA","SCH",":","POR","FRA",":","HOL","SPA",":","BEL","BRA",":","ENG","ARG",":","POR","FRA",":","SPA","BRA",":","POR","FRA",":","POR","SPA",":","BRA","BRA",{"$f":"IF('Vorrunde 01-24'!$O9<>\"\",'Vorrunde 01-24'!$O9,\"\")","v":"Silke Seibert"},0,0,0,0,4,4,4,4,8,4,4,8,4,4,8,0,4,4,4,4,8,4,4,8,5,0,5,5,5,10,0,5,5,5,0,5,6,6,12,0,0,0,1,0,1,7,0,7,0,93,{"$f":"'KO-Runde 073-088'!DK9","v":167},260,null,"SAR","Team 8"]
["2026-07-09T22:00:00",46212.916666666664,"2026-07-09T16:00:00",97,{"$f":"IF($H$3>$J$3,$E$3,IF($J$3>$H$3,G$3,\"Sieger Spiel 89\"))","v":"Frankreich"},"-",{"$f":"IF($H$2>$J$2,$E$2,IF($J$2>$H$2,G$2,\"Sieger Spiel 90\"))","v":"Marokko"},2,":",0,"USA / Gillette Stadium (Boston)","Viertelfinale","ARD und MagentaTV",1,{"$f":"IF('Vorrunde 01-24'!$O10<>\"\",'Vorrunde 01-24'!$O10,\"\")","v":"Robert Krieg"},"KOR",":","HOL","DEU",":","FRA","BRA",":","ELF","MEX",":","ENG","KOL",":","SPA","USA",":","BEL","ARG",":","ÄGY","SCH",":","POR","FRA",":","HOL","SPA",":","BEL","BRA",":","ENG","ARG",":","POR","FRA",":","SPA","BRA",":","ARG","SPA",":","BRA","FRA",":","ARG","FRA",{"$f":"IF('Vorrunde 01-24'!$O10<>\"\",'Vorrunde 01-24'!$O10,\"\")","v":"Robert Krieg"},0,0,0,0,4,4,4,0,4,4,4,8,4,4,8,4,4,8,4,4,8,4,4,8,5,0,5,5,5,10,0,5,5,5,0,5,6,6,12,0,6,6,0,0,0,0,7,7,0,98,{"$f":"'KO-Runde 073-088'!DK10","v":181},279,null,"IRK","Team 9"]
["2026-07-10T21:00:00",46213.875,"2026-07-10T12:00:00",98,{"$f":"IF($H$6>$J$6,$E$6,IF($J$6>$H$6,G$6,\"Sieger Spiel 93\"))","v":"Spanien"},"-",{"$f":"IF($H$7>$J$7,$E$7,IF($J$7>$H$7,G$7,\"Sieger Spiel 94\"))","v":"Belgien"},2,":",1,"USA / SoFi Stadium (Los Angeles)","Viertelfinale","ZDF und MagentaTV",1,{"$f":"IF('Vorrunde 01-24'!$O11<>\"\",'Vorrunde 01-24'!$O11,\"\")","v":"Lothar Jungk"},"SCH",":","HOL","DEU",":","FRA","BRA",":","ELF","MEX",":","ENG","POR",":","SPA","TÜR",":","BEL","ARG",":","PAR","BOH",":","KOL","FRA",":","HOL","SPA",":","BEL","BRA",":","ENG","ARG",":","KOL","FRA",":","SPA","ENG",":","ARG","FRA",":","ARG","SPA",":","ENG","ENG",{"$f":"IF('Vorrunde 01-24'!$O11<>\"\",'Vorrunde 01-24'!$O11,\"\")","v":"Lothar Jungk"},4,0,4,0,4,4,4,0,4,4,4,8,4,4,8,0,4,4,4,4,8,0,4,4,5,0,5,5,5,10,0,5,5,5,0,5,6,6,12,6,6,12,1,0,1,7,0,7,0,101,{"$f":"'KO-Runde 073-088'!DK11","v":179},280,null,"JOR","Team 10"]
["2026-07-11T23:00:00",46214.958333333336,"2026-07-11T17:00:00",99,{"$f":"IF($H$4>$J$4,$E$4,IF($J$4>$H$4,G$4,\"Sieger Spiel 91\"))","v":"Norwegen"},"-",{"$f":"IF($H$5>$J$5,$E$5,IF($J$5>$H$5,G$5,\"Sieger Spiel 92\"))","v":"England"},1,":",2,"USA / Hard Rock Stadium (Miami)","Viertelfinale","MagentaTV exklusiv",1,{"$f":"IF('Vorrunde 01-24'!$O12<>\"\",'Vorrunde 01-24'!$O12,\"\")","v":"Jakob Well"},"KAN",":","HOL","DEU",":","FRA","BRA",":","NOR","MEX",":","ENG","KOL",":","SPA","TÜR",":","BEL","ARG",":","ÄGY","SCH",":","POR","DEU",":","HOL","SPA",":","TÜR","BRA",":","ENG","ARG",":","POR","DEU",":","SPA","ENG",":","ARG","SPA",":","ARG","DEU",":","ENG","DEU",{"$f":"IF('Vorrunde 01-24'!$O12<>\"\",'Vorrunde 01-24'!$O12,\"\")","v":"Jakob Well"},4,0,4,0,4,4,4,4,8,4,4,8,4,4,8,0,4,4,4,4,8,4,4,8,0,0,0,5,0,5,0,5,5,5,0,5,0,6,6,6,6,12,0,0,0,0,0,0,0,85,{"$f":"'KO-Runde 073-088'!DK12","v":177},262,null,"USB","Team 11"]
["2026-07-12T03:00:00",46215.125,"2026-07-11T20:00:00",100,{"$f":"IF($H$8>$J$8,$E$8,IF($J$8>$H$8,G$8,\"Sieger Spiel 95\"))","v":"Argentinien"},"-",{"$f":"IF($H$9>$J$9,$E$9,IF($J$9>$H$9,G$9,\"Sieger Spiel 96\"))","v":"Schweiz"},3,":",1,"USA / Arrowhead Stadium (Kansas City)","Viertelfinale","MagentaTV exklusiv",1,{"$f":"IF('Vorrunde 01-24'!$O13<>\"\",'Vorrunde 01-24'!$O13,\"\")","v":"Marco Frank"},"KOR",":","HOL","DEU",":","FRA","BRA",":","SEN","MEX",":","ENG","KRO",":","SPA","TÜR",":","BEL","ARG",":","USA","SCH",":","POR","DEU",":","HOL","SPA",":","BEL","BRA",":","ENG","ARG",":","POR","DEU",":","SPA","ENG",":","ARG","SPA",":","ENG","DEU",":","ARG","DEU",{"$f":"IF('Vorrunde 01-24'!$O13<>\"\",'Vorrunde 01-24'!$O13,\"\")","v":"Marco Frank"},0,0,0,0,4,4,4,0,4,4,4,8,0,4,4,0,4,4,4,4,8,4,4,8,0,0,0,5,5,10,0,5,5,5,0,5,0,6,6,6,6,12,0,1,1,0,7,7,0,86,{"$f":"'KO-Runde 073-088'!DK13","v":179},265,null,"PAN","Team 12"]
["2026-07-14T21:00:00",46217.875,"2026-07-14T14:00:00",101,{"$f":"IF($H$10>$J$10,$E$10,IF($J$10>$H$10,G$10,\"Sieger Spiel 97\"))","v":"Frankreich"},"-",{"$f":"IF($H$11>$J$11,$E$11,IF($J$11>$H$11,G$11,\"Sieger Spiel 98\"))","v":"Spanien"},0,":",2,"USA / AT&T Stadium (Dallas)","Halbfinale","ZDF und MagentaTV",1,{"$f":"IF('Vorrunde 01-24'!$O14<>\"\",'Vorrunde 01-24'!$O14,\"\")","v":"Simon Schott"},"KAN",":","HOL","DEU",":","FRA","BRA",":","ECU","MEX",":","ENG","POR",":","SPA","TÜR",":","BEL","ARG",":","USA","SCH",":","KOL","FRA",":","HOL","SPA",":","TÜR","BRA",":","ENG","ARG",":","KOL","FRA",":","SPA","ENG",":","ARG","SPA",":","ARG","FRA",":","ENG","FRA",{"$f":"IF('Vorrunde 01-24'!$O14<>\"\",'Vorrunde 01-24'!$O14,\"\")","v":"Simon Schott"},4,0,4,0,4,4,4,0,4,4,4,8,4,4,8,0,4,4,4,4,8,4,4,8,5,0,5,5,0,5,0,5,5,5,0,5,6,6,12,6,6,12,0,0,0,0,0,0,0,92,{"$f":"'KO-Runde 073-088'!DK14","v":168},260,null,"KOR","Team 13"]
["2026-07-15T21:00:00",46218.875,"2026-07-15T15:00:00",102,{"$f":"IF($H$12>$J$12,$E$12,IF($J$12>$H$12,G$12,\"Sieger Spiel 99\"))","v":"England"},"-",{"$f":"IF($H$13>$J$13,$E$13,IF($J$13>$H$13,G$13,\"Sieger Spiel 100\"))","v":"Argentinien"},1,":",2,"USA / Mercedes-Benz Stadium (Atlanta)","Halbfinale","ARD und MagentaTV",1,{"$f":"IF('Vorrunde 01-24'!$O15<>\"\",'Vorrunde 01-24'!$O15,\"\")","v":"Lennart Rechmann"},"BOH",":","MAR","DEU",":","FRA","BRA",":","NOR","MEX",":","ENG","KRO",":","SPA","USA",":","BEL","ARG",":","TÜR","SCH",":","GAN","DEU",":","BOH","SPA",":","BEL","BRA",":","MEX","ARG",":","SCH","DEU",":","BEL","BRA",":","ARG","BEL",":","ARG","DEU",":","BRA","DEU",{"$f":"IF('Vorrunde 01-24'!$O15<>\"\",'Vorrunde 01-24'!$O15,\"\")","v":"Lennart Rechmann"},0,4,4,0,4,4,4,4,8,4,4,8,0,4,4,4,4,8,4,0,4,4,0,4,0,0,0,5,5,10,0,0,0,5,5,10,0,0,0,0,6,6,0,0,0,0,0,0,0,70,{"$f":"'KO-Runde 073-088'!DK15","v":169},239,null,"SCO","Team 14"]
["2026-07-18T23:00:00",46221.958333333336,"2026-07-18T17:00:00",103,{"$f":"IF($H$14>$J$14,$G$14,IF($J$14>$H$14,E$14,\"Verlierer Spiel 101\"))","v":"Frankreich"},"-",{"$f":"IF($H$15>$J$15,$G$15,IF($J$15>$H$15,E$15,\"Verlierer Spiel 102\"))","v":"England"},4,":",6,"USA / Hard Rock Stadium (Miami)","Spiel um Platz 3","MagentaTV exklusiv",1,{"$f":"IF('Vorrunde 01-24'!$O16<>\"\",'Vorrunde 01-24'!$O16,\"\")","v":"Albrecht Well"},"KOR",":","HOL","DEU",":","FRA","BRA",":","ELF","MEX",":","ENG","KOL",":","ARG","USA",":","SAF","KVD",":","TÜR","SCH",":","POR","DEU",":","HOL","ARG",":","USA","ELF",":","ENG","TÜR",":","POR","DEU",":","ARG","ENG",":","POR","ARG",":","ENG","DEU",":","POR","DEU",{"$f":"IF('Vorrunde 01-24'!$O16<>\"\",'Vorrunde 01-24'!$O16,\"\")","v":"Albrecht Well"},0,0,0,0,4,4,4,0,4,4,4,8,4,4,8,4,0,4,0,0,0,4,4,8,0,0,0,5,0,5,0,5,5,0,0,0,0,6,6,6,0,6,0,1,1,0,0,0,0,59,{"$f":"'KO-Runde 073-088'!DK16","v":159},218,null,"IRN","Team 15"]
["2026-07-19T21:00:00",46222.875,"2026-07-19T15:00:00",104,{"$f":"IF($H$14>$J$14,$E$14,IF($J$14>$H$14,G$14,\"Sieger Spiel 101\"))","v":"Spanien"},"-",{"$f":"IF($H$15>$J$15,$E$15,IF($J$15>$H$15,G$15,\"Sieger Spiel 102\"))","v":"Argentinien"},1,":",0,"USA / MetLife Stadium (New York/New Jersey)","Endspiel","ZDF und MagentaTV",1,{"$f":"IF('Vorrunde 01-24'!$O17<>\"\",'Vorrunde 01-24'!$O17,\"\")","v":"Christoph Hoffmann "},"KAN",":","JAP","DEU",":","FRA","BRA",":","NOR","MEX",":","ENG","KOL",":","SPA","TÜR",":","BEL","ARG",":","USA","ECU",":","POR","DEU",":","JAP","SPA",":","TÜR","BRA",":","ENG","USA",":","POR","DEU",":","SPA","ENG",":","POR","SPA",":","ENG","DEU",":","POR","POR",{"$f":"IF('Vorrunde 01-24'!$O17<>\"\",'Vorrunde 01-24'!$O17,\"\")","v":"Christoph Hoffmann "},4,0,4,0,4,4,4,4,8,4,4,8,4,4,8,0,4,4,4,4,8,0,4,4,0,0,0,5,0,5,0,5,5,0,0,0,0,6,6,6,0,6,0,1,1,0,0,0,0,71,{"$f":"'KO-Runde 073-088'!DK17","v":166},237,null,"URU","Team 16"]
[null,null,null,null,null,null,null,null,null,null,null,null,null,{"$f":"SUM(N2:N17)","v":16},{"$f":"IF('Vorrunde 01-24'!$O18<>\"\",'Vorrunde 01-24'!$O18,\"\")","v":"Helen Rechmann"},"BOH",":","HOL","DEU",":","FRA","MAR",":","ELF","MEX",":","ENG","POR",":","SPA","KAN",":","BEL","ÖST",":","IRN","ÄGY",":","GAN","FRA",":","HOL","POR",":","BEL","MAR",":","ENG","ÖST",":","GAN","FRA",":","POR","ENG",":","ÖST","POR",":","ÖST","FRA",":","ENG","FRA",{"$f":"IF('Vorrunde 01-24'!$O18<>\"\",'Vorrunde 01-24'!$O18,\"\")","v":"Helen Rechmann"},0,0,0,0,4,4,4,0,4,4,4,8,4,4,8,4,4,8,0,0,0,4,0,4,5,0,5,0,5,5,5,5,10,0,0,0,6,0,6,6,0,6,0,0,0,0,0,0,0,68,{"$f":"'KO-Runde 073-088'!DK18","v":184},252,null,"SAF","Team 17"]
[null,null,null,null,null,null,null,null,null,null,null,null,null,null,{"$f":"IF('Vorrunde 01-24'!$O19<>\"\",'Vorrunde 01-24'!$O19,\"\")","v":"Ingrid Well"},"SCH",":","HOL","DEU",":","FRA","BRA",":","NOR","MEX",":","ENG","KOL",":","SPA","ALG",":","BEL","ARG",":","PAR","ÄGY",":","POR","FRA",":","HOL","SPA",":","ALG","BRA",":","ENG","ARG",":","POR","HOL",":","SPA","BRA",":","ARG","SPA",":","ARG","HOL",":","BRA","HOL",{"$f":"IF('Vorrunde 01-24'!$O19<>\"\",'Vorrunde 01-24'!$O19,\"\")","v":"Ingrid Well"},4,0,4,0,4,4,4,4,8,4,4,8,4,4,8,0,4,4,4,4,8,4,4,8,5,0,5,5,0,5,0,5,5,5,0,5,0,6,6,0,6,6,0,0,0,0,0,0,0,84,{"$f":"'KO-Runde 073-088'!DK19","v":170},254,null,"JAP","Team 18"]
[null,null,null,null,null,null,null,null,null,null,null,null,null,null,{"$f":"IF('Vorrunde 01-24'!$O20<>\"\",'Vorrunde 01-24'!$O20,\"\")","v":"Joachim Well"},"KAN",":","HOL","DEU",":","FRA","BRA",":","ELF","MEX",":","ENG","KRO",":","SPA","USA",":","BEL","ARG",":","TÜR","SCH",":","POR","DEU",":","HOL","SPA",":","USA","BRA",":","ENG","ARG",":","SCH","DEU",":","SPA","ENG",":","ARG","SPA",":","ARG","DEU",":","ENG","DEU",{"$f":"IF('Vorrunde 01-24'!$O20<>\"\",'Vorrunde 01-24'!$O20,\"\")","v":"Joachim Well"},4,0,4,0,4,4,4,0,4,4,4,8,0,4,4,4,4,8,4,0,4,4,4,8,0,0,0,5,0,5,0,5,5,5,5,10,0,6,6,6,6,12,0,0,0,0,0,0,0,82,{"$f":"'KO-Runde 073-088'!DK20","v":181},263,null,"DEU","Team 19"]
[null,null,null,null,null,null,null,null,null,null,null,null,null,null,{"$f":"IF('Vorrunde 01-24'!$O21<>\"\",'Vorrunde 01-24'!$O21,\"\")","v":"Lea Müller"},"KOR",":","HOL","DEU",":","FRA","BRA",":","ELF","MEX",":","ENG","KRO",":","SPA","TÜR",":","NEU","ARG",":","BEL","SCH",":","POR","DEU",":","HOL","SPA",":","NEU","ELF",":","MEX","ARG",":","SCH","DEU",":","SPA","ELF",":","ARG","DEU",":","ELF","SPA",":","ARG","SPA",{"$f":"IF('Vorrunde 01-24'!$O21<>\"\",'Vorrunde 01-24'!$O21,\"\")","v":"Lea Müller"},0,0,0,0,4,4,4,0,4,4,4,8,0,4,4,0,0,0,4,4,8,4,4,8,0,0,0,5,0,5,0,0,0,5,5,10,0,6,6,0,6,6,0,0,0,7,7,14,8,85,{"$f":"'KO-Runde 073-088'!DK21","v":142},227,null,"HOL","Team 20"]
[null,null,null,null,null,null,null,null,null,null,null,null,null,null,{"$f":"IF('Vorrunde 01-24'!$O22<>\"\",'Vorrunde 01-24'!$O22,\"\")","v":"Sebastian Hausmann"},"BOH",":","MAR","DEU",":","FRA","BRA",":","NOR","ELF",":","ENG","KOL",":","SPA","TÜR",":","ÄGY","ARG",":","USA","SCH",":","POR","FRA",":","MAR","SPA",":","TÜR","BRA",":","ENG","ARG",":","POR","FRA",":","SPA","BRA",":","POR","SPA",":","BRA","FRA",":","POR","POR",{"$f":"IF('Vorrunde 01-24'!$O22<>\"\",'Vorrunde 01-24'!$O22,\"\")","v":"Sebastian Hausmann"},0,4,4,0,4,4,4,4,8,0,4,4,4,4,8,0,4,4,4,4,8,4,4,8,5,5,10,5,0,5,0,5,5,5,0,5,6,6,12,0,0,0,0,0,0,0,0,0,0,85,{"$f":"'KO-Runde 073-088'!DK22","v":185},270,null,"ELF","Team 21"]
[null,null,null,null,null,null,null,null,null,null,null,null,null,null,{"$f":"IF('Vorrunde 01-24'!$O23<>\"\",'Vorrunde 01-24'!$O23,\"\")","v":"Stefan Rechmann"},"BOH",":","MAR","DEU",":","FRA","BRA",":","ECU","MEX",":","ENG","KRO",":","SPA","TÜR",":","BEL","ÖST",":","USA","SCH",":","POR","DEU",":","MAR","SPA",":","TÜR","ECU",":","MEX","ÖST",":","POR","DEU",":","SPA","ECU",":","POR","SPA",":","ECU","DEU",":","POR","DEU",{"$f":"IF('Vorrunde 01-24'!$O23<>\"\",'Vorrunde 01-24'!$O23,\"\")","v":"Stefan Rechmann"},0,4,4,0,4,4,4,0,4,4,4,8,0,4,4,0,4,4,0,4,4,4,4,8,0,5,5,5,0,5,0,0,0,0,0,0,0,6,6,0,0,0,0,0,0,0,0,0,0,56,{"$f":"'KO-Runde 073-088'!DK23","v":186},242,null,"SWE","Team 22"]
[null,null,null,null,null,null,null,null,null,null,null,null,null,null,{"$f":"IF('Vorrunde 01-24'!$O24<>\"\",'Vorrunde 01-24'!$O24,\"\")","v":"Uwe Diegel"},"KAN",":","HOL","DEU",":","FRA","BRA",":","ECU","MEX",":","ENG","KRO",":","SPA","USA",":","BEL","ARG",":","TÜR","SCH",":","POR","FRA",":","HOL","SPA",":","BEL","BRA",":","ENG","ARG",":","POR","FRA",":","SPA","BRA",":","ARG","SPA",":","BRA","FRA",":","ARG","FRA",{"$f":"IF('Vorrunde 01-24'!$O24<>\"\",'Vorrunde 01-24'!$O24,\"\")","v":"Uwe Diegel"},4,0,4,0,4,4,4,0,4,4,4,8,0,4,4,4,4,8,4,0,4,4,4,8,5,0,5,5,5,10,0,5,5,5,0,5,6,6,12,0,6,6,0,0,0,0,7,7,0,94,{"$f":"'KO-Runde 073-088'!DK24","v":179},273,null,"ECU","Team 23"]
[null,null,null,null,null,null,null,null,null,null,null,null,null,null,{"$f":"IF('Vorrunde 01-24'!$O25<>\"\",'Vorrunde 01-24'!$O25,\"\")","v":"Stephan Seipp"},"MEX",":","JAP","DEU",":","FRA","BRA",":","SEN","TCH",":","ENG","KRO",":","SPA","USA",":","BEL","ARG",":","PAR","SCH",":","POR","DEU",":","JAP","SPA",":","USA","BRA",":","ENG","ARG",":","POR","DEU",":","SPA","BRA",":","ARG","DEU",":","BRA","SPA",":","ARG","SPA",{"$f":"IF('Vorrunde 01-24'!$O25<>\"\",'Vorrunde 01-24'!$O25,\"\")","v":"Stephan Seipp"},4,0,4,0,4,4,4,0,4,0,4,4,0,4,4,4,4,8,4,4,8,4,4,8,0,0,0,5,0,5,0,5,5,5,0,5,0,6,6,0,6,6,0,0,0,7,7,14,8,93,{"$f":"'KO-Runde 073-088'!DK25","v":173},266,null,"KON","Team 24"]
[null,null,null,null,null,null,null,null,null,null,null,null,null,null,{"$f":"IF('Vorrunde 01-24'!$O26<>\"\",'Vorrunde 01-24'!$O26,\"\")","v":"Andreas Dechert"},"MEX",":","HOL","DEU",":","FRA","BRA",":","NOR","TCH",":","ENG","KRO",":","SPA","TÜR",":","BEL","ARG",":","PAR","SCH",":","POR","FRA",":","HOL","SPA",":","TÜR","BRA",":","ENG","ARG",":","POR","FRA",":","SPA","BRA",":","ARG","SPA",":","ARG","FRA",":","BRA","FRA",{"$f":"IF('Vorrunde 01-24'!$O26<>\"\",'Vorrunde 01-24'!$O26,\"\")","v":"Andreas Dechert"},4,0,4,0,4,4,4,4,8,0,4,4,0,4,4,0,4,4,4,4,8,4,4,8,5,0,5,5,0,5,0,5,5,5,0,5,6,6,12,0,6,6,0,0,0,0,0,0,0,82,{"$f":"'KO-Runde 073-088'!DK26","v":150},232,null,"SEN","Team 25"]
[null,null,null,null,null,null,null,null,null,null,null,null,null,null,"Ergebnis",{"$f":"IF($P$28=$P$2,\"TEAM\",VLOOKUP($P$28,'Vorrunde (Tabellen)'!$B$52:$G$115,6,FALSE))","v":"KAN"},"-",{"$f":"IF($R$28=$R$2,\"TEAM\",VLOOKUP($R$28,'Vorrunde (Tabellen)'!$B$52:$G$115,6,FALSE))","v":"MAR"},{"$f":"IF($S$28=$S$2,\"TEAM\",VLOOKUP($S$28,'Vorrunde (Tabellen)'!$B$52:$G$115,6,FALSE))","v":"PAR"},"-",{"$f":"IF($U$28=$U$2,\"TEAM\",VLOOKUP($U$28,'Vorrunde (Tabellen)'!$B$52:$G$115,6,FALSE))","v":"FRA"},{"$f":"IF($V$28=$V$2,\"TEAM\",VLOOKUP($V$28,'Vorrunde (Tabellen)'!$B$52:$G$115,6,FALSE))","v":"BRA"},"-",{"$f":"IF($X$28=$X$2,\"TEAM\",VLOOKUP($X$28,'Vorrunde (Tabellen)'!$B$52:$G$115,6,FALSE))","v":"NOR"},{"$f":"IF($Y$28=$Y$2,\"TEAM\",VLOOKUP($Y$28,'Vorrunde (Tabellen)'!$B$52:$G$115,6,FALSE))","v":"MEX"},"-",{"$f":"IF($AA$28=$AA$2,\"TEAM\",VLOOKUP($AA$28,'Vorrunde (Tabellen)'!$B$52:$G$115,6,FALSE))","v":"ENG"},{"$f":"IF($AB$28=$AB$2,\"TEAM\",VLOOKUP($AB$28,'Vorrunde (Tabellen)'!$B$52:$G$115,6,FALSE))","v":"POR"},"-",{"$f":"IF($AD$28=$AD$2,\"TEAM\",VLOOKUP($AD$28,'Vorrunde (Tabellen)'!$B$52:$G$115,6,FALSE))","v":"SPA"},{"$f":"IF($AE$28=$AE$2,\"TEAM\",VLOOKUP($AE$28,'Vorrunde (Tabellen)'!$B$52:$G$115,6,FALSE))","v":"USA"},"-",{"$f":"IF($AG$28=$AG$2,\"TEAM\",VLOOKUP($AG$28,'Vorrunde (Tabellen)'!$B$52:$G$115,6,FALSE))","v":"BEL"},{"$f":"IF($AH$28=$AH$2,\"TEAM\",VLOOKUP($AH$28,'Vorrunde (Tabellen)'!$B$52:$G$115,6,FALSE))","v":"ARG"},"-",{"$f":"IF($AJ$28=$AJ$2,\"TEAM\",VLOOKUP($AJ$28,'Vorrunde (Tabellen)'!$B$52:$G$115,6,FALSE))","v":"ÄGY"},{"$f":"IF($AK$28=$AK$2,\"TEAM\",VLOOKUP($AK$28,'Vorrunde (Tabellen)'!$B$52:$G$115,6,FALSE))","v":"SCH"},"-",{"$f":"IF($AM$28=$AM$2,\"TEAM\",VLOOKUP($AM$28,'Vorrunde (Tabellen)'!$B$52:$G$115,6,FALSE))","v":"KOL"},{"$f":"IF($AN$28=$AN$2,\"TEAM\",VLOOKUP($AN$28,'Vorrunde (Tabellen)'!$B$52:$G$115,6,FALSE))","v":"FRA"},"-",{"$f":"IF($AP$28=$AP$2,\"TEAM\",VLOOKUP($AP$28,'Vorrunde (Tabellen)'!$B$52:$G$115,6,FALSE))","v":"MAR"},{"$f":"IF($AQ$28=$AQ$2,\"TEAM\",VLOOKUP($AQ$28,'Vorrunde (Tabellen)'!$B$52:$G$115,6,FALSE))","v":"SPA"},"-",{"$f":"IF($AS$28=$AS$2,\"TEAM\",VLOOKUP($AS$28,'Vorrunde (Tabellen)'!$B$52:$G$115,6,FALSE))","v":"BEL"},{"$f":"IF($AT$28=$AT$2,\"TEAM\",VLOOKUP($AT$28,'Vorrunde (Tabellen)'!$B$52:$G$115,6,FALSE))","v":"NOR"},"-",{"$f":"IF($AV$28=$AV$2,\"TEAM\",VLOOKUP($AV$28,'Vorrunde (Tabellen)'!$B$52:$G$115,6,FALSE))","v":"ENG"},{"$f":"IF($AW$28=$AW$2,\"TEAM\",VLOOKUP($AW$28,'Vorrunde (Tabellen)'!$B$52:$G$115,6,FALSE))","v":"ARG"},"-",{"$f":"IF($AY$28=$AY$2,\"TEAM\",VLOOKUP($AY$28,'Vorrunde (Tabellen)'!$B$52:$G$115,6,FALSE))","v":"SCH"},{"$f":"IF($AZ$28=$AZ$2,\"TEAM\",VLOOKUP($AZ$28,'Vorrunde (Tabellen)'!$B$52:$G$115,6,FALSE))","v":"FRA"},"-",{"$f":"IF($BB$28=$BB$2,\"TEAM\",VLOOKUP($BB$28,'Vorrunde (Tabellen)'!$B$52:$G$115,6,FALSE))","v":"SPA"},{"$f":"IF($BC$28=$BC$2,\"TEAM\",VLOOKUP($BC$28,'Vorrunde (Tabellen)'!$B$52:$G$115,6,FALSE))","v":"ENG"},"-",{"$f":"IF($BE$28=$BE$2,\"TEAM\",VLOOKUP($BE$28,'Vorrunde (Tabellen)'!$B$52:$G$115,6,FALSE))","v":"ARG"},{"$f":"IF($BF$28=$BF$2,\"TEAM\",VLOOKUP($BF$28,'Vorrunde (Tabellen)'!$B$52:$G$115,6,FALSE))","v":"FRA"},"-",{"$f":"IF($BH$28=$BH$2,\"TEAM\",VLOOKUP($BH$28,'Vorrunde (Tabellen)'!$B$52:$G$115,6,FALSE))","v":"ENG"},{"$f":"IF($BI$28=$BI$2,\"TEAM\",VLOOKUP($BI$28,'Vorrunde (Tabellen)'!$B$52:$G$115,6,FALSE))","v":"SPA"},"-",{"$f":"IF($BK$28=$BK$2,\"TEAM\",VLOOKUP($BK$28,'Vorrunde (Tabellen)'!$B$52:$G$115,6,FALSE))","v":"ARG"},{"$f":"IF($BL$28=$BL$1,\"TEAM\",VLOOKUP($BL$28,'Vorrunde (Tabellen)'!$B$52:$G$115,6,FALSE))","v":"SPA"},"ENDRUNDE",{"$f":"$P$1","v":90},null,null,{"$f":"$S$1","v":89},null,null,{"$f":"$V$1","v":91},null,null,{"$f":"$Y$1","v":92},null,null,{"$f":"$AB$1","v":93},null,null,{"$f":"$AE$1","v":94},null,null,{"$f":"$AH$1","v":95},null,null,{"$f":"$AK$1","v":96},null,null,{"$f":"$AN$1","v":97},null,null,{"$f":"$AQ$1","v":98},null,null,{"$f":"$AT$1","v":99},null,null,{"$f":"$AW$1","v":100},null,null,{"$f":"$AZ$1","v":101},null,null,{"$f":"$BC$1","v":102},null,null,{"$f":"$BF$1","v":103},null,null,{"$f":"$BI$1","v":104},null,null,{"$f":"BL1","v":"Fußball-Weltmeister  2026"},"Stand vom :",null,null,null,"BOH","Team 26"]
[null,null,null,null,null,null,null,null,null,null,null,null,null,null,"ENDRUNDE",{"$f":"$E$2","v":"Kanada"},{"$f":"$K$2","v":"USA / NRG Stadium (Houston)"},{"$f":"$G$2","v":"Marokko"},{"$f":"$E$3","v":"Paraguay"},{"$f":"$K$3","v":"USA / Lincoln Financial Field (Philadelphia)"},{"$f":"$G$3","v":"Frankreich"},{"$f":"$E$4","v":"Brasilien"},{"$f":"$K$4","v":"USA / MetLife Stadium (New York/New Jersey)"},{"$f":"$G$4","v":"Norwegen"},{"$f":"$E$5","v":"Mexiko"},{"$f":"$K$5","v":"Mexiko / Azteca (Mexico City)"},{"$f":"$G$5","v":"England"},{"$f":"$E$6","v":"Portugal"},{"$f":"$K$6","v":"USA / AT&T Stadium (Dallas)"},{"$f":"$G$6","v":"Spanien"},{"$f":"$E$7","v":"USA"},{"$f":"$K$7","v":"USA / Lumen Field (Seattle)"},{"$f":"$G$7","v":"Belgien"},{"$f":"$E$8","v":"Argentinien"},{"$f":"$K$8","v":"USA / Mercedes-Benz Stadium (Atlanta)"},{"$f":"$G$8","v":"Ägypten"},{"$f":"$E$9","v":"Schweiz"},{"$f":"$K$9","v":"Kanada / BC Place Stadium (Vancouver)"},{"$f":"$G$9","v":"Kolumbien"},{"$f":"$E$10","v":"Frankreich"},{"$f":"$K$10","v":"USA / Gillette Stadium (Boston)"},{"$f":"$G$10","v":"Marokko"},{"$f":"$E$11","v":"Spanien"},{"$f":"$K$11","v":"USA / SoFi Stadium (Los Angeles)"},{"$f":"$G$11","v":"Belgien"},{"$f":"$E$12","v":"Norwegen"},{"$f":"$K$12","v":"USA / Hard Rock Stadium (Miami)"},{"$f":"$G$12","v":"England"},{"$f":"$E$13","v":"Argentinien"},{"$f":"$K$13","v":"USA / Arrowhead Stadium (Kansas City)"},{"$f":"$G$13","v":"Schweiz"},{"$f":"$E$14","v":"Frankreich"},{"$f":"$K$14","v":"USA / AT&T Stadium (Dallas)"},{"$f":"$G$14","v":"Spanien"},{"$f":"$E$15","v":"England"},{"$f":"$K$15","v":"USA / Mercedes-Benz Stadium (Atlanta)"},{"$f":"$G$15","v":"Argentinien"},{"$f":"$E$16","v":"Frankreich"},{"$f":"$K$16","v":"USA / Hard Rock Stadium (Miami)"},{"$f":"$G$16","v":"England"},{"$f":"$E$17","v":"Spanien"},{"$f":"$K$17","v":"USA / MetLife Stadium (New York/New Jersey)"},{"$f":"$G$17","v":"Argentinien"},{"$f":"IF($H$17>$J$17,$E$17,IF($J$17>$H$17,G$17,\"Fußball-Weltmeister  2026\"))","v":"Spanien"},null,null,null,null,null,null,null,null,null,null,null,null,null,null,null,null,null,null,null,null,null,null,null,null,null,null,null,null,null,null,null,null,null,null,null,null,null,null,null,null,null,null,null,null,null,null,null,null,null,null,{"$f":"TODAY()","v":"2026-07-20"},null,null,null,"ÖST","Team 27"]
[null,null,null,null,null,null,null,null,null,null,null,null,null,null,null,null,null,null,null,null,null,null,null,null,null,null,null,null,null,null,null,null,null,null,null,null,null,null,null,null,null,null,null,null,null,null,null,null,null,null,null,null,null,null,null,null,null,null,null,null,null,null,null,null,null,null,null,null,null,null,null,null,null,null,null,null,null,null,null,null,null,null,null,null,null,null,null,null,null,null,null,null,null,null,null,null,null,null,null,null,null,null,null,null,null,null,null,null,null,null,null,null,null,null,null,null,null,null,"KRO","Team 28"]
[null,null,null,null,null,null,null,null,null,null,null,null,null,null,null,null,null,null,null,null,null,null,null,null,null,null,null,null,null,null,null,null,null,null,null,null,null,null,null,null,null,null,null,null,null,null,null,null,null,null,null,null,null,null,null,null,null,null,null,null,null,null,null,null,null,null,null,null,null,null,null,null,null,null,null,null,null,null,null,null,null,null,null,null,null,null,null,null,null,null,null,null,null,null,null,null,null,null,null,null,null,null,null,null,null,null,null,null,null,null,null,null,null,null,null,null,null,null,"ALG","Team 29"]
[null,null,null,null,null,null,null,null,null,null,null,null,null,null,null,null,null,null,null,null,null,null,null,null,null,null,null,null,null,null,null,null,null,null,null,null,null,null,null,null,null,null,null,null,null,null,null,null,null,null,null,null,null,null,null,null,null,null,null,null,null,null,null,null,null,null,null,null,null,null,null,null,null,null,null,null,null,null,null,null,null,null,null,null,null,null,null,null,null,null,null,null,null,null,null,null,null,null,null,null,null,null,null,null,null,null,null,null,null,null,null,null,null,null,null,null,null,null,"AUS","Team 30"]
[null,null,null,null,null,null,null,null,null,null,null,null,null,null,null,null,null,null,null,null,null,null,null,null,null,null,null,null,null,null,null,null,null,null,null,null,null,null,null,null,null,null,null,null,null,null,null,null,null,null,null,null,null,null,null,null,null,null,null,null,null,null,null,null,null,null,null,null,null,null,null,null,null,null,null,null,null,null,null,null,null,null,null,null,null,null,null,null,null,null,null,null,null,null,null,null,null,null,null,null,null,null,null,null,null,null,null,null,null,null,null,null,null,null,null,null,null,null,"KVD","Team 31"]
[null,null,null,null,null,null,null,null,null,null,null,null,null,null,null,null,null,null,null,null,null,null,null,null,null,null,null,null,null,null,null,null,null,null,null,null,null,null,null,null,null,null,null,null,null,null,null,null,null,null,null,null,null,null,null,null,null,null,null,null,null,null,null,null,null,null,null,null,null,null,null,null,null,null,null,null,null,null,null,null,null,null,null,null,null,null,null,null,null,null,null,null,null,null,null,null,null,null,null,null,null,null,null,null,null,null,null,null,null,null,null,null,null,null,null,null,null,null,"GAN","Team 32"]
[null,null,null,null,null,null,null,null,null,null,null,null,null,null,null,null,null,null,null,null,null,null,null,null,null,null,null,null,null,null,null,null,null,null,null,null,null,null,null,null,null,null,null,null,null,null,null,null,null,null,null,null,null,null,null,null,null,null,null,null,null,null,null,null,null,null,null,null,null,null,null,null,null,null,null,null,null,null,null,null,null,null,null,null,null,null,null,null,null,null,null,null,null,null,null,null,null,null,null,null,null,null,null,null,null,null,null,null,null,null,null,null,null,null,null,null,null,null,"KAN","Team 33"]
[null,null,null,null,null,null,null,null,null,null,null,null,null,null,null,null,null,null,null,null,null,null,null,null,null,null,null,null,null,null,null,null,null,null,null,null,null,null,null,null,null,null,null,null,null,null,null,null,null,null,null,null,null,null,null,null,null,null,null,null,null,null,null,null,null,null,null,null,null,null,null,null,null,null,null,null,null,null,null,null,null,null,null,null,null,null,null,null,null,null,null,null,null,null,null,null,null,null,null,null,null,null,null,null,null,null,null,null,null,null,null,null,null,null,null,null,null,null,"PAR","Team 34"]
[null,null,null,null,null,null,null,null,null,null,null,null,null,null,null,null,null,null,null,null,null,null,null,null,null,null,null,null,null,null,null,null,null,null,null,null,null,null,null,null,null,null,null,null,null,null,null,null,null,null,null,null,null,null,null,null,null,null,null,null,null,null,null,null,null,null,null,null,null,null,null,null,null,null,null,null,null,null,null,null,null,null,null,null,null,null,null,null,null,null,null,null,null,null,null,null,null,null,null,null,null,null,null,null,null,null,null,null,null,null,null,null,null,null,null,null,null,null,"BRA","Team 35"]
[null,null,null,null,null,null,null,null,null,null,null,null,null,null,null,null,null,null,null,null,null,null,null,null,null,null,null,null,null,null,null,null,null,null,null,null,null,null,null,null,null,null,null,null,null,null,null,null,null,null,null,null,null,null,null,null,null,null,null,null,null,null,null,null,null,null,null,null,null,null,null,null,null,null,null,null,null,null,null,null,null,null,null,null,null,null,null,null,null,null,null,null,null,null,null,null,null,null,null,null,null,null,null,null,null,null,null,null,null,null,null,null,null,null,null,null,null,null,"MEX","Team 36"]
[null,null,null,null,null,null,null,null,null,null,null,null,null,null,null,null,null,null,null,null,null,null,null,null,null,null,null,null,null,null,null,null,null,null,null,null,null,null,null,null,null,null,null,null,null,null,null,null,null,null,null,null,null,null,null,null,null,null,null,null,null,null,null,null,null,null,null,null,null,null,null,null,null,null,null,null,null,null,null,null,null,null,null,null,null,null,null,null,null,null,null,null,null,null,null,null,null,null,null,null,null,null,null,null,null,null,null,null,null,null,null,null,null,null,null,null,null,null,"POR","Team 37"]
[null,null,null,null,null,null,null,null,null,null,null,null,null,null,null,null,null,null,null,null,null,null,null,null,null,null,null,null,null,null,null,null,null,null,null,null,null,null,null,null,null,null,null,null,null,null,null,null,null,null,null,null,null,null,null,null,null,null,null,null,null,null,null,null,null,null,null,null,null,null,null,null,null,null,null,null,null,null,null,null,null,null,null,null,null,null,null,null,null,null,null,null,null,null,null,null,null,null,null,null,null,null,null,null,null,null,null,null,null,null,null,null,null,null,null,null,null,null,"USA","Team 38"]
[null,null,null,null,null,null,null,null,null,null,null,null,null,null,null,null,null,null,null,null,null,null,null,null,null,null,null,null,null,null,null,null,null,null,null,null,null,null,null,null,null,null,null,null,null,null,null,null,null,null,null,null,null,null,null,null,null,null,null,null,null,null,null,null,null,null,null,null,null,null,null,null,null,null,null,null,null,null,null,null,null,null,null,null,null,null,null,null,null,null,null,null,null,null,null,null,null,null,null,null,null,null,null,null,null,null,null,null,null,null,null,null,null,null,null,null,null,null,"ÄGY","Team 39"]
[null,null,null,null,null,null,null,null,null,null,null,null,null,null,null,null,null,null,null,null,null,null,null,null,null,null,null,null,null,null,null,null,null,null,null,null,null,null,null,null,null,null,null,null,null,null,null,null,null,null,null,null,null,null,null,null,null,null,null,null,null,null,null,null,null,null,null,null,null,null,null,null,null,null,null,null,null,null,null,null,null,null,null,null,null,null,null,null,null,null,null,null,null,null,null,null,null,null,null,null,null,null,null,null,null,null,null,null,null,null,null,null,null,null,null,null,null,null,"KOL","Team 40"]
[null,null,null,null,null,null,null,null,null,null,null,null,null,null,null,null,null,null,null,null,null,null,null,null,null,null,null,null,null,null,null,null,null,null,null,null,null,null,null,null,null,null,null,null,null,null,null,null,null,null,null,null,null,null,null,null,null,null,null,null,null,null,null,null,null,null,null,null,null,null,null,null,null,null,null,null,null,null,null,null,null,null,null,null,null,null,null,null,null,null,null,null,null,null,null,null,null,null,null,null,null,null,null,null,null,null,null,null,null,null,null,null,null,null,null,null,null,null,"MAR","Team 41"]
[null,null,null,null,null,null,null,null,null,null,null,null,null,null,null,null,null,null,null,null,null,null,null,null,null,null,null,null,null,null,null,null,null,null,null,null,null,null,null,null,null,null,null,null,null,null,null,null,null,null,null,null,null,null,null,null,null,null,null,null,null,null,null,null,null,null,null,null,null,null,null,null,null,null,null,null,null,null,null,null,null,null,null,null,null,null,null,null,null,null,null,null,null,null,null,null,null,null,null,null,null,null,null,null,null,null,null,null,null,null,null,null,null,null,null,null,null,null,"BEL","Team 42"]
[null,null,null,null,null,null,null,null,null,null,null,null,null,null,null,null,null,null,null,null,null,null,null,null,null,null,null,null,null,null,null,null,null,null,null,null,null,null,null,null,null,null,null,null,null,null,null,null,null,null,null,null,null,null,null,null,null,null,null,null,null,null,null,null,null,null,null,null,null,null,null,null,null,null,null,null,null,null,null,null,null,null,null,null,null,null,null,null,null,null,null,null,null,null,null,null,null,null,null,null,null,null,null,null,null,null,null,null,null,null,null,null,null,null,null,null,null,null,"NOR","Team 43"]
[null,null,null,null,null,null,null,null,null,null,null,null,null,null,null,null,null,null,null,null,null,null,null,null,null,null,null,null,null,null,null,null,null,null,null,null,null,null,null,null,null,null,null,null,null,null,null,null,null,null,null,null,null,null,null,null,null,null,null,null,null,null,null,null,null,null,null,null,null,null,null,null,null,null,null,null,null,null,null,null,null,null,null,null,null,null,null,null,null,null,null,null,null,null,null,null,null,null,null,null,null,null,null,null,null,null,null,null,null,null,null,null,null,null,null,null,null,null,"SCH","Team 44"]
[null,null,null,null,null,null,null,null,null,null,null,null,null,null,null,null,null,null,null,null,null,null,null,null,null,null,null,null,null,null,null,null,null,null,null,null,null,null,null,null,null,null,null,null,null,null,null,null,null,null,null,null,null,null,null,null,null,null,null,null,null,null,null,null,null,null,null,null,null,null,null,null,null,null,null,null,null,null,null,null,null,null,null,null,null,null,null,null,null,null,null,null,null,null,null,null,null,null,null,null,null,null,null,null,null,null,null,null,null,null,null,null,null,null,null,null,null,null,"FRA","Team 45"]
[null,null,null,null,null,null,null,null,null,null,null,null,null,null,null,null,null,null,null,null,null,null,null,null,null,null,null,null,null,null,null,null,null,null,null,null,null,null,null,null,null,null,null,null,null,null,null,null,null,null,null,null,null,null,null,null,null,null,null,null,null,null,null,null,null,null,null,null,null,null,null,null,null,null,null,null,null,null,null,null,null,null,null,null,null,null,null,null,null,null,null,null,null,null,null,null,null,null,null,null,null,null,null,null,null,null,null,null,null,null,null,null,null,null,null,null,null,null,"ENG","Team 46"]

{"sheet":"Tipp-Tabelle","index":6,"n_rows":23,"n_cols":9,"rows_kept":23,"cut":false,"hidden":false,"merged":[[0,0,0,5],[1,0,1,1],[1,2,1,3],[1,4,1,5],[2,0,2,1],[2,2,2,3],[2,4,2,5],[6,0,6,1],[6,2,6,3],[6,4,6,5],[3,0,3,1],[3,2,3,3],[3,4,3,5],[4,0,4,1],[4,2,4,3],[4,4,4,5],[5,0,5,1],[5,2,5,3],[5,4,5,5],[7,0,7,1],[7,2,7,3],[7,4,7,5],[8,0,8,1],[8,2,8,3],[8,4,8,5],[9,0,9,1],[9,2,9,3],[9,4,9,5],[10,0,10,1],[10,2,10,3],[10,4,10,5],[11,0,11,1],[11,2,11,3],[11,4,11,5],[12,0,12,1],[12,2,12,3],[12,4,12,5],[13,0,13,1],[13,2,13,3],[13,4,13,5],[14,0,14,1],[14,2,14,3],[14,4,14,5],[15,0,15,1],[15,2,15,3],[15,4,15,5],[16,0,16,1],[16,2,16,3],[16,4,16,5],[17,0,17,1],[17,2,17,3],[17,4,17,5],[18,0,18,1],[18,2,18,3],[18,4,18,5],[22,4,22,5],[21,0,21,1],[21,2,21,3],[21,4,21,5],[19,0,19,1],[19,2,19,3],[19,4,19,5],[20,0,20,1],[20,2,20,3],[20,4,20,5]]}
["Tipprunde  zur  Weltmeisterschaft  2026"]
["Platz",null,"Name  des  Mitspielers",null,"Punkte"]
[1,null,{"$f":"IF('Vorrunde 01-24'!$O7<>\"\",'Vorrunde 01-24'!$O7,\"\")","v":"Tilo Schott"},null,{"$f":"'KO-Runde 089-104'!$DM7","v":285},null,null,"Gewinn",{"$f":"(20*10)*0.3","v":60}]
[{"$f":"IF(E4=E3,\"\",ROW()-2)","v":2},null,{"$f":"IF('Vorrunde 01-24'!$O11<>\"\",'Vorrunde 01-24'!$O11,\"\")","v":"Lothar Jungk"},null,{"$f":"'KO-Runde 089-104'!$DM11","v":280},null,null,"Gewinn",{"$f":"(20*10)*0.25","v":50}]
[{"$f":"IF(E5=E4,\"\",ROW()-2)","v":3},null,{"$f":"IF('Vorrunde 01-24'!$O10<>\"\",'Vorrunde 01-24'!$O10,\"\")","v":"Robert Krieg"},null,{"$f":"'KO-Runde 089-104'!$DM10","v":279},null,null,"Gewinn",{"$f":"(20*10)*0.2","v":40}]
[4,null,{"$f":"IF('Vorrunde 01-24'!$O24<>\"\",'Vorrunde 01-24'!$O24,\"\")","v":"Uwe Diegel"},null,{"$f":"'KO-Runde 089-104'!$DM24","v":273},null,null,"Gewinn",{"$f":"(20*10)*0.15","v":30}]
[5,null,{"$f":"IF('Vorrunde 01-24'!$O22<>\"\",'Vorrunde 01-24'!$O22,\"\")","v":"Sebastian Hausmann"},null,{"$f":"'KO-Runde 089-104'!$DM22","v":270},null,null,"Gewinn",{"$f":"(20*10)*0.1","v":20}]
[6,null,{"$f":"IF('Vorrunde 01-24'!$O25<>\"\",'Vorrunde 01-24'!$O25,\"\")","v":"Stephan Seipp"},null,{"$f":"'KO-Runde 089-104'!$DM25","v":266},null,null,"Jackpot",{"$f":"SUM(I3:I7)","v":200}]
[7,null,{"$f":"IF('Vorrunde 01-24'!$O13<>\"\",'Vorrunde 01-24'!$O13,\"\")","v":"Marco Frank"},null,{"$f":"'KO-Runde 089-104'!$DM13","v":265}]
[8,null,{"$f":"IF('Vorrunde 01-24'!$O20<>\"\",'Vorrunde 01-24'!$O20,\"\")","v":"Joachim Well"},null,{"$f":"'KO-Runde 089-104'!$DM20","v":263}]
[9,null,{"$f":"IF('Vorrunde 01-24'!$O12<>\"\",'Vorrunde 01-24'!$O12,\"\")","v":"Jakob Well"},null,{"$f":"'KO-Runde 089-104'!$DM12","v":262}]
[10,null,{"$f":"IF('Vorrunde 01-24'!$O8<>\"\",'Vorrunde 01-24'!$O8,\"\")","v":"Arno Schneucker"},null,{"$f":"'KO-Runde 089-104'!$DM8","v":261}]
[11,null,{"$f":"IF('Vorrunde 01-24'!$O9<>\"\",'Vorrunde 01-24'!$O9,\"\")","v":"Silke Seibert"},null,{"$f":"'KO-Runde 089-104'!$DM9","v":260}]
["",null,{"$f":"IF('Vorrunde 01-24'!$O14<>\"\",'Vorrunde 01-24'!$O14,\"\")","v":"Simon Schott"},null,{"$f":"'KO-Runde 089-104'!$DM14","v":260}]
[13,null,{"$f":"IF('Vorrunde 01-24'!$O19<>\"\",'Vorrunde 01-24'!$O19,\"\")","v":"Ingrid Well"},null,{"$f":"'KO-Runde 089-104'!$DM19","v":254}]
[14,null,{"$f":"IF('Vorrunde 01-24'!$O18<>\"\",'Vorrunde 01-24'!$O18,\"\")","v":"Helen Rechmann"},null,{"$f":"'KO-Runde 089-104'!$DM18","v":252}]
[15,null,{"$f":"IF('Vorrunde 01-24'!$O23<>\"\",'Vorrunde 01-24'!$O23,\"\")","v":"Stefan Rechmann"},null,{"$f":"'KO-Runde 089-104'!$DM23","v":242}]
[16,null,{"$f":"IF('Vorrunde 01-24'!$O15<>\"\",'Vorrunde 01-24'!$O15,\"\")","v":"Lennart Rechmann"},null,{"$f":"'KO-Runde 089-104'!$DM15","v":239}]
[17,null,{"$f":"IF('Vorrunde 01-24'!$O17<>\"\",'Vorrunde 01-24'!$O17,\"\")","v":"Christoph Hoffmann "},null,{"$f":"'KO-Runde 089-104'!$DM17","v":237}]
[18,null,{"$f":"IF('Vorrunde 01-24'!$O26<>\"\",'Vorrunde 01-24'!$O26,\"\")","v":"Andreas Dechert"},null,{"$f":"'KO-Runde 089-104'!$DM26","v":232}]
[19,null,{"$f":"IF('Vorrunde 01-24'!$O21<>\"\",'Vorrunde 01-24'!$O21,\"\")","v":"Lea Müller"},null,{"$f":"'KO-Runde 089-104'!$DM21","v":227}]
[20,null,{"$f":"IF('Vorrunde 01-24'!$O16<>\"\",'Vorrunde 01-24'!$O16,\"\")","v":"Albrecht Well"},null,{"$f":"'KO-Runde 089-104'!$DM16","v":218}]
["Stand  nach",{"$f":"'KO-Runde 089-104'!$DQ$7","v":104}," von  104 Spielen","Datum :",{"$f":"TODAY()","v":"2026-07-20"}]

{"sheet":"Tippmodus","index":7,"n_rows":40,"n_cols":12,"rows_kept":40,"cut":false,"hidden":false,"merged":[[38,0,38,2],[38,6,38,12],[39,0,39,2],[39,6,39,12],[36,2,36,10],[33,11,33,13],[34,11,34,13],[35,11,35,13],[35,2,35,10],[36,11,36,13],[33,2,33,10],[34,2,34,10],[32,11,32,13],[23,6,23,12],[25,0,25,2],[25,6,25,10],[25,11,25,13],[26,0,26,2],[26,6,26,10],[26,11,26,13],[27,6,27,13],[28,3,28,5],[28,6,28,13],[31,11,31,13],[30,11,30,13],[30,2,30,10],[31,2,31,10],[32,2,32,10],[22,6,22,12],[14,0,14,2],[14,3,14,13],[15,0,15,2],[15,3,15,13],[17,0,17,2],[17,6,17,12],[18,0,18,2],[18,6,18,12],[19,6,19,12],[20,6,20,12],[21,6,21,12],[12,0,12,2],[12,3,12,13],[0,0,0,13],[2,0,2,2],[3,0,3,2],[3,3,3,13],[5,0,5,2],[5,3,5,13],[6,0,6,2],[6,3,6,13],[8,0,9,2],[9,3,9,13],[11,0,11,2]]}
["Teilnahmeinformationen und Auswertungsmodus"]
[]
["Beginn und Ende der"]
["Weltmeisterschaft",null,null,"vom  11. Juni  2026  bis  19. Juli  2026"]
[]
["Wo gibt es die",null,null,"bei Tilo Schott      oder      Online unter der Adresse :"]
["Tipp - Formulare  ?",null,null,"https://sv-ehringshausen.de/wm-tipprunde-2026/"]
[]
["Was kostet der Einsatz  ?"]
[null,null,null,"10  EURO   ( für jeden abgegebenen Tipp-Schein )"]
[]
["Letzter Abgabetermin"]
["für die  Tipp - Formulare",null,null,"2026-06-10"]
[]
["Abgabeort",null,null,"per eMail an die Adresse :"]
["der  Tipp - Formulare",null,null,"tilo.schott@sv-ehringshausen.de"]
[]
["Was muß ich",null,null,null,null,"1.","alle Ergebnisse der Vorrundenspiele"]
["tippen  ?",null,null,null,null,"2.","die Mannschaften, die sich für die weiteren"]
[null,null,null,null,null,null,"Finalrunden ( Sechzehntelfinale bis Endspiel )"]
[null,null,null,null,null,null,"qualifizieren"]
[null,null,null,null,null,null,"( die Zusammenstellung der Spielpaarungen"]
[null,null,null,null,null,null,"  für die einzelnen Finalrunden muß  nicht  die"]
[null,null,null,null,null,null,"  Folge der getippten Vorrundenspiele sein )"]
[]
["Der Auswertungsmodus",null,null,null,null,"1.","für jedes exakt richtige Ergebnis",null,null,null,null,"3 Punkte"]
["für die WM - Tipprunde",null,null,null,null,"2.","für die richtige Ergebnis-Tendenz",null,null,null,null,"2 Punkte"]
[null,null,null,null,null,null,"( wenn man z. B. bei einem 0 : 0 ein 2 : 2 getippt hat )"]
[null,null,null,"oder",null,null,"( wenn man z. B. bei einem 3 : 0 ein 3 : 2 getippt hat )"]
[]
[null,"3.  ","für jede richtig getippte Mannschaft im Sechzehntelfinale",null,null,null,null,null,null,null,null,"3 Punkte"]
[null,"4.  ","für jede richtig getippte Mannschaft im Achtelfinale",null,null,null,null,null,null,null,null,"4 Punkte"]
[null,"5.  ","für jede richtig getippte Mannschaft im Viertelfinale",null,null,null,null,null,null,null,null,"5 Punkte"]
[null,"6.  ","für jede richtig getippte Mannschaft im Halbfinale",null,null,null,null,null,null,null,null,"6 Punkte"]
[null,"7.  ","für jedes richtig getippte Team im Spiel um Platz 3",null,null,null,null,null,null,null,null,"1 Punkt"]
[null,"8.  ","für jeden richtig getippten Endspielteilnehmer",null,null,null,null,null,null,null,null,"7 Punkte"]
[null,"9.  ","für den richtig getippten Weltmeister 2026",null,null,null,null,null,null,null,null,"8 Punkte"]
[]
["Gewinnverteilung",null,null,null,null,null,"1. Platz = 30 %, 2. Platz = 25 %, 3. Platz = 20 %"]
["vom Gesamteinsatz",null,null,null,null,null,"4. Platz = 15 %, 5. Platz = 10 %"]

{"sheet":"Teilnehmer - Austragungsorte","index":8,"n_rows":0,"n_cols":0,"rows_kept":0,"cut":false,"hidden":false,"merged":[[4,16,4,17]]}