{"text_format":"1","workbook":"xlsx","n_sheets":9,"sheets":["Vorrunde 01-24","Vorrunde 25-48","Vorrunde 49-72","Vorrunde (Tabellen)","KO-Runde 073-088","KO-Runde 089-104","Tipp-Tabelle","Tippmodus","Teilnehmer - Austragungsorte"],"not_rendered":{"charts":0,"images":99,"macros":1,"external_links":1,"defined_names":24,"comments":0,"pivot_tables":0},"unopened":[],"bounds":{"document_bytes":16777216,"sheet_cells":100000,"rows_first":2000,"rows_last":500,"rows_between":2000,"halvings":0,"cell_chars":16384,"cell_head_chars":4096},"cells_cut":0,"cells_raw":0,"read":"whole","date_system":"1900"}

{"sheet":"Vorrunde 01-24","index":0,"n_rows":58,"n_cols":211,"rows_kept":58,"cut":false,"hidden":false,"merged":[[1,16,5,16],[1,17,5,17],[1,18,5,18],[1,19,5,19],[0,48,0,50],[0,51,0,53],[0,54,0,56],[0,57,0,59],[1,34,5,34],[1,35,5,35],[1,36,5,36],[1,37,5,37],[1,28,5,28],[1,29,5,29],[1,30,5,30],[1,31,5,31],[1,32,5,32],[1,48,5,48],[1,49,5,49],[1,50,5,50],[1,51,5,51],[1,52,5,52],[1,38,5,38],[1,39,5,39],[0,4,0,6],[0,7,0,9],[0,15,0,17],[0,33,0,35],[0,36,0,38],[0,39,0,41],[0,42,0,44],[0,45,0,47],[0,18,0,20],[0,21,0,23],[0,24,0,26],[0,27,0,29],[0,30,0,32],[0,14,5,14],[1,23,5,23],[1,24,5,24],[1,25,5,25],[1,26,5,26],[1,27,5,27],[1,20,5,20],[1,21,5,21],[1,22,5,22],[1,33,5,33],[1,15,5,15],[0,148,5,152],[0,153,5,157],[0,158,5,162],[0,163,5,167],[0,168,5,172],[0,78,0,80],[0,81,0,83],[0,84,0,86],[0,88,5,92],[0,93,5,97],[1,78,5,78],[1,79,5,79],[1,80,5,80],[1,81,5,81],[1,82,5,82],[1,83,5,83],[1,84,5,84],[1,85,5,85],[1,86,5,86],[1,87,5,87],[0,143,5,147],[0,98,5,102],[0,103,5,107],[0,128,5,132],[1,40,5,40],[1,41,5,41],[1,42,5,42],[1,53,5,53],[1,54,5,54],[1,55,5,55],[1,56,5,56],[1,43,5,43],[1,44,5,44],[1,45,5,45],[1,46,5,46],[1,47,5,47],[57,208,57,210],[1,73,5,73],[1,74,5,74],[1,75,5,75],[1,76,5,76],[1,77,5,77],[1,68,5,68],[1,69,5,69],[1,70,5,70],[1,71,5,71],[1,72,5,72],[55,158,57,162],[55,163,57,167],[55,168,57,172],[56,85,57,85],[56,70,57,70],[56,73,57,73],[0,108,5,112],[0,113,5,117],[0,118,5,122],[0,173,5,177],[0,178,5,182],[0,183,5,187],[0,188,5,192],[0,133,5,137],[0,138,5,142],[56,55,57,55],[56,58,57,58],[56,61,57,61],[56,64,57,64],[56,67,57,67],[1,66,5,66],[1,67,5,67],[1,58,5,58],[1,59,5,59],[1,60,5,60],[1,61,5,61],[1,62,5,62],[1,57,5,57],[0,63,0,65],[0,66,0,68],[0,69,0,71],[0,72,0,74],[0,75,0,77],[1,63,5,63],[1,64,5,64],[1,65,5,65],[0,60,0,62],[1,208,5,208],[1,209,5,209],[1,210,5,210],[55,87,57,87],[55,88,57,92],[55,93,57,97],[55,98,57,102],[55,103,57,107],[55,108,57,112],[55,113,57,117],[55,118,57,122],[55,123,57,127],[55,128,57,132],[55,133,57,137],[55,138,57,142],[55,143,57,147],[0,198,5,202],[0,203,5,207],[0,193,5,197],[56,208,56,210],[55,198,57,202],[55,203,57,207],[55,193,57,197],[0,123,5,127],[56,14,57,14],[56,16,57,16],[56,19,57,19],[56,22,57,22],[56,25,57,25],[56,28,57,28],[56,31,57,31],[56,34,57,34],[56,37,57,37],[56,40,57,40],[56,43,57,43],[56,46,57,46],[56,49,57,49],[56,52,57,52],[55,173,57,177],[55,178,57,182],[55,183,57,187],[55,188,57,192],[55,148,57,152],[55,153,57,157],[56,76,57,76],[56,79,57,79],[56,82,57,82]]}
["Spiele 1-24   (chronologisch)","Anstoßzeit","Ortszeit","Spiel-Nr.","Spielpaarungen / Gruppen",null,null,"Ergebnis",null,null,"Austragungsort / Stadion","Vorrunde","Live-TV Übertragungsrechte"," - ","NAME","Spiel 01",null,null,"Spiel 02",null,null,"Spiel 03",null,null,"Spiel 04",null,null,"Spiel 05",null,null,"Spiel 06",null,null,"Spiel 07",null,null,"Spiel 08",null,null,"Spiel 09",null,null,"Spiel 10",null,null,"Spiel 11",null,null,"Spiel 12",null,null,"Spiel 13",null,null,"Spiel 14",null,null,"Spiel 15",null,null,"Spiel 16",null,null,"Spiel 17",null,null,"Spiel 18",null,null,"Spiel 19",null,null,"Spiel 20",null,null,"Spiel 21",null,null,"Spiel 22",null,null,"Spiel 23",null,null,"Spiel 24",null,null,null,{"$f":"$P$2&$N$1&$R$2","v":"Mexiko - Südafrika"},null,null,null,null,{"$f":"$S$2&$N$1&$U$2","v":"Südkorea - Tschechien"},null,null,null,null,{"$f":"$V$2&$N$1&$X$2","v":"Kanada - Bosnien-Herzegowina"},null,null,null,null,{"$f":"$Y$2&$N$1&$AA$2","v":"USA - Paraguay"},null,null,null,null,{"$f":"$AB$2&$N$1&$AD$2","v":"Katar - Schweiz"},null,null,null,null,{"$f":"$AE$2&$N$1&$AG$2","v":"Brasilien - Marokko"},null,null,null,null,{"$f":"$AH$2&$N$1&$AJ$2","v":"Haiti - Schottland"},null,null,null,null,{"$f":"$AK$2&$N$1&$AM$2","v":"Australien - Türkei"},null,null,null,null,{"$f":"$AN$2&$N$1&$AP$2","v":"Deutschland - Curaçao"},null,null,null,null,{"$f":"$AQ$2&$N$1&$AS$2","v":"Niederlande - Japan"},null,null,null,null,{"$f":"$AT$2&$N$1&$AV$2","v":"Elfenbeinküste - Ecuador"},null,null,null,null,{"$f":"$AW$2&$N$1&$AY$2","v":"Schweden - Tunesien"},null,null,null,null,{"$f":"$AZ$2&$N$1&$BB$2","v":"Spanien - Kap Verde"},null,null,null,null,{"$f":"$BC$2&$N$1&$BE$2","v":"Belgien - Ägypten"},null,null,null,null,{"$f":"$BF$2&$N$1&$BH$2","v":"Saudi-Arabien - Uruguay"},null,null,null,null,{"$f":"$BI$2&$N$1&$BK$2","v":"Iran - Neuseeland"},null,null,null,null,{"$f":"$BL$2&$N$1&$BN$2","v":"Frankreich - Senegal"},null,null,null,null,{"$f":"$BO$2&$N$1&$BQ$2","v":"Irak - Norwegen"},null,null,null,null,{"$f":"$BR$2&$N$1&$BT$2","v":"Argentinien - Algerien"},null,null,null,null,{"$f":"$BU$2&$N$1&$BW$2","v":"Österreich - Jordanien"},null,null,null,null,{"$f":"$BX$2&$N$1&$BZ$2","v":"Portugal - DR Kongo"},null,null,null,null,{"$f":"$CA$2&$N$1&$CC$2","v":"England - Kroatien"},null,null,null,null,{"$f":"$CD$2&$N$1&$CF$2","v":"Ghana - Panama"},null,null,null,null,{"$f":"$CG$2&$N$1&$CI$2","v":"Usbekistan - Kolumbien"},null,null,null,null,"PUNKTE","PUNKTE","PUNKTE"]
["2026-06-11T21:00:00",46184.875,"2026-06-11T13:00:00",1,"Mexiko (A1)","-","Südafrika (A2)",null,":",null,"Mexiko / Azteca (Mexico City)","1. Gruppenspiel","ZDF und MagentaTV",{"$f":"IF($J2<>\"\",1,0)","v":0},null,{"$f":"LEFT($E$2, LEN($E$2) - LEN(TRIM(RIGHT(SUBSTITUTE(TRIM($E$2), \" \", REPT(\" \", 100)), 100))) - 1)","v":"Mexiko"},"gegen",{"$f":"LEFT($G$2, LEN($G$2) - LEN(TRIM(RIGHT(SUBSTITUTE(TRIM($G$2), \" \", REPT(\" \", 100)), 100))) - 1)","v":"Südafrika"},{"$f":"LEFT($E$3, LEN($E$3) - LEN(TRIM(RIGHT(SUBSTITUTE(TRIM($E$3), \" \", REPT(\" \", 100)), 100))) - 1)","v":"Südkorea"},"gegen",{"$f":"LEFT($G$3, LEN($G$3) - LEN(TRIM(RIGHT(SUBSTITUTE(TRIM($G$3), \" \", REPT(\" \", 100)), 100))) - 1)","v":"Tschechien"},{"$f":"LEFT($E$4, LEN($E$4) - LEN(TRIM(RIGHT(SUBSTITUTE(TRIM($E$4), \" \", REPT(\" \", 100)), 100))) - 1)","v":"Kanada"},"gegen",{"$f":"LEFT($G$4, LEN($G$4) - LEN(TRIM(RIGHT(SUBSTITUTE(TRIM($G$4), \" \", REPT(\" \", 100)), 100))) - 1)","v":"Bosnien-Herzegowina"},{"$f":"LEFT($E$5, LEN($E$5) - LEN(TRIM(RIGHT(SUBSTITUTE(TRIM($E$5), \" \", REPT(\" \", 100)), 100))) - 1)","v":"USA"},"gegen",{"$f":"LEFT($G$5, LEN($G$5) - LEN(TRIM(RIGHT(SUBSTITUTE(TRIM($G$5), \" \", REPT(\" \", 100)), 100))) - 1)","v":"Paraguay"},{"$f":"LEFT($E$6, LEN($E$6) - LEN(TRIM(RIGHT(SUBSTITUTE(TRIM($E$6), \" \", REPT(\" \", 100)), 100))) - 1)","v":"Katar"},"gegen",{"$f":"LEFT($G$6, LEN($G$6) - LEN(TRIM(RIGHT(SUBSTITUTE(TRIM($G$6), \" \", REPT(\" \", 100)), 100))) - 1)","v":"Schweiz"},{"$f":"LEFT($E$7, LEN($E$7) - LEN(TRIM(RIGHT(SUBSTITUTE(TRIM($E$7), \" \", REPT(\" \", 100)), 100))) - 1)","v":"Brasilien"},"gegen",{"$f":"LEFT($G$7, LEN($G$7) - LEN(TRIM(RIGHT(SUBSTITUTE(TRIM($G$7), \" \", REPT(\" \", 100)), 100))) - 1)","v":"Marokko"},{"$f":"LEFT($E$8, LEN($E$8) - LEN(TRIM(RIGHT(SUBSTITUTE(TRIM($E$8), \" \", REPT(\" \", 100)), 100))) - 1)","v":"Haiti"},"gegen",{"$f":"LEFT($G$8, LEN($G$8) - LEN(TRIM(RIGHT(SUBSTITUTE(TRIM($G$8), \" \", REPT(\" \", 100)), 100))) - 1)","v":"Schottland"},{"$f":"LEFT($E$9, LEN($E$9) - LEN(TRIM(RIGHT(SUBSTITUTE(TRIM($E$9), \" \", REPT(\" \", 100)), 100))) - 1)","v":"Australien"},"gegen",{"$f":"LEFT($G$9, LEN($G$9) - LEN(TRIM(RIGHT(SUBSTITUTE(TRIM($G$9), \" \", REPT(\" \", 100)), 100))) - 1)","v":"Türkei"},{"$f":"LEFT($E$10, LEN($E$10) - LEN(TRIM(RIGHT(SUBSTITUTE(TRIM($E$10), \" \", REPT(\" \", 100)), 100))) - 1)","v":"Deutschland"},"gegen",{"$f":"LEFT($G$10, LEN($G$10) - LEN(TRIM(RIGHT(SUBSTITUTE(TRIM($G$10), \" \", REPT(\" \", 100)), 100))) - 1)","v":"Curaçao"},{"$f":"LEFT($E$11, LEN($E$11) - LEN(TRIM(RIGHT(SUBSTITUTE(TRIM($E$11), \" \", REPT(\" \", 100)), 100))) - 1)","v":"Niederlande"},"gegen",{"$f":"LEFT($G$11, LEN($G$11) - LEN(TRIM(RIGHT(SUBSTITUTE(TRIM($G$11), \" \", REPT(\" \", 100)), 100))) - 1)","v":"Japan"},{"$f":"LEFT($E$12, LEN($E$12) - LEN(TRIM(RIGHT(SUBSTITUTE(TRIM($E$12), \" \", REPT(\" \", 100)), 100))) - 1)","v":"Elfenbeinküste"},"gegen",{"$f":"LEFT($G$12, LEN($G$12) - LEN(TRIM(RIGHT(SUBSTITUTE(TRIM($G$12), \" \", REPT(\" \", 100)), 100))) - 1)","v":"Ecuador"},{"$f":"LEFT($E$13, LEN($E$13) - LEN(TRIM(RIGHT(SUBSTITUTE(TRIM($E$13), \" \", REPT(\" \", 100)), 100))) - 1)","v":"Schweden"},"gegen",{"$f":"LEFT($G$13, LEN($G$13) - LEN(TRIM(RIGHT(SUBSTITUTE(TRIM($G$13), \" \", REPT(\" \", 100)), 100))) - 1)","v":"Tunesien"},{"$f":"LEFT($E$14, LEN($E$14) - LEN(TRIM(RIGHT(SUBSTITUTE(TRIM($E$14), \" \", REPT(\" \", 100)), 100))) - 1)","v":"Spanien"},"gegen",{"$f":"LEFT($G$14, LEN($G$14) - LEN(TRIM(RIGHT(SUBSTITUTE(TRIM($G$14), \" \", REPT(\" \", 100)), 100))) - 1)","v":"Kap Verde"},{"$f":"LEFT($E$15, LEN($E$15) - LEN(TRIM(RIGHT(SUBSTITUTE(TRIM($E$15), \" \", REPT(\" \", 100)), 100))) - 1)","v":"Belgien"},"gegen",{"$f":"LEFT($G$15, LEN($G$15) - LEN(TRIM(RIGHT(SUBSTITUTE(TRIM($G$15), \" \", REPT(\" \", 100)), 100))) - 1)","v":"Ägypten"},{"$f":"LEFT($E$16, LEN($E$16) - LEN(TRIM(RIGHT(SUBSTITUTE(TRIM($E$16), \" \", REPT(\" \", 100)), 100))) - 1)","v":"Saudi-Arabien"},"gegen",{"$f":"LEFT($G$16, LEN($G$16) - LEN(TRIM(RIGHT(SUBSTITUTE(TRIM($G$16), \" \", REPT(\" \", 100)), 100))) - 1)","v":"Uruguay"},{"$f":"LEFT($E$17, LEN($E$17) - LEN(TRIM(RIGHT(SUBSTITUTE(TRIM($E$17), \" \", REPT(\" \", 100)), 100))) - 1)","v":"Iran"},"gegen",{"$f":"LEFT($G$17, LEN($G$17) - LEN(TRIM(RIGHT(SUBSTITUTE(TRIM($G$17), \" \", REPT(\" \", 100)), 100))) - 1)","v":"Neuseeland"},{"$f":"LEFT($E$18, LEN($E$18) - LEN(TRIM(RIGHT(SUBSTITUTE(TRIM($E$18), \" \", REPT(\" \", 100)), 100))) - 1)","v":"Frankreich"},"gegen",{"$f":"LEFT($G$18, LEN($G$18) - LEN(TRIM(RIGHT(SUBSTITUTE(TRIM($G$18), \" \", REPT(\" \", 100)), 100))) - 1)","v":"Senegal"},{"$f":"LEFT($E$19, LEN($E$19) - LEN(TRIM(RIGHT(SUBSTITUTE(TRIM($E$19), \" \", REPT(\" \", 100)), 100))) - 1)","v":"Irak"},"gegen",{"$f":"LEFT($G$19, LEN($G$19) - LEN(TRIM(RIGHT(SUBSTITUTE(TRIM($G$19), \" \", REPT(\" \", 100)), 100))) - 1)","v":"Norwegen"},{"$f":"LEFT($E$20, LEN($E$20) - LEN(TRIM(RIGHT(SUBSTITUTE(TRIM($E$20), \" \", REPT(\" \", 100)), 100))) - 1)","v":"Argentinien"},"gegen",{"$f":"LEFT($G$20, LEN($G$20) - LEN(TRIM(RIGHT(SUBSTITUTE(TRIM($G$20), \" \", REPT(\" \", 100)), 100))) - 1)","v":"Algerien"},{"$f":"LEFT($E$21, LEN($E$21) - LEN(TRIM(RIGHT(SUBSTITUTE(TRIM($E$21), \" \", REPT(\" \", 100)), 100))) - 1)","v":"Österreich"},"gegen",{"$f":"LEFT($G$21, LEN($G$21) - LEN(TRIM(RIGHT(SUBSTITUTE(TRIM($G$21), \" \", REPT(\" \", 100)), 100))) - 1)","v":"Jordanien"},{"$f":"LEFT($E$22, LEN($E$22) - LEN(TRIM(RIGHT(SUBSTITUTE(TRIM($E$22), \" \", REPT(\" \", 100)), 100))) - 1)","v":"Portugal"},"gegen",{"$f":"LEFT($G$22, LEN($G$22) - LEN(TRIM(RIGHT(SUBSTITUTE(TRIM($G$22), \" \", REPT(\" \", 100)), 100))) - 1)","v":"DR Kongo"},{"$f":"LEFT($E$23, LEN($E$23) - LEN(TRIM(RIGHT(SUBSTITUTE(TRIM($E$23), \" \", REPT(\" \", 100)), 100))) - 1)","v":"England"},"gegen",{"$f":"LEFT($G$23, LEN($G$23) - LEN(TRIM(RIGHT(SUBSTITUTE(TRIM($G$23), \" \", REPT(\" \", 100)), 100))) - 1)","v":"Kroatien"},{"$f":"LEFT($E$24, LEN($E$24) - LEN(TRIM(RIGHT(SUBSTITUTE(TRIM($E$24), \" \", REPT(\" \", 100)), 100))) - 1)","v":"Ghana"},"gegen",{"$f":"LEFT($G$24, LEN($G$24) - LEN(TRIM(RIGHT(SUBSTITUTE(TRIM($G$24), \" \", REPT(\" \", 100)), 100))) - 1)","v":"Panama"},{"$f":"LEFT($E$25, LEN($E$25) - LEN(TRIM(RIGHT(SUBSTITUTE(TRIM($E$25), \" \", REPT(\" \", 100)), 100))) - 1)","v":"Usbekistan"},"gegen",{"$f":"LEFT($G$25, LEN($G$25) - LEN(TRIM(RIGHT(SUBSTITUTE(TRIM($G$25), \" \", REPT(\" \", 100)), 100))) - 1)","v":"Kolumbien"},"NAME",null,null,null,null,null,null,null,null,null,null,null,null,null,null,null,null,null,null,null,null,null,null,null,null,null,null,null,null,null,null,null,null,null,null,null,null,null,null,null,null,null,null,null,null,null,null,null,null,null,null,null,null,null,null,null,null,null,null,null,null,null,null,null,null,null,null,null,null,null,null,null,null,null,null,null,null,null,null,null,null,null,null,null,null,null,null,null,null,null,null,null,null,null,null,null,null,null,null,null,null,null,null,null,null,null,null,null,null,null,null,null,null,null,null,null,null,null,null,null,null,"Summe","Übertrag","GESAMT"]
["2026-06-12T04:00:00",46185.166666666664,"2026-06-11T20:00:00",2,"Südkorea (A3)","-","Tschechien (A4)",null,":",null,"Mexiko / Estadio Akron (Guadalajara)","1. Gruppenspiel","MagentaTV (Telekom) Free-TV",{"$f":"IF($J3<>\"\",1,0)","v":0}]
["2026-06-12T21:00:00",46185.875,"2026-06-12T15:00:00",3,"Kanada (B1)","-","Bosnien-Herzegowina (B2)",null,":",null,"Kanada / BMO Field (Toronto)","1. Gruppenspiel","ARD und MagentaTV",0]
["2026-06-13T03:00:00",46186.125,"2026-06-12T18:00:00",4,"USA (D1)","-","Paraguay (D2)",null,":",null,"USA / SoFi Stadium (Los Angeles)","1. Gruppenspiel","MagentaTV (Telekom) exklusiv",0]
["2026-06-13T21:00:00",46186.875,"2026-06-13T12:00:00",8,"Katar (B3)","-","Schweiz (B4)",null,":",null,"USA / Levi's Stadium (San Francisco Bay Area)","1. Gruppenspiel","ZDF und MagentaTV",0]
["2026-06-14",46187,"2026-06-13T18:00:00",7,"Brasilien (C1)","-","Marokko (C2)",null,":",null,"USA / MetLife Stadium (New York/New Jersey)","1. Gruppenspiel","ZDF und MagentaTV",0,null,null,":",null,null,":",null,null,":",null,null,":",null,null,":",null,null,":",null,null,":",null,null,":",null,null,":",null,null,":",null,null,":",null,null,":",null,null,":",null,null,":",null,null,":",null,null,":",null,null,":",null,null,":",null,null,":",null,null,":",null,null,":",null,null,":",null,null,":",null,null,":",null,{"$f":"IF($O7<>\"\",$O7,\"\")","v":""},{"$f":"IF(AND($P7=$P$56,$R7=$R$56),3,0)","v":0},{"$f":"IF(AND($P7>$R7,$P$56>$R$56),2,0)","v":0},{"$f":"IF(AND($P7<$R7,$P$56<$R$56),2,0)","v":0},{"$f":"IF(AND($P7=$R7,$P$56=$R$56),2,0)","v":2},{"$f":"IF($R$56=\"-\",0,MAX(CK7:CN7))","v":0},{"$f":"IF(AND($S7=$S$56,$U7=$U$56),3,0)","v":0},{"$f":"IF(AND($S7>$U7,$S$56>$U$56),2,0)","v":0},{"$f":"IF(AND($S7<$U7,$S$56<$U$56),2,0)","v":0},{"$f":"IF(AND($S7=$U7,$S$56=$U$56),2,0)","v":2},{"$f":"IF($U$56=\"-\",0,MAX(CP7:CS7))","v":0},{"$f":"IF(AND($V7=$V$56,$X7=$X$56),3,0)","v":0},{"$f":"IF(AND($V7>$X7,$V$56>$X$56),2,0)","v":0},{"$f":"IF(AND($V7<$X7,$V$56<$X$56),2,0)","v":0},{"$f":"IF(AND($V7=$X7,$V$56=$X$56),2,0)","v":2},{"$f":"IF($X$56=\"-\",0,MAX(CU7:CX7))","v":0},{"$f":"IF(AND($Y7=$Y$56,$AA7=$AA$56),3,0)","v":0},{"$f":"IF(AND($Y7>$AA7,$Y$56>$AA$56),2,0)","v":0},{"$f":"IF(AND($Y7<$AA7,$Y$56<$AA$56),2,0)","v":0},{"$f":"IF(AND($Y7=$AA7,$Y$56=$AA$56),2,0)","v":2},{"$f":"IF($AA$56=\"-\",0,MAX(CZ7:DC7))","v":0},{"$f":"IF(AND($AB7=$AB$56,$AD7=$AD$56),3,0)","v":0},{"$f":"IF(AND($AB7>$AD7,$AB$56>$AD$56),2,0)","v":0},{"$f":"IF(AND($AB7<$AD7,$AB$56<$AD$56),2,0)","v":0},{"$f":"IF(AND($AB7=$AD7,$AB$56=$AD$56),2,0)","v":2},{"$f":"IF($AD$56=\"-\",0,MAX(DE7:DH7))","v":0},{"$f":"IF(AND($AE7=$AE$56,$AG7=$AG$56),3,0)","v":0},{"$f":"IF(AND($AE7>$AG7,$AE$56>$AG$56),2,0)","v":0},{"$f":"IF(AND($AE7<$AG7,$AE$56<$AG$56),2,0)","v":0},{"$f":"IF(AND($AE7=$AG7,$AE$56=$AG$56),2,0)","v":2},{"$f":"IF($AG$56=\"-\",0,MAX(DJ7:DM7))","v":0},{"$f":"IF(AND($AH7=$AH$56,$AJ7=$AJ$56),3,0)","v":0},{"$f":"IF(AND($AH7>$AJ7,$AH$56>$AJ$56),2,0)","v":0},{"$f":"IF(AND($AH7<$AJ7,$AH$56<$AJ$56),2,0)","v":0},{"$f":"IF(AND($AH7=$AJ7,$AH$56=$AJ$56),2,0)","v":2},{"$f":"IF($AJ$56=\"-\",0,MAX(DO7:DR7))","v":0},{"$f":"IF(AND($AK7=$AK$56,$AM7=$AM$56),3,0)","v":0},{"$f":"IF(AND($AK7>$AM7,$AK$56>$AM$56),2,0)","v":0},{"$f":"IF(AND($AK7<$AM7,$AK$56<$AM$56),2,0)","v":0},{"$f":"IF(AND($AK7=$AM7,$AK$56=$AM$56),2,0)","v":2},{"$f":"IF($AM$56=\"-\",0,MAX(DT7:DW7))","v":0},{"$f":"IF(AND($AN7=$AN$56,$AP7=$AP$56),3,0)","v":0},{"$f":"IF(AND($AN7>$AP7,$AN$56>$AP$56),2,0)","v":0},{"$f":"IF(AND($AN7<$AP7,$AN$56<$AP$56),2,0)","v":0},{"$f":"IF(AND($AN7=$AP7,$AN$56=$AP$56),2,0)","v":2},{"$f":"IF($AP$56=\"-\",0,MAX(DY7:EB7))","v":0},{"$f":"IF(AND($AQ7=$AQ$56,$AS7=$AS$56),3,0)","v":0},{"$f":"IF(AND($AQ7>$AS7,$AQ$56>$AS$56),2,0)","v":0},{"$f":"IF(AND($AQ7<$AS7,$AQ$56<$AS$56),2,0)","v":0},{"$f":"IF(AND($AQ7=$AS7,$AQ$56=$AS$56),2,0)","v":2},{"$f":"IF($AS$56=\"-\",0,MAX(ED7:EG7))","v":0},{"$f":"IF(AND($AT7=$AT$56,$AV7=$AV$56),3,0)","v":0},{"$f":"IF(AND($AT7>$AV7,$AT$56>$AV$56),2,0)","v":0},{"$f":"IF(AND($AT7<$AV7,$AT$56<$AV$56),2,0)","v":0},{"$f":"IF(AND($AT7=$AV7,$AT$56=$AV$56),2,0)","v":2},{"$f":"IF($AV$56=\"-\",0,MAX(EI7:EL7))","v":0},{"$f":"IF(AND($AW7=$AW$56,$AY7=$AY$56),3,0)","v":0},{"$f":"IF(AND($AW7>$AY7,$AW$56>$AY$56),2,0)","v":0},{"$f":"IF(AND($AW7<$AY7,$AW$56<$AY$56),2,0)","v":0},{"$f":"IF(AND($AW7=$AY7,$AW$56=$AY$56),2,0)","v":2},{"$f":"IF($AY$56=\"-\",0,MAX(EN7:EQ7))","v":0},{"$f":"IF(AND($AZ7=$AZ$56,$BB7=$BB$56),3,0)","v":0},{"$f":"IF(AND($AZ7>$BB7,$AZ$56>$BB$56),2,0)","v":0},{"$f":"IF(AND($AZ7<$BB7,$AZ$56<$BB$56),2,0)","v":0},{"$f":"IF(AND($AZ7=$BB7,$AZ$56=$BB$56),2,0)","v":2},{"$f":"IF($BB$56=\"-\",0,MAX(ES7:EV7))","v":0},{"$f":"IF(AND($BC7=$BC$56,$BE7=$BE$56),3,0)","v":0},{"$f":"IF(AND($BC7>$BE7,$BC$56>$BE$56),2,0)","v":0},{"$f":"IF(AND($BC7<$BE7,$BC$56<$BE$56),2,0)","v":0},{"$f":"IF(AND($BC7=$BE7,$BC$56=$BE$56),2,0)","v":2},{"$f":"IF($BE$56=\"-\",0,MAX(EX7:FA7))","v":0},{"$f":"IF(AND($BF7=$BF$56,$BH7=$BH$56),3,0)","v":0},{"$f":"IF(AND($BF7>$BH7,$BF$56>$BH$56),2,0)","v":0},{"$f":"IF(AND($BF7<$BH7,$BF$56<$BH$56),2,0)","v":0},{"$f":"IF(AND($BF7=$BH7,$BF$56=$BH$56),2,0)","v":2},{"$f":"IF($BH$56=\"-\",0,MAX(FC7:FF7))","v":0},{"$f":"IF(AND($BI7=$BI$56,$BK7=$BK$56),3,0)","v":0},{"$f":"IF(AND($BI7>$BK7,$BI$56>$BK$56),2,0)","v":0},{"$f":"IF(AND($BI7<$BK7,$BI$56<$BK$56),2,0)","v":0},{"$f":"IF(AND($BI7=$BK7,$BI$56=$BK$56),2,0)","v":2},{"$f":"IF($BK$56=\"-\",0,MAX(FH7:FK7))","v":0},{"$f":"IF(AND($BL7=$BL$56,$BN7=$BN$56),3,0)","v":0},{"$f":"IF(AND($BL7>$BN7,$BL$56>$BN$56),2,0)","v":0},{"$f":"IF(AND($BL7<$BN7,$BL$56<$BN$56),2,0)","v":0},{"$f":"IF(AND($BL7=$BN7,$BL$56=$BN$56),2,0)","v":2},{"$f":"IF($BN$56=\"-\",0,MAX(FM7:FP7))","v":0},{"$f":"IF(AND($BO7=$BO$56,$BQ7=$BQ$56),3,0)","v":0},{"$f":"IF(AND($BO7>$BQ7,$BO$56>$BQ$56),2,0)","v":0},{"$f":"IF(AND($BO7<$BQ7,$BO$56<$BQ$56),2,0)","v":0},{"$f":"IF(AND($BO7=$BQ7,$BO$56=$BQ$56),2,0)","v":2},{"$f":"IF($BQ$56=\"-\",0,MAX(FR7:FU7))","v":0},{"$f":"IF(AND($BR7=$BR$56,$BT7=$BT$56),3,0)","v":0},{"$f":"IF(AND($BR7>$BT7,$BR$56>$BT$56),2,0)","v":0},{"$f":"IF(AND($BR7<$BT7,$BR$56<$BT$56),2,0)","v":0},{"$f":"IF(AND($BR7=$BT7,$BR$56=$BT$56),2,0)","v":2},{"$f":"IF($BT$56=\"-\",0,MAX(FW7:FZ7))","v":0},{"$f":"IF(AND($BU7=$BU$56,$BW7=$BW$56),3,0)","v":0},{"$f":"IF(AND($BU7>$BW7,$BU$56>$BW$56),2,0)","v":0},{"$f":"IF(AND($BU7<$BW7,$BU$56<$BW$56),2,0)","v":0},{"$f":"IF(AND($BU7=$BW7,$BU$56=$BW$56),2,0)","v":2},{"$f":"IF($BW$56=\"-\",0,MAX(GB7:GE7))","v":0},{"$f":"IF(AND($BX7=$BX$56,$BZ7=$BZ$56),3,0)","v":0},{"$f":"IF(AND($BX7>$BZ7,$BX$56>$BZ$56),2,0)","v":0},{"$f":"IF(AND($BX7<$BZ7,$BX$56<$BZ$56),2,0)","v":0},{"$f":"IF(AND($BX7=$BZ7,$BX$56=$BZ$56),2,0)","v":2},{"$f":"IF($BZ$56=\"-\",0,MAX(GG7:GJ7))","v":0},{"$f":"IF(AND($CA7=$CA$56,$CC7=$CC$56),3,0)","v":0},{"$f":"IF(AND($CA7>$CC7,$CA$56>$CC$56),2,0)","v":0},{"$f":"IF(AND($CA7<$CC7,$CA$56<$CC$56),2,0)","v":0},{"$f":"IF(AND($CA7=$CC7,$CA$56=$CC$56),2,0)","v":2},{"$f":"IF($CC$56=\"-\",0,MAX(GL7:GO7))","v":0},{"$f":"IF(AND($CD7=$CD$56,$CF7=$CF$56),3,0)","v":0},{"$f":"IF(AND($CD7>$CF7,$CD$56>$CF$56),2,0)","v":0},{"$f":"IF(AND($CD7<$CF7,$CD$56<$CF$56),2,0)","v":0},{"$f":"IF(AND($CD7=$CF7,$CD$56=$CF$56),2,0)","v":2},{"$f":"IF($CF$56=\"-\",0,MAX(GQ7:GT7))","v":0},{"$f":"IF(AND($CG7=$CG$56,$CI7=$CI$56),3,0)","v":0},{"$f":"IF(AND($CG7>$CI7,$CG$56>$CI$56),2,0)","v":0},{"$f":"IF(AND($CG7<$CI7,$CG$56<$CI$56),2,0)","v":0},{"$f":"IF(AND($CG7=$CI7,$CG$56=$CI$56),2,0)","v":2},{"$f":"IF($CI$56=\"-\",0,MAX(GV7:GY7))","v":0},{"$f":"SUM(CO7,CT7,CY7,DD7,DI7,DN7,DS7,DX7,EC7,EH7,EM7,ER7,EW7,FB7,FG7,FL7,FQ7,FV7,GA7,GF7,GK7,GP7,GU7,GZ7)","v":0},0,{"$f":"SUM(HA7:HB7)","v":0}]
["2026-06-14T03:00:00",46187.125,"2026-06-13T21:00:00",5,"Haiti (C3)","-","Schottland (C4)",null,":",null,"USA / Gillette Stadium (Boston)","1. Gruppenspiel","ARD und MagentaTV",0,null,null,":",null,null,":",null,null,":",null,null,":",null,null,":",null,null,":",null,null,":",null,null,":",null,null,":",null,null,":",null,null,":",null,null,":",null,null,":",null,null,":",null,null,":",null,null,":",null,null,":",null,null,":",null,null,":",null,null,":",null,null,":",null,null,":",null,null,":",null,null,":",null,{"$f":"IF($O8<>\"\",$O8,\"\")","v":""},{"$f":"IF(AND($P8=$P$56,$R8=$R$56),3,0)","v":0},{"$f":"IF(AND($P8>$R8,$P$56>$R$56),2,0)","v":0},{"$f":"IF(AND($P8<$R8,$P$56<$R$56),2,0)","v":0},{"$f":"IF(AND($P8=$R8,$P$56=$R$56),2,0)","v":2},{"$f":"IF($R$56=\"-\",0,MAX(CK8:CN8))","v":0},{"$f":"IF(AND($S8=$S$56,$U8=$U$56),3,0)","v":0},{"$f":"IF(AND($S8>$U8,$S$56>$U$56),2,0)","v":0},{"$f":"IF(AND($S8<$U8,$S$56<$U$56),2,0)","v":0},{"$f":"IF(AND($S8=$U8,$S$56=$U$56),2,0)","v":2},{"$f":"IF($U$56=\"-\",0,MAX(CP8:CS8))","v":0},{"$f":"IF(AND($V8=$V$56,$X8=$X$56),3,0)","v":0},{"$f":"IF(AND($V8>$X8,$V$56>$X$56),2,0)","v":0},{"$f":"IF(AND($V8<$X8,$V$56<$X$56),2,0)","v":0},{"$f":"IF(AND($V8=$X8,$V$56=$X$56),2,0)","v":2},{"$f":"IF($X$56=\"-\",0,MAX(CU8:CX8))","v":0},{"$f":"IF(AND($Y8=$Y$56,$AA8=$AA$56),3,0)","v":0},{"$f":"IF(AND($Y8>$AA8,$Y$56>$AA$56),2,0)","v":0},{"$f":"IF(AND($Y8<$AA8,$Y$56<$AA$56),2,0)","v":0},{"$f":"IF(AND($Y8=$AA8,$Y$56=$AA$56),2,0)","v":2},{"$f":"IF($AA$56=\"-\",0,MAX(CZ8:DC8))","v":0},{"$f":"IF(AND($AB8=$AB$56,$AD8=$AD$56),3,0)","v":0},{"$f":"IF(AND($AB8>$AD8,$AB$56>$AD$56),2,0)","v":0},{"$f":"IF(AND($AB8<$AD8,$AB$56<$AD$56),2,0)","v":0},{"$f":"IF(AND($AB8=$AD8,$AB$56=$AD$56),2,0)","v":2},{"$f":"IF($AD$56=\"-\",0,MAX(DE8:DH8))","v":0},{"$f":"IF(AND($AE8=$AE$56,$AG8=$AG$56),3,0)","v":0},{"$f":"IF(AND($AE8>$AG8,$AE$56>$AG$56),2,0)","v":0},{"$f":"IF(AND($AE8<$AG8,$AE$56<$AG$56),2,0)","v":0},{"$f":"IF(AND($AE8=$AG8,$AE$56=$AG$56),2,0)","v":2},{"$f":"IF($AG$56=\"-\",0,MAX(DJ8:DM8))","v":0},{"$f":"IF(AND($AH8=$AH$56,$AJ8=$AJ$56),3,0)","v":0},{"$f":"IF(AND($AH8>$AJ8,$AH$56>$AJ$56),2,0)","v":0},{"$f":"IF(AND($AH8<$AJ8,$AH$56<$AJ$56),2,0)","v":0},{"$f":"IF(AND($AH8=$AJ8,$AH$56=$AJ$56),2,0)","v":2},{"$f":"IF($AJ$56=\"-\",0,MAX(DO8:DR8))","v":0},{"$f":"IF(AND($AK8=$AK$56,$AM8=$AM$56),3,0)","v":0},{"$f":"IF(AND($AK8>$AM8,$AK$56>$AM$56),2,0)","v":0},{"$f":"IF(AND($AK8<$AM8,$AK$56<$AM$56),2,0)","v":0},{"$f":"IF(AND($AK8=$AM8,$AK$56=$AM$56),2,0)","v":2},{"$f":"IF($AM$56=\"-\",0,MAX(DT8:DW8))","v":0},{"$f":"IF(AND($AN8=$AN$56,$AP8=$AP$56),3,0)","v":0},{"$f":"IF(AND($AN8>$AP8,$AN$56>$AP$56),2,0)","v":0},{"$f":"IF(AND($AN8<$AP8,$AN$56<$AP$56),2,0)","v":0},{"$f":"IF(AND($AN8=$AP8,$AN$56=$AP$56),2,0)","v":2},{"$f":"IF($AP$56=\"-\",0,MAX(DY8:EB8))","v":0},{"$f":"IF(AND($AQ8=$AQ$56,$AS8=$AS$56),3,0)","v":0},{"$f":"IF(AND($AQ8>$AS8,$AQ$56>$AS$56),2,0)","v":0},{"$f":"IF(AND($AQ8<$AS8,$AQ$56<$AS$56),2,0)","v":0},{"$f":"IF(AND($AQ8=$AS8,$AQ$56=$AS$56),2,0)","v":2},{"$f":"IF($AS$56=\"-\",0,MAX(ED8:EG8))","v":0},{"$f":"IF(AND($AT8=$AT$56,$AV8=$AV$56),3,0)","v":0},{"$f":"IF(AND($AT8>$AV8,$AT$56>$AV$56),2,0)","v":0},{"$f":"IF(AND($AT8<$AV8,$AT$56<$AV$56),2,0)","v":0},{"$f":"IF(AND($AT8=$AV8,$AT$56=$AV$56),2,0)","v":2},{"$f":"IF($AV$56=\"-\",0,MAX(EI8:EL8))","v":0},{"$f":"IF(AND($AW8=$AW$56,$AY8=$AY$56),3,0)","v":0},{"$f":"IF(AND($AW8>$AY8,$AW$56>$AY$56),2,0)","v":0},{"$f":"IF(AND($AW8<$AY8,$AW$56<$AY$56),2,0)","v":0},{"$f":"IF(AND($AW8=$AY8,$AW$56=$AY$56),2,0)","v":2},{"$f":"IF($AY$56=\"-\",0,MAX(EN8:EQ8))","v":0},{"$f":"IF(AND($AZ8=$AZ$56,$BB8=$BB$56),3,0)","v":0},{"$f":"IF(AND($AZ8>$BB8,$AZ$56>$BB$56),2,0)","v":0},{"$f":"IF(AND($AZ8<$BB8,$AZ$56<$BB$56),2,0)","v":0},{"$f":"IF(AND($AZ8=$BB8,$AZ$56=$BB$56),2,0)","v":2},{"$f":"IF($BB$56=\"-\",0,MAX(ES8:EV8))","v":0},{"$f":"IF(AND($BC8=$BC$56,$BE8=$BE$56),3,0)","v":0},{"$f":"IF(AND($BC8>$BE8,$BC$56>$BE$56),2,0)","v":0},{"$f":"IF(AND($BC8<$BE8,$BC$56<$BE$56),2,0)","v":0},{"$f":"IF(AND($BC8=$BE8,$BC$56=$BE$56),2,0)","v":2},{"$f":"IF($BE$56=\"-\",0,MAX(EX8:FA8))","v":0},{"$f":"IF(AND($BF8=$BF$56,$BH8=$BH$56),3,0)","v":0},{"$f":"IF(AND($BF8>$BH8,$BF$56>$BH$56),2,0)","v":0},{"$f":"IF(AND($BF8<$BH8,$BF$56<$BH$56),2,0)","v":0},{"$f":"IF(AND($BF8=$BH8,$BF$56=$BH$56),2,0)","v":2},{"$f":"IF($BH$56=\"-\",0,MAX(FC8:FF8))","v":0},{"$f":"IF(AND($BI8=$BI$56,$BK8=$BK$56),3,0)","v":0},{"$f":"IF(AND($BI8>$BK8,$BI$56>$BK$56),2,0)","v":0},{"$f":"IF(AND($BI8<$BK8,$BI$56<$BK$56),2,0)","v":0},{"$f":"IF(AND($BI8=$BK8,$BI$56=$BK$56),2,0)","v":2},{"$f":"IF($BK$56=\"-\",0,MAX(FH8:FK8))","v":0},{"$f":"IF(AND($BL8=$BL$56,$BN8=$BN$56),3,0)","v":0},{"$f":"IF(AND($BL8>$BN8,$BL$56>$BN$56),2,0)","v":0},{"$f":"IF(AND($BL8<$BN8,$BL$56<$BN$56),2,0)","v":0},{"$f":"IF(AND($BL8=$BN8,$BL$56=$BN$56),2,0)","v":2},{"$f":"IF($BN$56=\"-\",0,MAX(FM8:FP8))","v":0},{"$f":"IF(AND($BO8=$BO$56,$BQ8=$BQ$56),3,0)","v":0},{"$f":"IF(AND($BO8>$BQ8,$BO$56>$BQ$56),2,0)","v":0},{"$f":"IF(AND($BO8<$BQ8,$BO$56<$BQ$56),2,0)","v":0},{"$f":"IF(AND($BO8=$BQ8,$BO$56=$BQ$56),2,0)","v":2},{"$f":"IF($BQ$56=\"-\",0,MAX(FR8:FU8))","v":0},{"$f":"IF(AND($BR8=$BR$56,$BT8=$BT$56),3,0)","v":0},{"$f":"IF(AND($BR8>$BT8,$BR$56>$BT$56),2,0)","v":0},{"$f":"IF(AND($BR8<$BT8,$BR$56<$BT$56),2,0)","v":0},{"$f":"IF(AND($BR8=$BT8,$BR$56=$BT$56),2,0)","v":2},{"$f":"IF($BT$56=\"-\",0,MAX(FW8:FZ8))","v":0},{"$f":"IF(AND($BU8=$BU$56,$BW8=$BW$56),3,0)","v":0},{"$f":"IF(AND($BU8>$BW8,$BU$56>$BW$56),2,0)","v":0},{"$f":"IF(AND($BU8<$BW8,$BU$56<$BW$56),2,0)","v":0},{"$f":"IF(AND($BU8=$BW8,$BU$56=$BW$56),2,0)","v":2},{"$f":"IF($BW$56=\"-\",0,MAX(GB8:GE8))","v":0},{"$f":"IF(AND($BX8=$BX$56,$BZ8=$BZ$56),3,0)","v":0},{"$f":"IF(AND($BX8>$BZ8,$BX$56>$BZ$56),2,0)","v":0},{"$f":"IF(AND($BX8<$BZ8,$BX$56<$BZ$56),2,0)","v":0},{"$f":"IF(AND($BX8=$BZ8,$BX$56=$BZ$56),2,0)","v":2},{"$f":"IF($BZ$56=\"-\",0,MAX(GG8:GJ8))","v":0},{"$f":"IF(AND($CA8=$CA$56,$CC8=$CC$56),3,0)","v":0},{"$f":"IF(AND($CA8>$CC8,$CA$56>$CC$56),2,0)","v":0},{"$f":"IF(AND($CA8<$CC8,$CA$56<$CC$56),2,0)","v":0},{"$f":"IF(AND($CA8=$CC8,$CA$56=$CC$56),2,0)","v":2},{"$f":"IF($CC$56=\"-\",0,MAX(GL8:GO8))","v":0},{"$f":"IF(AND($CD8=$CD$56,$CF8=$CF$56),3,0)","v":0},{"$f":"IF(AND($CD8>$CF8,$CD$56>$CF$56),2,0)","v":0},{"$f":"IF(AND($CD8<$CF8,$CD$56<$CF$56),2,0)","v":0},{"$f":"IF(AND($CD8=$CF8,$CD$56=$CF$56),2,0)","v":2},{"$f":"IF($CF$56=\"-\",0,MAX(GQ8:GT8))","v":0},{"$f":"IF(AND($CG8=$CG$56,$CI8=$CI$56),3,0)","v":0},{"$f":"IF(AND($CG8>$CI8,$CG$56>$CI$56),2,0)","v":0},{"$f":"IF(AND($CG8<$CI8,$CG$56<$CI$56),2,0)","v":0},{"$f":"IF(AND($CG8=$CI8,$CG$56=$CI$56),2,0)","v":2},{"$f":"IF($CI$56=\"-\",0,MAX(GV8:GY8))","v":0},{"$f":"SUM(CO8,CT8,CY8,DD8,DI8,DN8,DS8,DX8,EC8,EH8,EM8,ER8,EW8,FB8,FG8,FL8,FQ8,FV8,GA8,GF8,GK8,GP8,GU8,GZ8)","v":0},0,{"$f":"SUM(HA8:HB8)","v":0}]
["2026-06-14T06:00:00",46187.25,"2026-06-13T21:00:00",6,"Australien (D3)","-","Türkei (D4)",null,":",null,"Kanada / BC Place Stadium (Vancouver)","1. Gruppenspiel","MagentaTV (Telekom) exklusiv",0,null,null,":",null,null,":",null,null,":",null,null,":",null,null,":",null,null,":",null,null,":",null,null,":",null,null,":",null,null,":",null,null,":",null,null,":",null,null,":",null,null,":",null,null,":",null,null,":",null,null,":",null,null,":",null,null,":",null,null,":",null,null,":",null,null,":",null,null,":",null,null,":",null,"",0,0,0,2,0,0,0,0,2,0,0,0,0,2,0,0,0,0,2,0,0,0,0,2,0,0,0,0,2,0,0,0,0,2,0,0,0,0,2,0,0,0,0,2,0,0,0,0,2,0,0,0,0,2,0,0,0,0,2,0,0,0,0,2,0,0,0,0,2,0,0,0,0,2,0,0,0,0,2,0,0,0,0,2,0,0,0,0,2,0,0,0,0,2,0,0,0,0,2,0,0,0,0,2,0,0,0,0,2,0,0,0,0,2,0,0,0,0,2,0,0,0,0]
["2026-06-14T19:00:00",46187.791666666664,"2026-06-14T12:00:00",10,"Deutschland (E1)","-","Curaçao (E2)",null,":",null,"USA / NRG Stadium (Houston)","1. Gruppenspiel","ARD und MagentaTV",0,null,null,":",null,null,":",null,null,":",null,null,":",null,null,":",null,null,":",null,null,":",null,null,":",null,null,":",null,null,":",null,null,":",null,null,":",null,null,":",null,null,":",null,null,":",null,null,":",null,null,":",null,null,":",null,null,":",null,null,":",null,null,":",null,null,":",null,null,":",null,null,":",null,"",0,0,0,2,0,0,0,0,2,0,0,0,0,2,0,0,0,0,2,0,0,0,0,2,0,0,0,0,2,0,0,0,0,2,0,0,0,0,2,0,0,0,0,2,0,0,0,0,2,0,0,0,0,2,0,0,0,0,2,0,0,0,0,2,0,0,0,0,2,0,0,0,0,2,0,0,0,0,2,0,0,0,0,2,0,0,0,0,2,0,0,0,0,2,0,0,0,0,2,0,0,0,0,2,0,0,0,0,2,0,0,0,0,2,0,0,0,0,2,0,0,0,0]
["2026-06-14T22:00:00",46187.916666666664,"2026-06-14T15:00:00",11,"Niederlande (F1)","-","Japan (F2)",null,":",null,"USA / AT&T Stadium (Dallas)","1. Gruppenspiel","MagentaTV (Telekom) exklusiv",0,null,null,":",null,null,":",null,null,":",null,null,":",null,null,":",null,null,":",null,null,":",null,null,":",null,null,":",null,null,":",null,null,":",null,null,":",null,null,":",null,null,":",null,null,":",null,null,":",null,null,":",null,null,":",null,null,":",null,null,":",null,null,":",null,null,":",null,null,":",null,null,":",null,"",0,0,0,2,0,0,0,0,2,0,0,0,0,2,0,0,0,0,2,0,0,0,0,2,0,0,0,0,2,0,0,0,0,2,0,0,0,0,2,0,0,0,0,2,0,0,0,0,2,0,0,0,0,2,0,0,0,0,2,0,0,0,0,2,0,0,0,0,2,0,0,0,0,2,0,0,0,0,2,0,0,0,0,2,0,0,0,0,2,0,0,0,0,2,0,0,0,0,2,0,0,0,0,2,0,0,0,0,2,0,0,0,0,2,0,0,0,0,2,0,0,0,0]
["2026-06-15T01:00:00",46188.041666666664,"2026-06-14T19:00:00",9,"Elfenbeinküste (E3)","-","Ecuador (E4)",null,":",null,"USA / Lincoln Financial Field (Philadelphia)","1. Gruppenspiel","ARD und MagentaTV",0,null,null,":",null,null,":",null,null,":",null,null,":",null,null,":",null,null,":",null,null,":",null,null,":",null,null,":",null,null,":",null,null,":",null,null,":",null,null,":",null,null,":",null,null,":",null,null,":",null,null,":",null,null,":",null,null,":",null,null,":",null,null,":",null,null,":",null,null,":",null,null,":",null,"",0,0,0,2,0,0,0,0,2,0,0,0,0,2,0,0,0,0,2,0,0,0,0,2,0,0,0,0,2,0,0,0,0,2,0,0,0,0,2,0,0,0,0,2,0,0,0,0,2,0,0,0,0,2,0,0,0,0,2,0,0,0,0,2,0,0,0,0,2,0,0,0,0,2,0,0,0,0,2,0,0,0,0,2,0,0,0,0,2,0,0,0,0,2,0,0,0,0,2,0,0,0,0,2,0,0,0,0,2,0,0,0,0,2,0,0,0,0,2,0,0,0,0]
["2026-06-15T04:00:00",46188.166666666664,"2026-06-14T20:00:00",12,"Schweden (F3)","-","Tunesien (F4)",null,":",null,"Mexiko / Estadio BBVA (Monterrey)","1. Gruppenspiel","MagentaTV (Telekom) exklusiv",0,null,null,":",null,null,":",null,null,":",null,null,":",null,null,":",null,null,":",null,null,":",null,null,":",null,null,":",null,null,":",null,null,":",null,null,":",null,null,":",null,null,":",null,null,":",null,null,":",null,null,":",null,null,":",null,null,":",null,null,":",null,null,":",null,null,":",null,null,":",null,null,":",null,"",0,0,0,2,0,0,0,0,2,0,0,0,0,2,0,0,0,0,2,0,0,0,0,2,0,0,0,0,2,0,0,0,0,2,0,0,0,0,2,0,0,0,0,2,0,0,0,0,2,0,0,0,0,2,0,0,0,0,2,0,0,0,0,2,0,0,0,0,2,0,0,0,0,2,0,0,0,0,2,0,0,0,0,2,0,0,0,0,2,0,0,0,0,2,0,0,0,0,2,0,0,0,0,2,0,0,0,0,2,0,0,0,0,2,0,0,0,0,2,0,0,0,0]
["2026-06-15T18:00:00",46188.75,"2026-06-15T12:00:00",14,"Spanien (H1)","-","Kap Verde (H2)",null,":",null,"USA / Mercedes-Benz Stadium (Atlanta)","1. Gruppenspiel","ARD und MagentaTV",0,null,null,":",null,null,":",null,null,":",null,null,":",null,null,":",null,null,":",null,null,":",null,null,":",null,null,":",null,null,":",null,null,":",null,null,":",null,null,":",null,null,":",null,null,":",null,null,":",null,null,":",null,null,":",null,null,":",null,null,":",null,null,":",null,null,":",null,null,":",null,null,":",null,"",0,0,0,2,0,0,0,0,2,0,0,0,0,2,0,0,0,0,2,0,0,0,0,2,0,0,0,0,2,0,0,0,0,2,0,0,0,0,2,0,0,0,0,2,0,0,0,0,2,0,0,0,0,2,0,0,0,0,2,0,0,0,0,2,0,0,0,0,2,0,0,0,0,2,0,0,0,0,2,0,0,0,0,2,0,0,0,0,2,0,0,0,0,2,0,0,0,0,2,0,0,0,0,2,0,0,0,0,2,0,0,0,0,2,0,0,0,0,2,0,0,0,0]
["2026-06-15T21:00:00",46188.875,"2026-06-15T12:00:00",16,"Belgien (G1)","-","Ägypten (G2)",null,":",null,"USA / Lumen Field (Seattle)","1. Gruppenspiel","ARD und MagentaTV",0,null,null,":",null,null,":",null,null,":",null,null,":",null,null,":",null,null,":",null,null,":",null,null,":",null,null,":",null,null,":",null,null,":",null,null,":",null,null,":",null,null,":",null,null,":",null,null,":",null,null,":",null,null,":",null,null,":",null,null,":",null,null,":",null,null,":",null,null,":",null,null,":",null,"",0,0,0,2,0,0,0,0,2,0,0,0,0,2,0,0,0,0,2,0,0,0,0,2,0,0,0,0,2,0,0,0,0,2,0,0,0,0,2,0,0,0,0,2,0,0,0,0,2,0,0,0,0,2,0,0,0,0,2,0,0,0,0,2,0,0,0,0,2,0,0,0,0,2,0,0,0,0,2,0,0,0,0,2,0,0,0,0,2,0,0,0,0,2,0,0,0,0,2,0,0,0,0,2,0,0,0,0,2,0,0,0,0,2,0,0,0,0,2,0,0,0,0]
["2026-06-16",46189,"2026-06-15T18:00:00",13,"Saudi-Arabien (H3)","-","Uruguay (H4)",null,":",null,"USA / Hard Rock Stadium (Miami)","1. Gruppenspiel","ZDF und MagentaTV",0,null,null,":",null,null,":",null,null,":",null,null,":",null,null,":",null,null,":",null,null,":",null,null,":",null,null,":",null,null,":",null,null,":",null,null,":",null,null,":",null,null,":",null,null,":",null,null,":",null,null,":",null,null,":",null,null,":",null,null,":",null,null,":",null,null,":",null,null,":",null,null,":",null,"",0,0,0,2,0,0,0,0,2,0,0,0,0,2,0,0,0,0,2,0,0,0,0,2,0,0,0,0,2,0,0,0,0,2,0,0,0,0,2,0,0,0,0,2,0,0,0,0,2,0,0,0,0,2,0,0,0,0,2,0,0,0,0,2,0,0,0,0,2,0,0,0,0,2,0,0,0,0,2,0,0,0,0,2,0,0,0,0,2,0,0,0,0,2,0,0,0,0,2,0,0,0,0,2,0,0,0,0,2,0,0,0,0,2,0,0,0,0,2,0,0,0,0]
["2026-06-16T03:00:00",46189.125,"2026-06-15T18:00:00",15,"Iran (G3)","-","Neuseeland (G4)",null,":",null,"USA / SoFi Stadium (Los Angeles)","1. Gruppenspiel","ZDF und MagentaTV",0,null,null,":",null,null,":",null,null,":",null,null,":",null,null,":",null,null,":",null,null,":",null,null,":",null,null,":",null,null,":",null,null,":",null,null,":",null,null,":",null,null,":",null,null,":",null,null,":",null,null,":",null,null,":",null,null,":",null,null,":",null,null,":",null,null,":",null,null,":",null,null,":",null,"",0,0,0,2,0,0,0,0,2,0,0,0,0,2,0,0,0,0,2,0,0,0,0,2,0,0,0,0,2,0,0,0,0,2,0,0,0,0,2,0,0,0,0,2,0,0,0,0,2,0,0,0,0,2,0,0,0,0,2,0,0,0,0,2,0,0,0,0,2,0,0,0,0,2,0,0,0,0,2,0,0,0,0,2,0,0,0,0,2,0,0,0,0,2,0,0,0,0,2,0,0,0,0,2,0,0,0,0,2,0,0,0,0,2,0,0,0,0,2,0,0,0,0]
["2026-06-16T21:00:00",46189.875,"2026-06-16T15:00:00",17,"Frankreich (I1)","-","Senegal (I2)",null,":",null,"USA / MetLife Stadium (New York/New Jersey)","1. Gruppenspiel","MagentaTV (Telekom) exklusiv",0,null,null,":",null,null,":",null,null,":",null,null,":",null,null,":",null,null,":",null,null,":",null,null,":",null,null,":",null,null,":",null,null,":",null,null,":",null,null,":",null,null,":",null,null,":",null,null,":",null,null,":",null,null,":",null,null,":",null,null,":",null,null,":",null,null,":",null,null,":",null,null,":",null,"",0,0,0,2,0,0,0,0,2,0,0,0,0,2,0,0,0,0,2,0,0,0,0,2,0,0,0,0,2,0,0,0,0,2,0,0,0,0,2,0,0,0,0,2,0,0,0,0,2,0,0,0,0,2,0,0,0,0,2,0,0,0,0,2,0,0,0,0,2,0,0,0,0,2,0,0,0,0,2,0,0,0,0,2,0,0,0,0,2,0,0,0,0,2,0,0,0,0,2,0,0,0,0,2,0,0,0,0,2,0,0,0,0,2,0,0,0,0,2,0,0,0,0]
["2026-06-17",46190,"2026-06-16T18:00:00",18,"Irak (I3)","-","Norwegen (I4)",null,":",null,"USA / Gillette Stadium (Boston)","1. Gruppenspiel","MagentaTV (Telekom) exklusiv",0,null,null,":",null,null,":",null,null,":",null,null,":",null,null,":",null,null,":",null,null,":",null,null,":",null,null,":",null,null,":",null,null,":",null,null,":",null,null,":",null,null,":",null,null,":",null,null,":",null,null,":",null,null,":",null,null,":",null,null,":",null,null,":",null,null,":",null,null,":",null,null,":",null,"",0,0,0,2,0,0,0,0,2,0,0,0,0,2,0,0,0,0,2,0,0,0,0,2,0,0,0,0,2,0,0,0,0,2,0,0,0,0,2,0,0,0,0,2,0,0,0,0,2,0,0,0,0,2,0,0,0,0,2,0,0,0,0,2,0,0,0,0,2,0,0,0,0,2,0,0,0,0,2,0,0,0,0,2,0,0,0,0,2,0,0,0,0,2,0,0,0,0,2,0,0,0,0,2,0,0,0,0,2,0,0,0,0,2,0,0,0,0,2,0,0,0,0]
["2026-06-17T03:00:00",46190.125,"2026-06-16T20:00:00",19,"Argentinien (J1)","-","Algerien (J2)",null,":",null,"USA / Arrowhead Stadium (Kansas City)","1. Gruppenspiel","ARD und MagentaTV",0,null,null,":",null,null,":",null,null,":",null,null,":",null,null,":",null,null,":",null,null,":",null,null,":",null,null,":",null,null,":",null,null,":",null,null,":",null,null,":",null,null,":",null,null,":",null,null,":",null,null,":",null,null,":",null,null,":",null,null,":",null,null,":",null,null,":",null,null,":",null,null,":",null,"",0,0,0,2,0,0,0,0,2,0,0,0,0,2,0,0,0,0,2,0,0,0,0,2,0,0,0,0,2,0,0,0,0,2,0,0,0,0,2,0,0,0,0,2,0,0,0,0,2,0,0,0,0,2,0,0,0,0,2,0,0,0,0,2,0,0,0,0,2,0,0,0,0,2,0,0,0,0,2,0,0,0,0,2,0,0,0,0,2,0,0,0,0,2,0,0,0,0,2,0,0,0,0,2,0,0,0,0,2,0,0,0,0,2,0,0,0,0,2,0,0,0,0]
["2026-06-17T06:00:00",46190.25,"2026-06-16T21:00:00",20,"Österreich (J3)","-","Jordanien (J4)",null,":",null,"USA / Levi's Stadium (San Francisco Bay Area)","1. Gruppenspiel","ZDF und MagentaTV",0,null,null,":",null,null,":",null,null,":",null,null,":",null,null,":",null,null,":",null,null,":",null,null,":",null,null,":",null,null,":",null,null,":",null,null,":",null,null,":",null,null,":",null,null,":",null,null,":",null,null,":",null,null,":",null,null,":",null,null,":",null,null,":",null,null,":",null,null,":",null,null,":",null,"",0,0,0,2,0,0,0,0,2,0,0,0,0,2,0,0,0,0,2,0,0,0,0,2,0,0,0,0,2,0,0,0,0,2,0,0,0,0,2,0,0,0,0,2,0,0,0,0,2,0,0,0,0,2,0,0,0,0,2,0,0,0,0,2,0,0,0,0,2,0,0,0,0,2,0,0,0,0,2,0,0,0,0,2,0,0,0,0,2,0,0,0,0,2,0,0,0,0,2,0,0,0,0,2,0,0,0,0,2,0,0,0,0,2,0,0,0,0,2,0,0,0,0]
["2026-06-17T19:00:00",46190.791666666664,"2026-06-17T12:00:00",23,"Portugal (K1)","-","DR Kongo (K2)",null,":",null,"USA / NRG Stadium (Houston)","1. Gruppenspiel","ZDF und MagentaTV",0,null,null,":",null,null,":",null,null,":",null,null,":",null,null,":",null,null,":",null,null,":",null,null,":",null,null,":",null,null,":",null,null,":",null,null,":",null,null,":",null,null,":",null,null,":",null,null,":",null,null,":",null,null,":",null,null,":",null,null,":",null,null,":",null,null,":",null,null,":",null,null,":",null,"",0,0,0,2,0,0,0,0,2,0,0,0,0,2,0,0,0,0,2,0,0,0,0,2,0,0,0,0,2,0,0,0,0,2,0,0,0,0,2,0,0,0,0,2,0,0,0,0,2,0,0,0,0,2,0,0,0,0,2,0,0,0,0,2,0,0,0,0,2,0,0,0,0,2,0,0,0,0,2,0,0,0,0,2,0,0,0,0,2,0,0,0,0,2,0,0,0,0,2,0,0,0,0,2,0,0,0,0,2,0,0,0,0,2,0,0,0,0,2,0,0,0,0]
["2026-06-17T22:00:00",46190.916666666664,"2026-06-17T15:00:00",22,"England (L1)","-","Kroatien (L2)",null,":",null,"USA / AT&T Stadium (Dallas)","1. Gruppenspiel","ZDF und MagentaTV",0,null,null,":",null,null,":",null,null,":",null,null,":",null,null,":",null,null,":",null,null,":",null,null,":",null,null,":",null,null,":",null,null,":",null,null,":",null,null,":",null,null,":",null,null,":",null,null,":",null,null,":",null,null,":",null,null,":",null,null,":",null,null,":",null,null,":",null,null,":",null,null,":",null,"",0,0,0,2,0,0,0,0,2,0,0,0,0,2,0,0,0,0,2,0,0,0,0,2,0,0,0,0,2,0,0,0,0,2,0,0,0,0,2,0,0,0,0,2,0,0,0,0,2,0,0,0,0,2,0,0,0,0,2,0,0,0,0,2,0,0,0,0,2,0,0,0,0,2,0,0,0,0,2,0,0,0,0,2,0,0,0,0,2,0,0,0,0,2,0,0,0,0,2,0,0,0,0,2,0,0,0,0,2,0,0,0,0,2,0,0,0,0,2,0,0,0,0]
["2026-06-18T01:00:00",46191.041666666664,"2026-06-17T19:00:00",21,"Ghana (L3)","-","Panama (L4)",null,":",null,"Kanada / BMO Field (Toronto)","1. Gruppenspiel","MagentaTV (Telekom) exklusiv",0,null,null,":",null,null,":",null,null,":",null,null,":",null,null,":",null,null,":",null,null,":",null,null,":",null,null,":",null,null,":",null,null,":",null,null,":",null,null,":",null,null,":",null,null,":",null,null,":",null,null,":",null,null,":",null,null,":",null,null,":",null,null,":",null,null,":",null,null,":",null,null,":",null,"",0,0,0,2,0,0,0,0,2,0,0,0,0,2,0,0,0,0,2,0,0,0,0,2,0,0,0,0,2,0,0,0,0,2,0,0,0,0,2,0,0,0,0,2,0,0,0,0,2,0,0,0,0,2,0,0,0,0,2,0,0,0,0,2,0,0,0,0,2,0,0,0,0,2,0,0,0,0,2,0,0,0,0,2,0,0,0,0,2,0,0,0,0,2,0,0,0,0,2,0,0,0,0,2,0,0,0,0,2,0,0,0,0,2,0,0,0,0,2,0,0,0,0]
["2026-06-18T04:00:00",46191.166666666664,"2026-06-17T20:00:00",24,"Usbekistan (K3)","-","Kolumbien (K4)",null,":",null,"Mexiko / Azteca (Mexico City)","1. Gruppenspiel","MagentaTV (Telekom) exklusiv",0,null,null,":",null,null,":",null,null,":",null,null,":",null,null,":",null,null,":",null,null,":",null,null,":",null,null,":",null,null,":",null,null,":",null,null,":",null,null,":",null,null,":",null,null,":",null,null,":",null,null,":",null,null,":",null,null,":",null,null,":",null,null,":",null,null,":",null,null,":",null,null,":",null,"",0,0,0,2,0,0,0,0,2,0,0,0,0,2,0,0,0,0,2,0,0,0,0,2,0,0,0,0,2,0,0,0,0,2,0,0,0,0,2,0,0,0,0,2,0,0,0,0,2,0,0,0,0,2,0,0,0,0,2,0,0,0,0,2,0,0,0,0,2,0,0,0,0,2,0,0,0,0,2,0,0,0,0,2,0,0,0,0,2,0,0,0,0,2,0,0,0,0,2,0,0,0,0,2,0,0,0,0,2,0,0,0,0,2,0,0,0,0,2,0,0,0,0]
[null,null,null,null,null,null,null,null,null,null,null,null,null,{"$f":"SUM(N2:N25)","v":0},null,null,":",null,null,":",null,null,":",null,null,":",null,null,":",null,null,":",null,null,":",null,null,":",null,null,":",null,null,":",null,null,":",null,null,":",null,null,":",null,null,":",null,null,":",null,null,":",null,null,":",null,null,":",null,null,":",null,null,":",null,null,":",null,null,":",null,null,":",null,null,":",null,"",0,0,0,2,0,0,0,0,2,0,0,0,0,2,0,0,0,0,2,0,0,0,0,2,0,0,0,0,2,0,0,0,0,2,0,0,0,0,2,0,0,0,0,2,0,0,0,0,2,0,0,0,0,2,0,0,0,0,2,0,0,0,0,2,0,0,0,0,2,0,0,0,0,2,0,0,0,0,2,0,0,0,0,2,0,0,0,0,2,0,0,0,0,2,0,0,0,0,2,0,0,0,0,2,0,0,0,0,2,0,0,0,0,2,0,0,0,0,2,0,0,0,0]
[null,null,null,null,null,null,null,null,null,null,null,null,null,null,null,null,":",null,null,":",null,null,":",null,null,":",null,null,":",null,null,":",null,null,":",null,null,":",null,null,":",null,null,":",null,null,":",null,null,":",null,null,":",null,null,":",null,null,":",null,null,":",null,null,":",null,null,":",null,null,":",null,null,":",null,null,":",null,null,":",null,null,":",null,null,":",null,"",0,0,0,2,0,0,0,0,2,0,0,0,0,2,0,0,0,0,2,0,0,0,0,2,0,0,0,0,2,0,0,0,0,2,0,0,0,0,2,0,0,0,0,2,0,0,0,0,2,0,0,0,0,2,0,0,0,0,2,0,0,0,0,2,0,0,0,0,2,0,0,0,0,2,0,0,0,0,2,0,0,0,0,2,0,0,0,0,2,0,0,0,0,2,0,0,0,0,2,0,0,0,0,2,0,0,0,0,2,0,0,0,0,2,0,0,0,0,2,0,0,0,0]
[null,null,null,null,null,null,null,null,null,null,null,null,null,null,null,null,":",null,null,":",null,null,":",null,null,":",null,null,":",null,null,":",null,null,":",null,null,":",null,null,":",null,null,":",null,null,":",null,null,":",null,null,":",null,null,":",null,null,":",null,null,":",null,null,":",null,null,":",null,null,":",null,null,":",null,null,":",null,null,":",null,null,":",null,null,":",null,"",0,0,0,2,0,0,0,0,2,0,0,0,0,2,0,0,0,0,2,0,0,0,0,2,0,0,0,0,2,0,0,0,0,2,0,0,0,0,2,0,0,0,0,2,0,0,0,0,2,0,0,0,0,2,0,0,0,0,2,0,0,0,0,2,0,0,0,0,2,0,0,0,0,2,0,0,0,0,2,0,0,0,0,2,0,0,0,0,2,0,0,0,0,2,0,0,0,0,2,0,0,0,0,2,0,0,0,0,2,0,0,0,0,2,0,0,0,0,2,0,0,0,0]
[null,null,null,null,null,null,null,null,null,null,null,null,null,null,null,null,":",null,null,":",null,null,":",null,null,":",null,null,":",null,null,":",null,null,":",null,null,":",null,null,":",null,null,":",null,null,":",null,null,":",null,null,":",null,null,":",null,null,":",null,null,":",null,null,":",null,null,":",null,null,":",null,null,":",null,null,":",null,null,":",null,null,":",null,null,":",null,"",0,0,0,2,0,0,0,0,2,0,0,0,0,2,0,0,0,0,2,0,0,0,0,2,0,0,0,0,2,0,0,0,0,2,0,0,0,0,2,0,0,0,0,2,0,0,0,0,2,0,0,0,0,2,0,0,0,0,2,0,0,0,0,2,0,0,0,0,2,0,0,0,0,2,0,0,0,0,2,0,0,0,0,2,0,0,0,0,2,0,0,0,0,2,0,0,0,0,2,0,0,0,0,2,0,0,0,0,2,0,0,0,0,2,0,0,0,0,2,0,0,0,0]
[null,null,null,null,null,null,null,null,null,null,null,null,null,null,null,null,":",null,null,":",null,null,":",null,null,":",null,null,":",null,null,":",null,null,":",null,null,":",null,null,":",null,null,":",null,null,":",null,null,":",null,null,":",null,null,":",null,null,":",null,null,":",null,null,":",null,null,":",null,null,":",null,null,":",null,null,":",null,null,":",null,null,":",null,null,":",null,"",0,0,0,2,0,0,0,0,2,0,0,0,0,2,0,0,0,0,2,0,0,0,0,2,0,0,0,0,2,0,0,0,0,2,0,0,0,0,2,0,0,0,0,2,0,0,0,0,2,0,0,0,0,2,0,0,0,0,2,0,0,0,0,2,0,0,0,0,2,0,0,0,0,2,0,0,0,0,2,0,0,0,0,2,0,0,0,0,2,0,0,0,0,2,0,0,0,0,2,0,0,0,0,2,0,0,0,0,2,0,0,0,0,2,0,0,0,0,2,0,0,0,0]
[null,null,null,null,null,null,null,null,null,null,null,null,null,null,null,null,":",null,null,":",null,null,":",null,null,":",null,null,":",null,null,":",null,null,":",null,null,":",null,null,":",null,null,":",null,null,":",null,null,":",null,null,":",null,null,":",null,null,":",null,null,":",null,null,":",null,null,":",null,null,":",null,null,":",null,null,":",null,null,":",null,null,":",null,null,":",null,"",0,0,0,2,0,0,0,0,2,0,0,0,0,2,0,0,0,0,2,0,0,0,0,2,0,0,0,0,2,0,0,0,0,2,0,0,0,0,2,0,0,0,0,2,0,0,0,0,2,0,0,0,0,2,0,0,0,0,2,0,0,0,0,2,0,0,0,0,2,0,0,0,0,2,0,0,0,0,2,0,0,0,0,2,0,0,0,0,2,0,0,0,0,2,0,0,0,0,2,0,0,0,0,2,0,0,0,0,2,0,0,0,0,2,0,0,0,0,2,0,0,0,0]
[null,null,null,null,null,null,null,null,null,null,null,null,null,null,null,null,":",null,null,":",null,null,":",null,null,":",null,null,":",null,null,":",null,null,":",null,null,":",null,null,":",null,null,":",null,null,":",null,null,":",null,null,":",null,null,":",null,null,":",null,null,":",null,null,":",null,null,":",null,null,":",null,null,":",null,null,":",null,null,":",null,null,":",null,null,":",null,"",0,0,0,2,0,0,0,0,2,0,0,0,0,2,0,0,0,0,2,0,0,0,0,2,0,0,0,0,2,0,0,0,0,2,0,0,0,0,2,0,0,0,0,2,0,0,0,0,2,0,0,0,0,2,0,0,0,0,2,0,0,0,0,2,0,0,0,0,2,0,0,0,0,2,0,0,0,0,2,0,0,0,0,2,0,0,0,0,2,0,0,0,0,2,0,0,0,0,2,0,0,0,0,2,0,0,0,0,2,0,0,0,0,2,0,0,0,0,2,0,0,0,0]
[null,null,null,null,null,null,null,null,null,null,null,null,null,null,null,null,":",null,null,":",null,null,":",null,null,":",null,null,":",null,null,":",null,null,":",null,null,":",null,null,":",null,null,":",null,null,":",null,null,":",null,null,":",null,null,":",null,null,":",null,null,":",null,null,":",null,null,":",null,null,":",null,null,":",null,null,":",null,null,":",null,null,":",null,null,":",null,"",0,0,0,2,0,0,0,0,2,0,0,0,0,2,0,0,0,0,2,0,0,0,0,2,0,0,0,0,2,0,0,0,0,2,0,0,0,0,2,0,0,0,0,2,0,0,0,0,2,0,0,0,0,2,0,0,0,0,2,0,0,0,0,2,0,0,0,0,2,0,0,0,0,2,0,0,0,0,2,0,0,0,0,2,0,0,0,0,2,0,0,0,0,2,0,0,0,0,2,0,0,0,0,2,0,0,0,0,2,0,0,0,0,2,0,0,0,0,2,0,0,0,0]
[null,null,null,null,null,null,null,null,null,null,null,null,null,null,null,null,":",null,null,":",null,null,":",null,null,":",null,null,":",null,null,":",null,null,":",null,null,":",null,null,":",null,null,":",null,null,":",null,null,":",null,null,":",null,null,":",null,null,":",null,null,":",null,null,":",null,null,":",null,null,":",null,null,":",null,null,":",null,null,":",null,null,":",null,null,":",null,"",0,0,0,2,0,0,0,0,2,0,0,0,0,2,0,0,0,0,2,0,0,0,0,2,0,0,0,0,2,0,0,0,0,2,0,0,0,0,2,0,0,0,0,2,0,0,0,0,2,0,0,0,0,2,0,0,0,0,2,0,0,0,0,2,0,0,0,0,2,0,0,0,0,2,0,0,0,0,2,0,0,0,0,2,0,0,0,0,2,0,0,0,0,2,0,0,0,0,2,0,0,0,0,2,0,0,0,0,2,0,0,0,0,2,0,0,0,0,2,0,0,0,0]
[null,null,null,null,null,null,null,null,null,null,null,null,null,null,null,null,":",null,null,":",null,null,":",null,null,":",null,null,":",null,null,":",null,null,":",null,null,":",null,null,":",null,null,":",null,null,":",null,null,":",null,null,":",null,null,":",null,null,":",null,null,":",null,null,":",null,null,":",null,null,":",null,null,":",null,null,":",null,null,":",null,null,":",null,null,":",null,"",0,0,0,2,0,0,0,0,2,0,0,0,0,2,0,0,0,0,2,0,0,0,0,2,0,0,0,0,2,0,0,0,0,2,0,0,0,0,2,0,0,0,0,2,0,0,0,0,2,0,0,0,0,2,0,0,0,0,2,0,0,0,0,2,0,0,0,0,2,0,0,0,0,2,0,0,0,0,2,0,0,0,0,2,0,0,0,0,2,0,0,0,0,2,0,0,0,0,2,0,0,0,0,2,0,0,0,0,2,0,0,0,0,2,0,0,0,0,2,0,0,0,0]
[null,null,null,null,null,null,null,null,null,null,null,null,null,null,null,null,":",null,null,":",null,null,":",null,null,":",null,null,":",null,null,":",null,null,":",null,null,":",null,null,":",null,null,":",null,null,":",null,null,":",null,null,":",null,null,":",null,null,":",null,null,":",null,null,":",null,null,":",null,null,":",null,null,":",null,null,":",null,null,":",null,null,":",null,null,":",null,"",0,0,0,2,0,0,0,0,2,0,0,0,0,2,0,0,0,0,2,0,0,0,0,2,0,0,0,0,2,0,0,0,0,2,0,0,0,0,2,0,0,0,0,2,0,0,0,0,2,0,0,0,0,2,0,0,0,0,2,0,0,0,0,2,0,0,0,0,2,0,0,0,0,2,0,0,0,0,2,0,0,0,0,2,0,0,0,0,2,0,0,0,0,2,0,0,0,0,2,0,0,0,0,2,0,0,0,0,2,0,0,0,0,2,0,0,0,0,2,0,0,0,0]
[null,null,null,null,null,null,null,null,null,null,null,null,null,null,null,null,":",null,null,":",null,null,":",null,null,":",null,null,":",null,null,":",null,null,":",null,null,":",null,null,":",null,null,":",null,null,":",null,null,":",null,null,":",null,null,":",null,null,":",null,null,":",null,null,":",null,null,":",null,null,":",null,null,":",null,null,":",null,null,":",null,null,":",null,null,":",null,"",0,0,0,2,0,0,0,0,2,0,0,0,0,2,0,0,0,0,2,0,0,0,0,2,0,0,0,0,2,0,0,0,0,2,0,0,0,0,2,0,0,0,0,2,0,0,0,0,2,0,0,0,0,2,0,0,0,0,2,0,0,0,0,2,0,0,0,0,2,0,0,0,0,2,0,0,0,0,2,0,0,0,0,2,0,0,0,0,2,0,0,0,0,2,0,0,0,0,2,0,0,0,0,2,0,0,0,0,2,0,0,0,0,2,0,0,0,0,2,0,0,0,0]
[null,null,null,null,null,null,null,null,null,null,null,null,null,null,null,null,":",null,null,":",null,null,":",null,null,":",null,null,":",null,null,":",null,null,":",null,null,":",null,null,":",null,null,":",null,null,":",null,null,":",null,null,":",null,null,":",null,null,":",null,null,":",null,null,":",null,null,":",null,null,":",null,null,":",null,null,":",null,null,":",null,null,":",null,null,":",null,"",0,0,0,2,0,0,0,0,2,0,0,0,0,2,0,0,0,0,2,0,0,0,0,2,0,0,0,0,2,0,0,0,0,2,0,0,0,0,2,0,0,0,0,2,0,0,0,0,2,0,0,0,0,2,0,0,0,0,2,0,0,0,0,2,0,0,0,0,2,0,0,0,0,2,0,0,0,0,2,0,0,0,0,2,0,0,0,0,2,0,0,0,0,2,0,0,0,0,2,0,0,0,0,2,0,0,0,0,2,0,0,0,0,2,0,0,0,0,2,0,0,0,0]
[null,null,null,null,null,null,null,null,null,null,null,null,null,null,null,null,":",null,null,":",null,null,":",null,null,":",null,null,":",null,null,":",null,null,":",null,null,":",null,null,":",null,null,":",null,null,":",null,null,":",null,null,":",null,null,":",null,null,":",null,null,":",null,null,":",null,null,":",null,null,":",null,null,":",null,null,":",null,null,":",null,null,":",null,null,":",null,"",0,0,0,2,0,0,0,0,2,0,0,0,0,2,0,0,0,0,2,0,0,0,0,2,0,0,0,0,2,0,0,0,0,2,0,0,0,0,2,0,0,0,0,2,0,0,0,0,2,0,0,0,0,2,0,0,0,0,2,0,0,0,0,2,0,0,0,0,2,0,0,0,0,2,0,0,0,0,2,0,0,0,0,2,0,0,0,0,2,0,0,0,0,2,0,0,0,0,2,0,0,0,0,2,0,0,0,0,2,0,0,0,0,2,0,0,0,0,2,0,0,0,0]
[null,null,null,null,null,null,null,null,null,null,null,null,null,null,null,null,":",null,null,":",null,null,":",null,null,":",null,null,":",null,null,":",null,null,":",null,null,":",null,null,":",null,null,":",null,null,":",null,null,":",null,null,":",null,null,":",null,null,":",null,null,":",null,null,":",null,null,":",null,null,":",null,null,":",null,null,":",null,null,":",null,null,":",null,null,":",null,"",0,0,0,2,0,0,0,0,2,0,0,0,0,2,0,0,0,0,2,0,0,0,0,2,0,0,0,0,2,0,0,0,0,2,0,0,0,0,2,0,0,0,0,2,0,0,0,0,2,0,0,0,0,2,0,0,0,0,2,0,0,0,0,2,0,0,0,0,2,0,0,0,0,2,0,0,0,0,2,0,0,0,0,2,0,0,0,0,2,0,0,0,0,2,0,0,0,0,2,0,0,0,0,2,0,0,0,0,2,0,0,0,0,2,0,0,0,0,2,0,0,0,0]
[null,null,null,null,null,null,null,null,null,null,null,null,null,null,null,null,":",null,null,":",null,null,":",null,null,":",null,null,":",null,null,":",null,null,":",null,null,":",null,null,":",null,null,":",null,null,":",null,null,":",null,null,":",null,null,":",null,null,":",null,null,":",null,null,":",null,null,":",null,null,":",null,null,":",null,null,":",null,null,":",null,null,":",null,null,":",null,"",0,0,0,2,0,0,0,0,2,0,0,0,0,2,0,0,0,0,2,0,0,0,0,2,0,0,0,0,2,0,0,0,0,2,0,0,0,0,2,0,0,0,0,2,0,0,0,0,2,0,0,0,0,2,0,0,0,0,2,0,0,0,0,2,0,0,0,0,2,0,0,0,0,2,0,0,0,0,2,0,0,0,0,2,0,0,0,0,2,0,0,0,0,2,0,0,0,0,2,0,0,0,0,2,0,0,0,0,2,0,0,0,0,2,0,0,0,0,2,0,0,0,0]
[null,null,null,null,null,null,null,null,null,null,null,null,null,null,null,null,":",null,null,":",null,null,":",null,null,":",null,null,":",null,null,":",null,null,":",null,null,":",null,null,":",null,null,":",null,null,":",null,null,":",null,null,":",null,null,":",null,null,":",null,null,":",null,null,":",null,null,":",null,null,":",null,null,":",null,null,":",null,null,":",null,null,":",null,null,":",null,"",0,0,0,2,0,0,0,0,2,0,0,0,0,2,0,0,0,0,2,0,0,0,0,2,0,0,0,0,2,0,0,0,0,2,0,0,0,0,2,0,0,0,0,2,0,0,0,0,2,0,0,0,0,2,0,0,0,0,2,0,0,0,0,2,0,0,0,0,2,0,0,0,0,2,0,0,0,0,2,0,0,0,0,2,0,0,0,0,2,0,0,0,0,2,0,0,0,0,2,0,0,0,0,2,0,0,0,0,2,0,0,0,0,2,0,0,0,0,2,0,0,0,0]
[null,null,null,null,null,null,null,null,null,null,null,null,null,null,null,null,":",null,null,":",null,null,":",null,null,":",null,null,":",null,null,":",null,null,":",null,null,":",null,null,":",null,null,":",null,null,":",null,null,":",null,null,":",null,null,":",null,null,":",null,null,":",null,null,":",null,null,":",null,null,":",null,null,":",null,null,":",null,null,":",null,null,":",null,null,":",null,"",0,0,0,2,0,0,0,0,2,0,0,0,0,2,0,0,0,0,2,0,0,0,0,2,0,0,0,0,2,0,0,0,0,2,0,0,0,0,2,0,0,0,0,2,0,0,0,0,2,0,0,0,0,2,0,0,0,0,2,0,0,0,0,2,0,0,0,0,2,0,0,0,0,2,0,0,0,0,2,0,0,0,0,2,0,0,0,0,2,0,0,0,0,2,0,0,0,0,2,0,0,0,0,2,0,0,0,0,2,0,0,0,0,2,0,0,0,0,2,0,0,0,0]
[null,null,null,null,null,null,null,null,null,null,null,null,null,null,null,null,":",null,null,":",null,null,":",null,null,":",null,null,":",null,null,":",null,null,":",null,null,":",null,null,":",null,null,":",null,null,":",null,null,":",null,null,":",null,null,":",null,null,":",null,null,":",null,null,":",null,null,":",null,null,":",null,null,":",null,null,":",null,null,":",null,null,":",null,null,":",null,"",0,0,0,2,0,0,0,0,2,0,0,0,0,2,0,0,0,0,2,0,0,0,0,2,0,0,0,0,2,0,0,0,0,2,0,0,0,0,2,0,0,0,0,2,0,0,0,0,2,0,0,0,0,2,0,0,0,0,2,0,0,0,0,2,0,0,0,0,2,0,0,0,0,2,0,0,0,0,2,0,0,0,0,2,0,0,0,0,2,0,0,0,0,2,0,0,0,0,2,0,0,0,0,2,0,0,0,0,2,0,0,0,0,2,0,0,0,0,2,0,0,0,0]
[null,null,null,null,null,null,null,null,null,null,null,null,null,null,null,null,":",null,null,":",null,null,":",null,null,":",null,null,":",null,null,":",null,null,":",null,null,":",null,null,":",null,null,":",null,null,":",null,null,":",null,null,":",null,null,":",null,null,":",null,null,":",null,null,":",null,null,":",null,null,":",null,null,":",null,null,":",null,null,":",null,null,":",null,null,":",null,"",0,0,0,2,0,0,0,0,2,0,0,0,0,2,0,0,0,0,2,0,0,0,0,2,0,0,0,0,2,0,0,0,0,2,0,0,0,0,2,0,0,0,0,2,0,0,0,0,2,0,0,0,0,2,0,0,0,0,2,0,0,0,0,2,0,0,0,0,2,0,0,0,0,2,0,0,0,0,2,0,0,0,0,2,0,0,0,0,2,0,0,0,0,2,0,0,0,0,2,0,0,0,0,2,0,0,0,0,2,0,0,0,0,2,0,0,0,0,2,0,0,0,0]
[null,null,null,null,null,null,null,null,null,null,null,null,null,null,null,null,":",null,null,":",null,null,":",null,null,":",null,null,":",null,null,":",null,null,":",null,null,":",null,null,":",null,null,":",null,null,":",null,null,":",null,null,":",null,null,":",null,null,":",null,null,":",null,null,":",null,null,":",null,null,":",null,null,":",null,null,":",null,null,":",null,null,":",null,null,":",null,"",0,0,0,2,0,0,0,0,2,0,0,0,0,2,0,0,0,0,2,0,0,0,0,2,0,0,0,0,2,0,0,0,0,2,0,0,0,0,2,0,0,0,0,2,0,0,0,0,2,0,0,0,0,2,0,0,0,0,2,0,0,0,0,2,0,0,0,0,2,0,0,0,0,2,0,0,0,0,2,0,0,0,0,2,0,0,0,0,2,0,0,0,0,2,0,0,0,0,2,0,0,0,0,2,0,0,0,0,2,0,0,0,0,2,0,0,0,0,2,0,0,0,0]
[null,null,null,null,null,null,null,null,null,null,null,null,null,null,null,null,":",null,null,":",null,null,":",null,null,":",null,null,":",null,null,":",null,null,":",null,null,":",null,null,":",null,null,":",null,null,":",null,null,":",null,null,":",null,null,":",null,null,":",null,null,":",null,null,":",null,null,":",null,null,":",null,null,":",null,null,":",null,null,":",null,null,":",null,null,":",null,"",0,0,0,2,0,0,0,0,2,0,0,0,0,2,0,0,0,0,2,0,0,0,0,2,0,0,0,0,2,0,0,0,0,2,0,0,0,0,2,0,0,0,0,2,0,0,0,0,2,0,0,0,0,2,0,0,0,0,2,0,0,0,0,2,0,0,0,0,2,0,0,0,0,2,0,0,0,0,2,0,0,0,0,2,0,0,0,0,2,0,0,0,0,2,0,0,0,0,2,0,0,0,0,2,0,0,0,0,2,0,0,0,0,2,0,0,0,0,2,0,0,0,0]
[null,null,null,null,null,null,null,null,null,null,null,null,null,null,null,null,":",null,null,":",null,null,":",null,null,":",null,null,":",null,null,":",null,null,":",null,null,":",null,null,":",null,null,":",null,null,":",null,null,":",null,null,":",null,null,":",null,null,":",null,null,":",null,null,":",null,null,":",null,null,":",null,null,":",null,null,":",null,null,":",null,null,":",null,null,":",null,"",0,0,0,2,0,0,0,0,2,0,0,0,0,2,0,0,0,0,2,0,0,0,0,2,0,0,0,0,2,0,0,0,0,2,0,0,0,0,2,0,0,0,0,2,0,0,0,0,2,0,0,0,0,2,0,0,0,0,2,0,0,0,0,2,0,0,0,0,2,0,0,0,0,2,0,0,0,0,2,0,0,0,0,2,0,0,0,0,2,0,0,0,0,2,0,0,0,0,2,0,0,0,0,2,0,0,0,0,2,0,0,0,0,2,0,0,0,0,2,0,0,0,0]
[null,null,null,null,null,null,null,null,null,null,null,null,null,null,null,null,":",null,null,":",null,null,":",null,null,":",null,null,":",null,null,":",null,null,":",null,null,":",null,null,":",null,null,":",null,null,":",null,null,":",null,null,":",null,null,":",null,null,":",null,null,":",null,null,":",null,null,":",null,null,":",null,null,":",null,null,":",null,null,":",null,null,":",null,null,":",null,"",0,0,0,2,0,0,0,0,2,0,0,0,0,2,0,0,0,0,2,0,0,0,0,2,0,0,0,0,2,0,0,0,0,2,0,0,0,0,2,0,0,0,0,2,0,0,0,0,2,0,0,0,0,2,0,0,0,0,2,0,0,0,0,2,0,0,0,0,2,0,0,0,0,2,0,0,0,0,2,0,0,0,0,2,0,0,0,0,2,0,0,0,0,2,0,0,0,0,2,0,0,0,0,2,0,0,0,0,2,0,0,0,0,2,0,0,0,0,2,0,0,0,0]
[null,null,null,null,null,null,null,null,null,null,null,null,null,null,null,null,":",null,null,":",null,null,":",null,null,":",null,null,":",null,null,":",null,null,":",null,null,":",null,null,":",null,null,":",null,null,":",null,null,":",null,null,":",null,null,":",null,null,":",null,null,":",null,null,":",null,null,":",null,null,":",null,null,":",null,null,":",null,null,":",null,null,":",null,null,":",null,"",0,0,0,2,0,0,0,0,2,0,0,0,0,2,0,0,0,0,2,0,0,0,0,2,0,0,0,0,2,0,0,0,0,2,0,0,0,0,2,0,0,0,0,2,0,0,0,0,2,0,0,0,0,2,0,0,0,0,2,0,0,0,0,2,0,0,0,0,2,0,0,0,0,2,0,0,0,0,2,0,0,0,0,2,0,0,0,0,2,0,0,0,0,2,0,0,0,0,2,0,0,0,0,2,0,0,0,0,2,0,0,0,0,2,0,0,0,0,2,0,0,0,0]
[null,null,null,null,null,null,null,null,null,null,null,null,null,null,null,null,":",null,null,":",null,null,":",null,null,":",null,null,":",null,null,":",null,null,":",null,null,":",null,null,":",null,null,":",null,null,":",null,null,":",null,null,":",null,null,":",null,null,":",null,null,":",null,null,":",null,null,":",null,null,":",null,null,":",null,null,":",null,null,":",null,null,":",null,null,":",null,"",0,0,0,2,0,0,0,0,2,0,0,0,0,2,0,0,0,0,2,0,0,0,0,2,0,0,0,0,2,0,0,0,0,2,0,0,0,0,2,0,0,0,0,2,0,0,0,0,2,0,0,0,0,2,0,0,0,0,2,0,0,0,0,2,0,0,0,0,2,0,0,0,0,2,0,0,0,0,2,0,0,0,0,2,0,0,0,0,2,0,0,0,0,2,0,0,0,0,2,0,0,0,0,2,0,0,0,0,2,0,0,0,0,2,0,0,0,0,2,0,0,0,0]
[null,null,null,null,null,null,null,null,null,null,null,null,null,null,null,null,":",null,null,":",null,null,":",null,null,":",null,null,":",null,null,":",null,null,":",null,null,":",null,null,":",null,null,":",null,null,":",null,null,":",null,null,":",null,null,":",null,null,":",null,null,":",null,null,":",null,null,":",null,null,":",null,null,":",null,null,":",null,null,":",null,null,":",null,null,":",null,"",0,0,0,2,0,0,0,0,2,0,0,0,0,2,0,0,0,0,2,0,0,0,0,2,0,0,0,0,2,0,0,0,0,2,0,0,0,0,2,0,0,0,0,2,0,0,0,0,2,0,0,0,0,2,0,0,0,0,2,0,0,0,0,2,0,0,0,0,2,0,0,0,0,2,0,0,0,0,2,0,0,0,0,2,0,0,0,0,2,0,0,0,0,2,0,0,0,0,2,0,0,0,0,2,0,0,0,0,2,0,0,0,0,2,0,0,0,0,2,0,0,0,0]
[null,null,null,null,null,null,null,null,null,null,null,null,null,null,null,null,":",null,null,":",null,null,":",null,null,":",null,null,":",null,null,":",null,null,":",null,null,":",null,null,":",null,null,":",null,null,":",null,null,":",null,null,":",null,null,":",null,null,":",null,null,":",null,null,":",null,null,":",null,null,":",null,null,":",null,null,":",null,null,":",null,null,":",null,null,":",null,"",0,0,0,2,0,0,0,0,2,0,0,0,0,2,0,0,0,0,2,0,0,0,0,2,0,0,0,0,2,0,0,0,0,2,0,0,0,0,2,0,0,0,0,2,0,0,0,0,2,0,0,0,0,2,0,0,0,0,2,0,0,0,0,2,0,0,0,0,2,0,0,0,0,2,0,0,0,0,2,0,0,0,0,2,0,0,0,0,2,0,0,0,0,2,0,0,0,0,2,0,0,0,0,2,0,0,0,0,2,0,0,0,0,2,0,0,0,0,2,0,0,0,0]
[null,null,null,null,null,null,null,null,null,null,null,null,null,null,null,null,":",null,null,":",null,null,":",null,null,":",null,null,":",null,null,":",null,null,":",null,null,":",null,null,":",null,null,":",null,null,":",null,null,":",null,null,":",null,null,":",null,null,":",null,null,":",null,null,":",null,null,":",null,null,":",null,null,":",null,null,":",null,null,":",null,null,":",null,null,":",null,"",0,0,0,2,0,0,0,0,2,0,0,0,0,2,0,0,0,0,2,0,0,0,0,2,0,0,0,0,2,0,0,0,0,2,0,0,0,0,2,0,0,0,0,2,0,0,0,0,2,0,0,0,0,2,0,0,0,0,2,0,0,0,0,2,0,0,0,0,2,0,0,0,0,2,0,0,0,0,2,0,0,0,0,2,0,0,0,0,2,0,0,0,0,2,0,0,0,0,2,0,0,0,0,2,0,0,0,0,2,0,0,0,0,2,0,0,0,0,2,0,0,0,0]
[null,null,null,null,null,null,null,null,null,null,null,null,null,null,null,null,":",null,null,":",null,null,":",null,null,":",null,null,":",null,null,":",null,null,":",null,null,":",null,null,":",null,null,":",null,null,":",null,null,":",null,null,":",null,null,":",null,null,":",null,null,":",null,null,":",null,null,":",null,null,":",null,null,":",null,null,":",null,null,":",null,null,":",null,null,":",null,"",0,0,0,2,0,0,0,0,2,0,0,0,0,2,0,0,0,0,2,0,0,0,0,2,0,0,0,0,2,0,0,0,0,2,0,0,0,0,2,0,0,0,0,2,0,0,0,0,2,0,0,0,0,2,0,0,0,0,2,0,0,0,0,2,0,0,0,0,2,0,0,0,0,2,0,0,0,0,2,0,0,0,0,2,0,0,0,0,2,0,0,0,0,2,0,0,0,0,2,0,0,0,0,2,0,0,0,0,2,0,0,0,0,2,0,0,0,0,2,0,0,0,0]
[null,null,null,null,null,null,null,null,null,null,null,null,null,null,"Ergebnis",{"$f":"IF($H$2=\"\",\"-\",$H$2)","v":"-"},":",{"$f":"IF($J$2=\"\",\"-\",$J$2)","v":"-"},{"$f":"IF($H$3=\"\",\"-\",$H$3)","v":"-"},":",{"$f":"IF($J$3=\"\",\"-\",$J$3)","v":"-"},{"$f":"IF($H$4=\"\",\"-\",$H$4)","v":"-"},":",{"$f":"IF($J$4=\"\",\"-\",$J$4)","v":"-"},{"$f":"IF($H$5=\"\",\"-\",$H$5)","v":"-"},":",{"$f":"IF($J$5=\"\",\"-\",$J$5)","v":"-"},{"$f":"IF($H$6=\"\",\"-\",$H$6)","v":"-"},":",{"$f":"IF($J$6=\"\",\"-\",$J$6)","v":"-"},{"$f":"IF($H$7=\"\",\"-\",$H$7)","v":"-"},":",{"$f":"IF($J$7=\"\",\"-\",$J$7)","v":"-"},{"$f":"IF($H$8=\"\",\"-\",$H$8)","v":"-"},":",{"$f":"IF($J$8=\"\",\"-\",$J$8)","v":"-"},{"$f":"IF($H$9=\"\",\"-\",$H$9)","v":"-"},":",{"$f":"IF($J$9=\"\",\"-\",$J$9)","v":"-"},{"$f":"IF($H$10=\"\",\"-\",$H$10)","v":"-"},":",{"$f":"IF($J$10=\"\",\"-\",$J$10)","v":"-"},{"$f":"IF($H$11=\"\",\"-\",$H$11)","v":"-"},":",{"$f":"IF($J$11=\"\",\"-\",$J$11)","v":"-"},{"$f":"IF($H$12=\"\",\"-\",$H$12)","v":"-"},":",{"$f":"IF($J$12=\"\",\"-\",$J$12)","v":"-"},{"$f":"IF($H$13=\"\",\"-\",$H$13)","v":"-"},":",{"$f":"IF($J$13=\"\",\"-\",$J$13)","v":"-"},{"$f":"IF($H$14=\"\",\"-\",$H$14)","v":"-"},":",{"$f":"IF($J$14=\"\",\"-\",$J$14)","v":"-"},{"$f":"IF($H$15=\"\",\"-\",$H$15)","v":"-"},":",{"$f":"IF($J$15=\"\",\"-\",$J$15)","v":"-"},{"$f":"IF($H$16=\"\",\"-\",$H$16)","v":"-"},":",{"$f":"IF($J$16=\"\",\"-\",$J$16)","v":"-"},{"$f":"IF($H$17=\"\",\"-\",$H$17)","v":"-"},":",{"$f":"IF($J$17=\"\",\"-\",$J$17)","v":"-"},{"$f":"IF($H$18=\"\",\"-\",$H$18)","v":"-"},":",{"$f":"IF($J$18=\"\",\"-\",$J$18)","v":"-"},{"$f":"IF($H$19=\"\",\"-\",$H$19)","v":"-"},":",{"$f":"IF($J$19=\"\",\"-\",$J$19)","v":"-"},{"$f":"IF($H$20=\"\",\"-\",$H$20)","v":"-"},":",{"$f":"IF($J$20=\"\",\"-\",$J$20)","v":"-"},{"$f":"IF($H$21=\"\",\"-\",$H$21)","v":"-"},":",{"$f":"IF($J$21=\"\",\"-\",$J$21)","v":"-"},{"$f":"IF($H$22=\"\",\"-\",$H$22)","v":"-"},":",{"$f":"IF($J$22=\"\",\"-\",$J$22)","v":"-"},{"$f":"IF($H$23=\"\",\"-\",$H$23)","v":"-"},":",{"$f":"IF($J$23=\"\",\"-\",$J$23)","v":"-"},{"$f":"IF($H$24=\"\",\"-\",$H$24)","v":"-"},":",{"$f":"IF($J$24=\"\",\"-\",$J$24)","v":"-"},{"$f":"IF($H$25=\"\",\"-\",$H$25)","v":"-"},":",{"$f":"IF($J$25=\"\",\"-\",$J$25)","v":"-"},"VORRUNDE","Spiel 01",null,null,null,null,"Spiel 02",null,null,null,null,"Spiel 03",null,null,null,null,"Spiel 04",null,null,null,null,"Spiel 05",null,null,null,null,"Spiel 06",null,null,null,null,"Spiel 07",null,null,null,null,"Spiel 08",null,null,null,null,"Spiel 09",null,null,null,null,"Spiel 10",null,null,null,null,"Spiel 11",null,null,null,null,"Spiel 12",null,null,null,null,"Spiel 13",null,null,null,null,"Spiel 14",null,null,null,null,"Spiel 15",null,null,null,null,"Spiel 16",null,null,null,null,"Spiel 17",null,null,null,null,"Spiel 18",null,null,null,null,"Spiel 19",null,null,null,null,"Spiel 20",null,null,null,null,"Spiel 21",null,null,null,null,"Spiel 22",null,null,null,null,"Spiel 23",null,null,null,null,"Spiel 24"]
[null,null,null,null,null,null,null,null,null,null,null,null,null,null,"VORRUNDE",{"$f":"$B$2","v":46184.875},{"$f":"$K$2","v":"Mexiko / Azteca (Mexico City)"},"Gruppe  A",{"$f":"$B$3","v":46185.166666666664},{"$f":"$K$3","v":"Mexiko / Estadio Akron (Guadalajara)"},"Gruppe  A",{"$f":"$B$4","v":46185.875},{"$f":"$K$4","v":"Kanada / BMO Field (Toronto)"},"Gruppe  B",{"$f":"$B$5","v":46186.125},{"$f":"$K$5","v":"USA / SoFi Stadium (Los Angeles)"},"Gruppe  D",{"$f":"$B$6","v":46186.875},{"$f":"$K$6","v":"USA / Levi's Stadium (San Francisco Bay Area)"},"Gruppe  B",{"$f":"$B$7","v":46187},{"$f":"$K$7","v":"USA / MetLife Stadium (New York/New Jersey)"},"Gruppe  C",{"$f":"$B$8","v":46187.125},{"$f":"$K$8","v":"USA / Gillette Stadium (Boston)"},"Gruppe  C",{"$f":"$B$9","v":46187.25},{"$f":"$K$9","v":"Kanada / BC Place Stadium (Vancouver)"},"Gruppe  D",{"$f":"$B$10","v":46187.791666666664},{"$f":"$K$10","v":"USA / NRG Stadium (Houston)"},"Gruppe  E",{"$f":"$B$11","v":46187.916666666664},{"$f":"$K$11","v":"USA / AT&T Stadium (Dallas)"},"Gruppe  F",{"$f":"$B$12","v":46188.041666666664},{"$f":"$K$12","v":"USA / Lincoln Financial Field (Philadelphia)"},"Gruppe  E",{"$f":"$B$13","v":46188.166666666664},{"$f":"$K$13","v":"Mexiko / Estadio BBVA (Monterrey)"},"Gruppe  F",{"$f":"$B$14","v":46188.75},{"$f":"$K$14","v":"USA / Mercedes-Benz Stadium (Atlanta)"},"Gruppe  H",{"$f":"$B$15","v":46188.875},{"$f":"$K$15","v":"USA / Lumen Field (Seattle)"},"Gruppe  G",{"$f":"$B$16","v":46189},{"$f":"$K$16","v":"USA / Hard Rock Stadium (Miami)"},"Gruppe  H",{"$f":"$B$17","v":46189.125},{"$f":"$K$17","v":"USA / SoFi Stadium (Los Angeles)"},"Gruppe  G",{"$f":"$B$18","v":46189.875},{"$f":"$K$18","v":"USA / MetLife Stadium (New York/New Jersey)"},"Gruppe  I",{"$f":"$B$19","v":46190},{"$f":"$K$19","v":"USA / Gillette Stadium (Boston)"},"Gruppe  I",{"$f":"$B$20","v":46190.125},{"$f":"$K$20","v":"USA / Arrowhead Stadium (Kansas City)"},"Gruppe  J",{"$f":"$B$21","v":46190.25},{"$f":"$K$21","v":"USA / Levi's Stadium (San Francisco Bay Area)"},"Gruppe  J",{"$f":"$B$22","v":46190.791666666664},{"$f":"$K$22","v":"USA / NRG Stadium (Houston)"},"Gruppe  K",{"$f":"$B$23","v":46190.916666666664},{"$f":"$K$23","v":"USA / AT&T Stadium (Dallas)"},"Gruppe  L",{"$f":"$B$24","v":46191.041666666664},{"$f":"$K$24","v":"Kanada / BMO Field (Toronto)"},"Gruppe  L",{"$f":"$B$25","v":46191.166666666664},{"$f":"$K$25","v":"Mexiko / Azteca (Mexico City)"},"Gruppe  K",null,null,null,null,null,null,null,null,null,null,null,null,null,null,null,null,null,null,null,null,null,null,null,null,null,null,null,null,null,null,null,null,null,null,null,null,null,null,null,null,null,null,null,null,null,null,null,null,null,null,null,null,null,null,null,null,null,null,null,null,null,null,null,null,null,null,null,null,null,null,null,null,null,null,null,null,null,null,null,null,null,null,null,null,null,null,null,null,null,null,null,null,null,null,null,null,null,null,null,null,null,null,null,null,null,null,null,null,null,null,null,null,null,null,null,null,null,null,null,null,null,"Stand vom :"]
[null,null,null,null,null,null,null,null,null,null,null,null,null,null,null,{"$f":"$A$2","v":"2026-06-11T21:00:00"},null,{"$f":"$C$2","v":46184.541666666664},{"$f":"$A$3","v":"2026-06-12T04:00:00"},null,{"$f":"$C$3","v":46184.833333333336},{"$f":"$A$4","v":"2026-06-12T21:00:00"},null,{"$f":"$C$4","v":46185.625},{"$f":"$A$5","v":"2026-06-13T03:00:00"},null,{"$f":"$C$5","v":46185.75},{"$f":"$A$6","v":"2026-06-13T21:00:00"},null,{"$f":"$C$6","v":46186.5},{"$f":"$A$7","v":"2026-06-14"},null,{"$f":"$C$7","v":46186.75},{"$f":"$A$8","v":"2026-06-14T03:00:00"},null,{"$f":"$C$8","v":46186.875},{"$f":"$A$9","v":"2026-06-14T06:00:00"},null,{"$f":"$C$9","v":46186.875},{"$f":"$A$10","v":"2026-06-14T19:00:00"},null,{"$f":"$C$10","v":46187.5},{"$f":"$A$11","v":"2026-06-14T22:00:00"},null,{"$f":"$C$11","v":46187.625},{"$f":"$A$12","v":"2026-06-15T01:00:00"},null,{"$f":"$C$12","v":46187.791666666664},{"$f":"$A$13","v":"2026-06-15T04:00:00"},null,{"$f":"$C$13","v":46187.833333333336},{"$f":"$A$14","v":"2026-06-15T18:00:00"},null,{"$f":"$C$14","v":46188.5},{"$f":"$A$15","v":"2026-06-15T21:00:00"},null,{"$f":"$C$15","v":46188.5},{"$f":"$A$16","v":"2026-06-16"},null,{"$f":"$C$16","v":46188.75},{"$f":"$A$17","v":"2026-06-16T03:00:00"},null,{"$f":"$C$17","v":46188.75},{"$f":"$A$18","v":"2026-06-16T21:00:00"},null,{"$f":"$C$18","v":46189.625},{"$f":"$A$19","v":"2026-06-17"},null,{"$f":"$C$19","v":46189.75},{"$f":"$A$20","v":"2026-06-17T03:00:00"},null,{"$f":"$C$20","v":46189.833333333336},{"$f":"$A$21","v":"2026-06-17T06:00:00"},null,{"$f":"$C$21","v":46189.875},{"$f":"$A$22","v":"2026-06-17T19:00:00"},null,{"$f":"$C$22","v":46190.5},{"$f":"$A$23","v":"2026-06-17T22:00:00"},null,{"$f":"$C$23","v":46190.625},{"$f":"$A$24","v":"2026-06-18T01:00:00"},null,{"$f":"$C$24","v":46190.791666666664},{"$f":"$A$25","v":"2026-06-18T04:00:00"},null,{"$f":"$C$25","v":46190.833333333336},null,null,null,null,null,null,null,null,null,null,null,null,null,null,null,null,null,null,null,null,null,null,null,null,null,null,null,null,null,null,null,null,null,null,null,null,null,null,null,null,null,null,null,null,null,null,null,null,null,null,null,null,null,null,null,null,null,null,null,null,null,null,null,null,null,null,null,null,null,null,null,null,null,null,null,null,null,null,null,null,null,null,null,null,null,null,null,null,null,null,null,null,null,null,null,null,null,null,null,null,null,null,null,null,null,null,null,null,null,null,null,null,null,null,null,null,null,null,null,null,null,{"$f":"TODAY()","v":"2026-05-19"}]

{"sheet":"Vorrunde 25-48","index":1,"n_rows":58,"n_cols":211,"rows_kept":58,"cut":false,"hidden":false,"merged":[[56,208,56,210],[57,208,57,210],[56,70,57,70],[56,73,57,73],[56,76,57,76],[56,79,57,79],[56,82,57,82],[56,55,57,55],[56,58,57,58],[56,61,57,61],[56,64,57,64],[56,67,57,67],[55,198,57,202],[55,203,57,207],[55,193,57,197],[56,14,57,14],[56,16,57,16],[56,19,57,19],[56,22,57,22],[56,25,57,25],[56,28,57,28],[56,31,57,31],[56,34,57,34],[56,37,57,37],[56,40,57,40],[56,43,57,43],[56,46,57,46],[56,49,57,49],[56,52,57,52],[55,173,57,177],[55,178,57,182],[55,183,57,187],[55,188,57,192],[55,148,57,152],[55,153,57,157],[55,158,57,162],[55,163,57,167],[55,168,57,172],[56,85,57,85],[55,128,57,132],[55,133,57,137],[55,138,57,142],[55,143,57,147],[0,163,5,167],[0,168,5,172],[55,87,57,87],[55,88,57,92],[55,93,57,97],[55,98,57,102],[55,103,57,107],[55,108,57,112],[55,113,57,117],[55,118,57,122],[55,123,57,127],[0,113,5,117],[0,118,5,122],[0,123,5,127],[0,128,5,132],[1,208,5,208],[1,209,5,209],[1,210,5,210],[0,93,5,97],[0,98,5,102],[0,103,5,107],[1,84,5,84],[1,85,5,85],[1,86,5,86],[1,87,5,87],[0,173,5,177],[0,178,5,182],[0,133,5,137],[0,138,5,142],[0,143,5,147],[0,148,5,152],[0,153,5,157],[0,108,5,112],[0,183,5,187],[0,188,5,192],[0,193,5,197],[0,198,5,202],[0,203,5,207],[0,158,5,162],[1,66,5,66],[1,67,5,67],[1,68,5,68],[1,79,5,79],[1,80,5,80],[1,81,5,81],[1,82,5,82],[1,83,5,83],[1,74,5,74],[1,75,5,75],[1,76,5,76],[1,77,5,77],[1,78,5,78],[1,52,5,52],[1,53,5,53],[1,44,5,44],[1,45,5,45],[1,46,5,46],[1,47,5,47],[1,48,5,48],[1,64,5,64],[1,65,5,65],[1,43,5,43],[1,34,5,34],[1,35,5,35],[1,36,5,36],[1,37,5,37],[1,38,5,38],[1,49,5,49],[1,50,5,50],[1,51,5,51],[1,24,5,24],[1,25,5,25],[1,26,5,26],[1,27,5,27],[1,28,5,28],[1,39,5,39],[1,40,5,40],[1,41,5,41],[1,42,5,42],[0,78,0,80],[0,81,0,83],[0,54,0,56],[0,57,0,59],[0,60,0,62],[0,63,0,65],[0,66,0,68],[0,84,0,86],[0,88,5,92],[1,59,5,59],[1,60,5,60],[1,61,5,61],[1,62,5,62],[1,63,5,63],[1,54,5,54],[1,55,5,55],[1,56,5,56],[1,57,5,57],[1,58,5,58],[1,69,5,69],[1,70,5,70],[1,71,5,71],[1,72,5,72],[1,73,5,73],[0,51,0,53],[0,24,0,26],[0,27,0,29],[0,30,0,32],[0,33,0,35],[0,36,0,38],[0,69,0,71],[0,72,0,74],[0,75,0,77],[0,4,0,6],[0,7,0,9],[0,15,0,17],[0,18,0,20],[0,21,0,23],[0,39,0,41],[0,42,0,44],[0,45,0,47],[0,48,0,50],[0,14,5,14],[1,19,5,19],[1,20,5,20],[1,21,5,21],[1,22,5,22],[1,23,5,23],[1,15,5,15],[1,16,5,16],[1,17,5,17],[1,18,5,18],[1,29,5,29],[1,30,5,30],[1,31,5,31],[1,32,5,32],[1,33,5,33]]}
["Spiele 25-48   (chronologisch)","Anstoßzeit","Ortszeit","Spiel-Nr.","Spielpaarungen / Gruppen",null,null,"Ergebnis",null,null,"Austragungsort / Stadion","Vorrunde","Live-TV Übertragungsrechte"," - ","NAME","Spiel 25",null,null,"Spiel 26",null,null,"Spiel 27",null,null,"Spiel 28",null,null,"Spiel 29",null,null,"Spiel 30",null,null,"Spiel 31",null,null,"Spiel 32",null,null,"Spiel 33",null,null,"Spiel 34",null,null,"Spiel 35",null,null,"Spiel 36",null,null,"Spiel 37",null,null,"Spiel 38",null,null,"Spiel 39",null,null,"Spiel 40",null,null,"Spiel 41",null,null,"Spiel 42",null,null,"Spiel 43",null,null,"Spiel 44",null,null,"Spiel 45",null,null,"Spiel 46",null,null,"Spiel 47",null,null,"Spiel 48",null,null,null,{"$f":"$P$2&$N$1&$R$2","v":"Tschechien - Südafrika"},null,null,null,null,{"$f":"$S$2&$N$1&$U$2","v":"Schweiz - Bosnien-Herzegowina"},null,null,null,null,{"$f":"$V$2&$N$1&$X$2","v":"Kanada - Katar"},null,null,null,null,{"$f":"$Y$2&$N$1&$AA$2","v":"Mexiko - Südkorea"},null,null,null,null,{"$f":"$AB$2&$N$1&$AD$2","v":"USA - Australien"},null,null,null,null,{"$f":"$AE$2&$N$1&$AG$2","v":"Schottland - Marokko"},null,null,null,null,{"$f":"$AH$2&$N$1&$AJ$2","v":"Brasilien - Haiti"},null,null,null,null,{"$f":"$AK$2&$N$1&$AM$2","v":"Türkei - Paraguay"},null,null,null,null,{"$f":"$AN$2&$N$1&$AP$2","v":"Niederlande - Schweden"},null,null,null,null,{"$f":"$AQ$2&$N$1&$AS$2","v":"Deutschland - Elfenbeinküste"},null,null,null,null,{"$f":"$AT$2&$N$1&$AV$2","v":"Ecuador - Curaçao"},null,null,null,null,{"$f":"$AW$2&$N$1&$AY$2","v":"Tunesien - Japan"},null,null,null,null,{"$f":"$AZ$2&$N$1&$BB$2","v":"Spanien - Saudi-Arabien"},null,null,null,null,{"$f":"$BC$2&$N$1&$BE$2","v":"Belgien - Iran"},null,null,null,null,{"$f":"$BF$2&$N$1&$BH$2","v":"Uruguay - Kap Verde"},null,null,null,null,{"$f":"$BI$2&$N$1&$BK$2","v":"Neuseeland - Ägypten"},null,null,null,null,{"$f":"$BL$2&$N$1&$BN$2","v":"Argentinien - Österreich"},null,null,null,null,{"$f":"$BO$2&$N$1&$BQ$2","v":"Frankreich - Irak"},null,null,null,null,{"$f":"$BR$2&$N$1&$BT$2","v":"Norwegen - Senegal"},null,null,null,null,{"$f":"$BU$2&$N$1&$BW$2","v":"Jordanien - Algerien"},null,null,null,null,{"$f":"$BX$2&$N$1&$BZ$2","v":"Portugal - Usbekistan"},null,null,null,null,{"$f":"$CA$2&$N$1&$CC$2","v":"England - Ghana"},null,null,null,null,{"$f":"$CD$2&$N$1&$CF$2","v":"Panama - Kroatien"},null,null,null,null,{"$f":"$CG$2&$N$1&$CI$2","v":"Kolumbien - DR Kongo"},null,null,null,null,"PUNKTE","PUNKTE","PUNKTE"]
["2026-06-18T18:00:00",46191.75,"2026-06-18T12:00:00",25,"Tschechien (A4)","-","Südafrika (A2)",null,":",null,"USA / Mercedes-Benz Stadium (Atlanta)","2. Gruppenspiel","ZDF und MagentaTV",{"$f":"IF($J2<>\"\",1,0)","v":0},null,{"$f":"LEFT($E$2, LEN($E$2) - LEN(TRIM(RIGHT(SUBSTITUTE(TRIM($E$2), \" \", REPT(\" \", 100)), 100))) - 1)","v":"Tschechien"},"gegen",{"$f":"LEFT($G$2, LEN($G$2) - LEN(TRIM(RIGHT(SUBSTITUTE(TRIM($G$2), \" \", REPT(\" \", 100)), 100))) - 1)","v":"Südafrika"},{"$f":"LEFT($E$3, LEN($E$3) - LEN(TRIM(RIGHT(SUBSTITUTE(TRIM($E$3), \" \", REPT(\" \", 100)), 100))) - 1)","v":"Schweiz"},"gegen",{"$f":"LEFT($G$3, LEN($G$3) - LEN(TRIM(RIGHT(SUBSTITUTE(TRIM($G$3), \" \", REPT(\" \", 100)), 100))) - 1)","v":"Bosnien-Herzegowina"},{"$f":"LEFT($E$4, LEN($E$4) - LEN(TRIM(RIGHT(SUBSTITUTE(TRIM($E$4), \" \", REPT(\" \", 100)), 100))) - 1)","v":"Kanada"},"gegen",{"$f":"LEFT($G$4, LEN($G$4) - LEN(TRIM(RIGHT(SUBSTITUTE(TRIM($G$4), \" \", REPT(\" \", 100)), 100))) - 1)","v":"Katar"},{"$f":"LEFT($E$5, LEN($E$5) - LEN(TRIM(RIGHT(SUBSTITUTE(TRIM($E$5), \" \", REPT(\" \", 100)), 100))) - 1)","v":"Mexiko"},"gegen",{"$f":"LEFT($G$5, LEN($G$5) - LEN(TRIM(RIGHT(SUBSTITUTE(TRIM($G$5), \" \", REPT(\" \", 100)), 100))) - 1)","v":"Südkorea"},{"$f":"LEFT($E$6, LEN($E$6) - LEN(TRIM(RIGHT(SUBSTITUTE(TRIM($E$6), \" \", REPT(\" \", 100)), 100))) - 1)","v":"USA"},"gegen",{"$f":"LEFT($G$6, LEN($G$6) - LEN(TRIM(RIGHT(SUBSTITUTE(TRIM($G$6), \" \", REPT(\" \", 100)), 100))) - 1)","v":"Australien"},{"$f":"LEFT($E$7, LEN($E$7) - LEN(TRIM(RIGHT(SUBSTITUTE(TRIM($E$7), \" \", REPT(\" \", 100)), 100))) - 1)","v":"Schottland"},"gegen",{"$f":"LEFT($G$7, LEN($G$7) - LEN(TRIM(RIGHT(SUBSTITUTE(TRIM($G$7), \" \", REPT(\" \", 100)), 100))) - 1)","v":"Marokko"},{"$f":"LEFT($E$8, LEN($E$8) - LEN(TRIM(RIGHT(SUBSTITUTE(TRIM($E$8), \" \", REPT(\" \", 100)), 100))) - 1)","v":"Brasilien"},"gegen",{"$f":"LEFT($G$8, LEN($G$8) - LEN(TRIM(RIGHT(SUBSTITUTE(TRIM($G$8), \" \", REPT(\" \", 100)), 100))) - 1)","v":"Haiti"},{"$f":"LEFT($E$9, LEN($E$9) - LEN(TRIM(RIGHT(SUBSTITUTE(TRIM($E$9), \" \", REPT(\" \", 100)), 100))) - 1)","v":"Türkei"},"gegen",{"$f":"LEFT($G$9, LEN($G$9) - LEN(TRIM(RIGHT(SUBSTITUTE(TRIM($G$9), \" \", REPT(\" \", 100)), 100))) - 1)","v":"Paraguay"},{"$f":"LEFT($E$10, LEN($E$10) - LEN(TRIM(RIGHT(SUBSTITUTE(TRIM($E$10), \" \", REPT(\" \", 100)), 100))) - 1)","v":"Niederlande"},"gegen",{"$f":"LEFT($G$10, LEN($G$10) - LEN(TRIM(RIGHT(SUBSTITUTE(TRIM($G$10), \" \", REPT(\" \", 100)), 100))) - 1)","v":"Schweden"},{"$f":"LEFT($E$11, LEN($E$11) - LEN(TRIM(RIGHT(SUBSTITUTE(TRIM($E$11), \" \", REPT(\" \", 100)), 100))) - 1)","v":"Deutschland"},"gegen",{"$f":"LEFT($G$11, LEN($G$11) - LEN(TRIM(RIGHT(SUBSTITUTE(TRIM($G$11), \" \", REPT(\" \", 100)), 100))) - 1)","v":"Elfenbeinküste"},{"$f":"LEFT($E$12, LEN($E$12) - LEN(TRIM(RIGHT(SUBSTITUTE(TRIM($E$12), \" \", REPT(\" \", 100)), 100))) - 1)","v":"Ecuador"},"gegen",{"$f":"LEFT($G$12, LEN($G$12) - LEN(TRIM(RIGHT(SUBSTITUTE(TRIM($G$12), \" \", REPT(\" \", 100)), 100))) - 1)","v":"Curaçao"},{"$f":"LEFT($E$13, LEN($E$13) - LEN(TRIM(RIGHT(SUBSTITUTE(TRIM($E$13), \" \", REPT(\" \", 100)), 100))) - 1)","v":"Tunesien"},"gegen",{"$f":"LEFT($G$13, LEN($G$13) - LEN(TRIM(RIGHT(SUBSTITUTE(TRIM($G$13), \" \", REPT(\" \", 100)), 100))) - 1)","v":"Japan"},{"$f":"LEFT($E$14, LEN($E$14) - LEN(TRIM(RIGHT(SUBSTITUTE(TRIM($E$14), \" \", REPT(\" \", 100)), 100))) - 1)","v":"Spanien"},"gegen",{"$f":"LEFT($G$14, LEN($G$14) - LEN(TRIM(RIGHT(SUBSTITUTE(TRIM($G$14), \" \", REPT(\" \", 100)), 100))) - 1)","v":"Saudi-Arabien"},{"$f":"LEFT($E$15, LEN($E$15) - LEN(TRIM(RIGHT(SUBSTITUTE(TRIM($E$15), \" \", REPT(\" \", 100)), 100))) - 1)","v":"Belgien"},"gegen",{"$f":"LEFT($G$15, LEN($G$15) - LEN(TRIM(RIGHT(SUBSTITUTE(TRIM($G$15), \" \", REPT(\" \", 100)), 100))) - 1)","v":"Iran"},{"$f":"LEFT($E$16, LEN($E$16) - LEN(TRIM(RIGHT(SUBSTITUTE(TRIM($E$16), \" \", REPT(\" \", 100)), 100))) - 1)","v":"Uruguay"},"gegen",{"$f":"LEFT($G$16, LEN($G$16) - LEN(TRIM(RIGHT(SUBSTITUTE(TRIM($G$16), \" \", REPT(\" \", 100)), 100))) - 1)","v":"Kap Verde"},{"$f":"LEFT($E$17, LEN($E$17) - LEN(TRIM(RIGHT(SUBSTITUTE(TRIM($E$17), \" \", REPT(\" \", 100)), 100))) - 1)","v":"Neuseeland"},"gegen",{"$f":"LEFT($G$17, LEN($G$17) - LEN(TRIM(RIGHT(SUBSTITUTE(TRIM($G$17), \" \", REPT(\" \", 100)), 100))) - 1)","v":"Ägypten"},{"$f":"LEFT($E$18, LEN($E$18) - LEN(TRIM(RIGHT(SUBSTITUTE(TRIM($E$18), \" \", REPT(\" \", 100)), 100))) - 1)","v":"Argentinien"},"gegen",{"$f":"LEFT($G$18, LEN($G$18) - LEN(TRIM(RIGHT(SUBSTITUTE(TRIM($G$18), \" \", REPT(\" \", 100)), 100))) - 1)","v":"Österreich"},{"$f":"LEFT($E$19, LEN($E$19) - LEN(TRIM(RIGHT(SUBSTITUTE(TRIM($E$19), \" \", REPT(\" \", 100)), 100))) - 1)","v":"Frankreich"},"gegen",{"$f":"LEFT($G$19, LEN($G$19) - LEN(TRIM(RIGHT(SUBSTITUTE(TRIM($G$19), \" \", REPT(\" \", 100)), 100))) - 1)","v":"Irak"},{"$f":"LEFT($E$20, LEN($E$20) - LEN(TRIM(RIGHT(SUBSTITUTE(TRIM($E$20), \" \", REPT(\" \", 100)), 100))) - 1)","v":"Norwegen"},"gegen",{"$f":"LEFT($G$20, LEN($G$20) - LEN(TRIM(RIGHT(SUBSTITUTE(TRIM($G$20), \" \", REPT(\" \", 100)), 100))) - 1)","v":"Senegal"},{"$f":"LEFT($E$21, LEN($E$21) - LEN(TRIM(RIGHT(SUBSTITUTE(TRIM($E$21), \" \", REPT(\" \", 100)), 100))) - 1)","v":"Jordanien"},"gegen",{"$f":"LEFT($G$21, LEN($G$21) - LEN(TRIM(RIGHT(SUBSTITUTE(TRIM($G$21), \" \", REPT(\" \", 100)), 100))) - 1)","v":"Algerien"},{"$f":"LEFT($E$22, LEN($E$22) - LEN(TRIM(RIGHT(SUBSTITUTE(TRIM($E$22), \" \", REPT(\" \", 100)), 100))) - 1)","v":"Portugal"},"gegen",{"$f":"LEFT($G$22, LEN($G$22) - LEN(TRIM(RIGHT(SUBSTITUTE(TRIM($G$22), \" \", REPT(\" \", 100)), 100))) - 1)","v":"Usbekistan"},{"$f":"LEFT($E$23, LEN($E$23) - LEN(TRIM(RIGHT(SUBSTITUTE(TRIM($E$23), \" \", REPT(\" \", 100)), 100))) - 1)","v":"England"},"gegen",{"$f":"LEFT($G$23, LEN($G$23) - LEN(TRIM(RIGHT(SUBSTITUTE(TRIM($G$23), \" \", REPT(\" \", 100)), 100))) - 1)","v":"Ghana"},{"$f":"LEFT($E$24, LEN($E$24) - LEN(TRIM(RIGHT(SUBSTITUTE(TRIM($E$24), \" \", REPT(\" \", 100)), 100))) - 1)","v":"Panama"},"gegen",{"$f":"LEFT($G$24, LEN($G$24) - LEN(TRIM(RIGHT(SUBSTITUTE(TRIM($G$24), \" \", REPT(\" \", 100)), 100))) - 1)","v":"Kroatien"},{"$f":"LEFT($E$25, LEN($E$25) - LEN(TRIM(RIGHT(SUBSTITUTE(TRIM($E$25), \" \", REPT(\" \", 100)), 100))) - 1)","v":"Kolumbien"},"gegen",{"$f":"LEFT($G$25, LEN($G$25) - LEN(TRIM(RIGHT(SUBSTITUTE(TRIM($G$25), \" \", REPT(\" \", 100)), 100))) - 1)","v":"DR Kongo"},"NAME",null,null,null,null,null,null,null,null,null,null,null,null,null,null,null,null,null,null,null,null,null,null,null,null,null,null,null,null,null,null,null,null,null,null,null,null,null,null,null,null,null,null,null,null,null,null,null,null,null,null,null,null,null,null,null,null,null,null,null,null,null,null,null,null,null,null,null,null,null,null,null,null,null,null,null,null,null,null,null,null,null,null,null,null,null,null,null,null,null,null,null,null,null,null,null,null,null,null,null,null,null,null,null,null,null,null,null,null,null,null,null,null,null,null,null,null,null,null,null,null,"Summe","Übertrag","GESAMT"]
["2026-06-18T21:00:00",46191.875,"2026-06-18T12:00:00",26,"Schweiz (B4)","-","Bosnien-Herzegowina (B2)",null,":",null,"USA / SoFi Stadium (Los Angeles)","2. Gruppenspiel","MagentaTV (Telekom) exklusiv",{"$f":"IF($J3<>\"\",1,0)","v":0}]
["2026-06-19",46192,"2026-06-18T15:00:00",27,"Kanada (B1)","-","Katar (B3)",null,":",null,"Kanada / BC Place Stadium (Vancouver)","2. Gruppenspiel","ZDF und MagentaTV",0]
["2026-06-19T03:00:00",46192.125,"2026-06-18T19:00:00",28,"Mexiko (A1)","-","Südkorea (A3)",null,":",null,"Mexiko / Estadio Akron (Guadalajara)","2. Gruppenspiel","MagentaTV (Telekom) exklusiv",0]
["2026-06-19T21:00:00",46192.875,"2026-06-19T12:00:00",32,"USA (D1)","-","Australien (D3)",null,":",null,"USA / Lumen Field (Seattle)","2. Gruppenspiel","ARD und MagentaTV",0]
["2026-06-20",46193,"2026-06-19T18:00:00",30,"Schottland (C4)","-","Marokko (C2)",null,":",null,"USA / Gillette Stadium (Boston)","2. Gruppenspiel","MagentaTV (Telekom) exklusiv",0,{"$f":"IF('Vorrunde 01-24'!O7<>\"\",'Vorrunde 01-24'!O7,\"\")","v":""},null,":",null,null,":",null,null,":",null,null,":",null,null,":",null,null,":",null,null,":",null,null,":",null,null,":",null,null,":",null,null,":",null,null,":",null,null,":",null,null,":",null,null,":",null,null,":",null,null,":",null,null,":",null,null,":",null,null,":",null,null,":",null,null,":",null,null,":",null,null,":",null,{"$f":"IF($O7<>\"\",$O7,\"\")","v":""},{"$f":"IF(AND($P7=$P$56,$R7=$R$56),3,0)","v":0},{"$f":"IF(AND($P7>$R7,$P$56>$R$56),2,0)","v":0},{"$f":"IF(AND($P7<$R7,$P$56<$R$56),2,0)","v":0},{"$f":"IF(AND($P7=$R7,$P$56=$R$56),2,0)","v":2},{"$f":"IF($R$56=\"-\",0,MAX(CK7:CN7))","v":0},{"$f":"IF(AND($S7=$S$56,$U7=$U$56),3,0)","v":0},{"$f":"IF(AND($S7>$U7,$S$56>$U$56),2,0)","v":0},{"$f":"IF(AND($S7<$U7,$S$56<$U$56),2,0)","v":0},{"$f":"IF(AND($S7=$U7,$S$56=$U$56),2,0)","v":2},{"$f":"IF($U$56=\"-\",0,MAX(CP7:CS7))","v":0},{"$f":"IF(AND($V7=$V$56,$X7=$X$56),3,0)","v":0},{"$f":"IF(AND($V7>$X7,$V$56>$X$56),2,0)","v":0},{"$f":"IF(AND($V7<$X7,$V$56<$X$56),2,0)","v":0},{"$f":"IF(AND($V7=$X7,$V$56=$X$56),2,0)","v":2},{"$f":"IF($X$56=\"-\",0,MAX(CU7:CX7))","v":0},{"$f":"IF(AND($Y7=$Y$56,$AA7=$AA$56),3,0)","v":0},{"$f":"IF(AND($Y7>$AA7,$Y$56>$AA$56),2,0)","v":0},{"$f":"IF(AND($Y7<$AA7,$Y$56<$AA$56),2,0)","v":0},{"$f":"IF(AND($Y7=$AA7,$Y$56=$AA$56),2,0)","v":2},{"$f":"IF($AA$56=\"-\",0,MAX(CZ7:DC7))","v":0},{"$f":"IF(AND($AB7=$AB$56,$AD7=$AD$56),3,0)","v":0},{"$f":"IF(AND($AB7>$AD7,$AB$56>$AD$56),2,0)","v":0},{"$f":"IF(AND($AB7<$AD7,$AB$56<$AD$56),2,0)","v":0},{"$f":"IF(AND($AB7=$AD7,$AB$56=$AD$56),2,0)","v":2},{"$f":"IF($AD$56=\"-\",0,MAX(DE7:DH7))","v":0},{"$f":"IF(AND($AE7=$AE$56,$AG7=$AG$56),3,0)","v":0},{"$f":"IF(AND($AE7>$AG7,$AE$56>$AG$56),2,0)","v":0},{"$f":"IF(AND($AE7<$AG7,$AE$56<$AG$56),2,0)","v":0},{"$f":"IF(AND($AE7=$AG7,$AE$56=$AG$56),2,0)","v":2},{"$f":"IF($AG$56=\"-\",0,MAX(DJ7:DM7))","v":0},{"$f":"IF(AND($AH7=$AH$56,$AJ7=$AJ$56),3,0)","v":0},{"$f":"IF(AND($AH7>$AJ7,$AH$56>$AJ$56),2,0)","v":0},{"$f":"IF(AND($AH7<$AJ7,$AH$56<$AJ$56),2,0)","v":0},{"$f":"IF(AND($AH7=$AJ7,$AH$56=$AJ$56),2,0)","v":2},{"$f":"IF($AJ$56=\"-\",0,MAX(DO7:DR7))","v":0},{"$f":"IF(AND($AK7=$AK$56,$AM7=$AM$56),3,0)","v":0},{"$f":"IF(AND($AK7>$AM7,$AK$56>$AM$56),2,0)","v":0},{"$f":"IF(AND($AK7<$AM7,$AK$56<$AM$56),2,0)","v":0},{"$f":"IF(AND($AK7=$AM7,$AK$56=$AM$56),2,0)","v":2},{"$f":"IF($AM$56=\"-\",0,MAX(DT7:DW7))","v":0},{"$f":"IF(AND($AN7=$AN$56,$AP7=$AP$56),3,0)","v":0},{"$f":"IF(AND($AN7>$AP7,$AN$56>$AP$56),2,0)","v":0},{"$f":"IF(AND($AN7<$AP7,$AN$56<$AP$56),2,0)","v":0},{"$f":"IF(AND($AN7=$AP7,$AN$56=$AP$56),2,0)","v":2},{"$f":"IF($AP$56=\"-\",0,MAX(DY7:EB7))","v":0},{"$f":"IF(AND($AQ7=$AQ$56,$AS7=$AS$56),3,0)","v":0},{"$f":"IF(AND($AQ7>$AS7,$AQ$56>$AS$56),2,0)","v":0},{"$f":"IF(AND($AQ7<$AS7,$AQ$56<$AS$56),2,0)","v":0},{"$f":"IF(AND($AQ7=$AS7,$AQ$56=$AS$56),2,0)","v":2},{"$f":"IF($AS$56=\"-\",0,MAX(ED7:EG7))","v":0},{"$f":"IF(AND($AT7=$AT$56,$AV7=$AV$56),3,0)","v":0},{"$f":"IF(AND($AT7>$AV7,$AT$56>$AV$56),2,0)","v":0},{"$f":"IF(AND($AT7<$AV7,$AT$56<$AV$56),2,0)","v":0},{"$f":"IF(AND($AT7=$AV7,$AT$56=$AV$56),2,0)","v":2},{"$f":"IF($AV$56=\"-\",0,MAX(EI7:EL7))","v":0},{"$f":"IF(AND($AW7=$AW$56,$AY7=$AY$56),3,0)","v":0},{"$f":"IF(AND($AW7>$AY7,$AW$56>$AY$56),2,0)","v":0},{"$f":"IF(AND($AW7<$AY7,$AW$56<$AY$56),2,0)","v":0},{"$f":"IF(AND($AW7=$AY7,$AW$56=$AY$56),2,0)","v":2},{"$f":"IF($AY$56=\"-\",0,MAX(EN7:EQ7))","v":0},{"$f":"IF(AND($AZ7=$AZ$56,$BB7=$BB$56),3,0)","v":0},{"$f":"IF(AND($AZ7>$BB7,$AZ$56>$BB$56),2,0)","v":0},{"$f":"IF(AND($AZ7<$BB7,$AZ$56<$BB$56),2,0)","v":0},{"$f":"IF(AND($AZ7=$BB7,$AZ$56=$BB$56),2,0)","v":2},{"$f":"IF($BB$56=\"-\",0,MAX(ES7:EV7))","v":0},{"$f":"IF(AND($BC7=$BC$56,$BE7=$BE$56),3,0)","v":0},{"$f":"IF(AND($BC7>$BE7,$BC$56>$BE$56),2,0)","v":0},{"$f":"IF(AND($BC7<$BE7,$BC$56<$BE$56),2,0)","v":0},{"$f":"IF(AND($BC7=$BE7,$BC$56=$BE$56),2,0)","v":2},{"$f":"IF($BE$56=\"-\",0,MAX(EX7:FA7))","v":0},{"$f":"IF(AND($BF7=$BF$56,$BH7=$BH$56),3,0)","v":0},{"$f":"IF(AND($BF7>$BH7,$BF$56>$BH$56),2,0)","v":0},{"$f":"IF(AND($BF7<$BH7,$BF$56<$BH$56),2,0)","v":0},{"$f":"IF(AND($BF7=$BH7,$BF$56=$BH$56),2,0)","v":2},{"$f":"IF($BH$56=\"-\",0,MAX(FC7:FF7))","v":0},{"$f":"IF(AND($BI7=$BI$56,$BK7=$BK$56),3,0)","v":0},{"$f":"IF(AND($BI7>$BK7,$BI$56>$BK$56),2,0)","v":0},{"$f":"IF(AND($BI7<$BK7,$BI$56<$BK$56),2,0)","v":0},{"$f":"IF(AND($BI7=$BK7,$BI$56=$BK$56),2,0)","v":2},{"$f":"IF($BK$56=\"-\",0,MAX(FH7:FK7))","v":0},{"$f":"IF(AND($BL7=$BL$56,$BN7=$BN$56),3,0)","v":0},{"$f":"IF(AND($BL7>$BN7,$BL$56>$BN$56),2,0)","v":0},{"$f":"IF(AND($BL7<$BN7,$BL$56<$BN$56),2,0)","v":0},{"$f":"IF(AND($BL7=$BN7,$BL$56=$BN$56),2,0)","v":2},{"$f":"IF($BN$56=\"-\",0,MAX(FM7:FP7))","v":0},{"$f":"IF(AND($BO7=$BO$56,$BQ7=$BQ$56),3,0)","v":0},{"$f":"IF(AND($BO7>$BQ7,$BO$56>$BQ$56),2,0)","v":0},{"$f":"IF(AND($BO7<$BQ7,$BO$56<$BQ$56),2,0)","v":0},{"$f":"IF(AND($BO7=$BQ7,$BO$56=$BQ$56),2,0)","v":2},{"$f":"IF($BQ$56=\"-\",0,MAX(FR7:FU7))","v":0},{"$f":"IF(AND($BR7=$BR$56,$BT7=$BT$56),3,0)","v":0},{"$f":"IF(AND($BR7>$BT7,$BR$56>$BT$56),2,0)","v":0},{"$f":"IF(AND($BR7<$BT7,$BR$56<$BT$56),2,0)","v":0},{"$f":"IF(AND($BR7=$BT7,$BR$56=$BT$56),2,0)","v":2},{"$f":"IF($BT$56=\"-\",0,MAX(FW7:FZ7))","v":0},{"$f":"IF(AND($BU7=$BU$56,$BW7=$BW$56),3,0)","v":0},{"$f":"IF(AND($BU7>$BW7,$BU$56>$BW$56),2,0)","v":0},{"$f":"IF(AND($BU7<$BW7,$BU$56<$BW$56),2,0)","v":0},{"$f":"IF(AND($BU7=$BW7,$BU$56=$BW$56),2,0)","v":2},{"$f":"IF($BW$56=\"-\",0,MAX(GB7:GE7))","v":0},{"$f":"IF(AND($BX7=$BX$56,$BZ7=$BZ$56),3,0)","v":0},{"$f":"IF(AND($BX7>$BZ7,$BX$56>$BZ$56),2,0)","v":0},{"$f":"IF(AND($BX7<$BZ7,$BX$56<$BZ$56),2,0)","v":0},{"$f":"IF(AND($BX7=$BZ7,$BX$56=$BZ$56),2,0)","v":2},{"$f":"IF($BZ$56=\"-\",0,MAX(GG7:GJ7))","v":0},{"$f":"IF(AND($CA7=$CA$56,$CC7=$CC$56),3,0)","v":0},{"$f":"IF(AND($CA7>$CC7,$CA$56>$CC$56),2,0)","v":0},{"$f":"IF(AND($CA7<$CC7,$CA$56<$CC$56),2,0)","v":0},{"$f":"IF(AND($CA7=$CC7,$CA$56=$CC$56),2,0)","v":2},{"$f":"IF($CC$56=\"-\",0,MAX(GL7:GO7))","v":0},{"$f":"IF(AND($CD7=$CD$56,$CF7=$CF$56),3,0)","v":0},{"$f":"IF(AND($CD7>$CF7,$CD$56>$CF$56),2,0)","v":0},{"$f":"IF(AND($CD7<$CF7,$CD$56<$CF$56),2,0)","v":0},{"$f":"IF(AND($CD7=$CF7,$CD$56=$CF$56),2,0)","v":2},{"$f":"IF($CF$56=\"-\",0,MAX(GQ7:GT7))","v":0},{"$f":"IF(AND($CG7=$CG$56,$CI7=$CI$56),3,0)","v":0},{"$f":"IF(AND($CG7>$CI7,$CG$56>$CI$56),2,0)","v":0},{"$f":"IF(AND($CG7<$CI7,$CG$56<$CI$56),2,0)","v":0},{"$f":"IF(AND($CG7=$CI7,$CG$56=$CI$56),2,0)","v":2},{"$f":"IF($CI$56=\"-\",0,MAX(GV7:GY7))","v":0},{"$f":"SUM(CO7,CT7,CY7,DD7,DI7,DN7,DS7,DX7,EC7,EH7,EM7,ER7,EW7,FB7,FG7,FL7,FQ7,FV7,GA7,GF7,GK7,GP7,GU7,GZ7)","v":0},{"$f":"'Vorrunde 01-24'!HC7","v":0},{"$f":"SUM(HA7:HB7)","v":0}]
["2026-06-20T03:00:00",46193.125,"2026-06-19T21:00:00",29,"Brasilien (C1)","-","Haiti (C3)",null,":",null,"USA / Lincoln Financial Field (Philadelphia)","2. Gruppenspiel","ARD und MagentaTV",0,{"$f":"IF('Vorrunde 01-24'!O8<>\"\",'Vorrunde 01-24'!O8,\"\")","v":""},null,":",null,null,":",null,null,":",null,null,":",null,null,":",null,null,":",null,null,":",null,null,":",null,null,":",null,null,":",null,null,":",null,null,":",null,null,":",null,null,":",null,null,":",null,null,":",null,null,":",null,null,":",null,null,":",null,null,":",null,null,":",null,null,":",null,null,":",null,null,":",null,{"$f":"IF($O8<>\"\",$O8,\"\")","v":""},{"$f":"IF(AND($P8=$P$56,$R8=$R$56),3,0)","v":0},{"$f":"IF(AND($P8>$R8,$P$56>$R$56),2,0)","v":0},{"$f":"IF(AND($P8<$R8,$P$56<$R$56),2,0)","v":0},{"$f":"IF(AND($P8=$R8,$P$56=$R$56),2,0)","v":2},{"$f":"IF($R$56=\"-\",0,MAX(CK8:CN8))","v":0},{"$f":"IF(AND($S8=$S$56,$U8=$U$56),3,0)","v":0},{"$f":"IF(AND($S8>$U8,$S$56>$U$56),2,0)","v":0},{"$f":"IF(AND($S8<$U8,$S$56<$U$56),2,0)","v":0},{"$f":"IF(AND($S8=$U8,$S$56=$U$56),2,0)","v":2},{"$f":"IF($U$56=\"-\",0,MAX(CP8:CS8))","v":0},{"$f":"IF(AND($V8=$V$56,$X8=$X$56),3,0)","v":0},{"$f":"IF(AND($V8>$X8,$V$56>$X$56),2,0)","v":0},{"$f":"IF(AND($V8<$X8,$V$56<$X$56),2,0)","v":0},{"$f":"IF(AND($V8=$X8,$V$56=$X$56),2,0)","v":2},{"$f":"IF($X$56=\"-\",0,MAX(CU8:CX8))","v":0},{"$f":"IF(AND($Y8=$Y$56,$AA8=$AA$56),3,0)","v":0},{"$f":"IF(AND($Y8>$AA8,$Y$56>$AA$56),2,0)","v":0},{"$f":"IF(AND($Y8<$AA8,$Y$56<$AA$56),2,0)","v":0},{"$f":"IF(AND($Y8=$AA8,$Y$56=$AA$56),2,0)","v":2},{"$f":"IF($AA$56=\"-\",0,MAX(CZ8:DC8))","v":0},{"$f":"IF(AND($AB8=$AB$56,$AD8=$AD$56),3,0)","v":0},{"$f":"IF(AND($AB8>$AD8,$AB$56>$AD$56),2,0)","v":0},{"$f":"IF(AND($AB8<$AD8,$AB$56<$AD$56),2,0)","v":0},{"$f":"IF(AND($AB8=$AD8,$AB$56=$AD$56),2,0)","v":2},{"$f":"IF($AD$56=\"-\",0,MAX(DE8:DH8))","v":0},{"$f":"IF(AND($AE8=$AE$56,$AG8=$AG$56),3,0)","v":0},{"$f":"IF(AND($AE8>$AG8,$AE$56>$AG$56),2,0)","v":0},{"$f":"IF(AND($AE8<$AG8,$AE$56<$AG$56),2,0)","v":0},{"$f":"IF(AND($AE8=$AG8,$AE$56=$AG$56),2,0)","v":2},{"$f":"IF($AG$56=\"-\",0,MAX(DJ8:DM8))","v":0},{"$f":"IF(AND($AH8=$AH$56,$AJ8=$AJ$56),3,0)","v":0},{"$f":"IF(AND($AH8>$AJ8,$AH$56>$AJ$56),2,0)","v":0},{"$f":"IF(AND($AH8<$AJ8,$AH$56<$AJ$56),2,0)","v":0},{"$f":"IF(AND($AH8=$AJ8,$AH$56=$AJ$56),2,0)","v":2},{"$f":"IF($AJ$56=\"-\",0,MAX(DO8:DR8))","v":0},{"$f":"IF(AND($AK8=$AK$56,$AM8=$AM$56),3,0)","v":0},{"$f":"IF(AND($AK8>$AM8,$AK$56>$AM$56),2,0)","v":0},{"$f":"IF(AND($AK8<$AM8,$AK$56<$AM$56),2,0)","v":0},{"$f":"IF(AND($AK8=$AM8,$AK$56=$AM$56),2,0)","v":2},{"$f":"IF($AM$56=\"-\",0,MAX(DT8:DW8))","v":0},{"$f":"IF(AND($AN8=$AN$56,$AP8=$AP$56),3,0)","v":0},{"$f":"IF(AND($AN8>$AP8,$AN$56>$AP$56),2,0)","v":0},{"$f":"IF(AND($AN8<$AP8,$AN$56<$AP$56),2,0)","v":0},{"$f":"IF(AND($AN8=$AP8,$AN$56=$AP$56),2,0)","v":2},{"$f":"IF($AP$56=\"-\",0,MAX(DY8:EB8))","v":0},{"$f":"IF(AND($AQ8=$AQ$56,$AS8=$AS$56),3,0)","v":0},{"$f":"IF(AND($AQ8>$AS8,$AQ$56>$AS$56),2,0)","v":0},{"$f":"IF(AND($AQ8<$AS8,$AQ$56<$AS$56),2,0)","v":0},{"$f":"IF(AND($AQ8=$AS8,$AQ$56=$AS$56),2,0)","v":2},{"$f":"IF($AS$56=\"-\",0,MAX(ED8:EG8))","v":0},{"$f":"IF(AND($AT8=$AT$56,$AV8=$AV$56),3,0)","v":0},{"$f":"IF(AND($AT8>$AV8,$AT$56>$AV$56),2,0)","v":0},{"$f":"IF(AND($AT8<$AV8,$AT$56<$AV$56),2,0)","v":0},{"$f":"IF(AND($AT8=$AV8,$AT$56=$AV$56),2,0)","v":2},{"$f":"IF($AV$56=\"-\",0,MAX(EI8:EL8))","v":0},{"$f":"IF(AND($AW8=$AW$56,$AY8=$AY$56),3,0)","v":0},{"$f":"IF(AND($AW8>$AY8,$AW$56>$AY$56),2,0)","v":0},{"$f":"IF(AND($AW8<$AY8,$AW$56<$AY$56),2,0)","v":0},{"$f":"IF(AND($AW8=$AY8,$AW$56=$AY$56),2,0)","v":2},{"$f":"IF($AY$56=\"-\",0,MAX(EN8:EQ8))","v":0},{"$f":"IF(AND($AZ8=$AZ$56,$BB8=$BB$56),3,0)","v":0},{"$f":"IF(AND($AZ8>$BB8,$AZ$56>$BB$56),2,0)","v":0},{"$f":"IF(AND($AZ8<$BB8,$AZ$56<$BB$56),2,0)","v":0},{"$f":"IF(AND($AZ8=$BB8,$AZ$56=$BB$56),2,0)","v":2},{"$f":"IF($BB$56=\"-\",0,MAX(ES8:EV8))","v":0},{"$f":"IF(AND($BC8=$BC$56,$BE8=$BE$56),3,0)","v":0},{"$f":"IF(AND($BC8>$BE8,$BC$56>$BE$56),2,0)","v":0},{"$f":"IF(AND($BC8<$BE8,$BC$56<$BE$56),2,0)","v":0},{"$f":"IF(AND($BC8=$BE8,$BC$56=$BE$56),2,0)","v":2},{"$f":"IF($BE$56=\"-\",0,MAX(EX8:FA8))","v":0},{"$f":"IF(AND($BF8=$BF$56,$BH8=$BH$56),3,0)","v":0},{"$f":"IF(AND($BF8>$BH8,$BF$56>$BH$56),2,0)","v":0},{"$f":"IF(AND($BF8<$BH8,$BF$56<$BH$56),2,0)","v":0},{"$f":"IF(AND($BF8=$BH8,$BF$56=$BH$56),2,0)","v":2},{"$f":"IF($BH$56=\"-\",0,MAX(FC8:FF8))","v":0},{"$f":"IF(AND($BI8=$BI$56,$BK8=$BK$56),3,0)","v":0},{"$f":"IF(AND($BI8>$BK8,$BI$56>$BK$56),2,0)","v":0},{"$f":"IF(AND($BI8<$BK8,$BI$56<$BK$56),2,0)","v":0},{"$f":"IF(AND($BI8=$BK8,$BI$56=$BK$56),2,0)","v":2},{"$f":"IF($BK$56=\"-\",0,MAX(FH8:FK8))","v":0},{"$f":"IF(AND($BL8=$BL$56,$BN8=$BN$56),3,0)","v":0},{"$f":"IF(AND($BL8>$BN8,$BL$56>$BN$56),2,0)","v":0},{"$f":"IF(AND($BL8<$BN8,$BL$56<$BN$56),2,0)","v":0},{"$f":"IF(AND($BL8=$BN8,$BL$56=$BN$56),2,0)","v":2},{"$f":"IF($BN$56=\"-\",0,MAX(FM8:FP8))","v":0},{"$f":"IF(AND($BO8=$BO$56,$BQ8=$BQ$56),3,0)","v":0},{"$f":"IF(AND($BO8>$BQ8,$BO$56>$BQ$56),2,0)","v":0},{"$f":"IF(AND($BO8<$BQ8,$BO$56<$BQ$56),2,0)","v":0},{"$f":"IF(AND($BO8=$BQ8,$BO$56=$BQ$56),2,0)","v":2},{"$f":"IF($BQ$56=\"-\",0,MAX(FR8:FU8))","v":0},{"$f":"IF(AND($BR8=$BR$56,$BT8=$BT$56),3,0)","v":0},{"$f":"IF(AND($BR8>$BT8,$BR$56>$BT$56),2,0)","v":0},{"$f":"IF(AND($BR8<$BT8,$BR$56<$BT$56),2,0)","v":0},{"$f":"IF(AND($BR8=$BT8,$BR$56=$BT$56),2,0)","v":2},{"$f":"IF($BT$56=\"-\",0,MAX(FW8:FZ8))","v":0},{"$f":"IF(AND($BU8=$BU$56,$BW8=$BW$56),3,0)","v":0},{"$f":"IF(AND($BU8>$BW8,$BU$56>$BW$56),2,0)","v":0},{"$f":"IF(AND($BU8<$BW8,$BU$56<$BW$56),2,0)","v":0},{"$f":"IF(AND($BU8=$BW8,$BU$56=$BW$56),2,0)","v":2},{"$f":"IF($BW$56=\"-\",0,MAX(GB8:GE8))","v":0},{"$f":"IF(AND($BX8=$BX$56,$BZ8=$BZ$56),3,0)","v":0},{"$f":"IF(AND($BX8>$BZ8,$BX$56>$BZ$56),2,0)","v":0},{"$f":"IF(AND($BX8<$BZ8,$BX$56<$BZ$56),2,0)","v":0},{"$f":"IF(AND($BX8=$BZ8,$BX$56=$BZ$56),2,0)","v":2},{"$f":"IF($BZ$56=\"-\",0,MAX(GG8:GJ8))","v":0},{"$f":"IF(AND($CA8=$CA$56,$CC8=$CC$56),3,0)","v":0},{"$f":"IF(AND($CA8>$CC8,$CA$56>$CC$56),2,0)","v":0},{"$f":"IF(AND($CA8<$CC8,$CA$56<$CC$56),2,0)","v":0},{"$f":"IF(AND($CA8=$CC8,$CA$56=$CC$56),2,0)","v":2},{"$f":"IF($CC$56=\"-\",0,MAX(GL8:GO8))","v":0},{"$f":"IF(AND($CD8=$CD$56,$CF8=$CF$56),3,0)","v":0},{"$f":"IF(AND($CD8>$CF8,$CD$56>$CF$56),2,0)","v":0},{"$f":"IF(AND($CD8<$CF8,$CD$56<$CF$56),2,0)","v":0},{"$f":"IF(AND($CD8=$CF8,$CD$56=$CF$56),2,0)","v":2},{"$f":"IF($CF$56=\"-\",0,MAX(GQ8:GT8))","v":0},{"$f":"IF(AND($CG8=$CG$56,$CI8=$CI$56),3,0)","v":0},{"$f":"IF(AND($CG8>$CI8,$CG$56>$CI$56),2,0)","v":0},{"$f":"IF(AND($CG8<$CI8,$CG$56<$CI$56),2,0)","v":0},{"$f":"IF(AND($CG8=$CI8,$CG$56=$CI$56),2,0)","v":2},{"$f":"IF($CI$56=\"-\",0,MAX(GV8:GY8))","v":0},{"$f":"SUM(CO8,CT8,CY8,DD8,DI8,DN8,DS8,DX8,EC8,EH8,EM8,ER8,EW8,FB8,FG8,FL8,FQ8,FV8,GA8,GF8,GK8,GP8,GU8,GZ8)","v":0},{"$f":"'Vorrunde 01-24'!HC8","v":0},{"$f":"SUM(HA8:HB8)","v":0}]
["2026-06-20T06:00:00",46193.25,"2026-06-19T21:00:00",31,"Türkei (D4)","-","Paraguay (D2)",null,":",null,"USA / Levi's Stadium (San Francisco Bay Area)","2. Gruppenspiel","MagentaTV (Telekom) exklusiv",0,{"$f":"IF('Vorrunde 01-24'!O9<>\"\",'Vorrunde 01-24'!O9,\"\")","v":""},null,":",null,null,":",null,null,":",null,null,":",null,null,":",null,null,":",null,null,":",null,null,":",null,null,":",null,null,":",null,null,":",null,null,":",null,null,":",null,null,":",null,null,":",null,null,":",null,null,":",null,null,":",null,null,":",null,null,":",null,null,":",null,null,":",null,null,":",null,null,":",null,"",0,0,0,2,0,0,0,0,2,0,0,0,0,2,0,0,0,0,2,0,0,0,0,2,0,0,0,0,2,0,0,0,0,2,0,0,0,0,2,0,0,0,0,2,0,0,0,0,2,0,0,0,0,2,0,0,0,0,2,0,0,0,0,2,0,0,0,0,2,0,0,0,0,2,0,0,0,0,2,0,0,0,0,2,0,0,0,0,2,0,0,0,0,2,0,0,0,0,2,0,0,0,0,2,0,0,0,0,2,0,0,0,0,2,0,0,0,0,2,0,0,{"$f":"'Vorrunde 01-24'!HC9","v":0},0]
["2026-06-20T19:00:00",46193.791666666664,"2026-06-20T12:00:00",35,"Niederlande (F1)","-","Schweden (F3)",null,":",null,"USA / NRG Stadium (Houston)","2. Gruppenspiel","ZDF und MagentaTV",0,{"$f":"IF('Vorrunde 01-24'!O10<>\"\",'Vorrunde 01-24'!O10,\"\")","v":""},null,":",null,null,":",null,null,":",null,null,":",null,null,":",null,null,":",null,null,":",null,null,":",null,null,":",null,null,":",null,null,":",null,null,":",null,null,":",null,null,":",null,null,":",null,null,":",null,null,":",null,null,":",null,null,":",null,null,":",null,null,":",null,null,":",null,null,":",null,null,":",null,"",0,0,0,2,0,0,0,0,2,0,0,0,0,2,0,0,0,0,2,0,0,0,0,2,0,0,0,0,2,0,0,0,0,2,0,0,0,0,2,0,0,0,0,2,0,0,0,0,2,0,0,0,0,2,0,0,0,0,2,0,0,0,0,2,0,0,0,0,2,0,0,0,0,2,0,0,0,0,2,0,0,0,0,2,0,0,0,0,2,0,0,0,0,2,0,0,0,0,2,0,0,0,0,2,0,0,0,0,2,0,0,0,0,2,0,0,0,0,2,0,0,{"$f":"'Vorrunde 01-24'!HC10","v":0},0]
["2026-06-20T22:00:00",46193.916666666664,"2026-06-20T16:00:00",33,"Deutschland (E1)","-","Elfenbeinküste (E3)",null,":",null,"Kanada / BMO Field (Toronto)","2. Gruppenspiel","ZDF und MagentaTV",0,{"$f":"IF('Vorrunde 01-24'!O11<>\"\",'Vorrunde 01-24'!O11,\"\")","v":""},null,":",null,null,":",null,null,":",null,null,":",null,null,":",null,null,":",null,null,":",null,null,":",null,null,":",null,null,":",null,null,":",null,null,":",null,null,":",null,null,":",null,null,":",null,null,":",null,null,":",null,null,":",null,null,":",null,null,":",null,null,":",null,null,":",null,null,":",null,null,":",null,"",0,0,0,2,0,0,0,0,2,0,0,0,0,2,0,0,0,0,2,0,0,0,0,2,0,0,0,0,2,0,0,0,0,2,0,0,0,0,2,0,0,0,0,2,0,0,0,0,2,0,0,0,0,2,0,0,0,0,2,0,0,0,0,2,0,0,0,0,2,0,0,0,0,2,0,0,0,0,2,0,0,0,0,2,0,0,0,0,2,0,0,0,0,2,0,0,0,0,2,0,0,0,0,2,0,0,0,0,2,0,0,0,0,2,0,0,0,0,2,0,0,{"$f":"'Vorrunde 01-24'!HC11","v":0},0]
["2026-06-21T02:00:00",46194.083333333336,"2026-06-20T19:00:00",34,"Ecuador (E4)","-","Curaçao (E2)",null,":",null,"USA / Arrowhead Stadium (Kansas City)","2. Gruppenspiel","ZDF und MagentaTV",0,{"$f":"IF('Vorrunde 01-24'!O12<>\"\",'Vorrunde 01-24'!O12,\"\")","v":""},null,":",null,null,":",null,null,":",null,null,":",null,null,":",null,null,":",null,null,":",null,null,":",null,null,":",null,null,":",null,null,":",null,null,":",null,null,":",null,null,":",null,null,":",null,null,":",null,null,":",null,null,":",null,null,":",null,null,":",null,null,":",null,null,":",null,null,":",null,null,":",null,"",0,0,0,2,0,0,0,0,2,0,0,0,0,2,0,0,0,0,2,0,0,0,0,2,0,0,0,0,2,0,0,0,0,2,0,0,0,0,2,0,0,0,0,2,0,0,0,0,2,0,0,0,0,2,0,0,0,0,2,0,0,0,0,2,0,0,0,0,2,0,0,0,0,2,0,0,0,0,2,0,0,0,0,2,0,0,0,0,2,0,0,0,0,2,0,0,0,0,2,0,0,0,0,2,0,0,0,0,2,0,0,0,0,2,0,0,0,0,2,0,0,{"$f":"'Vorrunde 01-24'!HC12","v":0},0]
["2026-06-21T06:00:00",46194.25,"2026-06-20T22:00:00",36,"Tunesien (F4)","-","Japan (F2)",null,":",null,"Mexiko / Estadio BBVA (Monterrey)","2. Gruppenspiel","MagentaTV (Telekom) Free-TV",0,{"$f":"IF('Vorrunde 01-24'!O13<>\"\",'Vorrunde 01-24'!O13,\"\")","v":""},null,":",null,null,":",null,null,":",null,null,":",null,null,":",null,null,":",null,null,":",null,null,":",null,null,":",null,null,":",null,null,":",null,null,":",null,null,":",null,null,":",null,null,":",null,null,":",null,null,":",null,null,":",null,null,":",null,null,":",null,null,":",null,null,":",null,null,":",null,null,":",null,"",0,0,0,2,0,0,0,0,2,0,0,0,0,2,0,0,0,0,2,0,0,0,0,2,0,0,0,0,2,0,0,0,0,2,0,0,0,0,2,0,0,0,0,2,0,0,0,0,2,0,0,0,0,2,0,0,0,0,2,0,0,0,0,2,0,0,0,0,2,0,0,0,0,2,0,0,0,0,2,0,0,0,0,2,0,0,0,0,2,0,0,0,0,2,0,0,0,0,2,0,0,0,0,2,0,0,0,0,2,0,0,0,0,2,0,0,0,0,2,0,0,{"$f":"'Vorrunde 01-24'!HC13","v":0},0]
["2026-06-21T18:00:00",46194.75,"2026-06-21T12:00:00",38,"Spanien (H1)","-","Saudi-Arabien (H3)",null,":",null,"USA / Mercedes-Benz Stadium (Atlanta)","2. Gruppenspiel","MagentaTV (Telekom) exklusiv",0,{"$f":"IF('Vorrunde 01-24'!O14<>\"\",'Vorrunde 01-24'!O14,\"\")","v":""},null,":",null,null,":",null,null,":",null,null,":",null,null,":",null,null,":",null,null,":",null,null,":",null,null,":",null,null,":",null,null,":",null,null,":",null,null,":",null,null,":",null,null,":",null,null,":",null,null,":",null,null,":",null,null,":",null,null,":",null,null,":",null,null,":",null,null,":",null,null,":",null,"",0,0,0,2,0,0,0,0,2,0,0,0,0,2,0,0,0,0,2,0,0,0,0,2,0,0,0,0,2,0,0,0,0,2,0,0,0,0,2,0,0,0,0,2,0,0,0,0,2,0,0,0,0,2,0,0,0,0,2,0,0,0,0,2,0,0,0,0,2,0,0,0,0,2,0,0,0,0,2,0,0,0,0,2,0,0,0,0,2,0,0,0,0,2,0,0,0,0,2,0,0,0,0,2,0,0,0,0,2,0,0,0,0,2,0,0,0,0,2,0,0,{"$f":"'Vorrunde 01-24'!HC14","v":0},0]
["2026-06-21T21:00:00",46194.875,"2026-06-21T12:00:00",39,"Belgien (G1)","-","Iran (G3)",null,":",null,"USA / SoFi Stadium (Los Angeles)","2. Gruppenspiel","ZDF und MagentaTV",0,{"$f":"IF('Vorrunde 01-24'!O15<>\"\",'Vorrunde 01-24'!O15,\"\")","v":""},null,":",null,null,":",null,null,":",null,null,":",null,null,":",null,null,":",null,null,":",null,null,":",null,null,":",null,null,":",null,null,":",null,null,":",null,null,":",null,null,":",null,null,":",null,null,":",null,null,":",null,null,":",null,null,":",null,null,":",null,null,":",null,null,":",null,null,":",null,null,":",null,"",0,0,0,2,0,0,0,0,2,0,0,0,0,2,0,0,0,0,2,0,0,0,0,2,0,0,0,0,2,0,0,0,0,2,0,0,0,0,2,0,0,0,0,2,0,0,0,0,2,0,0,0,0,2,0,0,0,0,2,0,0,0,0,2,0,0,0,0,2,0,0,0,0,2,0,0,0,0,2,0,0,0,0,2,0,0,0,0,2,0,0,0,0,2,0,0,0,0,2,0,0,0,0,2,0,0,0,0,2,0,0,0,0,2,0,0,0,0,2,0,0,{"$f":"'Vorrunde 01-24'!HC15","v":0},0]
["2026-06-22",46195,"2026-06-21T18:00:00",37,"Uruguay (H4)","-","Kap Verde (H2)",null,":",null,"USA / Hard Rock Stadium (Miami)","2. Gruppenspiel","ARD und MagentaTV",0,{"$f":"IF('Vorrunde 01-24'!O16<>\"\",'Vorrunde 01-24'!O16,\"\")","v":""},null,":",null,null,":",null,null,":",null,null,":",null,null,":",null,null,":",null,null,":",null,null,":",null,null,":",null,null,":",null,null,":",null,null,":",null,null,":",null,null,":",null,null,":",null,null,":",null,null,":",null,null,":",null,null,":",null,null,":",null,null,":",null,null,":",null,null,":",null,null,":",null,"",0,0,0,2,0,0,0,0,2,0,0,0,0,2,0,0,0,0,2,0,0,0,0,2,0,0,0,0,2,0,0,0,0,2,0,0,0,0,2,0,0,0,0,2,0,0,0,0,2,0,0,0,0,2,0,0,0,0,2,0,0,0,0,2,0,0,0,0,2,0,0,0,0,2,0,0,0,0,2,0,0,0,0,2,0,0,0,0,2,0,0,0,0,2,0,0,0,0,2,0,0,0,0,2,0,0,0,0,2,0,0,0,0,2,0,0,0,0,2,0,0,{"$f":"'Vorrunde 01-24'!HC16","v":0},0]
["2026-06-22T03:00:00",46195.125,"2026-06-21T18:00:00",40,"Neuseeland (G4)","-","Ägypten (G2)",null,":",null,"Kanada / BC Place Stadium (Vancouver)","2. Gruppenspiel","MagentaTV (Telekom) exklusiv",0,{"$f":"IF('Vorrunde 01-24'!O17<>\"\",'Vorrunde 01-24'!O17,\"\")","v":""},null,":",null,null,":",null,null,":",null,null,":",null,null,":",null,null,":",null,null,":",null,null,":",null,null,":",null,null,":",null,null,":",null,null,":",null,null,":",null,null,":",null,null,":",null,null,":",null,null,":",null,null,":",null,null,":",null,null,":",null,null,":",null,null,":",null,null,":",null,null,":",null,"",0,0,0,2,0,0,0,0,2,0,0,0,0,2,0,0,0,0,2,0,0,0,0,2,0,0,0,0,2,0,0,0,0,2,0,0,0,0,2,0,0,0,0,2,0,0,0,0,2,0,0,0,0,2,0,0,0,0,2,0,0,0,0,2,0,0,0,0,2,0,0,0,0,2,0,0,0,0,2,0,0,0,0,2,0,0,0,0,2,0,0,0,0,2,0,0,0,0,2,0,0,0,0,2,0,0,0,0,2,0,0,0,0,2,0,0,0,0,2,0,0,{"$f":"'Vorrunde 01-24'!HC17","v":0},0]
["2026-06-22T19:00:00",46195.791666666664,"2026-06-22T12:00:00",43,"Argentinien (J1)","-","Österreich (J3)",null,":",null,"USA / AT&T Stadium (Dallas)","2. Gruppenspiel","ARD und MagentaTV",0,{"$f":"IF('Vorrunde 01-24'!O18<>\"\",'Vorrunde 01-24'!O18,\"\")","v":""},null,":",null,null,":",null,null,":",null,null,":",null,null,":",null,null,":",null,null,":",null,null,":",null,null,":",null,null,":",null,null,":",null,null,":",null,null,":",null,null,":",null,null,":",null,null,":",null,null,":",null,null,":",null,null,":",null,null,":",null,null,":",null,null,":",null,null,":",null,null,":",null,"",0,0,0,2,0,0,0,0,2,0,0,0,0,2,0,0,0,0,2,0,0,0,0,2,0,0,0,0,2,0,0,0,0,2,0,0,0,0,2,0,0,0,0,2,0,0,0,0,2,0,0,0,0,2,0,0,0,0,2,0,0,0,0,2,0,0,0,0,2,0,0,0,0,2,0,0,0,0,2,0,0,0,0,2,0,0,0,0,2,0,0,0,0,2,0,0,0,0,2,0,0,0,0,2,0,0,0,0,2,0,0,0,0,2,0,0,0,0,2,0,0,{"$f":"'Vorrunde 01-24'!HC18","v":0},0]
["2026-06-22T23:00:00",46195.958333333336,"2026-06-22T17:00:00",42,"Frankreich (I1)","-","Irak (I3)",null,":",null,"USA / Lincoln Financial Field (Philadelphia)","2. Gruppenspiel","ARD und MagentaTV",0,{"$f":"IF('Vorrunde 01-24'!O19<>\"\",'Vorrunde 01-24'!O19,\"\")","v":""},null,":",null,null,":",null,null,":",null,null,":",null,null,":",null,null,":",null,null,":",null,null,":",null,null,":",null,null,":",null,null,":",null,null,":",null,null,":",null,null,":",null,null,":",null,null,":",null,null,":",null,null,":",null,null,":",null,null,":",null,null,":",null,null,":",null,null,":",null,null,":",null,"",0,0,0,2,0,0,0,0,2,0,0,0,0,2,0,0,0,0,2,0,0,0,0,2,0,0,0,0,2,0,0,0,0,2,0,0,0,0,2,0,0,0,0,2,0,0,0,0,2,0,0,0,0,2,0,0,0,0,2,0,0,0,0,2,0,0,0,0,2,0,0,0,0,2,0,0,0,0,2,0,0,0,0,2,0,0,0,0,2,0,0,0,0,2,0,0,0,0,2,0,0,0,0,2,0,0,0,0,2,0,0,0,0,2,0,0,0,0,2,0,0,{"$f":"'Vorrunde 01-24'!HC19","v":0},0]
["2026-06-23T02:00:00",46196.083333333336,"2026-06-22T20:00:00",41,"Norwegen (I4)","-","Senegal (I2)",null,":",null,"USA / MetLife Stadium (New York/New Jersey)","2. Gruppenspiel","MagentaTV (Telekom) exklusiv",0,{"$f":"IF('Vorrunde 01-24'!O20<>\"\",'Vorrunde 01-24'!O20,\"\")","v":""},null,":",null,null,":",null,null,":",null,null,":",null,null,":",null,null,":",null,null,":",null,null,":",null,null,":",null,null,":",null,null,":",null,null,":",null,null,":",null,null,":",null,null,":",null,null,":",null,null,":",null,null,":",null,null,":",null,null,":",null,null,":",null,null,":",null,null,":",null,null,":",null,"",0,0,0,2,0,0,0,0,2,0,0,0,0,2,0,0,0,0,2,0,0,0,0,2,0,0,0,0,2,0,0,0,0,2,0,0,0,0,2,0,0,0,0,2,0,0,0,0,2,0,0,0,0,2,0,0,0,0,2,0,0,0,0,2,0,0,0,0,2,0,0,0,0,2,0,0,0,0,2,0,0,0,0,2,0,0,0,0,2,0,0,0,0,2,0,0,0,0,2,0,0,0,0,2,0,0,0,0,2,0,0,0,0,2,0,0,0,0,2,0,0,{"$f":"'Vorrunde 01-24'!HC20","v":0},0]
["2026-06-23T05:00:00",46196.208333333336,"2026-06-22T20:00:00",44,"Jordanien (J4)","-","Algerien (J2)",null,":",null,"USA / Levi's Stadium (San Francisco Bay Area)","2. Gruppenspiel","ZDF und MagentaTV",0,{"$f":"IF('Vorrunde 01-24'!O21<>\"\",'Vorrunde 01-24'!O21,\"\")","v":""},null,":",null,null,":",null,null,":",null,null,":",null,null,":",null,null,":",null,null,":",null,null,":",null,null,":",null,null,":",null,null,":",null,null,":",null,null,":",null,null,":",null,null,":",null,null,":",null,null,":",null,null,":",null,null,":",null,null,":",null,null,":",null,null,":",null,null,":",null,null,":",null,"",0,0,0,2,0,0,0,0,2,0,0,0,0,2,0,0,0,0,2,0,0,0,0,2,0,0,0,0,2,0,0,0,0,2,0,0,0,0,2,0,0,0,0,2,0,0,0,0,2,0,0,0,0,2,0,0,0,0,2,0,0,0,0,2,0,0,0,0,2,0,0,0,0,2,0,0,0,0,2,0,0,0,0,2,0,0,0,0,2,0,0,0,0,2,0,0,0,0,2,0,0,0,0,2,0,0,0,0,2,0,0,0,0,2,0,0,0,0,2,0,0,{"$f":"'Vorrunde 01-24'!HC21","v":0},0]
["2026-06-23T19:00:00",46196.791666666664,"2026-06-23T12:00:00",47,"Portugal (K1)","-","Usbekistan (K3)",null,":",null,"USA / NRG Stadium (Houston)","2. Gruppenspiel","ARD und MagentaTV",0,{"$f":"IF('Vorrunde 01-24'!O22<>\"\",'Vorrunde 01-24'!O22,\"\")","v":""},null,":",null,null,":",null,null,":",null,null,":",null,null,":",null,null,":",null,null,":",null,null,":",null,null,":",null,null,":",null,null,":",null,null,":",null,null,":",null,null,":",null,null,":",null,null,":",null,null,":",null,null,":",null,null,":",null,null,":",null,null,":",null,null,":",null,null,":",null,null,":",null,"",0,0,0,2,0,0,0,0,2,0,0,0,0,2,0,0,0,0,2,0,0,0,0,2,0,0,0,0,2,0,0,0,0,2,0,0,0,0,2,0,0,0,0,2,0,0,0,0,2,0,0,0,0,2,0,0,0,0,2,0,0,0,0,2,0,0,0,0,2,0,0,0,0,2,0,0,0,0,2,0,0,0,0,2,0,0,0,0,2,0,0,0,0,2,0,0,0,0,2,0,0,0,0,2,0,0,0,0,2,0,0,0,0,2,0,0,0,0,2,0,0,{"$f":"'Vorrunde 01-24'!HC22","v":0},0]
["2026-06-23T22:00:00",46196.916666666664,"2026-06-23T16:00:00",45,"England (L1)","-","Ghana (L3)",null,":",null,"USA / Gillette Stadium (Boston)","2. Gruppenspiel","ARD und MagentaTV",0,{"$f":"IF('Vorrunde 01-24'!O23<>\"\",'Vorrunde 01-24'!O23,\"\")","v":""},null,":",null,null,":",null,null,":",null,null,":",null,null,":",null,null,":",null,null,":",null,null,":",null,null,":",null,null,":",null,null,":",null,null,":",null,null,":",null,null,":",null,null,":",null,null,":",null,null,":",null,null,":",null,null,":",null,null,":",null,null,":",null,null,":",null,null,":",null,null,":",null,"",0,0,0,2,0,0,0,0,2,0,0,0,0,2,0,0,0,0,2,0,0,0,0,2,0,0,0,0,2,0,0,0,0,2,0,0,0,0,2,0,0,0,0,2,0,0,0,0,2,0,0,0,0,2,0,0,0,0,2,0,0,0,0,2,0,0,0,0,2,0,0,0,0,2,0,0,0,0,2,0,0,0,0,2,0,0,0,0,2,0,0,0,0,2,0,0,0,0,2,0,0,0,0,2,0,0,0,0,2,0,0,0,0,2,0,0,0,0,2,0,0,{"$f":"'Vorrunde 01-24'!HC23","v":0},0]
["2026-06-24T01:00:00",46197.041666666664,"2026-06-23T19:00:00",46,"Panama (L4)","-","Kroatien (L2)",null,":",null,"Kanada / BMO Field (Toronto)","2. Gruppenspiel","MagentaTV (Telekom) exklusiv",0,{"$f":"IF('Vorrunde 01-24'!O24<>\"\",'Vorrunde 01-24'!O24,\"\")","v":""},null,":",null,null,":",null,null,":",null,null,":",null,null,":",null,null,":",null,null,":",null,null,":",null,null,":",null,null,":",null,null,":",null,null,":",null,null,":",null,null,":",null,null,":",null,null,":",null,null,":",null,null,":",null,null,":",null,null,":",null,null,":",null,null,":",null,null,":",null,null,":",null,"",0,0,0,2,0,0,0,0,2,0,0,0,0,2,0,0,0,0,2,0,0,0,0,2,0,0,0,0,2,0,0,0,0,2,0,0,0,0,2,0,0,0,0,2,0,0,0,0,2,0,0,0,0,2,0,0,0,0,2,0,0,0,0,2,0,0,0,0,2,0,0,0,0,2,0,0,0,0,2,0,0,0,0,2,0,0,0,0,2,0,0,0,0,2,0,0,0,0,2,0,0,0,0,2,0,0,0,0,2,0,0,0,0,2,0,0,0,0,2,0,0,{"$f":"'Vorrunde 01-24'!HC24","v":0},0]
["2026-06-24T04:00:00",46197.166666666664,"2026-06-23T20:00:00",48,"Kolumbien (K4)","-","DR Kongo (K2)",null,":",null,"Mexiko / Estadio Akron (Guadalajara)","2. Gruppenspiel","ARD und MagentaTV",0,{"$f":"IF('Vorrunde 01-24'!O25<>\"\",'Vorrunde 01-24'!O25,\"\")","v":""},null,":",null,null,":",null,null,":",null,null,":",null,null,":",null,null,":",null,null,":",null,null,":",null,null,":",null,null,":",null,null,":",null,null,":",null,null,":",null,null,":",null,null,":",null,null,":",null,null,":",null,null,":",null,null,":",null,null,":",null,null,":",null,null,":",null,null,":",null,null,":",null,"",0,0,0,2,0,0,0,0,2,0,0,0,0,2,0,0,0,0,2,0,0,0,0,2,0,0,0,0,2,0,0,0,0,2,0,0,0,0,2,0,0,0,0,2,0,0,0,0,2,0,0,0,0,2,0,0,0,0,2,0,0,0,0,2,0,0,0,0,2,0,0,0,0,2,0,0,0,0,2,0,0,0,0,2,0,0,0,0,2,0,0,0,0,2,0,0,0,0,2,0,0,0,0,2,0,0,0,0,2,0,0,0,0,2,0,0,0,0,2,0,0,{"$f":"'Vorrunde 01-24'!HC25","v":0},0]
[null,null,null,null,null,null,null,null,null,null,null,null,null,{"$f":"SUM(N2:N25)","v":0},{"$f":"IF('Vorrunde 01-24'!O26<>\"\",'Vorrunde 01-24'!O26,\"\")","v":""},null,":",null,null,":",null,null,":",null,null,":",null,null,":",null,null,":",null,null,":",null,null,":",null,null,":",null,null,":",null,null,":",null,null,":",null,null,":",null,null,":",null,null,":",null,null,":",null,null,":",null,null,":",null,null,":",null,null,":",null,null,":",null,null,":",null,null,":",null,null,":",null,"",0,0,0,2,0,0,0,0,2,0,0,0,0,2,0,0,0,0,2,0,0,0,0,2,0,0,0,0,2,0,0,0,0,2,0,0,0,0,2,0,0,0,0,2,0,0,0,0,2,0,0,0,0,2,0,0,0,0,2,0,0,0,0,2,0,0,0,0,2,0,0,0,0,2,0,0,0,0,2,0,0,0,0,2,0,0,0,0,2,0,0,0,0,2,0,0,0,0,2,0,0,0,0,2,0,0,0,0,2,0,0,0,0,2,0,0,0,0,2,0,0,{"$f":"'Vorrunde 01-24'!HC26","v":0},0]
[null,null,null,null,null,null,null,null,null,null,null,null,null,null,{"$f":"IF('Vorrunde 01-24'!O27<>\"\",'Vorrunde 01-24'!O27,\"\")","v":""},null,":",null,null,":",null,null,":",null,null,":",null,null,":",null,null,":",null,null,":",null,null,":",null,null,":",null,null,":",null,null,":",null,null,":",null,null,":",null,null,":",null,null,":",null,null,":",null,null,":",null,null,":",null,null,":",null,null,":",null,null,":",null,null,":",null,null,":",null,null,":",null,"",0,0,0,2,0,0,0,0,2,0,0,0,0,2,0,0,0,0,2,0,0,0,0,2,0,0,0,0,2,0,0,0,0,2,0,0,0,0,2,0,0,0,0,2,0,0,0,0,2,0,0,0,0,2,0,0,0,0,2,0,0,0,0,2,0,0,0,0,2,0,0,0,0,2,0,0,0,0,2,0,0,0,0,2,0,0,0,0,2,0,0,0,0,2,0,0,0,0,2,0,0,0,0,2,0,0,0,0,2,0,0,0,0,2,0,0,0,0,2,0,0,{"$f":"'Vorrunde 01-24'!HC27","v":0},0]
[null,null,null,null,null,null,null,null,null,null,null,null,null,null,{"$f":"IF('Vorrunde 01-24'!O28<>\"\",'Vorrunde 01-24'!O28,\"\")","v":""},null,":",null,null,":",null,null,":",null,null,":",null,null,":",null,null,":",null,null,":",null,null,":",null,null,":",null,null,":",null,null,":",null,null,":",null,null,":",null,null,":",null,null,":",null,null,":",null,null,":",null,null,":",null,null,":",null,null,":",null,null,":",null,null,":",null,null,":",null,null,":",null,"",0,0,0,2,0,0,0,0,2,0,0,0,0,2,0,0,0,0,2,0,0,0,0,2,0,0,0,0,2,0,0,0,0,2,0,0,0,0,2,0,0,0,0,2,0,0,0,0,2,0,0,0,0,2,0,0,0,0,2,0,0,0,0,2,0,0,0,0,2,0,0,0,0,2,0,0,0,0,2,0,0,0,0,2,0,0,0,0,2,0,0,0,0,2,0,0,0,0,2,0,0,0,0,2,0,0,0,0,2,0,0,0,0,2,0,0,0,0,2,0,0,{"$f":"'Vorrunde 01-24'!HC28","v":0},0]
[null,null,null,null,null,null,null,null,null,null,null,null,null,null,{"$f":"IF('Vorrunde 01-24'!O29<>\"\",'Vorrunde 01-24'!O29,\"\")","v":""},null,":",null,null,":",null,null,":",null,null,":",null,null,":",null,null,":",null,null,":",null,null,":",null,null,":",null,null,":",null,null,":",null,null,":",null,null,":",null,null,":",null,null,":",null,null,":",null,null,":",null,null,":",null,null,":",null,null,":",null,null,":",null,null,":",null,null,":",null,null,":",null,"",0,0,0,2,0,0,0,0,2,0,0,0,0,2,0,0,0,0,2,0,0,0,0,2,0,0,0,0,2,0,0,0,0,2,0,0,0,0,2,0,0,0,0,2,0,0,0,0,2,0,0,0,0,2,0,0,0,0,2,0,0,0,0,2,0,0,0,0,2,0,0,0,0,2,0,0,0,0,2,0,0,0,0,2,0,0,0,0,2,0,0,0,0,2,0,0,0,0,2,0,0,0,0,2,0,0,0,0,2,0,0,0,0,2,0,0,0,0,2,0,0,{"$f":"'Vorrunde 01-24'!HC29","v":0},0]
[null,null,null,null,null,null,null,null,null,null,null,null,null,null,{"$f":"IF('Vorrunde 01-24'!O30<>\"\",'Vorrunde 01-24'!O30,\"\")","v":""},null,":",null,null,":",null,null,":",null,null,":",null,null,":",null,null,":",null,null,":",null,null,":",null,null,":",null,null,":",null,null,":",null,null,":",null,null,":",null,null,":",null,null,":",null,null,":",null,null,":",null,null,":",null,null,":",null,null,":",null,null,":",null,null,":",null,null,":",null,null,":",null,"",0,0,0,2,0,0,0,0,2,0,0,0,0,2,0,0,0,0,2,0,0,0,0,2,0,0,0,0,2,0,0,0,0,2,0,0,0,0,2,0,0,0,0,2,0,0,0,0,2,0,0,0,0,2,0,0,0,0,2,0,0,0,0,2,0,0,0,0,2,0,0,0,0,2,0,0,0,0,2,0,0,0,0,2,0,0,0,0,2,0,0,0,0,2,0,0,0,0,2,0,0,0,0,2,0,0,0,0,2,0,0,0,0,2,0,0,0,0,2,0,0,{"$f":"'Vorrunde 01-24'!HC30","v":0},0]
[null,null,null,null,null,null,null,null,null,null,null,null,null,null,{"$f":"IF('Vorrunde 01-24'!O31<>\"\",'Vorrunde 01-24'!O31,\"\")","v":""},null,":",null,null,":",null,null,":",null,null,":",null,null,":",null,null,":",null,null,":",null,null,":",null,null,":",null,null,":",null,null,":",null,null,":",null,null,":",null,null,":",null,null,":",null,null,":",null,null,":",null,null,":",null,null,":",null,null,":",null,null,":",null,null,":",null,null,":",null,null,":",null,"",0,0,0,2,0,0,0,0,2,0,0,0,0,2,0,0,0,0,2,0,0,0,0,2,0,0,0,0,2,0,0,0,0,2,0,0,0,0,2,0,0,0,0,2,0,0,0,0,2,0,0,0,0,2,0,0,0,0,2,0,0,0,0,2,0,0,0,0,2,0,0,0,0,2,0,0,0,0,2,0,0,0,0,2,0,0,0,0,2,0,0,0,0,2,0,0,0,0,2,0,0,0,0,2,0,0,0,0,2,0,0,0,0,2,0,0,0,0,2,0,0,{"$f":"'Vorrunde 01-24'!HC31","v":0},0]
[null,null,null,null,null,null,null,null,null,null,null,null,null,null,{"$f":"IF('Vorrunde 01-24'!O32<>\"\",'Vorrunde 01-24'!O32,\"\")","v":""},null,":",null,null,":",null,null,":",null,null,":",null,null,":",null,null,":",null,null,":",null,null,":",null,null,":",null,null,":",null,null,":",null,null,":",null,null,":",null,null,":",null,null,":",null,null,":",null,null,":",null,null,":",null,null,":",null,null,":",null,null,":",null,null,":",null,null,":",null,null,":",null,"",0,0,0,2,0,0,0,0,2,0,0,0,0,2,0,0,0,0,2,0,0,0,0,2,0,0,0,0,2,0,0,0,0,2,0,0,0,0,2,0,0,0,0,2,0,0,0,0,2,0,0,0,0,2,0,0,0,0,2,0,0,0,0,2,0,0,0,0,2,0,0,0,0,2,0,0,0,0,2,0,0,0,0,2,0,0,0,0,2,0,0,0,0,2,0,0,0,0,2,0,0,0,0,2,0,0,0,0,2,0,0,0,0,2,0,0,0,0,2,0,0,{"$f":"'Vorrunde 01-24'!HC32","v":0},0]
[null,null,null,null,null,null,null,null,null,null,null,null,null,null,{"$f":"IF('Vorrunde 01-24'!O33<>\"\",'Vorrunde 01-24'!O33,\"\")","v":""},null,":",null,null,":",null,null,":",null,null,":",null,null,":",null,null,":",null,null,":",null,null,":",null,null,":",null,null,":",null,null,":",null,null,":",null,null,":",null,null,":",null,null,":",null,null,":",null,null,":",null,null,":",null,null,":",null,null,":",null,null,":",null,null,":",null,null,":",null,null,":",null,"",0,0,0,2,0,0,0,0,2,0,0,0,0,2,0,0,0,0,2,0,0,0,0,2,0,0,0,0,2,0,0,0,0,2,0,0,0,0,2,0,0,0,0,2,0,0,0,0,2,0,0,0,0,2,0,0,0,0,2,0,0,0,0,2,0,0,0,0,2,0,0,0,0,2,0,0,0,0,2,0,0,0,0,2,0,0,0,0,2,0,0,0,0,2,0,0,0,0,2,0,0,0,0,2,0,0,0,0,2,0,0,0,0,2,0,0,0,0,2,0,0,{"$f":"'Vorrunde 01-24'!HC33","v":0},0]
[null,null,null,null,null,null,null,null,null,null,null,null,null,null,{"$f":"IF('Vorrunde 01-24'!O34<>\"\",'Vorrunde 01-24'!O34,\"\")","v":""},null,":",null,null,":",null,null,":",null,null,":",null,null,":",null,null,":",null,null,":",null,null,":",null,null,":",null,null,":",null,null,":",null,null,":",null,null,":",null,null,":",null,null,":",null,null,":",null,null,":",null,null,":",null,null,":",null,null,":",null,null,":",null,null,":",null,null,":",null,null,":",null,"",0,0,0,2,0,0,0,0,2,0,0,0,0,2,0,0,0,0,2,0,0,0,0,2,0,0,0,0,2,0,0,0,0,2,0,0,0,0,2,0,0,0,0,2,0,0,0,0,2,0,0,0,0,2,0,0,0,0,2,0,0,0,0,2,0,0,0,0,2,0,0,0,0,2,0,0,0,0,2,0,0,0,0,2,0,0,0,0,2,0,0,0,0,2,0,0,0,0,2,0,0,0,0,2,0,0,0,0,2,0,0,0,0,2,0,0,0,0,2,0,0,{"$f":"'Vorrunde 01-24'!HC34","v":0},0]
[null,null,null,null,null,null,null,null,null,null,null,null,null,null,{"$f":"IF('Vorrunde 01-24'!O35<>\"\",'Vorrunde 01-24'!O35,\"\")","v":""},null,":",null,null,":",null,null,":",null,null,":",null,null,":",null,null,":",null,null,":",null,null,":",null,null,":",null,null,":",null,null,":",null,null,":",null,null,":",null,null,":",null,null,":",null,null,":",null,null,":",null,null,":",null,null,":",null,null,":",null,null,":",null,null,":",null,null,":",null,null,":",null,"",0,0,0,2,0,0,0,0,2,0,0,0,0,2,0,0,0,0,2,0,0,0,0,2,0,0,0,0,2,0,0,0,0,2,0,0,0,0,2,0,0,0,0,2,0,0,0,0,2,0,0,0,0,2,0,0,0,0,2,0,0,0,0,2,0,0,0,0,2,0,0,0,0,2,0,0,0,0,2,0,0,0,0,2,0,0,0,0,2,0,0,0,0,2,0,0,0,0,2,0,0,0,0,2,0,0,0,0,2,0,0,0,0,2,0,0,0,0,2,0,0,{"$f":"'Vorrunde 01-24'!HC35","v":0},0]
[null,null,null,null,null,null,null,null,null,null,null,null,null,null,{"$f":"IF('Vorrunde 01-24'!O36<>\"\",'Vorrunde 01-24'!O36,\"\")","v":""},null,":",null,null,":",null,null,":",null,null,":",null,null,":",null,null,":",null,null,":",null,null,":",null,null,":",null,null,":",null,null,":",null,null,":",null,null,":",null,null,":",null,null,":",null,null,":",null,null,":",null,null,":",null,null,":",null,null,":",null,null,":",null,null,":",null,null,":",null,null,":",null,"",0,0,0,2,0,0,0,0,2,0,0,0,0,2,0,0,0,0,2,0,0,0,0,2,0,0,0,0,2,0,0,0,0,2,0,0,0,0,2,0,0,0,0,2,0,0,0,0,2,0,0,0,0,2,0,0,0,0,2,0,0,0,0,2,0,0,0,0,2,0,0,0,0,2,0,0,0,0,2,0,0,0,0,2,0,0,0,0,2,0,0,0,0,2,0,0,0,0,2,0,0,0,0,2,0,0,0,0,2,0,0,0,0,2,0,0,0,0,2,0,0,{"$f":"'Vorrunde 01-24'!HC36","v":0},0]
[null,null,null,null,null,null,null,null,null,null,null,null,null,null,{"$f":"IF('Vorrunde 01-24'!O37<>\"\",'Vorrunde 01-24'!O37,\"\")","v":""},null,":",null,null,":",null,null,":",null,null,":",null,null,":",null,null,":",null,null,":",null,null,":",null,null,":",null,null,":",null,null,":",null,null,":",null,null,":",null,null,":",null,null,":",null,null,":",null,null,":",null,null,":",null,null,":",null,null,":",null,null,":",null,null,":",null,null,":",null,null,":",null,"",0,0,0,2,0,0,0,0,2,0,0,0,0,2,0,0,0,0,2,0,0,0,0,2,0,0,0,0,2,0,0,0,0,2,0,0,0,0,2,0,0,0,0,2,0,0,0,0,2,0,0,0,0,2,0,0,0,0,2,0,0,0,0,2,0,0,0,0,2,0,0,0,0,2,0,0,0,0,2,0,0,0,0,2,0,0,0,0,2,0,0,0,0,2,0,0,0,0,2,0,0,0,0,2,0,0,0,0,2,0,0,0,0,2,0,0,0,0,2,0,0,{"$f":"'Vorrunde 01-24'!HC37","v":0},0]
[null,null,null,null,null,null,null,null,null,null,null,null,null,null,{"$f":"IF('Vorrunde 01-24'!O38<>\"\",'Vorrunde 01-24'!O38,\"\")","v":""},null,":",null,null,":",null,null,":",null,null,":",null,null,":",null,null,":",null,null,":",null,null,":",null,null,":",null,null,":",null,null,":",null,null,":",null,null,":",null,null,":",null,null,":",null,null,":",null,null,":",null,null,":",null,null,":",null,null,":",null,null,":",null,null,":",null,null,":",null,null,":",null,"",0,0,0,2,0,0,0,0,2,0,0,0,0,2,0,0,0,0,2,0,0,0,0,2,0,0,0,0,2,0,0,0,0,2,0,0,0,0,2,0,0,0,0,2,0,0,0,0,2,0,0,0,0,2,0,0,0,0,2,0,0,0,0,2,0,0,0,0,2,0,0,0,0,2,0,0,0,0,2,0,0,0,0,2,0,0,0,0,2,0,0,0,0,2,0,0,0,0,2,0,0,0,0,2,0,0,0,0,2,0,0,0,0,2,0,0,0,0,2,0,0,{"$f":"'Vorrunde 01-24'!HC38","v":0},0]
[null,null,null,null,null,null,null,null,null,null,null,null,null,null,{"$f":"IF('Vorrunde 01-24'!O39<>\"\",'Vorrunde 01-24'!O39,\"\")","v":""},null,":",null,null,":",null,null,":",null,null,":",null,null,":",null,null,":",null,null,":",null,null,":",null,null,":",null,null,":",null,null,":",null,null,":",null,null,":",null,null,":",null,null,":",null,null,":",null,null,":",null,null,":",null,null,":",null,null,":",null,null,":",null,null,":",null,null,":",null,null,":",null,"",0,0,0,2,0,0,0,0,2,0,0,0,0,2,0,0,0,0,2,0,0,0,0,2,0,0,0,0,2,0,0,0,0,2,0,0,0,0,2,0,0,0,0,2,0,0,0,0,2,0,0,0,0,2,0,0,0,0,2,0,0,0,0,2,0,0,0,0,2,0,0,0,0,2,0,0,0,0,2,0,0,0,0,2,0,0,0,0,2,0,0,0,0,2,0,0,0,0,2,0,0,0,0,2,0,0,0,0,2,0,0,0,0,2,0,0,0,0,2,0,0,{"$f":"'Vorrunde 01-24'!HC39","v":0},0]
[null,null,null,null,null,null,null,null,null,null,null,null,null,null,{"$f":"IF('Vorrunde 01-24'!O40<>\"\",'Vorrunde 01-24'!O40,\"\")","v":""},null,":",null,null,":",null,null,":",null,null,":",null,null,":",null,null,":",null,null,":",null,null,":",null,null,":",null,null,":",null,null,":",null,null,":",null,null,":",null,null,":",null,null,":",null,null,":",null,null,":",null,null,":",null,null,":",null,null,":",null,null,":",null,null,":",null,null,":",null,null,":",null,"",0,0,0,2,0,0,0,0,2,0,0,0,0,2,0,0,0,0,2,0,0,0,0,2,0,0,0,0,2,0,0,0,0,2,0,0,0,0,2,0,0,0,0,2,0,0,0,0,2,0,0,0,0,2,0,0,0,0,2,0,0,0,0,2,0,0,0,0,2,0,0,0,0,2,0,0,0,0,2,0,0,0,0,2,0,0,0,0,2,0,0,0,0,2,0,0,0,0,2,0,0,0,0,2,0,0,0,0,2,0,0,0,0,2,0,0,0,0,2,0,0,{"$f":"'Vorrunde 01-24'!HC40","v":0},0]
[null,null,null,null,null,null,null,null,null,null,null,null,null,null,{"$f":"IF('Vorrunde 01-24'!O41<>\"\",'Vorrunde 01-24'!O41,\"\")","v":""},null,":",null,null,":",null,null,":",null,null,":",null,null,":",null,null,":",null,null,":",null,null,":",null,null,":",null,null,":",null,null,":",null,null,":",null,null,":",null,null,":",null,null,":",null,null,":",null,null,":",null,null,":",null,null,":",null,null,":",null,null,":",null,null,":",null,null,":",null,null,":",null,"",0,0,0,2,0,0,0,0,2,0,0,0,0,2,0,0,0,0,2,0,0,0,0,2,0,0,0,0,2,0,0,0,0,2,0,0,0,0,2,0,0,0,0,2,0,0,0,0,2,0,0,0,0,2,0,0,0,0,2,0,0,0,0,2,0,0,0,0,2,0,0,0,0,2,0,0,0,0,2,0,0,0,0,2,0,0,0,0,2,0,0,0,0,2,0,0,0,0,2,0,0,0,0,2,0,0,0,0,2,0,0,0,0,2,0,0,0,0,2,0,0,{"$f":"'Vorrunde 01-24'!HC41","v":0},0]
[null,null,null,null,null,null,null,null,null,null,null,null,null,null,{"$f":"IF('Vorrunde 01-24'!O42<>\"\",'Vorrunde 01-24'!O42,\"\")","v":""},null,":",null,null,":",null,null,":",null,null,":",null,null,":",null,null,":",null,null,":",null,null,":",null,null,":",null,null,":",null,null,":",null,null,":",null,null,":",null,null,":",null,null,":",null,null,":",null,null,":",null,null,":",null,null,":",null,null,":",null,null,":",null,null,":",null,null,":",null,null,":",null,"",0,0,0,2,0,0,0,0,2,0,0,0,0,2,0,0,0,0,2,0,0,0,0,2,0,0,0,0,2,0,0,0,0,2,0,0,0,0,2,0,0,0,0,2,0,0,0,0,2,0,0,0,0,2,0,0,0,0,2,0,0,0,0,2,0,0,0,0,2,0,0,0,0,2,0,0,0,0,2,0,0,0,0,2,0,0,0,0,2,0,0,0,0,2,0,0,0,0,2,0,0,0,0,2,0,0,0,0,2,0,0,0,0,2,0,0,0,0,2,0,0,{"$f":"'Vorrunde 01-24'!HC42","v":0},0]
[null,null,null,null,null,null,null,null,null,null,null,null,null,null,{"$f":"IF('Vorrunde 01-24'!O43<>\"\",'Vorrunde 01-24'!O43,\"\")","v":""},null,":",null,null,":",null,null,":",null,null,":",null,null,":",null,null,":",null,null,":",null,null,":",null,null,":",null,null,":",null,null,":",null,null,":",null,null,":",null,null,":",null,null,":",null,null,":",null,null,":",null,null,":",null,null,":",null,null,":",null,null,":",null,null,":",null,null,":",null,null,":",null,"",0,0,0,2,0,0,0,0,2,0,0,0,0,2,0,0,0,0,2,0,0,0,0,2,0,0,0,0,2,0,0,0,0,2,0,0,0,0,2,0,0,0,0,2,0,0,0,0,2,0,0,0,0,2,0,0,0,0,2,0,0,0,0,2,0,0,0,0,2,0,0,0,0,2,0,0,0,0,2,0,0,0,0,2,0,0,0,0,2,0,0,0,0,2,0,0,0,0,2,0,0,0,0,2,0,0,0,0,2,0,0,0,0,2,0,0,0,0,2,0,0,{"$f":"'Vorrunde 01-24'!HC43","v":0},0]
[null,null,null,null,null,null,null,null,null,null,null,null,null,null,{"$f":"IF('Vorrunde 01-24'!O44<>\"\",'Vorrunde 01-24'!O44,\"\")","v":""},null,":",null,null,":",null,null,":",null,null,":",null,null,":",null,null,":",null,null,":",null,null,":",null,null,":",null,null,":",null,null,":",null,null,":",null,null,":",null,null,":",null,null,":",null,null,":",null,null,":",null,null,":",null,null,":",null,null,":",null,null,":",null,null,":",null,null,":",null,null,":",null,"",0,0,0,2,0,0,0,0,2,0,0,0,0,2,0,0,0,0,2,0,0,0,0,2,0,0,0,0,2,0,0,0,0,2,0,0,0,0,2,0,0,0,0,2,0,0,0,0,2,0,0,0,0,2,0,0,0,0,2,0,0,0,0,2,0,0,0,0,2,0,0,0,0,2,0,0,0,0,2,0,0,0,0,2,0,0,0,0,2,0,0,0,0,2,0,0,0,0,2,0,0,0,0,2,0,0,0,0,2,0,0,0,0,2,0,0,0,0,2,0,0,{"$f":"'Vorrunde 01-24'!HC44","v":0},0]
[null,null,null,null,null,null,null,null,null,null,null,null,null,null,{"$f":"IF('Vorrunde 01-24'!O45<>\"\",'Vorrunde 01-24'!O45,\"\")","v":""},null,":",null,null,":",null,null,":",null,null,":",null,null,":",null,null,":",null,null,":",null,null,":",null,null,":",null,null,":",null,null,":",null,null,":",null,null,":",null,null,":",null,null,":",null,null,":",null,null,":",null,null,":",null,null,":",null,null,":",null,null,":",null,null,":",null,null,":",null,null,":",null,"",0,0,0,2,0,0,0,0,2,0,0,0,0,2,0,0,0,0,2,0,0,0,0,2,0,0,0,0,2,0,0,0,0,2,0,0,0,0,2,0,0,0,0,2,0,0,0,0,2,0,0,0,0,2,0,0,0,0,2,0,0,0,0,2,0,0,0,0,2,0,0,0,0,2,0,0,0,0,2,0,0,0,0,2,0,0,0,0,2,0,0,0,0,2,0,0,0,0,2,0,0,0,0,2,0,0,0,0,2,0,0,0,0,2,0,0,0,0,2,0,0,{"$f":"'Vorrunde 01-24'!HC45","v":0},0]
[null,null,null,null,null,null,null,null,null,null,null,null,null,null,{"$f":"IF('Vorrunde 01-24'!O46<>\"\",'Vorrunde 01-24'!O46,\"\")","v":""},null,":",null,null,":",null,null,":",null,null,":",null,null,":",null,null,":",null,null,":",null,null,":",null,null,":",null,null,":",null,null,":",null,null,":",null,null,":",null,null,":",null,null,":",null,null,":",null,null,":",null,null,":",null,null,":",null,null,":",null,null,":",null,null,":",null,null,":",null,null,":",null,"",0,0,0,2,0,0,0,0,2,0,0,0,0,2,0,0,0,0,2,0,0,0,0,2,0,0,0,0,2,0,0,0,0,2,0,0,0,0,2,0,0,0,0,2,0,0,0,0,2,0,0,0,0,2,0,0,0,0,2,0,0,0,0,2,0,0,0,0,2,0,0,0,0,2,0,0,0,0,2,0,0,0,0,2,0,0,0,0,2,0,0,0,0,2,0,0,0,0,2,0,0,0,0,2,0,0,0,0,2,0,0,0,0,2,0,0,0,0,2,0,0,{"$f":"'Vorrunde 01-24'!HC46","v":0},0]
[null,null,null,null,null,null,null,null,null,null,null,null,null,null,{"$f":"IF('Vorrunde 01-24'!O47<>\"\",'Vorrunde 01-24'!O47,\"\")","v":""},null,":",null,null,":",null,null,":",null,null,":",null,null,":",null,null,":",null,null,":",null,null,":",null,null,":",null,null,":",null,null,":",null,null,":",null,null,":",null,null,":",null,null,":",null,null,":",null,null,":",null,null,":",null,null,":",null,null,":",null,null,":",null,null,":",null,null,":",null,null,":",null,"",0,0,0,2,0,0,0,0,2,0,0,0,0,2,0,0,0,0,2,0,0,0,0,2,0,0,0,0,2,0,0,0,0,2,0,0,0,0,2,0,0,0,0,2,0,0,0,0,2,0,0,0,0,2,0,0,0,0,2,0,0,0,0,2,0,0,0,0,2,0,0,0,0,2,0,0,0,0,2,0,0,0,0,2,0,0,0,0,2,0,0,0,0,2,0,0,0,0,2,0,0,0,0,2,0,0,0,0,2,0,0,0,0,2,0,0,0,0,2,0,0,{"$f":"'Vorrunde 01-24'!HC47","v":0},0]
[null,null,null,null,null,null,null,null,null,null,null,null,null,null,{"$f":"IF('Vorrunde 01-24'!O48<>\"\",'Vorrunde 01-24'!O48,\"\")","v":""},null,":",null,null,":",null,null,":",null,null,":",null,null,":",null,null,":",null,null,":",null,null,":",null,null,":",null,null,":",null,null,":",null,null,":",null,null,":",null,null,":",null,null,":",null,null,":",null,null,":",null,null,":",null,null,":",null,null,":",null,null,":",null,null,":",null,null,":",null,null,":",null,"",0,0,0,2,0,0,0,0,2,0,0,0,0,2,0,0,0,0,2,0,0,0,0,2,0,0,0,0,2,0,0,0,0,2,0,0,0,0,2,0,0,0,0,2,0,0,0,0,2,0,0,0,0,2,0,0,0,0,2,0,0,0,0,2,0,0,0,0,2,0,0,0,0,2,0,0,0,0,2,0,0,0,0,2,0,0,0,0,2,0,0,0,0,2,0,0,0,0,2,0,0,0,0,2,0,0,0,0,2,0,0,0,0,2,0,0,0,0,2,0,0,{"$f":"'Vorrunde 01-24'!HC48","v":0},0]
[null,null,null,null,null,null,null,null,null,null,null,null,null,null,{"$f":"IF('Vorrunde 01-24'!O49<>\"\",'Vorrunde 01-24'!O49,\"\")","v":""},null,":",null,null,":",null,null,":",null,null,":",null,null,":",null,null,":",null,null,":",null,null,":",null,null,":",null,null,":",null,null,":",null,null,":",null,null,":",null,null,":",null,null,":",null,null,":",null,null,":",null,null,":",null,null,":",null,null,":",null,null,":",null,null,":",null,null,":",null,null,":",null,"",0,0,0,2,0,0,0,0,2,0,0,0,0,2,0,0,0,0,2,0,0,0,0,2,0,0,0,0,2,0,0,0,0,2,0,0,0,0,2,0,0,0,0,2,0,0,0,0,2,0,0,0,0,2,0,0,0,0,2,0,0,0,0,2,0,0,0,0,2,0,0,0,0,2,0,0,0,0,2,0,0,0,0,2,0,0,0,0,2,0,0,0,0,2,0,0,0,0,2,0,0,0,0,2,0,0,0,0,2,0,0,0,0,2,0,0,0,0,2,0,0,{"$f":"'Vorrunde 01-24'!HC49","v":0},0]
[null,null,null,null,null,null,null,null,null,null,null,null,null,null,{"$f":"IF('Vorrunde 01-24'!O50<>\"\",'Vorrunde 01-24'!O50,\"\")","v":""},null,":",null,null,":",null,null,":",null,null,":",null,null,":",null,null,":",null,null,":",null,null,":",null,null,":",null,null,":",null,null,":",null,null,":",null,null,":",null,null,":",null,null,":",null,null,":",null,null,":",null,null,":",null,null,":",null,null,":",null,null,":",null,null,":",null,null,":",null,null,":",null,"",0,0,0,2,0,0,0,0,2,0,0,0,0,2,0,0,0,0,2,0,0,0,0,2,0,0,0,0,2,0,0,0,0,2,0,0,0,0,2,0,0,0,0,2,0,0,0,0,2,0,0,0,0,2,0,0,0,0,2,0,0,0,0,2,0,0,0,0,2,0,0,0,0,2,0,0,0,0,2,0,0,0,0,2,0,0,0,0,2,0,0,0,0,2,0,0,0,0,2,0,0,0,0,2,0,0,0,0,2,0,0,0,0,2,0,0,0,0,2,0,0,{"$f":"'Vorrunde 01-24'!HC50","v":0},0]
[null,null,null,null,null,null,null,null,null,null,null,null,null,null,{"$f":"IF('Vorrunde 01-24'!O51<>\"\",'Vorrunde 01-24'!O51,\"\")","v":""},null,":",null,null,":",null,null,":",null,null,":",null,null,":",null,null,":",null,null,":",null,null,":",null,null,":",null,null,":",null,null,":",null,null,":",null,null,":",null,null,":",null,null,":",null,null,":",null,null,":",null,null,":",null,null,":",null,null,":",null,null,":",null,null,":",null,null,":",null,null,":",null,"",0,0,0,2,0,0,0,0,2,0,0,0,0,2,0,0,0,0,2,0,0,0,0,2,0,0,0,0,2,0,0,0,0,2,0,0,0,0,2,0,0,0,0,2,0,0,0,0,2,0,0,0,0,2,0,0,0,0,2,0,0,0,0,2,0,0,0,0,2,0,0,0,0,2,0,0,0,0,2,0,0,0,0,2,0,0,0,0,2,0,0,0,0,2,0,0,0,0,2,0,0,0,0,2,0,0,0,0,2,0,0,0,0,2,0,0,0,0,2,0,0,{"$f":"'Vorrunde 01-24'!HC51","v":0},0]
[null,null,null,null,null,null,null,null,null,null,null,null,null,null,{"$f":"IF('Vorrunde 01-24'!O52<>\"\",'Vorrunde 01-24'!O52,\"\")","v":""},null,":",null,null,":",null,null,":",null,null,":",null,null,":",null,null,":",null,null,":",null,null,":",null,null,":",null,null,":",null,null,":",null,null,":",null,null,":",null,null,":",null,null,":",null,null,":",null,null,":",null,null,":",null,null,":",null,null,":",null,null,":",null,null,":",null,null,":",null,null,":",null,"",0,0,0,2,0,0,0,0,2,0,0,0,0,2,0,0,0,0,2,0,0,0,0,2,0,0,0,0,2,0,0,0,0,2,0,0,0,0,2,0,0,0,0,2,0,0,0,0,2,0,0,0,0,2,0,0,0,0,2,0,0,0,0,2,0,0,0,0,2,0,0,0,0,2,0,0,0,0,2,0,0,0,0,2,0,0,0,0,2,0,0,0,0,2,0,0,0,0,2,0,0,0,0,2,0,0,0,0,2,0,0,0,0,2,0,0,0,0,2,0,0,{"$f":"'Vorrunde 01-24'!HC52","v":0},0]
[null,null,null,null,null,null,null,null,null,null,null,null,null,null,{"$f":"IF('Vorrunde 01-24'!O53<>\"\",'Vorrunde 01-24'!O53,\"\")","v":""},null,":",null,null,":",null,null,":",null,null,":",null,null,":",null,null,":",null,null,":",null,null,":",null,null,":",null,null,":",null,null,":",null,null,":",null,null,":",null,null,":",null,null,":",null,null,":",null,null,":",null,null,":",null,null,":",null,null,":",null,null,":",null,null,":",null,null,":",null,null,":",null,"",0,0,0,2,0,0,0,0,2,0,0,0,0,2,0,0,0,0,2,0,0,0,0,2,0,0,0,0,2,0,0,0,0,2,0,0,0,0,2,0,0,0,0,2,0,0,0,0,2,0,0,0,0,2,0,0,0,0,2,0,0,0,0,2,0,0,0,0,2,0,0,0,0,2,0,0,0,0,2,0,0,0,0,2,0,0,0,0,2,0,0,0,0,2,0,0,0,0,2,0,0,0,0,2,0,0,0,0,2,0,0,0,0,2,0,0,0,0,2,0,0,{"$f":"'Vorrunde 01-24'!HC53","v":0},0]
[null,null,null,null,null,null,null,null,null,null,null,null,null,null,{"$f":"IF('Vorrunde 01-24'!O54<>\"\",'Vorrunde 01-24'!O54,\"\")","v":""},null,":",null,null,":",null,null,":",null,null,":",null,null,":",null,null,":",null,null,":",null,null,":",null,null,":",null,null,":",null,null,":",null,null,":",null,null,":",null,null,":",null,null,":",null,null,":",null,null,":",null,null,":",null,null,":",null,null,":",null,null,":",null,null,":",null,null,":",null,null,":",null,"",0,0,0,2,0,0,0,0,2,0,0,0,0,2,0,0,0,0,2,0,0,0,0,2,0,0,0,0,2,0,0,0,0,2,0,0,0,0,2,0,0,0,0,2,0,0,0,0,2,0,0,0,0,2,0,0,0,0,2,0,0,0,0,2,0,0,0,0,2,0,0,0,0,2,0,0,0,0,2,0,0,0,0,2,0,0,0,0,2,0,0,0,0,2,0,0,0,0,2,0,0,0,0,2,0,0,0,0,2,0,0,0,0,2,0,0,0,0,2,0,0,{"$f":"'Vorrunde 01-24'!HC54","v":0},0]
[null,null,null,null,null,null,null,null,null,null,null,null,null,null,{"$f":"IF('Vorrunde 01-24'!O55<>\"\",'Vorrunde 01-24'!O55,\"\")","v":""},null,":",null,null,":",null,null,":",null,null,":",null,null,":",null,null,":",null,null,":",null,null,":",null,null,":",null,null,":",null,null,":",null,null,":",null,null,":",null,null,":",null,null,":",null,null,":",null,null,":",null,null,":",null,null,":",null,null,":",null,null,":",null,null,":",null,null,":",null,null,":",null,"",0,0,0,2,0,0,0,0,2,0,0,0,0,2,0,0,0,0,2,0,0,0,0,2,0,0,0,0,2,0,0,0,0,2,0,0,0,0,2,0,0,0,0,2,0,0,0,0,2,0,0,0,0,2,0,0,0,0,2,0,0,0,0,2,0,0,0,0,2,0,0,0,0,2,0,0,0,0,2,0,0,0,0,2,0,0,0,0,2,0,0,0,0,2,0,0,0,0,2,0,0,0,0,2,0,0,0,0,2,0,0,0,0,2,0,0,0,0,2,0,0,{"$f":"'Vorrunde 01-24'!HC55","v":0},0]
[null,null,null,null,null,null,null,null,null,null,null,null,null,null,"Ergebnis",{"$f":"IF($H$2=\"\",\"-\",$H$2)","v":"-"},":",{"$f":"IF($J$2=\"\",\"-\",$J$2)","v":"-"},{"$f":"IF($H$3=\"\",\"-\",$H$3)","v":"-"},":",{"$f":"IF($J$3=\"\",\"-\",$J$3)","v":"-"},{"$f":"IF($H$4=\"\",\"-\",$H$4)","v":"-"},":",{"$f":"IF($J$4=\"\",\"-\",$J$4)","v":"-"},{"$f":"IF($H$5=\"\",\"-\",$H$5)","v":"-"},":",{"$f":"IF($J$5=\"\",\"-\",$J$5)","v":"-"},{"$f":"IF($H$6=\"\",\"-\",$H$6)","v":"-"},":",{"$f":"IF($J$6=\"\",\"-\",$J$6)","v":"-"},{"$f":"IF($H$7=\"\",\"-\",$H$7)","v":"-"},":",{"$f":"IF($J$7=\"\",\"-\",$J$7)","v":"-"},{"$f":"IF($H$8=\"\",\"-\",$H$8)","v":"-"},":",{"$f":"IF($J$8=\"\",\"-\",$J$8)","v":"-"},{"$f":"IF($H$9=\"\",\"-\",$H$9)","v":"-"},":",{"$f":"IF($J$9=\"\",\"-\",$J$9)","v":"-"},{"$f":"IF($H$10=\"\",\"-\",$H$10)","v":"-"},":",{"$f":"IF($J$10=\"\",\"-\",$J$10)","v":"-"},{"$f":"IF($H$11=\"\",\"-\",$H$11)","v":"-"},":",{"$f":"IF($J$11=\"\",\"-\",$J$11)","v":"-"},{"$f":"IF($H$12=\"\",\"-\",$H$12)","v":"-"},":",{"$f":"IF($J$12=\"\",\"-\",$J$12)","v":"-"},{"$f":"IF($H$13=\"\",\"-\",$H$13)","v":"-"},":",{"$f":"IF($J$13=\"\",\"-\",$J$13)","v":"-"},{"$f":"IF($H$14=\"\",\"-\",$H$14)","v":"-"},":",{"$f":"IF($J$14=\"\",\"-\",$J$14)","v":"-"},{"$f":"IF($H$15=\"\",\"-\",$H$15)","v":"-"},":",{"$f":"IF($J$15=\"\",\"-\",$J$15)","v":"-"},{"$f":"IF($H$16=\"\",\"-\",$H$16)","v":"-"},":",{"$f":"IF($J$16=\"\",\"-\",$J$16)","v":"-"},{"$f":"IF($H$17=\"\",\"-\",$H$17)","v":"-"},":",{"$f":"IF($J$17=\"\",\"-\",$J$17)","v":"-"},{"$f":"IF($H$18=\"\",\"-\",$H$18)","v":"-"},":",{"$f":"IF($J$18=\"\",\"-\",$J$18)","v":"-"},{"$f":"IF($H$19=\"\",\"-\",$H$19)","v":"-"},":",{"$f":"IF($J$19=\"\",\"-\",$J$19)","v":"-"},{"$f":"IF($H$20=\"\",\"-\",$H$20)","v":"-"},":",{"$f":"IF($J$20=\"\",\"-\",$J$20)","v":"-"},{"$f":"IF($H$21=\"\",\"-\",$H$21)","v":"-"},":",{"$f":"IF($J$21=\"\",\"-\",$J$21)","v":"-"},{"$f":"IF($H$22=\"\",\"-\",$H$22)","v":"-"},":",{"$f":"IF($J$22=\"\",\"-\",$J$22)","v":"-"},{"$f":"IF($H$23=\"\",\"-\",$H$23)","v":"-"},":",{"$f":"IF($J$23=\"\",\"-\",$J$23)","v":"-"},{"$f":"IF($H$24=\"\",\"-\",$H$24)","v":"-"},":",{"$f":"IF($J$24=\"\",\"-\",$J$24)","v":"-"},{"$f":"IF($H$25=\"\",\"-\",$H$25)","v":"-"},":",{"$f":"IF($J$25=\"\",\"-\",$J$25)","v":"-"},"VORRUNDE","Spiel 01",null,null,null,null,"Spiel 02",null,null,null,null,"Spiel 03",null,null,null,null,"Spiel 04",null,null,null,null,"Spiel 05",null,null,null,null,"Spiel 06",null,null,null,null,"Spiel 07",null,null,null,null,"Spiel 08",null,null,null,null,"Spiel 09",null,null,null,null,"Spiel 10",null,null,null,null,"Spiel 11",null,null,null,null,"Spiel 12",null,null,null,null,"Spiel 13",null,null,null,null,"Spiel 14",null,null,null,null,"Spiel 15",null,null,null,null,"Spiel 16",null,null,null,null,"Spiel 17",null,null,null,null,"Spiel 18",null,null,null,null,"Spiel 19",null,null,null,null,"Spiel 20",null,null,null,null,"Spiel 21",null,null,null,null,"Spiel 22",null,null,null,null,"Spiel 23",null,null,null,null,"Spiel 24"]
[null,null,null,null,null,null,null,null,null,null,null,null,null,null,"VORRUNDE",{"$f":"$B$2","v":46191.75},{"$f":"$K$2","v":"USA / Mercedes-Benz Stadium (Atlanta)"},"Gruppe  A",{"$f":"$B$3","v":46191.875},{"$f":"$K$3","v":"USA / SoFi Stadium (Los Angeles)"},"Gruppe  B",{"$f":"$B$4","v":46192},{"$f":"$K$4","v":"Kanada / BC Place Stadium (Vancouver)"},"Gruppe  B",{"$f":"$B$5","v":46192.125},{"$f":"$K$5","v":"Mexiko / Estadio Akron (Guadalajara)"},"Gruppe  A",{"$f":"$B$6","v":46192.875},{"$f":"$K$6","v":"USA / Lumen Field (Seattle)"},"Gruppe  D",{"$f":"$B$7","v":46193},{"$f":"$K$7","v":"USA / Gillette Stadium (Boston)"},"Gruppe  C",{"$f":"$B$8","v":46193.125},{"$f":"$K$8","v":"USA / Lincoln Financial Field (Philadelphia)"},"Gruppe  C",{"$f":"$B$9","v":46193.25},{"$f":"$K$9","v":"USA / Levi's Stadium (San Francisco Bay Area)"},"Gruppe  D",{"$f":"$B$10","v":46193.791666666664},{"$f":"$K$10","v":"USA / NRG Stadium (Houston)"},"Gruppe  F",{"$f":"$B$11","v":46193.916666666664},{"$f":"$K$11","v":"Kanada / BMO Field (Toronto)"},"Gruppe  E",{"$f":"$B$12","v":46194.083333333336},{"$f":"$K$12","v":"USA / Arrowhead Stadium (Kansas City)"},"Gruppe  E",{"$f":"$B$13","v":46194.25},{"$f":"$K$13","v":"Mexiko / Estadio BBVA (Monterrey)"},"Gruppe  F",{"$f":"$B$14","v":46194.75},{"$f":"$K$14","v":"USA / Mercedes-Benz Stadium (Atlanta)"},"Gruppe  H",{"$f":"$B$15","v":46194.875},{"$f":"$K$15","v":"USA / SoFi Stadium (Los Angeles)"},"Gruppe  G",{"$f":"$B$16","v":46195},{"$f":"$K$16","v":"USA / Hard Rock Stadium (Miami)"},"Gruppe  H",{"$f":"$B$17","v":46195.125},{"$f":"$K$17","v":"Kanada / BC Place Stadium (Vancouver)"},"Gruppe  G",{"$f":"$B$18","v":46195.791666666664},{"$f":"$K$18","v":"USA / AT&T Stadium (Dallas)"},"Gruppe  J",{"$f":"$B$19","v":46195.958333333336},{"$f":"$K$19","v":"USA / Lincoln Financial Field (Philadelphia)"},"Gruppe  I",{"$f":"$B$20","v":46196.083333333336},{"$f":"$K$20","v":"USA / MetLife Stadium (New York/New Jersey)"},"Gruppe  I",{"$f":"$B$21","v":46196.208333333336},{"$f":"$K$21","v":"USA / Levi's Stadium (San Francisco Bay Area)"},"Gruppe  J",{"$f":"$B$22","v":46196.791666666664},{"$f":"$K$22","v":"USA / NRG Stadium (Houston)"},"Gruppe  K",{"$f":"$B$23","v":46196.916666666664},{"$f":"$K$23","v":"USA / Gillette Stadium (Boston)"},"Gruppe  L",{"$f":"$B$24","v":46197.041666666664},{"$f":"$K$24","v":"Kanada / BMO Field (Toronto)"},"Gruppe  L",{"$f":"$B$25","v":46197.166666666664},{"$f":"$K$25","v":"Mexiko / Estadio Akron (Guadalajara)"},"Gruppe  K",null,null,null,null,null,null,null,null,null,null,null,null,null,null,null,null,null,null,null,null,null,null,null,null,null,null,null,null,null,null,null,null,null,null,null,null,null,null,null,null,null,null,null,null,null,null,null,null,null,null,null,null,null,null,null,null,null,null,null,null,null,null,null,null,null,null,null,null,null,null,null,null,null,null,null,null,null,null,null,null,null,null,null,null,null,null,null,null,null,null,null,null,null,null,null,null,null,null,null,null,null,null,null,null,null,null,null,null,null,null,null,null,null,null,null,null,null,null,null,null,null,"Stand vom :"]
[null,null,null,null,null,null,null,null,null,null,null,null,null,null,null,{"$f":"$A$2","v":"2026-06-18T18:00:00"},null,{"$f":"$C$2","v":46191.5},{"$f":"$A$3","v":"2026-06-18T21:00:00"},null,{"$f":"$C$3","v":46191.5},{"$f":"$A$4","v":"2026-06-19"},null,{"$f":"$C$4","v":46191.625},{"$f":"$A$5","v":"2026-06-19T03:00:00"},null,{"$f":"$C$5","v":46191.791666666664},{"$f":"$A$6","v":"2026-06-19T21:00:00"},null,{"$f":"$C$6","v":46192.5},{"$f":"$A$7","v":"2026-06-20"},null,{"$f":"$C$7","v":46192.75},{"$f":"$A$8","v":"2026-06-20T03:00:00"},null,{"$f":"$C$8","v":46192.875},{"$f":"$A$9","v":"2026-06-20T06:00:00"},null,{"$f":"$C$9","v":46192.875},{"$f":"$A$10","v":"2026-06-20T19:00:00"},null,{"$f":"$C$10","v":46193.5},{"$f":"$A$11","v":"2026-06-20T22:00:00"},null,{"$f":"$C$11","v":46193.666666666664},{"$f":"$A$12","v":"2026-06-21T02:00:00"},null,{"$f":"$C$12","v":46193.791666666664},{"$f":"$A$13","v":"2026-06-21T06:00:00"},null,{"$f":"$C$13","v":46193.916666666664},{"$f":"$A$14","v":"2026-06-21T18:00:00"},null,{"$f":"$C$14","v":46194.5},{"$f":"$A$15","v":"2026-06-21T21:00:00"},null,{"$f":"$C$15","v":46194.5},{"$f":"$A$16","v":"2026-06-22"},null,{"$f":"$C$16","v":46194.75},{"$f":"$A$17","v":"2026-06-22T03:00:00"},null,{"$f":"$C$17","v":46194.75},{"$f":"$A$18","v":"2026-06-22T19:00:00"},null,{"$f":"$C$18","v":46195.5},{"$f":"$A$19","v":"2026-06-22T23:00:00"},null,{"$f":"$C$19","v":46195.708333333336},{"$f":"$A$20","v":"2026-06-23T02:00:00"},null,{"$f":"$C$20","v":46195.833333333336},{"$f":"$A$21","v":"2026-06-23T05:00:00"},null,{"$f":"$C$21","v":46195.833333333336},{"$f":"$A$22","v":"2026-06-23T19:00:00"},null,{"$f":"$C$22","v":46196.5},{"$f":"$A$23","v":"2026-06-23T22:00:00"},null,{"$f":"$C$23","v":46196.666666666664},{"$f":"$A$24","v":"2026-06-24T01:00:00"},null,{"$f":"$C$24","v":46196.791666666664},{"$f":"$A$25","v":"2026-06-24T04:00:00"},null,{"$f":"$C$25","v":46196.833333333336},null,null,null,null,null,null,null,null,null,null,null,null,null,null,null,null,null,null,null,null,null,null,null,null,null,null,null,null,null,null,null,null,null,null,null,null,null,null,null,null,null,null,null,null,null,null,null,null,null,null,null,null,null,null,null,null,null,null,null,null,null,null,null,null,null,null,null,null,null,null,null,null,null,null,null,null,null,null,null,null,null,null,null,null,null,null,null,null,null,null,null,null,null,null,null,null,null,null,null,null,null,null,null,null,null,null,null,null,null,null,null,null,null,null,null,null,null,null,null,null,null,{"$f":"TODAY()","v":"2026-05-19"}]

{"sheet":"Vorrunde 49-72","index":2,"n_rows":58,"n_cols":211,"rows_kept":58,"cut":false,"hidden":false,"merged":[[56,208,56,210],[57,208,57,210],[56,70,57,70],[56,73,57,73],[56,76,57,76],[56,79,57,79],[56,82,57,82],[56,55,57,55],[56,58,57,58],[56,61,57,61],[56,64,57,64],[56,67,57,67],[55,198,57,202],[55,203,57,207],[55,193,57,197],[56,14,57,14],[56,16,57,16],[56,19,57,19],[56,22,57,22],[56,25,57,25],[56,28,57,28],[56,31,57,31],[56,34,57,34],[56,37,57,37],[56,40,57,40],[56,43,57,43],[56,46,57,46],[56,49,57,49],[56,52,57,52],[55,173,57,177],[55,178,57,182],[55,183,57,187],[55,188,57,192],[55,148,57,152],[55,153,57,157],[55,158,57,162],[55,163,57,167],[55,168,57,172],[56,85,57,85],[55,128,57,132],[55,133,57,137],[55,138,57,142],[55,143,57,147],[0,163,5,167],[0,168,5,172],[55,87,57,87],[55,88,57,92],[55,93,57,97],[55,98,57,102],[55,103,57,107],[55,108,57,112],[55,113,57,117],[55,118,57,122],[55,123,57,127],[0,113,5,117],[0,118,5,122],[0,123,5,127],[0,128,5,132],[1,208,5,208],[1,209,5,209],[1,210,5,210],[0,93,5,97],[0,98,5,102],[0,103,5,107],[1,84,5,84],[1,85,5,85],[1,86,5,86],[1,87,5,87],[0,173,5,177],[0,178,5,182],[0,133,5,137],[0,138,5,142],[0,143,5,147],[0,148,5,152],[0,153,5,157],[0,108,5,112],[0,183,5,187],[0,188,5,192],[0,193,5,197],[0,198,5,202],[0,203,5,207],[0,158,5,162],[1,66,5,66],[1,67,5,67],[1,68,5,68],[1,79,5,79],[1,80,5,80],[1,81,5,81],[1,82,5,82],[1,83,5,83],[1,74,5,74],[1,75,5,75],[1,76,5,76],[1,77,5,77],[1,78,5,78],[1,52,5,52],[1,53,5,53],[1,44,5,44],[1,45,5,45],[1,46,5,46],[1,47,5,47],[1,48,5,48],[1,64,5,64],[1,65,5,65],[1,43,5,43],[1,34,5,34],[1,35,5,35],[1,36,5,36],[1,37,5,37],[1,38,5,38],[1,49,5,49],[1,50,5,50],[1,51,5,51],[1,24,5,24],[1,25,5,25],[1,26,5,26],[1,27,5,27],[1,28,5,28],[1,39,5,39],[1,40,5,40],[1,41,5,41],[1,42,5,42],[0,78,0,80],[0,81,0,83],[0,54,0,56],[0,57,0,59],[0,60,0,62],[0,63,0,65],[0,66,0,68],[0,84,0,86],[0,88,5,92],[1,59,5,59],[1,60,5,60],[1,61,5,61],[1,62,5,62],[1,63,5,63],[1,54,5,54],[1,55,5,55],[1,56,5,56],[1,57,5,57],[1,58,5,58],[1,69,5,69],[1,70,5,70],[1,71,5,71],[1,72,5,72],[1,73,5,73],[0,51,0,53],[0,24,0,26],[0,27,0,29],[0,30,0,32],[0,33,0,35],[0,36,0,38],[0,69,0,71],[0,72,0,74],[0,75,0,77],[0,4,0,6],[0,7,0,9],[0,15,0,17],[0,18,0,20],[0,21,0,23],[0,39,0,41],[0,42,0,44],[0,45,0,47],[0,48,0,50],[0,14,5,14],[1,19,5,19],[1,20,5,20],[1,21,5,21],[1,22,5,22],[1,23,5,23],[1,15,5,15],[1,16,5,16],[1,17,5,17],[1,18,5,18],[1,29,5,29],[1,30,5,30],[1,31,5,31],[1,32,5,32],[1,33,5,33]]}
["Spiele 49-72   (chronologisch)","Anstoßzeit","Ortszeit","Spiel-Nr.","Spielpaarungen / Gruppen",null,null,"Ergebnis",null,null,"Austragungsort / Stadion","Vorrunde","Live-TV Übertragungsrechte"," - ","NAME","Spiel 49",null,null,"Spiel 50",null,null,"Spiel 51",null,null,"Spiel 52",null,null,"Spiel 53",null,null,"Spiel 54",null,null,"Spiel 55",null,null,"Spiel 56",null,null,"Spiel 57",null,null,"Spiel 58",null,null,"Spiel 59",null,null,"Spiel 60",null,null,"Spiel 61",null,null,"Spiel 62",null,null,"Spiel 63",null,null,"Spiel 64",null,null,"Spiel 65",null,null,"Spiel 66",null,null,"Spiel 67",null,null,"Spiel 68",null,null,"Spiel 69",null,null,"Spiel 70",null,null,"Spiel 71",null,null,"Spiel 72",null,null,null,{"$f":"$P$2&$N$1&$R$2","v":"Schweiz - Kanada"},null,null,null,null,{"$f":"$S$2&$N$1&$U$2","v":"Bosnien-Herzegowina - Katar"},null,null,null,null,{"$f":"$V$2&$N$1&$X$2","v":"Schottland - Brasilien"},null,null,null,null,{"$f":"$Y$2&$N$1&$AA$2","v":"Marokko - Haiti"},null,null,null,null,{"$f":"$AB$2&$N$1&$AD$2","v":"Tschechien - Mexiko"},null,null,null,null,{"$f":"$AE$2&$N$1&$AG$2","v":"Südafrika - Südkorea"},null,null,null,null,{"$f":"$AH$2&$N$1&$AJ$2","v":"Curaçao - Elfenbeinküste"},null,null,null,null,{"$f":"$AK$2&$N$1&$AM$2","v":"Ecuador - Deutschland"},null,null,null,null,{"$f":"$AN$2&$N$1&$AP$2","v":"Japan - Schweden"},null,null,null,null,{"$f":"$AQ$2&$N$1&$AS$2","v":"Tunesien - Niederlande"},null,null,null,null,{"$f":"$AT$2&$N$1&$AV$2","v":"Türkei - USA"},null,null,null,null,{"$f":"$AW$2&$N$1&$AY$2","v":"Paraguay - Australien"},null,null,null,null,{"$f":"$AZ$2&$N$1&$BB$2","v":"Norwegen - Frankreich"},null,null,null,null,{"$f":"$BC$2&$N$1&$BE$2","v":"Senegal - Irak"},null,null,null,null,{"$f":"$BF$2&$N$1&$BH$2","v":"Kap Verde - Saudi-Arabien"},null,null,null,null,{"$f":"$BI$2&$N$1&$BK$2","v":"Uruguay - Spanien"},null,null,null,null,{"$f":"$BL$2&$N$1&$BN$2","v":"Ägypten - Iran"},null,null,null,null,{"$f":"$BO$2&$N$1&$BQ$2","v":"Neuseeland - Belgien"},null,null,null,null,{"$f":"$BR$2&$N$1&$BT$2","v":"Panama - England"},null,null,null,null,{"$f":"$BU$2&$N$1&$BW$2","v":"Kroatien - Ghana"},null,null,null,null,{"$f":"$BX$2&$N$1&$BZ$2","v":"Kolumbien - Portugal"},null,null,null,null,{"$f":"$CA$2&$N$1&$CC$2","v":"DR Kongo - Usbekistan"},null,null,null,null,{"$f":"$CD$2&$N$1&$CF$2","v":"Algerien - Österreich"},null,null,null,null,{"$f":"$CG$2&$N$1&$CI$2","v":"Jordanien - Argentinien"},null,null,null,null,"PUNKTE","PUNKTE","PUNKTE"]
["2026-06-24T21:00:00",46197.875,"2026-06-24T12:00:00",51,"Schweiz (B4)","-","Kanada (B1)",null,":",null,"Kanada / BC Place Stadium (Vancouver)","3. Gruppenspiel","ARD 1 Spiel Gr. B und MagentaTV",{"$f":"IF($J2<>\"\",1,0)","v":0},null,{"$f":"LEFT($E$2, LEN($E$2) - LEN(TRIM(RIGHT(SUBSTITUTE(TRIM($E$2), \" \", REPT(\" \", 100)), 100))) - 1)","v":"Schweiz"},"gegen",{"$f":"LEFT($G$2, LEN($G$2) - LEN(TRIM(RIGHT(SUBSTITUTE(TRIM($G$2), \" \", REPT(\" \", 100)), 100))) - 1)","v":"Kanada"},{"$f":"LEFT($E$3, LEN($E$3) - LEN(TRIM(RIGHT(SUBSTITUTE(TRIM($E$3), \" \", REPT(\" \", 100)), 100))) - 1)","v":"Bosnien-Herzegowina"},"gegen",{"$f":"LEFT($G$3, LEN($G$3) - LEN(TRIM(RIGHT(SUBSTITUTE(TRIM($G$3), \" \", REPT(\" \", 100)), 100))) - 1)","v":"Katar"},{"$f":"LEFT($E$4, LEN($E$4) - LEN(TRIM(RIGHT(SUBSTITUTE(TRIM($E$4), \" \", REPT(\" \", 100)), 100))) - 1)","v":"Schottland"},"gegen",{"$f":"LEFT($G$4, LEN($G$4) - LEN(TRIM(RIGHT(SUBSTITUTE(TRIM($G$4), \" \", REPT(\" \", 100)), 100))) - 1)","v":"Brasilien"},{"$f":"LEFT($E$5, LEN($E$5) - LEN(TRIM(RIGHT(SUBSTITUTE(TRIM($E$5), \" \", REPT(\" \", 100)), 100))) - 1)","v":"Marokko"},"gegen",{"$f":"LEFT($G$5, LEN($G$5) - LEN(TRIM(RIGHT(SUBSTITUTE(TRIM($G$5), \" \", REPT(\" \", 100)), 100))) - 1)","v":"Haiti"},{"$f":"LEFT($E$6, LEN($E$6) - LEN(TRIM(RIGHT(SUBSTITUTE(TRIM($E$6), \" \", REPT(\" \", 100)), 100))) - 1)","v":"Tschechien"},"gegen",{"$f":"LEFT($G$6, LEN($G$6) - LEN(TRIM(RIGHT(SUBSTITUTE(TRIM($G$6), \" \", REPT(\" \", 100)), 100))) - 1)","v":"Mexiko"},{"$f":"LEFT($E$7, LEN($E$7) - LEN(TRIM(RIGHT(SUBSTITUTE(TRIM($E$7), \" \", REPT(\" \", 100)), 100))) - 1)","v":"Südafrika"},"gegen",{"$f":"LEFT($G$7, LEN($G$7) - LEN(TRIM(RIGHT(SUBSTITUTE(TRIM($G$7), \" \", REPT(\" \", 100)), 100))) - 1)","v":"Südkorea"},{"$f":"LEFT($E$8, LEN($E$8) - LEN(TRIM(RIGHT(SUBSTITUTE(TRIM($E$8), \" \", REPT(\" \", 100)), 100))) - 1)","v":"Curaçao"},"gegen",{"$f":"LEFT($G$8, LEN($G$8) - LEN(TRIM(RIGHT(SUBSTITUTE(TRIM($G$8), \" \", REPT(\" \", 100)), 100))) - 1)","v":"Elfenbeinküste"},{"$f":"LEFT($E$9, LEN($E$9) - LEN(TRIM(RIGHT(SUBSTITUTE(TRIM($E$9), \" \", REPT(\" \", 100)), 100))) - 1)","v":"Ecuador"},"gegen",{"$f":"LEFT($G$9, LEN($G$9) - LEN(TRIM(RIGHT(SUBSTITUTE(TRIM($G$9), \" \", REPT(\" \", 100)), 100))) - 1)","v":"Deutschland"},{"$f":"LEFT($E$10, LEN($E$10) - LEN(TRIM(RIGHT(SUBSTITUTE(TRIM($E$10), \" \", REPT(\" \", 100)), 100))) - 1)","v":"Japan"},"gegen",{"$f":"LEFT($G$10, LEN($G$10) - LEN(TRIM(RIGHT(SUBSTITUTE(TRIM($G$10), \" \", REPT(\" \", 100)), 100))) - 1)","v":"Schweden"},{"$f":"LEFT($E$11, LEN($E$11) - LEN(TRIM(RIGHT(SUBSTITUTE(TRIM($E$11), \" \", REPT(\" \", 100)), 100))) - 1)","v":"Tunesien"},"gegen",{"$f":"LEFT($G$11, LEN($G$11) - LEN(TRIM(RIGHT(SUBSTITUTE(TRIM($G$11), \" \", REPT(\" \", 100)), 100))) - 1)","v":"Niederlande"},{"$f":"LEFT($E$12, LEN($E$12) - LEN(TRIM(RIGHT(SUBSTITUTE(TRIM($E$12), \" \", REPT(\" \", 100)), 100))) - 1)","v":"Türkei"},"gegen",{"$f":"LEFT($G$12, LEN($G$12) - LEN(TRIM(RIGHT(SUBSTITUTE(TRIM($G$12), \" \", REPT(\" \", 100)), 100))) - 1)","v":"USA"},{"$f":"LEFT($E$13, LEN($E$13) - LEN(TRIM(RIGHT(SUBSTITUTE(TRIM($E$13), \" \", REPT(\" \", 100)), 100))) - 1)","v":"Paraguay"},"gegen",{"$f":"LEFT($G$13, LEN($G$13) - LEN(TRIM(RIGHT(SUBSTITUTE(TRIM($G$13), \" \", REPT(\" \", 100)), 100))) - 1)","v":"Australien"},{"$f":"LEFT($E$14, LEN($E$14) - LEN(TRIM(RIGHT(SUBSTITUTE(TRIM($E$14), \" \", REPT(\" \", 100)), 100))) - 1)","v":"Norwegen"},"gegen",{"$f":"LEFT($G$14, LEN($G$14) - LEN(TRIM(RIGHT(SUBSTITUTE(TRIM($G$14), \" \", REPT(\" \", 100)), 100))) - 1)","v":"Frankreich"},{"$f":"LEFT($E$15, LEN($E$15) - LEN(TRIM(RIGHT(SUBSTITUTE(TRIM($E$15), \" \", REPT(\" \", 100)), 100))) - 1)","v":"Senegal"},"gegen",{"$f":"LEFT($G$15, LEN($G$15) - LEN(TRIM(RIGHT(SUBSTITUTE(TRIM($G$15), \" \", REPT(\" \", 100)), 100))) - 1)","v":"Irak"},{"$f":"LEFT($E$16, LEN($E$16) - LEN(TRIM(RIGHT(SUBSTITUTE(TRIM($E$16), \" \", REPT(\" \", 100)), 100))) - 1)","v":"Kap Verde"},"gegen",{"$f":"LEFT($G$16, LEN($G$16) - LEN(TRIM(RIGHT(SUBSTITUTE(TRIM($G$16), \" \", REPT(\" \", 100)), 100))) - 1)","v":"Saudi-Arabien"},{"$f":"LEFT($E$17, LEN($E$17) - LEN(TRIM(RIGHT(SUBSTITUTE(TRIM($E$17), \" \", REPT(\" \", 100)), 100))) - 1)","v":"Uruguay"},"gegen",{"$f":"LEFT($G$17, LEN($G$17) - LEN(TRIM(RIGHT(SUBSTITUTE(TRIM($G$17), \" \", REPT(\" \", 100)), 100))) - 1)","v":"Spanien"},{"$f":"LEFT($E$18, LEN($E$18) - LEN(TRIM(RIGHT(SUBSTITUTE(TRIM($E$18), \" \", REPT(\" \", 100)), 100))) - 1)","v":"Ägypten"},"gegen",{"$f":"LEFT($G$18, LEN($G$18) - LEN(TRIM(RIGHT(SUBSTITUTE(TRIM($G$18), \" \", REPT(\" \", 100)), 100))) - 1)","v":"Iran"},{"$f":"LEFT($E$19, LEN($E$19) - LEN(TRIM(RIGHT(SUBSTITUTE(TRIM($E$19), \" \", REPT(\" \", 100)), 100))) - 1)","v":"Neuseeland"},"gegen",{"$f":"LEFT($G$19, LEN($G$19) - LEN(TRIM(RIGHT(SUBSTITUTE(TRIM($G$19), \" \", REPT(\" \", 100)), 100))) - 1)","v":"Belgien"},{"$f":"LEFT($E$20, LEN($E$20) - LEN(TRIM(RIGHT(SUBSTITUTE(TRIM($E$20), \" \", REPT(\" \", 100)), 100))) - 1)","v":"Panama"},"gegen",{"$f":"LEFT($G$20, LEN($G$20) - LEN(TRIM(RIGHT(SUBSTITUTE(TRIM($G$20), \" \", REPT(\" \", 100)), 100))) - 1)","v":"England"},{"$f":"LEFT($E$21, LEN($E$21) - LEN(TRIM(RIGHT(SUBSTITUTE(TRIM($E$21), \" \", REPT(\" \", 100)), 100))) - 1)","v":"Kroatien"},"gegen",{"$f":"LEFT($G$21, LEN($G$21) - LEN(TRIM(RIGHT(SUBSTITUTE(TRIM($G$21), \" \", REPT(\" \", 100)), 100))) - 1)","v":"Ghana"},{"$f":"LEFT($E$22, LEN($E$22) - LEN(TRIM(RIGHT(SUBSTITUTE(TRIM($E$22), \" \", REPT(\" \", 100)), 100))) - 1)","v":"Kolumbien"},"gegen",{"$f":"LEFT($G$22, LEN($G$22) - LEN(TRIM(RIGHT(SUBSTITUTE(TRIM($G$22), \" \", REPT(\" \", 100)), 100))) - 1)","v":"Portugal"},{"$f":"LEFT($E$23, LEN($E$23) - LEN(TRIM(RIGHT(SUBSTITUTE(TRIM($E$23), \" \", REPT(\" \", 100)), 100))) - 1)","v":"DR Kongo"},"gegen",{"$f":"LEFT($G$23, LEN($G$23) - LEN(TRIM(RIGHT(SUBSTITUTE(TRIM($G$23), \" \", REPT(\" \", 100)), 100))) - 1)","v":"Usbekistan"},{"$f":"LEFT($E$24, LEN($E$24) - LEN(TRIM(RIGHT(SUBSTITUTE(TRIM($E$24), \" \", REPT(\" \", 100)), 100))) - 1)","v":"Algerien"},"gegen",{"$f":"LEFT($G$24, LEN($G$24) - LEN(TRIM(RIGHT(SUBSTITUTE(TRIM($G$24), \" \", REPT(\" \", 100)), 100))) - 1)","v":"Österreich"},{"$f":"LEFT($E$25, LEN($E$25) - LEN(TRIM(RIGHT(SUBSTITUTE(TRIM($E$25), \" \", REPT(\" \", 100)), 100))) - 1)","v":"Jordanien"},"gegen",{"$f":"LEFT($G$25, LEN($G$25) - LEN(TRIM(RIGHT(SUBSTITUTE(TRIM($G$25), \" \", REPT(\" \", 100)), 100))) - 1)","v":"Argentinien"},"NAME",null,null,null,null,null,null,null,null,null,null,null,null,null,null,null,null,null,null,null,null,null,null,null,null,null,null,null,null,null,null,null,null,null,null,null,null,null,null,null,null,null,null,null,null,null,null,null,null,null,null,null,null,null,null,null,null,null,null,null,null,null,null,null,null,null,null,null,null,null,null,null,null,null,null,null,null,null,null,null,null,null,null,null,null,null,null,null,null,null,null,null,null,null,null,null,null,null,null,null,null,null,null,null,null,null,null,null,null,null,null,null,null,null,null,null,null,null,null,null,null,"Summe","Übertrag","GESAMT"]
["2026-06-24T21:00:00",46197.875,"2026-06-24T12:00:00",52,"Bosnien-Herzegowina (B2)","-","Katar (B3)",null,":",null,"USA / Lumen Field (Seattle)","3. Gruppenspiel","ARD 1 Spiel Gr. B und MagentaTV",{"$f":"IF($J3<>\"\",1,0)","v":0}]
["2026-06-25",46198,"2026-06-24T18:00:00",49,"Schottland (C4)","-","Brasilien (C1)",null,":",null,"USA / Hard Rock Stadium (Miami)","3. Gruppenspiel","MagentaTV (Telekom) exklusiv",0]
["2026-06-25",46198,"2026-06-24T18:00:00",50,"Marokko (C2)","-","Haiti (C3)",null,":",null,"USA / Mercedes-Benz Stadium (Atlanta)","3. Gruppenspiel","ZDF und MagentaTV",0]
["2026-06-25T03:00:00",46198.125,"2026-06-24T19:00:00",53,"Tschechien (A4)","-","Mexiko (A1)",null,":",null,"Mexiko / Azteca (Mexico City)","3. Gruppenspiel","MagentaTV (Telekom) exklusiv",0]
["2026-06-25T03:00:00",46198.125,"2026-06-24T19:00:00",54,"Südafrika (A2)","-","Südkorea (A3)",null,":",null,"Mexiko / Estadio BBVA (Monterrey)","3. Gruppenspiel","MagentaTV (Telekom) exklusiv",0,{"$f":"IF('Vorrunde 01-24'!O7<>\"\",'Vorrunde 01-24'!O7,\"\")","v":""},null,":",null,null,":",null,null,":",null,null,":",null,null,":",null,null,":",null,null,":",null,null,":",null,null,":",null,null,":",null,null,":",null,null,":",null,null,":",null,null,":",null,null,":",null,null,":",null,null,":",null,null,":",null,null,":",null,null,":",null,null,":",null,null,":",null,null,":",null,null,":",null,{"$f":"IF($O7<>\"\",$O7,\"\")","v":""},{"$f":"IF(AND($P7=$P$56,$R7=$R$56),3,0)","v":0},{"$f":"IF(AND($P7>$R7,$P$56>$R$56),2,0)","v":0},{"$f":"IF(AND($P7<$R7,$P$56<$R$56),2,0)","v":0},{"$f":"IF(AND($P7=$R7,$P$56=$R$56),2,0)","v":2},{"$f":"IF($R$56=\"-\",0,MAX(CK7:CN7))","v":0},{"$f":"IF(AND($S7=$S$56,$U7=$U$56),3,0)","v":0},{"$f":"IF(AND($S7>$U7,$S$56>$U$56),2,0)","v":0},{"$f":"IF(AND($S7<$U7,$S$56<$U$56),2,0)","v":0},{"$f":"IF(AND($S7=$U7,$S$56=$U$56),2,0)","v":2},{"$f":"IF($U$56=\"-\",0,MAX(CP7:CS7))","v":0},{"$f":"IF(AND($V7=$V$56,$X7=$X$56),3,0)","v":0},{"$f":"IF(AND($V7>$X7,$V$56>$X$56),2,0)","v":0},{"$f":"IF(AND($V7<$X7,$V$56<$X$56),2,0)","v":0},{"$f":"IF(AND($V7=$X7,$V$56=$X$56),2,0)","v":2},{"$f":"IF($X$56=\"-\",0,MAX(CU7:CX7))","v":0},{"$f":"IF(AND($Y7=$Y$56,$AA7=$AA$56),3,0)","v":0},{"$f":"IF(AND($Y7>$AA7,$Y$56>$AA$56),2,0)","v":0},{"$f":"IF(AND($Y7<$AA7,$Y$56<$AA$56),2,0)","v":0},{"$f":"IF(AND($Y7=$AA7,$Y$56=$AA$56),2,0)","v":2},{"$f":"IF($AA$56=\"-\",0,MAX(CZ7:DC7))","v":0},{"$f":"IF(AND($AB7=$AB$56,$AD7=$AD$56),3,0)","v":0},{"$f":"IF(AND($AB7>$AD7,$AB$56>$AD$56),2,0)","v":0},{"$f":"IF(AND($AB7<$AD7,$AB$56<$AD$56),2,0)","v":0},{"$f":"IF(AND($AB7=$AD7,$AB$56=$AD$56),2,0)","v":2},{"$f":"IF($AD$56=\"-\",0,MAX(DE7:DH7))","v":0},{"$f":"IF(AND($AE7=$AE$56,$AG7=$AG$56),3,0)","v":0},{"$f":"IF(AND($AE7>$AG7,$AE$56>$AG$56),2,0)","v":0},{"$f":"IF(AND($AE7<$AG7,$AE$56<$AG$56),2,0)","v":0},{"$f":"IF(AND($AE7=$AG7,$AE$56=$AG$56),2,0)","v":2},{"$f":"IF($AG$56=\"-\",0,MAX(DJ7:DM7))","v":0},{"$f":"IF(AND($AH7=$AH$56,$AJ7=$AJ$56),3,0)","v":0},{"$f":"IF(AND($AH7>$AJ7,$AH$56>$AJ$56),2,0)","v":0},{"$f":"IF(AND($AH7<$AJ7,$AH$56<$AJ$56),2,0)","v":0},{"$f":"IF(AND($AH7=$AJ7,$AH$56=$AJ$56),2,0)","v":2},{"$f":"IF($AJ$56=\"-\",0,MAX(DO7:DR7))","v":0},{"$f":"IF(AND($AK7=$AK$56,$AM7=$AM$56),3,0)","v":0},{"$f":"IF(AND($AK7>$AM7,$AK$56>$AM$56),2,0)","v":0},{"$f":"IF(AND($AK7<$AM7,$AK$56<$AM$56),2,0)","v":0},{"$f":"IF(AND($AK7=$AM7,$AK$56=$AM$56),2,0)","v":2},{"$f":"IF($AM$56=\"-\",0,MAX(DT7:DW7))","v":0},{"$f":"IF(AND($AN7=$AN$56,$AP7=$AP$56),3,0)","v":0},{"$f":"IF(AND($AN7>$AP7,$AN$56>$AP$56),2,0)","v":0},{"$f":"IF(AND($AN7<$AP7,$AN$56<$AP$56),2,0)","v":0},{"$f":"IF(AND($AN7=$AP7,$AN$56=$AP$56),2,0)","v":2},{"$f":"IF($AP$56=\"-\",0,MAX(DY7:EB7))","v":0},{"$f":"IF(AND($AQ7=$AQ$56,$AS7=$AS$56),3,0)","v":0},{"$f":"IF(AND($AQ7>$AS7,$AQ$56>$AS$56),2,0)","v":0},{"$f":"IF(AND($AQ7<$AS7,$AQ$56<$AS$56),2,0)","v":0},{"$f":"IF(AND($AQ7=$AS7,$AQ$56=$AS$56),2,0)","v":2},{"$f":"IF($AS$56=\"-\",0,MAX(ED7:EG7))","v":0},{"$f":"IF(AND($AT7=$AT$56,$AV7=$AV$56),3,0)","v":0},{"$f":"IF(AND($AT7>$AV7,$AT$56>$AV$56),2,0)","v":0},{"$f":"IF(AND($AT7<$AV7,$AT$56<$AV$56),2,0)","v":0},{"$f":"IF(AND($AT7=$AV7,$AT$56=$AV$56),2,0)","v":2},{"$f":"IF($AV$56=\"-\",0,MAX(EI7:EL7))","v":0},{"$f":"IF(AND($AW7=$AW$56,$AY7=$AY$56),3,0)","v":0},{"$f":"IF(AND($AW7>$AY7,$AW$56>$AY$56),2,0)","v":0},{"$f":"IF(AND($AW7<$AY7,$AW$56<$AY$56),2,0)","v":0},{"$f":"IF(AND($AW7=$AY7,$AW$56=$AY$56),2,0)","v":2},{"$f":"IF($AY$56=\"-\",0,MAX(EN7:EQ7))","v":0},{"$f":"IF(AND($AZ7=$AZ$56,$BB7=$BB$56),3,0)","v":0},{"$f":"IF(AND($AZ7>$BB7,$AZ$56>$BB$56),2,0)","v":0},{"$f":"IF(AND($AZ7<$BB7,$AZ$56<$BB$56),2,0)","v":0},{"$f":"IF(AND($AZ7=$BB7,$AZ$56=$BB$56),2,0)","v":2},{"$f":"IF($BB$56=\"-\",0,MAX(ES7:EV7))","v":0},{"$f":"IF(AND($BC7=$BC$56,$BE7=$BE$56),3,0)","v":0},{"$f":"IF(AND($BC7>$BE7,$BC$56>$BE$56),2,0)","v":0},{"$f":"IF(AND($BC7<$BE7,$BC$56<$BE$56),2,0)","v":0},{"$f":"IF(AND($BC7=$BE7,$BC$56=$BE$56),2,0)","v":2},{"$f":"IF($BE$56=\"-\",0,MAX(EX7:FA7))","v":0},{"$f":"IF(AND($BF7=$BF$56,$BH7=$BH$56),3,0)","v":0},{"$f":"IF(AND($BF7>$BH7,$BF$56>$BH$56),2,0)","v":0},{"$f":"IF(AND($BF7<$BH7,$BF$56<$BH$56),2,0)","v":0},{"$f":"IF(AND($BF7=$BH7,$BF$56=$BH$56),2,0)","v":2},{"$f":"IF($BH$56=\"-\",0,MAX(FC7:FF7))","v":0},{"$f":"IF(AND($BI7=$BI$56,$BK7=$BK$56),3,0)","v":0},{"$f":"IF(AND($BI7>$BK7,$BI$56>$BK$56),2,0)","v":0},{"$f":"IF(AND($BI7<$BK7,$BI$56<$BK$56),2,0)","v":0},{"$f":"IF(AND($BI7=$BK7,$BI$56=$BK$56),2,0)","v":2},{"$f":"IF($BK$56=\"-\",0,MAX(FH7:FK7))","v":0},{"$f":"IF(AND($BL7=$BL$56,$BN7=$BN$56),3,0)","v":0},{"$f":"IF(AND($BL7>$BN7,$BL$56>$BN$56),2,0)","v":0},{"$f":"IF(AND($BL7<$BN7,$BL$56<$BN$56),2,0)","v":0},{"$f":"IF(AND($BL7=$BN7,$BL$56=$BN$56),2,0)","v":2},{"$f":"IF($BN$56=\"-\",0,MAX(FM7:FP7))","v":0},{"$f":"IF(AND($BO7=$BO$56,$BQ7=$BQ$56),3,0)","v":0},{"$f":"IF(AND($BO7>$BQ7,$BO$56>$BQ$56),2,0)","v":0},{"$f":"IF(AND($BO7<$BQ7,$BO$56<$BQ$56),2,0)","v":0},{"$f":"IF(AND($BO7=$BQ7,$BO$56=$BQ$56),2,0)","v":2},{"$f":"IF($BQ$56=\"-\",0,MAX(FR7:FU7))","v":0},{"$f":"IF(AND($BR7=$BR$56,$BT7=$BT$56),3,0)","v":0},{"$f":"IF(AND($BR7>$BT7,$BR$56>$BT$56),2,0)","v":0},{"$f":"IF(AND($BR7<$BT7,$BR$56<$BT$56),2,0)","v":0},{"$f":"IF(AND($BR7=$BT7,$BR$56=$BT$56),2,0)","v":2},{"$f":"IF($BT$56=\"-\",0,MAX(FW7:FZ7))","v":0},{"$f":"IF(AND($BU7=$BU$56,$BW7=$BW$56),3,0)","v":0},{"$f":"IF(AND($BU7>$BW7,$BU$56>$BW$56),2,0)","v":0},{"$f":"IF(AND($BU7<$BW7,$BU$56<$BW$56),2,0)","v":0},{"$f":"IF(AND($BU7=$BW7,$BU$56=$BW$56),2,0)","v":2},{"$f":"IF($BW$56=\"-\",0,MAX(GB7:GE7))","v":0},{"$f":"IF(AND($BX7=$BX$56,$BZ7=$BZ$56),3,0)","v":0},{"$f":"IF(AND($BX7>$BZ7,$BX$56>$BZ$56),2,0)","v":0},{"$f":"IF(AND($BX7<$BZ7,$BX$56<$BZ$56),2,0)","v":0},{"$f":"IF(AND($BX7=$BZ7,$BX$56=$BZ$56),2,0)","v":2},{"$f":"IF($BZ$56=\"-\",0,MAX(GG7:GJ7))","v":0},{"$f":"IF(AND($CA7=$CA$56,$CC7=$CC$56),3,0)","v":0},{"$f":"IF(AND($CA7>$CC7,$CA$56>$CC$56),2,0)","v":0},{"$f":"IF(AND($CA7<$CC7,$CA$56<$CC$56),2,0)","v":0},{"$f":"IF(AND($CA7=$CC7,$CA$56=$CC$56),2,0)","v":2},{"$f":"IF($CC$56=\"-\",0,MAX(GL7:GO7))","v":0},{"$f":"IF(AND($CD7=$CD$56,$CF7=$CF$56),3,0)","v":0},{"$f":"IF(AND($CD7>$CF7,$CD$56>$CF$56),2,0)","v":0},{"$f":"IF(AND($CD7<$CF7,$CD$56<$CF$56),2,0)","v":0},{"$f":"IF(AND($CD7=$CF7,$CD$56=$CF$56),2,0)","v":2},{"$f":"IF($CF$56=\"-\",0,MAX(GQ7:GT7))","v":0},{"$f":"IF(AND($CG7=$CG$56,$CI7=$CI$56),3,0)","v":0},{"$f":"IF(AND($CG7>$CI7,$CG$56>$CI$56),2,0)","v":0},{"$f":"IF(AND($CG7<$CI7,$CG$56<$CI$56),2,0)","v":0},{"$f":"IF(AND($CG7=$CI7,$CG$56=$CI$56),2,0)","v":2},{"$f":"IF($CI$56=\"-\",0,MAX(GV7:GY7))","v":0},{"$f":"SUM(CO7,CT7,CY7,DD7,DI7,DN7,DS7,DX7,EC7,EH7,EM7,ER7,EW7,FB7,FG7,FL7,FQ7,FV7,GA7,GF7,GK7,GP7,GU7,GZ7)","v":0},{"$f":"'Vorrunde 25-48'!HC7","v":0},{"$f":"SUM(HA7:HB7)","v":0}]
["2026-06-25T22:00:00",46198.916666666664,"2026-06-25T16:00:00",55,"Curaçao (E2)","-","Elfenbeinküste (E3)",null,":",null,"USA / Lincoln Financial Field (Philadelphia)","3. Gruppenspiel","MagentaTV (Telekom) exklusiv",0,{"$f":"IF('Vorrunde 01-24'!O8<>\"\",'Vorrunde 01-24'!O8,\"\")","v":""},null,":",null,null,":",null,null,":",null,null,":",null,null,":",null,null,":",null,null,":",null,null,":",null,null,":",null,null,":",null,null,":",null,null,":",null,null,":",null,null,":",null,null,":",null,null,":",null,null,":",null,null,":",null,null,":",null,null,":",null,null,":",null,null,":",null,null,":",null,null,":",null,{"$f":"IF($O8<>\"\",$O8,\"\")","v":""},{"$f":"IF(AND($P8=$P$56,$R8=$R$56),3,0)","v":0},{"$f":"IF(AND($P8>$R8,$P$56>$R$56),2,0)","v":0},{"$f":"IF(AND($P8<$R8,$P$56<$R$56),2,0)","v":0},{"$f":"IF(AND($P8=$R8,$P$56=$R$56),2,0)","v":2},{"$f":"IF($R$56=\"-\",0,MAX(CK8:CN8))","v":0},{"$f":"IF(AND($S8=$S$56,$U8=$U$56),3,0)","v":0},{"$f":"IF(AND($S8>$U8,$S$56>$U$56),2,0)","v":0},{"$f":"IF(AND($S8<$U8,$S$56<$U$56),2,0)","v":0},{"$f":"IF(AND($S8=$U8,$S$56=$U$56),2,0)","v":2},{"$f":"IF($U$56=\"-\",0,MAX(CP8:CS8))","v":0},{"$f":"IF(AND($V8=$V$56,$X8=$X$56),3,0)","v":0},{"$f":"IF(AND($V8>$X8,$V$56>$X$56),2,0)","v":0},{"$f":"IF(AND($V8<$X8,$V$56<$X$56),2,0)","v":0},{"$f":"IF(AND($V8=$X8,$V$56=$X$56),2,0)","v":2},{"$f":"IF($X$56=\"-\",0,MAX(CU8:CX8))","v":0},{"$f":"IF(AND($Y8=$Y$56,$AA8=$AA$56),3,0)","v":0},{"$f":"IF(AND($Y8>$AA8,$Y$56>$AA$56),2,0)","v":0},{"$f":"IF(AND($Y8<$AA8,$Y$56<$AA$56),2,0)","v":0},{"$f":"IF(AND($Y8=$AA8,$Y$56=$AA$56),2,0)","v":2},{"$f":"IF($AA$56=\"-\",0,MAX(CZ8:DC8))","v":0},{"$f":"IF(AND($AB8=$AB$56,$AD8=$AD$56),3,0)","v":0},{"$f":"IF(AND($AB8>$AD8,$AB$56>$AD$56),2,0)","v":0},{"$f":"IF(AND($AB8<$AD8,$AB$56<$AD$56),2,0)","v":0},{"$f":"IF(AND($AB8=$AD8,$AB$56=$AD$56),2,0)","v":2},{"$f":"IF($AD$56=\"-\",0,MAX(DE8:DH8))","v":0},{"$f":"IF(AND($AE8=$AE$56,$AG8=$AG$56),3,0)","v":0},{"$f":"IF(AND($AE8>$AG8,$AE$56>$AG$56),2,0)","v":0},{"$f":"IF(AND($AE8<$AG8,$AE$56<$AG$56),2,0)","v":0},{"$f":"IF(AND($AE8=$AG8,$AE$56=$AG$56),2,0)","v":2},{"$f":"IF($AG$56=\"-\",0,MAX(DJ8:DM8))","v":0},{"$f":"IF(AND($AH8=$AH$56,$AJ8=$AJ$56),3,0)","v":0},{"$f":"IF(AND($AH8>$AJ8,$AH$56>$AJ$56),2,0)","v":0},{"$f":"IF(AND($AH8<$AJ8,$AH$56<$AJ$56),2,0)","v":0},{"$f":"IF(AND($AH8=$AJ8,$AH$56=$AJ$56),2,0)","v":2},{"$f":"IF($AJ$56=\"-\",0,MAX(DO8:DR8))","v":0},{"$f":"IF(AND($AK8=$AK$56,$AM8=$AM$56),3,0)","v":0},{"$f":"IF(AND($AK8>$AM8,$AK$56>$AM$56),2,0)","v":0},{"$f":"IF(AND($AK8<$AM8,$AK$56<$AM$56),2,0)","v":0},{"$f":"IF(AND($AK8=$AM8,$AK$56=$AM$56),2,0)","v":2},{"$f":"IF($AM$56=\"-\",0,MAX(DT8:DW8))","v":0},{"$f":"IF(AND($AN8=$AN$56,$AP8=$AP$56),3,0)","v":0},{"$f":"IF(AND($AN8>$AP8,$AN$56>$AP$56),2,0)","v":0},{"$f":"IF(AND($AN8<$AP8,$AN$56<$AP$56),2,0)","v":0},{"$f":"IF(AND($AN8=$AP8,$AN$56=$AP$56),2,0)","v":2},{"$f":"IF($AP$56=\"-\",0,MAX(DY8:EB8))","v":0},{"$f":"IF(AND($AQ8=$AQ$56,$AS8=$AS$56),3,0)","v":0},{"$f":"IF(AND($AQ8>$AS8,$AQ$56>$AS$56),2,0)","v":0},{"$f":"IF(AND($AQ8<$AS8,$AQ$56<$AS$56),2,0)","v":0},{"$f":"IF(AND($AQ8=$AS8,$AQ$56=$AS$56),2,0)","v":2},{"$f":"IF($AS$56=\"-\",0,MAX(ED8:EG8))","v":0},{"$f":"IF(AND($AT8=$AT$56,$AV8=$AV$56),3,0)","v":0},{"$f":"IF(AND($AT8>$AV8,$AT$56>$AV$56),2,0)","v":0},{"$f":"IF(AND($AT8<$AV8,$AT$56<$AV$56),2,0)","v":0},{"$f":"IF(AND($AT8=$AV8,$AT$56=$AV$56),2,0)","v":2},{"$f":"IF($AV$56=\"-\",0,MAX(EI8:EL8))","v":0},{"$f":"IF(AND($AW8=$AW$56,$AY8=$AY$56),3,0)","v":0},{"$f":"IF(AND($AW8>$AY8,$AW$56>$AY$56),2,0)","v":0},{"$f":"IF(AND($AW8<$AY8,$AW$56<$AY$56),2,0)","v":0},{"$f":"IF(AND($AW8=$AY8,$AW$56=$AY$56),2,0)","v":2},{"$f":"IF($AY$56=\"-\",0,MAX(EN8:EQ8))","v":0},{"$f":"IF(AND($AZ8=$AZ$56,$BB8=$BB$56),3,0)","v":0},{"$f":"IF(AND($AZ8>$BB8,$AZ$56>$BB$56),2,0)","v":0},{"$f":"IF(AND($AZ8<$BB8,$AZ$56<$BB$56),2,0)","v":0},{"$f":"IF(AND($AZ8=$BB8,$AZ$56=$BB$56),2,0)","v":2},{"$f":"IF($BB$56=\"-\",0,MAX(ES8:EV8))","v":0},{"$f":"IF(AND($BC8=$BC$56,$BE8=$BE$56),3,0)","v":0},{"$f":"IF(AND($BC8>$BE8,$BC$56>$BE$56),2,0)","v":0},{"$f":"IF(AND($BC8<$BE8,$BC$56<$BE$56),2,0)","v":0},{"$f":"IF(AND($BC8=$BE8,$BC$56=$BE$56),2,0)","v":2},{"$f":"IF($BE$56=\"-\",0,MAX(EX8:FA8))","v":0},{"$f":"IF(AND($BF8=$BF$56,$BH8=$BH$56),3,0)","v":0},{"$f":"IF(AND($BF8>$BH8,$BF$56>$BH$56),2,0)","v":0},{"$f":"IF(AND($BF8<$BH8,$BF$56<$BH$56),2,0)","v":0},{"$f":"IF(AND($BF8=$BH8,$BF$56=$BH$56),2,0)","v":2},{"$f":"IF($BH$56=\"-\",0,MAX(FC8:FF8))","v":0},{"$f":"IF(AND($BI8=$BI$56,$BK8=$BK$56),3,0)","v":0},{"$f":"IF(AND($BI8>$BK8,$BI$56>$BK$56),2,0)","v":0},{"$f":"IF(AND($BI8<$BK8,$BI$56<$BK$56),2,0)","v":0},{"$f":"IF(AND($BI8=$BK8,$BI$56=$BK$56),2,0)","v":2},{"$f":"IF($BK$56=\"-\",0,MAX(FH8:FK8))","v":0},{"$f":"IF(AND($BL8=$BL$56,$BN8=$BN$56),3,0)","v":0},{"$f":"IF(AND($BL8>$BN8,$BL$56>$BN$56),2,0)","v":0},{"$f":"IF(AND($BL8<$BN8,$BL$56<$BN$56),2,0)","v":0},{"$f":"IF(AND($BL8=$BN8,$BL$56=$BN$56),2,0)","v":2},{"$f":"IF($BN$56=\"-\",0,MAX(FM8:FP8))","v":0},{"$f":"IF(AND($BO8=$BO$56,$BQ8=$BQ$56),3,0)","v":0},{"$f":"IF(AND($BO8>$BQ8,$BO$56>$BQ$56),2,0)","v":0},{"$f":"IF(AND($BO8<$BQ8,$BO$56<$BQ$56),2,0)","v":0},{"$f":"IF(AND($BO8=$BQ8,$BO$56=$BQ$56),2,0)","v":2},{"$f":"IF($BQ$56=\"-\",0,MAX(FR8:FU8))","v":0},{"$f":"IF(AND($BR8=$BR$56,$BT8=$BT$56),3,0)","v":0},{"$f":"IF(AND($BR8>$BT8,$BR$56>$BT$56),2,0)","v":0},{"$f":"IF(AND($BR8<$BT8,$BR$56<$BT$56),2,0)","v":0},{"$f":"IF(AND($BR8=$BT8,$BR$56=$BT$56),2,0)","v":2},{"$f":"IF($BT$56=\"-\",0,MAX(FW8:FZ8))","v":0},{"$f":"IF(AND($BU8=$BU$56,$BW8=$BW$56),3,0)","v":0},{"$f":"IF(AND($BU8>$BW8,$BU$56>$BW$56),2,0)","v":0},{"$f":"IF(AND($BU8<$BW8,$BU$56<$BW$56),2,0)","v":0},{"$f":"IF(AND($BU8=$BW8,$BU$56=$BW$56),2,0)","v":2},{"$f":"IF($BW$56=\"-\",0,MAX(GB8:GE8))","v":0},{"$f":"IF(AND($BX8=$BX$56,$BZ8=$BZ$56),3,0)","v":0},{"$f":"IF(AND($BX8>$BZ8,$BX$56>$BZ$56),2,0)","v":0},{"$f":"IF(AND($BX8<$BZ8,$BX$56<$BZ$56),2,0)","v":0},{"$f":"IF(AND($BX8=$BZ8,$BX$56=$BZ$56),2,0)","v":2},{"$f":"IF($BZ$56=\"-\",0,MAX(GG8:GJ8))","v":0},{"$f":"IF(AND($CA8=$CA$56,$CC8=$CC$56),3,0)","v":0},{"$f":"IF(AND($CA8>$CC8,$CA$56>$CC$56),2,0)","v":0},{"$f":"IF(AND($CA8<$CC8,$CA$56<$CC$56),2,0)","v":0},{"$f":"IF(AND($CA8=$CC8,$CA$56=$CC$56),2,0)","v":2},{"$f":"IF($CC$56=\"-\",0,MAX(GL8:GO8))","v":0},{"$f":"IF(AND($CD8=$CD$56,$CF8=$CF$56),3,0)","v":0},{"$f":"IF(AND($CD8>$CF8,$CD$56>$CF$56),2,0)","v":0},{"$f":"IF(AND($CD8<$CF8,$CD$56<$CF$56),2,0)","v":0},{"$f":"IF(AND($CD8=$CF8,$CD$56=$CF$56),2,0)","v":2},{"$f":"IF($CF$56=\"-\",0,MAX(GQ8:GT8))","v":0},{"$f":"IF(AND($CG8=$CG$56,$CI8=$CI$56),3,0)","v":0},{"$f":"IF(AND($CG8>$CI8,$CG$56>$CI$56),2,0)","v":0},{"$f":"IF(AND($CG8<$CI8,$CG$56<$CI$56),2,0)","v":0},{"$f":"IF(AND($CG8=$CI8,$CG$56=$CI$56),2,0)","v":2},{"$f":"IF($CI$56=\"-\",0,MAX(GV8:GY8))","v":0},{"$f":"SUM(CO8,CT8,CY8,DD8,DI8,DN8,DS8,DX8,EC8,EH8,EM8,ER8,EW8,FB8,FG8,FL8,FQ8,FV8,GA8,GF8,GK8,GP8,GU8,GZ8)","v":0},{"$f":"'Vorrunde 25-48'!HC8","v":0},{"$f":"SUM(HA8:HB8)","v":0}]
["2026-06-25T22:00:00",46198.916666666664,"2026-06-25T16:00:00",56,"Ecuador (E4)","-","Deutschland (E1)",null,":",null,"USA / MetLife Stadium (New York/New Jersey)","3. Gruppenspiel","ARD und MagentaTV",0,{"$f":"IF('Vorrunde 01-24'!O9<>\"\",'Vorrunde 01-24'!O9,\"\")","v":""},null,":",null,null,":",null,null,":",null,null,":",null,null,":",null,null,":",null,null,":",null,null,":",null,null,":",null,null,":",null,null,":",null,null,":",null,null,":",null,null,":",null,null,":",null,null,":",null,null,":",null,null,":",null,null,":",null,null,":",null,null,":",null,null,":",null,null,":",null,null,":",null,"",0,0,0,2,0,0,0,0,2,0,0,0,0,2,0,0,0,0,2,0,0,0,0,2,0,0,0,0,2,0,0,0,0,2,0,0,0,0,2,0,0,0,0,2,0,0,0,0,2,0,0,0,0,2,0,0,0,0,2,0,0,0,0,2,0,0,0,0,2,0,0,0,0,2,0,0,0,0,2,0,0,0,0,2,0,0,0,0,2,0,0,0,0,2,0,0,0,0,2,0,0,0,0,2,0,0,0,0,2,0,0,0,0,2,0,0,0,0,2,0,0,{"$f":"'Vorrunde 25-48'!HC9","v":0},0]
["2026-06-26T01:00:00",46199.041666666664,"2026-06-25T18:00:00",57,"Japan (F2)","-","Schweden (F3)",null,":",null,"USA / AT&T Stadium (Dallas)","3. Gruppenspiel","ARD 1 Spiel Gr. F und MagentaTV",0,{"$f":"IF('Vorrunde 01-24'!O10<>\"\",'Vorrunde 01-24'!O10,\"\")","v":""},null,":",null,null,":",null,null,":",null,null,":",null,null,":",null,null,":",null,null,":",null,null,":",null,null,":",null,null,":",null,null,":",null,null,":",null,null,":",null,null,":",null,null,":",null,null,":",null,null,":",null,null,":",null,null,":",null,null,":",null,null,":",null,null,":",null,null,":",null,null,":",null,"",0,0,0,2,0,0,0,0,2,0,0,0,0,2,0,0,0,0,2,0,0,0,0,2,0,0,0,0,2,0,0,0,0,2,0,0,0,0,2,0,0,0,0,2,0,0,0,0,2,0,0,0,0,2,0,0,0,0,2,0,0,0,0,2,0,0,0,0,2,0,0,0,0,2,0,0,0,0,2,0,0,0,0,2,0,0,0,0,2,0,0,0,0,2,0,0,0,0,2,0,0,0,0,2,0,0,0,0,2,0,0,0,0,2,0,0,0,0,2,0,0,{"$f":"'Vorrunde 25-48'!HC10","v":0},0]
["2026-06-26T01:00:00",46199.041666666664,"2026-06-25T18:00:00",58,"Tunesien (F4)","-","Niederlande (F1)",null,":",null,"USA / Arrowhead Stadium (Kansas City)","3. Gruppenspiel","ARD 1 Spiel Gr. F und MagentaTV",0,{"$f":"IF('Vorrunde 01-24'!O11<>\"\",'Vorrunde 01-24'!O11,\"\")","v":""},null,":",null,null,":",null,null,":",null,null,":",null,null,":",null,null,":",null,null,":",null,null,":",null,null,":",null,null,":",null,null,":",null,null,":",null,null,":",null,null,":",null,null,":",null,null,":",null,null,":",null,null,":",null,null,":",null,null,":",null,null,":",null,null,":",null,null,":",null,null,":",null,"",0,0,0,2,0,0,0,0,2,0,0,0,0,2,0,0,0,0,2,0,0,0,0,2,0,0,0,0,2,0,0,0,0,2,0,0,0,0,2,0,0,0,0,2,0,0,0,0,2,0,0,0,0,2,0,0,0,0,2,0,0,0,0,2,0,0,0,0,2,0,0,0,0,2,0,0,0,0,2,0,0,0,0,2,0,0,0,0,2,0,0,0,0,2,0,0,0,0,2,0,0,0,0,2,0,0,0,0,2,0,0,0,0,2,0,0,0,0,2,0,0,{"$f":"'Vorrunde 25-48'!HC11","v":0},0]
["2026-06-26T04:00:00",46199.166666666664,"2026-06-25T19:00:00",59,"Türkei (D4)","-","USA (D1)",null,":",null,"USA / SoFi Stadium (Los Angeles)","3. Gruppenspiel","MagentaTV (Telekom) exklusiv",0,{"$f":"IF('Vorrunde 01-24'!O12<>\"\",'Vorrunde 01-24'!O12,\"\")","v":""},null,":",null,null,":",null,null,":",null,null,":",null,null,":",null,null,":",null,null,":",null,null,":",null,null,":",null,null,":",null,null,":",null,null,":",null,null,":",null,null,":",null,null,":",null,null,":",null,null,":",null,null,":",null,null,":",null,null,":",null,null,":",null,null,":",null,null,":",null,null,":",null,"",0,0,0,2,0,0,0,0,2,0,0,0,0,2,0,0,0,0,2,0,0,0,0,2,0,0,0,0,2,0,0,0,0,2,0,0,0,0,2,0,0,0,0,2,0,0,0,0,2,0,0,0,0,2,0,0,0,0,2,0,0,0,0,2,0,0,0,0,2,0,0,0,0,2,0,0,0,0,2,0,0,0,0,2,0,0,0,0,2,0,0,0,0,2,0,0,0,0,2,0,0,0,0,2,0,0,0,0,2,0,0,0,0,2,0,0,0,0,2,0,0,{"$f":"'Vorrunde 25-48'!HC12","v":0},0]
["2026-06-26T04:00:00",46199.166666666664,"2026-06-25T19:00:00",60,"Paraguay (D2)","-","Australien (D3)",null,":",null,"USA / Levi's Stadium (San Francisco Bay Area)","3. Gruppenspiel","ARD und MagentaTV",0,{"$f":"IF('Vorrunde 01-24'!O13<>\"\",'Vorrunde 01-24'!O13,\"\")","v":""},null,":",null,null,":",null,null,":",null,null,":",null,null,":",null,null,":",null,null,":",null,null,":",null,null,":",null,null,":",null,null,":",null,null,":",null,null,":",null,null,":",null,null,":",null,null,":",null,null,":",null,null,":",null,null,":",null,null,":",null,null,":",null,null,":",null,null,":",null,null,":",null,"",0,0,0,2,0,0,0,0,2,0,0,0,0,2,0,0,0,0,2,0,0,0,0,2,0,0,0,0,2,0,0,0,0,2,0,0,0,0,2,0,0,0,0,2,0,0,0,0,2,0,0,0,0,2,0,0,0,0,2,0,0,0,0,2,0,0,0,0,2,0,0,0,0,2,0,0,0,0,2,0,0,0,0,2,0,0,0,0,2,0,0,0,0,2,0,0,0,0,2,0,0,0,0,2,0,0,0,0,2,0,0,0,0,2,0,0,0,0,2,0,0,{"$f":"'Vorrunde 25-48'!HC13","v":0},0]
["2026-06-26T21:00:00",46199.875,"2026-06-26T15:00:00",61,"Norwegen (I4)","-","Frankreich (I1)",null,":",null,"USA / Gillette Stadium (Boston)","3. Gruppenspiel","ZDF 1 Spiel Gr. I und MagentaTV",0,{"$f":"IF('Vorrunde 01-24'!O14<>\"\",'Vorrunde 01-24'!O14,\"\")","v":""},null,":",null,null,":",null,null,":",null,null,":",null,null,":",null,null,":",null,null,":",null,null,":",null,null,":",null,null,":",null,null,":",null,null,":",null,null,":",null,null,":",null,null,":",null,null,":",null,null,":",null,null,":",null,null,":",null,null,":",null,null,":",null,null,":",null,null,":",null,null,":",null,"",0,0,0,2,0,0,0,0,2,0,0,0,0,2,0,0,0,0,2,0,0,0,0,2,0,0,0,0,2,0,0,0,0,2,0,0,0,0,2,0,0,0,0,2,0,0,0,0,2,0,0,0,0,2,0,0,0,0,2,0,0,0,0,2,0,0,0,0,2,0,0,0,0,2,0,0,0,0,2,0,0,0,0,2,0,0,0,0,2,0,0,0,0,2,0,0,0,0,2,0,0,0,0,2,0,0,0,0,2,0,0,0,0,2,0,0,0,0,2,0,0,{"$f":"'Vorrunde 25-48'!HC14","v":0},0]
["2026-06-26T21:00:00",46199.875,"2026-06-26T15:00:00",62,"Senegal (I2)","-","Irak (I3)",null,":",null,"Kanada / BMO Field (Toronto)","3. Gruppenspiel","ZDF 1 Spiel Gr. I und MagentaTV",0,{"$f":"IF('Vorrunde 01-24'!O15<>\"\",'Vorrunde 01-24'!O15,\"\")","v":""},null,":",null,null,":",null,null,":",null,null,":",null,null,":",null,null,":",null,null,":",null,null,":",null,null,":",null,null,":",null,null,":",null,null,":",null,null,":",null,null,":",null,null,":",null,null,":",null,null,":",null,null,":",null,null,":",null,null,":",null,null,":",null,null,":",null,null,":",null,null,":",null,"",0,0,0,2,0,0,0,0,2,0,0,0,0,2,0,0,0,0,2,0,0,0,0,2,0,0,0,0,2,0,0,0,0,2,0,0,0,0,2,0,0,0,0,2,0,0,0,0,2,0,0,0,0,2,0,0,0,0,2,0,0,0,0,2,0,0,0,0,2,0,0,0,0,2,0,0,0,0,2,0,0,0,0,2,0,0,0,0,2,0,0,0,0,2,0,0,0,0,2,0,0,0,0,2,0,0,0,0,2,0,0,0,0,2,0,0,0,0,2,0,0,{"$f":"'Vorrunde 25-48'!HC15","v":0},0]
["2026-06-27T02:00:00",46200.083333333336,"2026-06-26T19:00:00",65,"Kap Verde (H2)","-","Saudi-Arabien (H3)",null,":",null,"USA / NRG Stadium (Houston)","3. Gruppenspiel","ARD 1 Spiel Gr. H und MagentaTV",0,{"$f":"IF('Vorrunde 01-24'!O16<>\"\",'Vorrunde 01-24'!O16,\"\")","v":""},null,":",null,null,":",null,null,":",null,null,":",null,null,":",null,null,":",null,null,":",null,null,":",null,null,":",null,null,":",null,null,":",null,null,":",null,null,":",null,null,":",null,null,":",null,null,":",null,null,":",null,null,":",null,null,":",null,null,":",null,null,":",null,null,":",null,null,":",null,null,":",null,"",0,0,0,2,0,0,0,0,2,0,0,0,0,2,0,0,0,0,2,0,0,0,0,2,0,0,0,0,2,0,0,0,0,2,0,0,0,0,2,0,0,0,0,2,0,0,0,0,2,0,0,0,0,2,0,0,0,0,2,0,0,0,0,2,0,0,0,0,2,0,0,0,0,2,0,0,0,0,2,0,0,0,0,2,0,0,0,0,2,0,0,0,0,2,0,0,0,0,2,0,0,0,0,2,0,0,0,0,2,0,0,0,0,2,0,0,0,0,2,0,0,{"$f":"'Vorrunde 25-48'!HC16","v":0},0]
["2026-06-27T02:00:00",46200.083333333336,"2026-06-26T18:00:00",66,"Uruguay (H4)","-","Spanien (H1)",null,":",null,"Mexiko / Estadio Akron (Guadalajara)","3. Gruppenspiel","ARD 1 Spiel Gr. H und MagentaTV",0,{"$f":"IF('Vorrunde 01-24'!O17<>\"\",'Vorrunde 01-24'!O17,\"\")","v":""},null,":",null,null,":",null,null,":",null,null,":",null,null,":",null,null,":",null,null,":",null,null,":",null,null,":",null,null,":",null,null,":",null,null,":",null,null,":",null,null,":",null,null,":",null,null,":",null,null,":",null,null,":",null,null,":",null,null,":",null,null,":",null,null,":",null,null,":",null,null,":",null,"",0,0,0,2,0,0,0,0,2,0,0,0,0,2,0,0,0,0,2,0,0,0,0,2,0,0,0,0,2,0,0,0,0,2,0,0,0,0,2,0,0,0,0,2,0,0,0,0,2,0,0,0,0,2,0,0,0,0,2,0,0,0,0,2,0,0,0,0,2,0,0,0,0,2,0,0,0,0,2,0,0,0,0,2,0,0,0,0,2,0,0,0,0,2,0,0,0,0,2,0,0,0,0,2,0,0,0,0,2,0,0,0,0,2,0,0,0,0,2,0,0,{"$f":"'Vorrunde 25-48'!HC17","v":0},0]
["2026-06-27T05:00:00",46200.208333333336,"2026-06-26T20:00:00",63,"Ägypten (G2)","-","Iran (G3)",null,":",null,"USA / Lumen Field (Seattle)","3. Gruppenspiel","MagentaTV (Telekom) exklusiv",0,{"$f":"IF('Vorrunde 01-24'!O18<>\"\",'Vorrunde 01-24'!O18,\"\")","v":""},null,":",null,null,":",null,null,":",null,null,":",null,null,":",null,null,":",null,null,":",null,null,":",null,null,":",null,null,":",null,null,":",null,null,":",null,null,":",null,null,":",null,null,":",null,null,":",null,null,":",null,null,":",null,null,":",null,null,":",null,null,":",null,null,":",null,null,":",null,null,":",null,"",0,0,0,2,0,0,0,0,2,0,0,0,0,2,0,0,0,0,2,0,0,0,0,2,0,0,0,0,2,0,0,0,0,2,0,0,0,0,2,0,0,0,0,2,0,0,0,0,2,0,0,0,0,2,0,0,0,0,2,0,0,0,0,2,0,0,0,0,2,0,0,0,0,2,0,0,0,0,2,0,0,0,0,2,0,0,0,0,2,0,0,0,0,2,0,0,0,0,2,0,0,0,0,2,0,0,0,0,2,0,0,0,0,2,0,0,0,0,2,0,0,{"$f":"'Vorrunde 25-48'!HC18","v":0},0]
["2026-06-27T05:00:00",46200.208333333336,"2026-06-26T20:00:00",64,"Neuseeland (G4)","-","Belgien (G1)",null,":",null,"Kanada / BC Place Stadium (Vancouver)","3. Gruppenspiel","MagentaTV (Telekom) exklusiv",0,{"$f":"IF('Vorrunde 01-24'!O19<>\"\",'Vorrunde 01-24'!O19,\"\")","v":""},null,":",null,null,":",null,null,":",null,null,":",null,null,":",null,null,":",null,null,":",null,null,":",null,null,":",null,null,":",null,null,":",null,null,":",null,null,":",null,null,":",null,null,":",null,null,":",null,null,":",null,null,":",null,null,":",null,null,":",null,null,":",null,null,":",null,null,":",null,null,":",null,"",0,0,0,2,0,0,0,0,2,0,0,0,0,2,0,0,0,0,2,0,0,0,0,2,0,0,0,0,2,0,0,0,0,2,0,0,0,0,2,0,0,0,0,2,0,0,0,0,2,0,0,0,0,2,0,0,0,0,2,0,0,0,0,2,0,0,0,0,2,0,0,0,0,2,0,0,0,0,2,0,0,0,0,2,0,0,0,0,2,0,0,0,0,2,0,0,0,0,2,0,0,0,0,2,0,0,0,0,2,0,0,0,0,2,0,0,0,0,2,0,0,{"$f":"'Vorrunde 25-48'!HC19","v":0},0]
["2026-06-27T23:00:00",46200.958333333336,"2026-06-27T17:00:00",67,"Panama (L4)","-","England (L1)",null,":",null,"USA / MetLife Stadium (New York/New Jersey)","3. Gruppenspiel","MagentaTV (Telekom) exklusiv",0,{"$f":"IF('Vorrunde 01-24'!O20<>\"\",'Vorrunde 01-24'!O20,\"\")","v":""},null,":",null,null,":",null,null,":",null,null,":",null,null,":",null,null,":",null,null,":",null,null,":",null,null,":",null,null,":",null,null,":",null,null,":",null,null,":",null,null,":",null,null,":",null,null,":",null,null,":",null,null,":",null,null,":",null,null,":",null,null,":",null,null,":",null,null,":",null,null,":",null,"",0,0,0,2,0,0,0,0,2,0,0,0,0,2,0,0,0,0,2,0,0,0,0,2,0,0,0,0,2,0,0,0,0,2,0,0,0,0,2,0,0,0,0,2,0,0,0,0,2,0,0,0,0,2,0,0,0,0,2,0,0,0,0,2,0,0,0,0,2,0,0,0,0,2,0,0,0,0,2,0,0,0,0,2,0,0,0,0,2,0,0,0,0,2,0,0,0,0,2,0,0,0,0,2,0,0,0,0,2,0,0,0,0,2,0,0,0,0,2,0,0,{"$f":"'Vorrunde 25-48'!HC20","v":0},0]
["2026-06-27T23:00:00",46200.958333333336,"2026-06-27T17:00:00",68,"Kroatien (L2)","-","Ghana (L3)",null,":",null,"USA / Lincoln Financial Field (Philadelphia)","3. Gruppenspiel","ZDF und MagentaTV",0,{"$f":"IF('Vorrunde 01-24'!O21<>\"\",'Vorrunde 01-24'!O21,\"\")","v":""},null,":",null,null,":",null,null,":",null,null,":",null,null,":",null,null,":",null,null,":",null,null,":",null,null,":",null,null,":",null,null,":",null,null,":",null,null,":",null,null,":",null,null,":",null,null,":",null,null,":",null,null,":",null,null,":",null,null,":",null,null,":",null,null,":",null,null,":",null,null,":",null,"",0,0,0,2,0,0,0,0,2,0,0,0,0,2,0,0,0,0,2,0,0,0,0,2,0,0,0,0,2,0,0,0,0,2,0,0,0,0,2,0,0,0,0,2,0,0,0,0,2,0,0,0,0,2,0,0,0,0,2,0,0,0,0,2,0,0,0,0,2,0,0,0,0,2,0,0,0,0,2,0,0,0,0,2,0,0,0,0,2,0,0,0,0,2,0,0,0,0,2,0,0,0,0,2,0,0,0,0,2,0,0,0,0,2,0,0,0,0,2,0,0,{"$f":"'Vorrunde 25-48'!HC21","v":0},0]
["2026-06-28T01:30:00",46201.0625,"2026-06-27T19:30:00",71,"Kolumbien (K4)","-","Portugal (K1)",null,":",null,"USA / Hard Rock Stadium (Miami)","3. Gruppenspiel","ZDF 1 Spiel Gr. K und MagentaTV",0,{"$f":"IF('Vorrunde 01-24'!O22<>\"\",'Vorrunde 01-24'!O22,\"\")","v":""},null,":",null,null,":",null,null,":",null,null,":",null,null,":",null,null,":",null,null,":",null,null,":",null,null,":",null,null,":",null,null,":",null,null,":",null,null,":",null,null,":",null,null,":",null,null,":",null,null,":",null,null,":",null,null,":",null,null,":",null,null,":",null,null,":",null,null,":",null,null,":",null,"",0,0,0,2,0,0,0,0,2,0,0,0,0,2,0,0,0,0,2,0,0,0,0,2,0,0,0,0,2,0,0,0,0,2,0,0,0,0,2,0,0,0,0,2,0,0,0,0,2,0,0,0,0,2,0,0,0,0,2,0,0,0,0,2,0,0,0,0,2,0,0,0,0,2,0,0,0,0,2,0,0,0,0,2,0,0,0,0,2,0,0,0,0,2,0,0,0,0,2,0,0,0,0,2,0,0,0,0,2,0,0,0,0,2,0,0,0,0,2,0,0,{"$f":"'Vorrunde 25-48'!HC22","v":0},0]
["2026-06-28T01:30:00",46201.0625,"2026-06-27T19:30:00",72,"DR Kongo (K2)","-","Usbekistan (K3)",null,":",null,"USA / Mercedes-Benz Stadium (Atlanta)","3. Gruppenspiel","ZDF 1 Spiel Gr. K und MagentaTV",0,{"$f":"IF('Vorrunde 01-24'!O23<>\"\",'Vorrunde 01-24'!O23,\"\")","v":""},null,":",null,null,":",null,null,":",null,null,":",null,null,":",null,null,":",null,null,":",null,null,":",null,null,":",null,null,":",null,null,":",null,null,":",null,null,":",null,null,":",null,null,":",null,null,":",null,null,":",null,null,":",null,null,":",null,null,":",null,null,":",null,null,":",null,null,":",null,null,":",null,"",0,0,0,2,0,0,0,0,2,0,0,0,0,2,0,0,0,0,2,0,0,0,0,2,0,0,0,0,2,0,0,0,0,2,0,0,0,0,2,0,0,0,0,2,0,0,0,0,2,0,0,0,0,2,0,0,0,0,2,0,0,0,0,2,0,0,0,0,2,0,0,0,0,2,0,0,0,0,2,0,0,0,0,2,0,0,0,0,2,0,0,0,0,2,0,0,0,0,2,0,0,0,0,2,0,0,0,0,2,0,0,0,0,2,0,0,0,0,2,0,0,{"$f":"'Vorrunde 25-48'!HC23","v":0},0]
["2026-06-28T04:00:00",46201.166666666664,"2026-06-27T21:00:00",69,"Algerien (J2)","-","Österreich (J3)",null,":",null,"USA / Arrowhead Stadium (Kansas City)","3. Gruppenspiel","ZDF 1 Spiel Gr. J und MagentaTV",0,{"$f":"IF('Vorrunde 01-24'!O24<>\"\",'Vorrunde 01-24'!O24,\"\")","v":""},null,":",null,null,":",null,null,":",null,null,":",null,null,":",null,null,":",null,null,":",null,null,":",null,null,":",null,null,":",null,null,":",null,null,":",null,null,":",null,null,":",null,null,":",null,null,":",null,null,":",null,null,":",null,null,":",null,null,":",null,null,":",null,null,":",null,null,":",null,null,":",null,"",0,0,0,2,0,0,0,0,2,0,0,0,0,2,0,0,0,0,2,0,0,0,0,2,0,0,0,0,2,0,0,0,0,2,0,0,0,0,2,0,0,0,0,2,0,0,0,0,2,0,0,0,0,2,0,0,0,0,2,0,0,0,0,2,0,0,0,0,2,0,0,0,0,2,0,0,0,0,2,0,0,0,0,2,0,0,0,0,2,0,0,0,0,2,0,0,0,0,2,0,0,0,0,2,0,0,0,0,2,0,0,0,0,2,0,0,0,0,2,0,0,{"$f":"'Vorrunde 25-48'!HC24","v":0},0]
["2026-06-28T04:00:00",46201.166666666664,"2026-06-27T21:00:00",70,"Jordanien (J4)","-","Argentinien (J1)",null,":",null,"USA / AT&T Stadium (Dallas)","3. Gruppenspiel","ZDF 1 Spiel Gr. J und MagentaTV",0,{"$f":"IF('Vorrunde 01-24'!O25<>\"\",'Vorrunde 01-24'!O25,\"\")","v":""},null,":",null,null,":",null,null,":",null,null,":",null,null,":",null,null,":",null,null,":",null,null,":",null,null,":",null,null,":",null,null,":",null,null,":",null,null,":",null,null,":",null,null,":",null,null,":",null,null,":",null,null,":",null,null,":",null,null,":",null,null,":",null,null,":",null,null,":",null,null,":",null,"",0,0,0,2,0,0,0,0,2,0,0,0,0,2,0,0,0,0,2,0,0,0,0,2,0,0,0,0,2,0,0,0,0,2,0,0,0,0,2,0,0,0,0,2,0,0,0,0,2,0,0,0,0,2,0,0,0,0,2,0,0,0,0,2,0,0,0,0,2,0,0,0,0,2,0,0,0,0,2,0,0,0,0,2,0,0,0,0,2,0,0,0,0,2,0,0,0,0,2,0,0,0,0,2,0,0,0,0,2,0,0,0,0,2,0,0,0,0,2,0,0,{"$f":"'Vorrunde 25-48'!HC25","v":0},0]
[null,null,null,null,null,null,null,null,null,null,null,null,null,{"$f":"SUM(N2:N25)","v":0},{"$f":"IF('Vorrunde 01-24'!O26<>\"\",'Vorrunde 01-24'!O26,\"\")","v":""},null,":",null,null,":",null,null,":",null,null,":",null,null,":",null,null,":",null,null,":",null,null,":",null,null,":",null,null,":",null,null,":",null,null,":",null,null,":",null,null,":",null,null,":",null,null,":",null,null,":",null,null,":",null,null,":",null,null,":",null,null,":",null,null,":",null,null,":",null,null,":",null,"",0,0,0,2,0,0,0,0,2,0,0,0,0,2,0,0,0,0,2,0,0,0,0,2,0,0,0,0,2,0,0,0,0,2,0,0,0,0,2,0,0,0,0,2,0,0,0,0,2,0,0,0,0,2,0,0,0,0,2,0,0,0,0,2,0,0,0,0,2,0,0,0,0,2,0,0,0,0,2,0,0,0,0,2,0,0,0,0,2,0,0,0,0,2,0,0,0,0,2,0,0,0,0,2,0,0,0,0,2,0,0,0,0,2,0,0,0,0,2,0,0,{"$f":"'Vorrunde 25-48'!HC26","v":0},0]
[null,null,null,null,null,null,null,null,null,null,null,null,null,null,{"$f":"IF('Vorrunde 01-24'!O27<>\"\",'Vorrunde 01-24'!O27,\"\")","v":""},null,":",null,null,":",null,null,":",null,null,":",null,null,":",null,null,":",null,null,":",null,null,":",null,null,":",null,null,":",null,null,":",null,null,":",null,null,":",null,null,":",null,null,":",null,null,":",null,null,":",null,null,":",null,null,":",null,null,":",null,null,":",null,null,":",null,null,":",null,null,":",null,"",0,0,0,2,0,0,0,0,2,0,0,0,0,2,0,0,0,0,2,0,0,0,0,2,0,0,0,0,2,0,0,0,0,2,0,0,0,0,2,0,0,0,0,2,0,0,0,0,2,0,0,0,0,2,0,0,0,0,2,0,0,0,0,2,0,0,0,0,2,0,0,0,0,2,0,0,0,0,2,0,0,0,0,2,0,0,0,0,2,0,0,0,0,2,0,0,0,0,2,0,0,0,0,2,0,0,0,0,2,0,0,0,0,2,0,0,0,0,2,0,0,{"$f":"'Vorrunde 25-48'!HC27","v":0},0]
[null,null,null,null,null,null,null,null,null,null,null,null,null,null,{"$f":"IF('Vorrunde 01-24'!O28<>\"\",'Vorrunde 01-24'!O28,\"\")","v":""},null,":",null,null,":",null,null,":",null,null,":",null,null,":",null,null,":",null,null,":",null,null,":",null,null,":",null,null,":",null,null,":",null,null,":",null,null,":",null,null,":",null,null,":",null,null,":",null,null,":",null,null,":",null,null,":",null,null,":",null,null,":",null,null,":",null,null,":",null,null,":",null,"",0,0,0,2,0,0,0,0,2,0,0,0,0,2,0,0,0,0,2,0,0,0,0,2,0,0,0,0,2,0,0,0,0,2,0,0,0,0,2,0,0,0,0,2,0,0,0,0,2,0,0,0,0,2,0,0,0,0,2,0,0,0,0,2,0,0,0,0,2,0,0,0,0,2,0,0,0,0,2,0,0,0,0,2,0,0,0,0,2,0,0,0,0,2,0,0,0,0,2,0,0,0,0,2,0,0,0,0,2,0,0,0,0,2,0,0,0,0,2,0,0,{"$f":"'Vorrunde 25-48'!HC28","v":0},0]
[null,null,null,null,null,null,null,null,null,null,null,null,null,null,{"$f":"IF('Vorrunde 01-24'!O29<>\"\",'Vorrunde 01-24'!O29,\"\")","v":""},null,":",null,null,":",null,null,":",null,null,":",null,null,":",null,null,":",null,null,":",null,null,":",null,null,":",null,null,":",null,null,":",null,null,":",null,null,":",null,null,":",null,null,":",null,null,":",null,null,":",null,null,":",null,null,":",null,null,":",null,null,":",null,null,":",null,null,":",null,null,":",null,"",0,0,0,2,0,0,0,0,2,0,0,0,0,2,0,0,0,0,2,0,0,0,0,2,0,0,0,0,2,0,0,0,0,2,0,0,0,0,2,0,0,0,0,2,0,0,0,0,2,0,0,0,0,2,0,0,0,0,2,0,0,0,0,2,0,0,0,0,2,0,0,0,0,2,0,0,0,0,2,0,0,0,0,2,0,0,0,0,2,0,0,0,0,2,0,0,0,0,2,0,0,0,0,2,0,0,0,0,2,0,0,0,0,2,0,0,0,0,2,0,0,{"$f":"'Vorrunde 25-48'!HC29","v":0},0]
[null,null,null,null,null,null,null,null,null,null,null,null,null,null,{"$f":"IF('Vorrunde 01-24'!O30<>\"\",'Vorrunde 01-24'!O30,\"\")","v":""},null,":",null,null,":",null,null,":",null,null,":",null,null,":",null,null,":",null,null,":",null,null,":",null,null,":",null,null,":",null,null,":",null,null,":",null,null,":",null,null,":",null,null,":",null,null,":",null,null,":",null,null,":",null,null,":",null,null,":",null,null,":",null,null,":",null,null,":",null,null,":",null,"",0,0,0,2,0,0,0,0,2,0,0,0,0,2,0,0,0,0,2,0,0,0,0,2,0,0,0,0,2,0,0,0,0,2,0,0,0,0,2,0,0,0,0,2,0,0,0,0,2,0,0,0,0,2,0,0,0,0,2,0,0,0,0,2,0,0,0,0,2,0,0,0,0,2,0,0,0,0,2,0,0,0,0,2,0,0,0,0,2,0,0,0,0,2,0,0,0,0,2,0,0,0,0,2,0,0,0,0,2,0,0,0,0,2,0,0,0,0,2,0,0,{"$f":"'Vorrunde 25-48'!HC30","v":0},0]
[null,null,null,null,null,null,null,null,null,null,null,null,null,null,{"$f":"IF('Vorrunde 01-24'!O31<>\"\",'Vorrunde 01-24'!O31,\"\")","v":""},null,":",null,null,":",null,null,":",null,null,":",null,null,":",null,null,":",null,null,":",null,null,":",null,null,":",null,null,":",null,null,":",null,null,":",null,null,":",null,null,":",null,null,":",null,null,":",null,null,":",null,null,":",null,null,":",null,null,":",null,null,":",null,null,":",null,null,":",null,null,":",null,"",0,0,0,2,0,0,0,0,2,0,0,0,0,2,0,0,0,0,2,0,0,0,0,2,0,0,0,0,2,0,0,0,0,2,0,0,0,0,2,0,0,0,0,2,0,0,0,0,2,0,0,0,0,2,0,0,0,0,2,0,0,0,0,2,0,0,0,0,2,0,0,0,0,2,0,0,0,0,2,0,0,0,0,2,0,0,0,0,2,0,0,0,0,2,0,0,0,0,2,0,0,0,0,2,0,0,0,0,2,0,0,0,0,2,0,0,0,0,2,0,0,{"$f":"'Vorrunde 25-48'!HC31","v":0},0]
[null,null,null,null,null,null,null,null,null,null,null,null,null,null,{"$f":"IF('Vorrunde 01-24'!O32<>\"\",'Vorrunde 01-24'!O32,\"\")","v":""},null,":",null,null,":",null,null,":",null,null,":",null,null,":",null,null,":",null,null,":",null,null,":",null,null,":",null,null,":",null,null,":",null,null,":",null,null,":",null,null,":",null,null,":",null,null,":",null,null,":",null,null,":",null,null,":",null,null,":",null,null,":",null,null,":",null,null,":",null,null,":",null,"",0,0,0,2,0,0,0,0,2,0,0,0,0,2,0,0,0,0,2,0,0,0,0,2,0,0,0,0,2,0,0,0,0,2,0,0,0,0,2,0,0,0,0,2,0,0,0,0,2,0,0,0,0,2,0,0,0,0,2,0,0,0,0,2,0,0,0,0,2,0,0,0,0,2,0,0,0,0,2,0,0,0,0,2,0,0,0,0,2,0,0,0,0,2,0,0,0,0,2,0,0,0,0,2,0,0,0,0,2,0,0,0,0,2,0,0,0,0,2,0,0,{"$f":"'Vorrunde 25-48'!HC32","v":0},0]
[null,null,null,null,null,null,null,null,null,null,null,null,null,null,{"$f":"IF('Vorrunde 01-24'!O33<>\"\",'Vorrunde 01-24'!O33,\"\")","v":""},null,":",null,null,":",null,null,":",null,null,":",null,null,":",null,null,":",null,null,":",null,null,":",null,null,":",null,null,":",null,null,":",null,null,":",null,null,":",null,null,":",null,null,":",null,null,":",null,null,":",null,null,":",null,null,":",null,null,":",null,null,":",null,null,":",null,null,":",null,null,":",null,"",0,0,0,2,0,0,0,0,2,0,0,0,0,2,0,0,0,0,2,0,0,0,0,2,0,0,0,0,2,0,0,0,0,2,0,0,0,0,2,0,0,0,0,2,0,0,0,0,2,0,0,0,0,2,0,0,0,0,2,0,0,0,0,2,0,0,0,0,2,0,0,0,0,2,0,0,0,0,2,0,0,0,0,2,0,0,0,0,2,0,0,0,0,2,0,0,0,0,2,0,0,0,0,2,0,0,0,0,2,0,0,0,0,2,0,0,0,0,2,0,0,{"$f":"'Vorrunde 25-48'!HC33","v":0},0]
[null,null,null,null,null,null,null,null,null,null,null,null,null,null,{"$f":"IF('Vorrunde 01-24'!O34<>\"\",'Vorrunde 01-24'!O34,\"\")","v":""},null,":",null,null,":",null,null,":",null,null,":",null,null,":",null,null,":",null,null,":",null,null,":",null,null,":",null,null,":",null,null,":",null,null,":",null,null,":",null,null,":",null,null,":",null,null,":",null,null,":",null,null,":",null,null,":",null,null,":",null,null,":",null,null,":",null,null,":",null,null,":",null,"",0,0,0,2,0,0,0,0,2,0,0,0,0,2,0,0,0,0,2,0,0,0,0,2,0,0,0,0,2,0,0,0,0,2,0,0,0,0,2,0,0,0,0,2,0,0,0,0,2,0,0,0,0,2,0,0,0,0,2,0,0,0,0,2,0,0,0,0,2,0,0,0,0,2,0,0,0,0,2,0,0,0,0,2,0,0,0,0,2,0,0,0,0,2,0,0,0,0,2,0,0,0,0,2,0,0,0,0,2,0,0,0,0,2,0,0,0,0,2,0,0,{"$f":"'Vorrunde 25-48'!HC34","v":0},0]
[null,null,null,null,null,null,null,null,null,null,null,null,null,null,{"$f":"IF('Vorrunde 01-24'!O35<>\"\",'Vorrunde 01-24'!O35,\"\")","v":""},null,":",null,null,":",null,null,":",null,null,":",null,null,":",null,null,":",null,null,":",null,null,":",null,null,":",null,null,":",null,null,":",null,null,":",null,null,":",null,null,":",null,null,":",null,null,":",null,null,":",null,null,":",null,null,":",null,null,":",null,null,":",null,null,":",null,null,":",null,null,":",null,"",0,0,0,2,0,0,0,0,2,0,0,0,0,2,0,0,0,0,2,0,0,0,0,2,0,0,0,0,2,0,0,0,0,2,0,0,0,0,2,0,0,0,0,2,0,0,0,0,2,0,0,0,0,2,0,0,0,0,2,0,0,0,0,2,0,0,0,0,2,0,0,0,0,2,0,0,0,0,2,0,0,0,0,2,0,0,0,0,2,0,0,0,0,2,0,0,0,0,2,0,0,0,0,2,0,0,0,0,2,0,0,0,0,2,0,0,0,0,2,0,0,{"$f":"'Vorrunde 25-48'!HC35","v":0},0]
[null,null,null,null,null,null,null,null,null,null,null,null,null,null,{"$f":"IF('Vorrunde 01-24'!O36<>\"\",'Vorrunde 01-24'!O36,\"\")","v":""},null,":",null,null,":",null,null,":",null,null,":",null,null,":",null,null,":",null,null,":",null,null,":",null,null,":",null,null,":",null,null,":",null,null,":",null,null,":",null,null,":",null,null,":",null,null,":",null,null,":",null,null,":",null,null,":",null,null,":",null,null,":",null,null,":",null,null,":",null,null,":",null,"",0,0,0,2,0,0,0,0,2,0,0,0,0,2,0,0,0,0,2,0,0,0,0,2,0,0,0,0,2,0,0,0,0,2,0,0,0,0,2,0,0,0,0,2,0,0,0,0,2,0,0,0,0,2,0,0,0,0,2,0,0,0,0,2,0,0,0,0,2,0,0,0,0,2,0,0,0,0,2,0,0,0,0,2,0,0,0,0,2,0,0,0,0,2,0,0,0,0,2,0,0,0,0,2,0,0,0,0,2,0,0,0,0,2,0,0,0,0,2,0,0,{"$f":"'Vorrunde 25-48'!HC36","v":0},0]
[null,null,null,null,null,null,null,null,null,null,null,null,null,null,{"$f":"IF('Vorrunde 01-24'!O37<>\"\",'Vorrunde 01-24'!O37,\"\")","v":""},null,":",null,null,":",null,null,":",null,null,":",null,null,":",null,null,":",null,null,":",null,null,":",null,null,":",null,null,":",null,null,":",null,null,":",null,null,":",null,null,":",null,null,":",null,null,":",null,null,":",null,null,":",null,null,":",null,null,":",null,null,":",null,null,":",null,null,":",null,null,":",null,"",0,0,0,2,0,0,0,0,2,0,0,0,0,2,0,0,0,0,2,0,0,0,0,2,0,0,0,0,2,0,0,0,0,2,0,0,0,0,2,0,0,0,0,2,0,0,0,0,2,0,0,0,0,2,0,0,0,0,2,0,0,0,0,2,0,0,0,0,2,0,0,0,0,2,0,0,0,0,2,0,0,0,0,2,0,0,0,0,2,0,0,0,0,2,0,0,0,0,2,0,0,0,0,2,0,0,0,0,2,0,0,0,0,2,0,0,0,0,2,0,0,{"$f":"'Vorrunde 25-48'!HC37","v":0},0]
[null,null,null,null,null,null,null,null,null,null,null,null,null,null,{"$f":"IF('Vorrunde 01-24'!O38<>\"\",'Vorrunde 01-24'!O38,\"\")","v":""},null,":",null,null,":",null,null,":",null,null,":",null,null,":",null,null,":",null,null,":",null,null,":",null,null,":",null,null,":",null,null,":",null,null,":",null,null,":",null,null,":",null,null,":",null,null,":",null,null,":",null,null,":",null,null,":",null,null,":",null,null,":",null,null,":",null,null,":",null,null,":",null,"",0,0,0,2,0,0,0,0,2,0,0,0,0,2,0,0,0,0,2,0,0,0,0,2,0,0,0,0,2,0,0,0,0,2,0,0,0,0,2,0,0,0,0,2,0,0,0,0,2,0,0,0,0,2,0,0,0,0,2,0,0,0,0,2,0,0,0,0,2,0,0,0,0,2,0,0,0,0,2,0,0,0,0,2,0,0,0,0,2,0,0,0,0,2,0,0,0,0,2,0,0,0,0,2,0,0,0,0,2,0,0,0,0,2,0,0,0,0,2,0,0,{"$f":"'Vorrunde 25-48'!HC38","v":0},0]
[null,null,null,null,null,null,null,null,null,null,null,null,null,null,{"$f":"IF('Vorrunde 01-24'!O39<>\"\",'Vorrunde 01-24'!O39,\"\")","v":""},null,":",null,null,":",null,null,":",null,null,":",null,null,":",null,null,":",null,null,":",null,null,":",null,null,":",null,null,":",null,null,":",null,null,":",null,null,":",null,null,":",null,null,":",null,null,":",null,null,":",null,null,":",null,null,":",null,null,":",null,null,":",null,null,":",null,null,":",null,null,":",null,"",0,0,0,2,0,0,0,0,2,0,0,0,0,2,0,0,0,0,2,0,0,0,0,2,0,0,0,0,2,0,0,0,0,2,0,0,0,0,2,0,0,0,0,2,0,0,0,0,2,0,0,0,0,2,0,0,0,0,2,0,0,0,0,2,0,0,0,0,2,0,0,0,0,2,0,0,0,0,2,0,0,0,0,2,0,0,0,0,2,0,0,0,0,2,0,0,0,0,2,0,0,0,0,2,0,0,0,0,2,0,0,0,0,2,0,0,0,0,2,0,0,{"$f":"'Vorrunde 25-48'!HC39","v":0},0]
[null,null,null,null,null,null,null,null,null,null,null,null,null,null,{"$f":"IF('Vorrunde 01-24'!O40<>\"\",'Vorrunde 01-24'!O40,\"\")","v":""},null,":",null,null,":",null,null,":",null,null,":",null,null,":",null,null,":",null,null,":",null,null,":",null,null,":",null,null,":",null,null,":",null,null,":",null,null,":",null,null,":",null,null,":",null,null,":",null,null,":",null,null,":",null,null,":",null,null,":",null,null,":",null,null,":",null,null,":",null,null,":",null,"",0,0,0,2,0,0,0,0,2,0,0,0,0,2,0,0,0,0,2,0,0,0,0,2,0,0,0,0,2,0,0,0,0,2,0,0,0,0,2,0,0,0,0,2,0,0,0,0,2,0,0,0,0,2,0,0,0,0,2,0,0,0,0,2,0,0,0,0,2,0,0,0,0,2,0,0,0,0,2,0,0,0,0,2,0,0,0,0,2,0,0,0,0,2,0,0,0,0,2,0,0,0,0,2,0,0,0,0,2,0,0,0,0,2,0,0,0,0,2,0,0,{"$f":"'Vorrunde 25-48'!HC40","v":0},0]
[null,null,null,null,null,null,null,null,null,null,null,null,null,null,{"$f":"IF('Vorrunde 01-24'!O41<>\"\",'Vorrunde 01-24'!O41,\"\")","v":""},null,":",null,null,":",null,null,":",null,null,":",null,null,":",null,null,":",null,null,":",null,null,":",null,null,":",null,null,":",null,null,":",null,null,":",null,null,":",null,null,":",null,null,":",null,null,":",null,null,":",null,null,":",null,null,":",null,null,":",null,null,":",null,null,":",null,null,":",null,null,":",null,"",0,0,0,2,0,0,0,0,2,0,0,0,0,2,0,0,0,0,2,0,0,0,0,2,0,0,0,0,2,0,0,0,0,2,0,0,0,0,2,0,0,0,0,2,0,0,0,0,2,0,0,0,0,2,0,0,0,0,2,0,0,0,0,2,0,0,0,0,2,0,0,0,0,2,0,0,0,0,2,0,0,0,0,2,0,0,0,0,2,0,0,0,0,2,0,0,0,0,2,0,0,0,0,2,0,0,0,0,2,0,0,0,0,2,0,0,0,0,2,0,0,{"$f":"'Vorrunde 25-48'!HC41","v":0},0]
[null,null,null,null,null,null,null,null,null,null,null,null,null,null,{"$f":"IF('Vorrunde 01-24'!O42<>\"\",'Vorrunde 01-24'!O42,\"\")","v":""},null,":",null,null,":",null,null,":",null,null,":",null,null,":",null,null,":",null,null,":",null,null,":",null,null,":",null,null,":",null,null,":",null,null,":",null,null,":",null,null,":",null,null,":",null,null,":",null,null,":",null,null,":",null,null,":",null,null,":",null,null,":",null,null,":",null,null,":",null,null,":",null,"",0,0,0,2,0,0,0,0,2,0,0,0,0,2,0,0,0,0,2,0,0,0,0,2,0,0,0,0,2,0,0,0,0,2,0,0,0,0,2,0,0,0,0,2,0,0,0,0,2,0,0,0,0,2,0,0,0,0,2,0,0,0,0,2,0,0,0,0,2,0,0,0,0,2,0,0,0,0,2,0,0,0,0,2,0,0,0,0,2,0,0,0,0,2,0,0,0,0,2,0,0,0,0,2,0,0,0,0,2,0,0,0,0,2,0,0,0,0,2,0,0,{"$f":"'Vorrunde 25-48'!HC42","v":0},0]
[null,null,null,null,null,null,null,null,null,null,null,null,null,null,{"$f":"IF('Vorrunde 01-24'!O43<>\"\",'Vorrunde 01-24'!O43,\"\")","v":""},null,":",null,null,":",null,null,":",null,null,":",null,null,":",null,null,":",null,null,":",null,null,":",null,null,":",null,null,":",null,null,":",null,null,":",null,null,":",null,null,":",null,null,":",null,null,":",null,null,":",null,null,":",null,null,":",null,null,":",null,null,":",null,null,":",null,null,":",null,null,":",null,"",0,0,0,2,0,0,0,0,2,0,0,0,0,2,0,0,0,0,2,0,0,0,0,2,0,0,0,0,2,0,0,0,0,2,0,0,0,0,2,0,0,0,0,2,0,0,0,0,2,0,0,0,0,2,0,0,0,0,2,0,0,0,0,2,0,0,0,0,2,0,0,0,0,2,0,0,0,0,2,0,0,0,0,2,0,0,0,0,2,0,0,0,0,2,0,0,0,0,2,0,0,0,0,2,0,0,0,0,2,0,0,0,0,2,0,0,0,0,2,0,0,{"$f":"'Vorrunde 25-48'!HC43","v":0},0]
[null,null,null,null,null,null,null,null,null,null,null,null,null,null,{"$f":"IF('Vorrunde 01-24'!O44<>\"\",'Vorrunde 01-24'!O44,\"\")","v":""},null,":",null,null,":",null,null,":",null,null,":",null,null,":",null,null,":",null,null,":",null,null,":",null,null,":",null,null,":",null,null,":",null,null,":",null,null,":",null,null,":",null,null,":",null,null,":",null,null,":",null,null,":",null,null,":",null,null,":",null,null,":",null,null,":",null,null,":",null,null,":",null,"",0,0,0,2,0,0,0,0,2,0,0,0,0,2,0,0,0,0,2,0,0,0,0,2,0,0,0,0,2,0,0,0,0,2,0,0,0,0,2,0,0,0,0,2,0,0,0,0,2,0,0,0,0,2,0,0,0,0,2,0,0,0,0,2,0,0,0,0,2,0,0,0,0,2,0,0,0,0,2,0,0,0,0,2,0,0,0,0,2,0,0,0,0,2,0,0,0,0,2,0,0,0,0,2,0,0,0,0,2,0,0,0,0,2,0,0,0,0,2,0,0,{"$f":"'Vorrunde 25-48'!HC44","v":0},0]
[null,null,null,null,null,null,null,null,null,null,null,null,null,null,{"$f":"IF('Vorrunde 01-24'!O45<>\"\",'Vorrunde 01-24'!O45,\"\")","v":""},null,":",null,null,":",null,null,":",null,null,":",null,null,":",null,null,":",null,null,":",null,null,":",null,null,":",null,null,":",null,null,":",null,null,":",null,null,":",null,null,":",null,null,":",null,null,":",null,null,":",null,null,":",null,null,":",null,null,":",null,null,":",null,null,":",null,null,":",null,null,":",null,"",0,0,0,2,0,0,0,0,2,0,0,0,0,2,0,0,0,0,2,0,0,0,0,2,0,0,0,0,2,0,0,0,0,2,0,0,0,0,2,0,0,0,0,2,0,0,0,0,2,0,0,0,0,2,0,0,0,0,2,0,0,0,0,2,0,0,0,0,2,0,0,0,0,2,0,0,0,0,2,0,0,0,0,2,0,0,0,0,2,0,0,0,0,2,0,0,0,0,2,0,0,0,0,2,0,0,0,0,2,0,0,0,0,2,0,0,0,0,2,0,0,{"$f":"'Vorrunde 25-48'!HC45","v":0},0]
[null,null,null,null,null,null,null,null,null,null,null,null,null,null,{"$f":"IF('Vorrunde 01-24'!O46<>\"\",'Vorrunde 01-24'!O46,\"\")","v":""},null,":",null,null,":",null,null,":",null,null,":",null,null,":",null,null,":",null,null,":",null,null,":",null,null,":",null,null,":",null,null,":",null,null,":",null,null,":",null,null,":",null,null,":",null,null,":",null,null,":",null,null,":",null,null,":",null,null,":",null,null,":",null,null,":",null,null,":",null,null,":",null,"",0,0,0,2,0,0,0,0,2,0,0,0,0,2,0,0,0,0,2,0,0,0,0,2,0,0,0,0,2,0,0,0,0,2,0,0,0,0,2,0,0,0,0,2,0,0,0,0,2,0,0,0,0,2,0,0,0,0,2,0,0,0,0,2,0,0,0,0,2,0,0,0,0,2,0,0,0,0,2,0,0,0,0,2,0,0,0,0,2,0,0,0,0,2,0,0,0,0,2,0,0,0,0,2,0,0,0,0,2,0,0,0,0,2,0,0,0,0,2,0,0,{"$f":"'Vorrunde 25-48'!HC46","v":0},0]
[null,null,null,null,null,null,null,null,null,null,null,null,null,null,{"$f":"IF('Vorrunde 01-24'!O47<>\"\",'Vorrunde 01-24'!O47,\"\")","v":""},null,":",null,null,":",null,null,":",null,null,":",null,null,":",null,null,":",null,null,":",null,null,":",null,null,":",null,null,":",null,null,":",null,null,":",null,null,":",null,null,":",null,null,":",null,null,":",null,null,":",null,null,":",null,null,":",null,null,":",null,null,":",null,null,":",null,null,":",null,null,":",null,"",0,0,0,2,0,0,0,0,2,0,0,0,0,2,0,0,0,0,2,0,0,0,0,2,0,0,0,0,2,0,0,0,0,2,0,0,0,0,2,0,0,0,0,2,0,0,0,0,2,0,0,0,0,2,0,0,0,0,2,0,0,0,0,2,0,0,0,0,2,0,0,0,0,2,0,0,0,0,2,0,0,0,0,2,0,0,0,0,2,0,0,0,0,2,0,0,0,0,2,0,0,0,0,2,0,0,0,0,2,0,0,0,0,2,0,0,0,0,2,0,0,{"$f":"'Vorrunde 25-48'!HC47","v":0},0]
[null,null,null,null,null,null,null,null,null,null,null,null,null,null,{"$f":"IF('Vorrunde 01-24'!O48<>\"\",'Vorrunde 01-24'!O48,\"\")","v":""},null,":",null,null,":",null,null,":",null,null,":",null,null,":",null,null,":",null,null,":",null,null,":",null,null,":",null,null,":",null,null,":",null,null,":",null,null,":",null,null,":",null,null,":",null,null,":",null,null,":",null,null,":",null,null,":",null,null,":",null,null,":",null,null,":",null,null,":",null,null,":",null,"",0,0,0,2,0,0,0,0,2,0,0,0,0,2,0,0,0,0,2,0,0,0,0,2,0,0,0,0,2,0,0,0,0,2,0,0,0,0,2,0,0,0,0,2,0,0,0,0,2,0,0,0,0,2,0,0,0,0,2,0,0,0,0,2,0,0,0,0,2,0,0,0,0,2,0,0,0,0,2,0,0,0,0,2,0,0,0,0,2,0,0,0,0,2,0,0,0,0,2,0,0,0,0,2,0,0,0,0,2,0,0,0,0,2,0,0,0,0,2,0,0,{"$f":"'Vorrunde 25-48'!HC48","v":0},0]
[null,null,null,null,null,null,null,null,null,null,null,null,null,null,{"$f":"IF('Vorrunde 01-24'!O49<>\"\",'Vorrunde 01-24'!O49,\"\")","v":""},null,":",null,null,":",null,null,":",null,null,":",null,null,":",null,null,":",null,null,":",null,null,":",null,null,":",null,null,":",null,null,":",null,null,":",null,null,":",null,null,":",null,null,":",null,null,":",null,null,":",null,null,":",null,null,":",null,null,":",null,null,":",null,null,":",null,null,":",null,null,":",null,"",0,0,0,2,0,0,0,0,2,0,0,0,0,2,0,0,0,0,2,0,0,0,0,2,0,0,0,0,2,0,0,0,0,2,0,0,0,0,2,0,0,0,0,2,0,0,0,0,2,0,0,0,0,2,0,0,0,0,2,0,0,0,0,2,0,0,0,0,2,0,0,0,0,2,0,0,0,0,2,0,0,0,0,2,0,0,0,0,2,0,0,0,0,2,0,0,0,0,2,0,0,0,0,2,0,0,0,0,2,0,0,0,0,2,0,0,0,0,2,0,0,{"$f":"'Vorrunde 25-48'!HC49","v":0},0]
[null,null,null,null,null,null,null,null,null,null,null,null,null,null,{"$f":"IF('Vorrunde 01-24'!O50<>\"\",'Vorrunde 01-24'!O50,\"\")","v":""},null,":",null,null,":",null,null,":",null,null,":",null,null,":",null,null,":",null,null,":",null,null,":",null,null,":",null,null,":",null,null,":",null,null,":",null,null,":",null,null,":",null,null,":",null,null,":",null,null,":",null,null,":",null,null,":",null,null,":",null,null,":",null,null,":",null,null,":",null,null,":",null,"",0,0,0,2,0,0,0,0,2,0,0,0,0,2,0,0,0,0,2,0,0,0,0,2,0,0,0,0,2,0,0,0,0,2,0,0,0,0,2,0,0,0,0,2,0,0,0,0,2,0,0,0,0,2,0,0,0,0,2,0,0,0,0,2,0,0,0,0,2,0,0,0,0,2,0,0,0,0,2,0,0,0,0,2,0,0,0,0,2,0,0,0,0,2,0,0,0,0,2,0,0,0,0,2,0,0,0,0,2,0,0,0,0,2,0,0,0,0,2,0,0,{"$f":"'Vorrunde 25-48'!HC50","v":0},0]
[null,null,null,null,null,null,null,null,null,null,null,null,null,null,{"$f":"IF('Vorrunde 01-24'!O51<>\"\",'Vorrunde 01-24'!O51,\"\")","v":""},null,":",null,null,":",null,null,":",null,null,":",null,null,":",null,null,":",null,null,":",null,null,":",null,null,":",null,null,":",null,null,":",null,null,":",null,null,":",null,null,":",null,null,":",null,null,":",null,null,":",null,null,":",null,null,":",null,null,":",null,null,":",null,null,":",null,null,":",null,null,":",null,"",0,0,0,2,0,0,0,0,2,0,0,0,0,2,0,0,0,0,2,0,0,0,0,2,0,0,0,0,2,0,0,0,0,2,0,0,0,0,2,0,0,0,0,2,0,0,0,0,2,0,0,0,0,2,0,0,0,0,2,0,0,0,0,2,0,0,0,0,2,0,0,0,0,2,0,0,0,0,2,0,0,0,0,2,0,0,0,0,2,0,0,0,0,2,0,0,0,0,2,0,0,0,0,2,0,0,0,0,2,0,0,0,0,2,0,0,0,0,2,0,0,{"$f":"'Vorrunde 25-48'!HC51","v":0},0]
[null,null,null,null,null,null,null,null,null,null,null,null,null,null,{"$f":"IF('Vorrunde 01-24'!O52<>\"\",'Vorrunde 01-24'!O52,\"\")","v":""},null,":",null,null,":",null,null,":",null,null,":",null,null,":",null,null,":",null,null,":",null,null,":",null,null,":",null,null,":",null,null,":",null,null,":",null,null,":",null,null,":",null,null,":",null,null,":",null,null,":",null,null,":",null,null,":",null,null,":",null,null,":",null,null,":",null,null,":",null,null,":",null,"",0,0,0,2,0,0,0,0,2,0,0,0,0,2,0,0,0,0,2,0,0,0,0,2,0,0,0,0,2,0,0,0,0,2,0,0,0,0,2,0,0,0,0,2,0,0,0,0,2,0,0,0,0,2,0,0,0,0,2,0,0,0,0,2,0,0,0,0,2,0,0,0,0,2,0,0,0,0,2,0,0,0,0,2,0,0,0,0,2,0,0,0,0,2,0,0,0,0,2,0,0,0,0,2,0,0,0,0,2,0,0,0,0,2,0,0,0,0,2,0,0,{"$f":"'Vorrunde 25-48'!HC52","v":0},0]
[null,null,null,null,null,null,null,null,null,null,null,null,null,null,{"$f":"IF('Vorrunde 01-24'!O53<>\"\",'Vorrunde 01-24'!O53,\"\")","v":""},null,":",null,null,":",null,null,":",null,null,":",null,null,":",null,null,":",null,null,":",null,null,":",null,null,":",null,null,":",null,null,":",null,null,":",null,null,":",null,null,":",null,null,":",null,null,":",null,null,":",null,null,":",null,null,":",null,null,":",null,null,":",null,null,":",null,null,":",null,null,":",null,"",0,0,0,2,0,0,0,0,2,0,0,0,0,2,0,0,0,0,2,0,0,0,0,2,0,0,0,0,2,0,0,0,0,2,0,0,0,0,2,0,0,0,0,2,0,0,0,0,2,0,0,0,0,2,0,0,0,0,2,0,0,0,0,2,0,0,0,0,2,0,0,0,0,2,0,0,0,0,2,0,0,0,0,2,0,0,0,0,2,0,0,0,0,2,0,0,0,0,2,0,0,0,0,2,0,0,0,0,2,0,0,0,0,2,0,0,0,0,2,0,0,{"$f":"'Vorrunde 25-48'!HC53","v":0},0]
[null,null,null,null,null,null,null,null,null,null,null,null,null,null,{"$f":"IF('Vorrunde 01-24'!O54<>\"\",'Vorrunde 01-24'!O54,\"\")","v":""},null,":",null,null,":",null,null,":",null,null,":",null,null,":",null,null,":",null,null,":",null,null,":",null,null,":",null,null,":",null,null,":",null,null,":",null,null,":",null,null,":",null,null,":",null,null,":",null,null,":",null,null,":",null,null,":",null,null,":",null,null,":",null,null,":",null,null,":",null,null,":",null,"",0,0,0,2,0,0,0,0,2,0,0,0,0,2,0,0,0,0,2,0,0,0,0,2,0,0,0,0,2,0,0,0,0,2,0,0,0,0,2,0,0,0,0,2,0,0,0,0,2,0,0,0,0,2,0,0,0,0,2,0,0,0,0,2,0,0,0,0,2,0,0,0,0,2,0,0,0,0,2,0,0,0,0,2,0,0,0,0,2,0,0,0,0,2,0,0,0,0,2,0,0,0,0,2,0,0,0,0,2,0,0,0,0,2,0,0,0,0,2,0,0,{"$f":"'Vorrunde 25-48'!HC54","v":0},0]
[null,null,null,null,null,null,null,null,null,null,null,null,null,null,{"$f":"IF('Vorrunde 01-24'!O55<>\"\",'Vorrunde 01-24'!O55,\"\")","v":""},null,":",null,null,":",null,null,":",null,null,":",null,null,":",null,null,":",null,null,":",null,null,":",null,null,":",null,null,":",null,null,":",null,null,":",null,null,":",null,null,":",null,null,":",null,null,":",null,null,":",null,null,":",null,null,":",null,null,":",null,null,":",null,null,":",null,null,":",null,null,":",null,"",0,0,0,2,0,0,0,0,2,0,0,0,0,2,0,0,0,0,2,0,0,0,0,2,0,0,0,0,2,0,0,0,0,2,0,0,0,0,2,0,0,0,0,2,0,0,0,0,2,0,0,0,0,2,0,0,0,0,2,0,0,0,0,2,0,0,0,0,2,0,0,0,0,2,0,0,0,0,2,0,0,0,0,2,0,0,0,0,2,0,0,0,0,2,0,0,0,0,2,0,0,0,0,2,0,0,0,0,2,0,0,0,0,2,0,0,0,0,2,0,0,{"$f":"'Vorrunde 25-48'!HC55","v":0},0]
[null,null,null,null,null,null,null,null,null,null,null,null,null,null,"Ergebnis",{"$f":"IF($H$2=\"\",\"-\",$H$2)","v":"-"},":",{"$f":"IF($J$2=\"\",\"-\",$J$2)","v":"-"},{"$f":"IF($H$3=\"\",\"-\",$H$3)","v":"-"},":",{"$f":"IF($J$3=\"\",\"-\",$J$3)","v":"-"},{"$f":"IF($H$4=\"\",\"-\",$H$4)","v":"-"},":",{"$f":"IF($J$4=\"\",\"-\",$J$4)","v":"-"},{"$f":"IF($H$5=\"\",\"-\",$H$5)","v":"-"},":",{"$f":"IF($J$5=\"\",\"-\",$J$5)","v":"-"},{"$f":"IF($H$6=\"\",\"-\",$H$6)","v":"-"},":",{"$f":"IF($J$6=\"\",\"-\",$J$6)","v":"-"},{"$f":"IF($H$7=\"\",\"-\",$H$7)","v":"-"},":",{"$f":"IF($J$7=\"\",\"-\",$J$7)","v":"-"},{"$f":"IF($H$8=\"\",\"-\",$H$8)","v":"-"},":",{"$f":"IF($J$8=\"\",\"-\",$J$8)","v":"-"},{"$f":"IF($H$9=\"\",\"-\",$H$9)","v":"-"},":",{"$f":"IF($J$9=\"\",\"-\",$J$9)","v":"-"},{"$f":"IF($H$10=\"\",\"-\",$H$10)","v":"-"},":",{"$f":"IF($J$10=\"\",\"-\",$J$10)","v":"-"},{"$f":"IF($H$11=\"\",\"-\",$H$11)","v":"-"},":",{"$f":"IF($J$11=\"\",\"-\",$J$11)","v":"-"},{"$f":"IF($H$12=\"\",\"-\",$H$12)","v":"-"},":",{"$f":"IF($J$12=\"\",\"-\",$J$12)","v":"-"},{"$f":"IF($H$13=\"\",\"-\",$H$13)","v":"-"},":",{"$f":"IF($J$13=\"\",\"-\",$J$13)","v":"-"},{"$f":"IF($H$14=\"\",\"-\",$H$14)","v":"-"},":",{"$f":"IF($J$14=\"\",\"-\",$J$14)","v":"-"},{"$f":"IF($H$15=\"\",\"-\",$H$15)","v":"-"},":",{"$f":"IF($J$15=\"\",\"-\",$J$15)","v":"-"},{"$f":"IF($H$16=\"\",\"-\",$H$16)","v":"-"},":",{"$f":"IF($J$16=\"\",\"-\",$J$16)","v":"-"},{"$f":"IF($H$17=\"\",\"-\",$H$17)","v":"-"},":",{"$f":"IF($J$17=\"\",\"-\",$J$17)","v":"-"},{"$f":"IF($H$18=\"\",\"-\",$H$18)","v":"-"},":",{"$f":"IF($J$18=\"\",\"-\",$J$18)","v":"-"},{"$f":"IF($H$19=\"\",\"-\",$H$19)","v":"-"},":",{"$f":"IF($J$19=\"\",\"-\",$J$19)","v":"-"},{"$f":"IF($H$20=\"\",\"-\",$H$20)","v":"-"},":",{"$f":"IF($J$20=\"\",\"-\",$J$20)","v":"-"},{"$f":"IF($H$21=\"\",\"-\",$H$21)","v":"-"},":",{"$f":"IF($J$21=\"\",\"-\",$J$21)","v":"-"},{"$f":"IF($H$22=\"\",\"-\",$H$22)","v":"-"},":",{"$f":"IF($J$22=\"\",\"-\",$J$22)","v":"-"},{"$f":"IF($H$23=\"\",\"-\",$H$23)","v":"-"},":",{"$f":"IF($J$23=\"\",\"-\",$J$23)","v":"-"},{"$f":"IF($H$24=\"\",\"-\",$H$24)","v":"-"},":",{"$f":"IF($J$24=\"\",\"-\",$J$24)","v":"-"},{"$f":"IF($H$25=\"\",\"-\",$H$25)","v":"-"},":",{"$f":"IF($J$25=\"\",\"-\",$J$25)","v":"-"},"VORRUNDE","Spiel 01",null,null,null,null,"Spiel 02",null,null,null,null,"Spiel 03",null,null,null,null,"Spiel 04",null,null,null,null,"Spiel 05",null,null,null,null,"Spiel 06",null,null,null,null,"Spiel 07",null,null,null,null,"Spiel 08",null,null,null,null,"Spiel 09",null,null,null,null,"Spiel 10",null,null,null,null,"Spiel 11",null,null,null,null,"Spiel 12",null,null,null,null,"Spiel 13",null,null,null,null,"Spiel 14",null,null,null,null,"Spiel 15",null,null,null,null,"Spiel 16",null,null,null,null,"Spiel 17",null,null,null,null,"Spiel 18",null,null,null,null,"Spiel 19",null,null,null,null,"Spiel 20",null,null,null,null,"Spiel 21",null,null,null,null,"Spiel 22",null,null,null,null,"Spiel 23",null,null,null,null,"Spiel 24"]
[null,null,null,null,null,null,null,null,null,null,null,null,null,null,"VORRUNDE",{"$f":"$B$2","v":46197.875},{"$f":"$K$2","v":"Kanada / BC Place Stadium (Vancouver)"},"Gruppe  B",{"$f":"$B$3","v":46197.875},{"$f":"$K$3","v":"USA / Lumen Field (Seattle)"},"Gruppe  B",{"$f":"$B$4","v":46198},{"$f":"$K$4","v":"USA / Hard Rock Stadium (Miami)"},"Gruppe  C",{"$f":"$B$5","v":46198},{"$f":"$K$5","v":"USA / Mercedes-Benz Stadium (Atlanta)"},"Gruppe  C",{"$f":"$B$6","v":46198.125},{"$f":"$K$6","v":"Mexiko / Azteca (Mexico City)"},"Gruppe  A",{"$f":"$B$7","v":46198.125},{"$f":"$K$7","v":"Mexiko / Estadio BBVA (Monterrey)"},"Gruppe  A",{"$f":"$B$8","v":46198.916666666664},{"$f":"$K$8","v":"USA / Lincoln Financial Field (Philadelphia)"},"Gruppe  E",{"$f":"$B$9","v":46198.916666666664},{"$f":"$K$9","v":"USA / MetLife Stadium (New York/New Jersey)"},"Gruppe  E",{"$f":"$B$10","v":46199.041666666664},{"$f":"$K$10","v":"USA / AT&T Stadium (Dallas)"},"Gruppe  F",{"$f":"$B$11","v":46199.041666666664},{"$f":"$K$11","v":"USA / Arrowhead Stadium (Kansas City)"},"Gruppe  F",{"$f":"$B$12","v":46199.166666666664},{"$f":"$K$12","v":"USA / SoFi Stadium (Los Angeles)"},"Gruppe  D",{"$f":"$B$13","v":46199.166666666664},{"$f":"$K$13","v":"USA / Levi's Stadium (San Francisco Bay Area)"},"Gruppe  D",{"$f":"$B$14","v":46199.875},{"$f":"$K$14","v":"USA / Gillette Stadium (Boston)"},"Gruppe  I",{"$f":"$B$15","v":46199.875},{"$f":"$K$15","v":"Kanada / BMO Field (Toronto)"},"Gruppe  I",{"$f":"$B$16","v":46200.083333333336},{"$f":"$K$16","v":"USA / NRG Stadium (Houston)"},"Gruppe  H",{"$f":"$B$17","v":46200.083333333336},{"$f":"$K$17","v":"Mexiko / Estadio Akron (Guadalajara)"},"Gruppe  H",{"$f":"$B$18","v":46200.208333333336},{"$f":"$K$18","v":"USA / Lumen Field (Seattle)"},"Gruppe  G",{"$f":"$B$19","v":46200.208333333336},{"$f":"$K$19","v":"Kanada / BC Place Stadium (Vancouver)"},"Gruppe  G",{"$f":"$B$20","v":46200.958333333336},{"$f":"$K$20","v":"USA / MetLife Stadium (New York/New Jersey)"},"Gruppe  L",{"$f":"$B$21","v":46200.958333333336},{"$f":"$K$21","v":"USA / Lincoln Financial Field (Philadelphia)"},"Gruppe  L",{"$f":"$B$22","v":46201.0625},{"$f":"$K$22","v":"USA / Hard Rock Stadium (Miami)"},"Gruppe  K",{"$f":"$B$23","v":46201.0625},{"$f":"$K$23","v":"USA / Mercedes-Benz Stadium (Atlanta)"},"Gruppe  K",{"$f":"$B$24","v":46201.166666666664},{"$f":"$K$24","v":"USA / Arrowhead Stadium (Kansas City)"},"Gruppe  J",{"$f":"$B$25","v":46201.166666666664},{"$f":"$K$25","v":"USA / AT&T Stadium (Dallas)"},"Gruppe  J",null,null,null,null,null,null,null,null,null,null,null,null,null,null,null,null,null,null,null,null,null,null,null,null,null,null,null,null,null,null,null,null,null,null,null,null,null,null,null,null,null,null,null,null,null,null,null,null,null,null,null,null,null,null,null,null,null,null,null,null,null,null,null,null,null,null,null,null,null,null,null,null,null,null,null,null,null,null,null,null,null,null,null,null,null,null,null,null,null,null,null,null,null,null,null,null,null,null,null,null,null,null,null,null,null,null,null,null,null,null,null,null,null,null,null,null,null,null,null,null,null,"Stand vom :"]
[null,null,null,null,null,null,null,null,null,null,null,null,null,null,null,{"$f":"$A$2","v":"2026-06-24T21:00:00"},null,{"$f":"$C$2","v":46197.5},{"$f":"$A$3","v":"2026-06-24T21:00:00"},null,{"$f":"$C$3","v":46197.5},{"$f":"$A$4","v":"2026-06-25"},null,{"$f":"$C$4","v":46197.75},{"$f":"$A$5","v":"2026-06-25"},null,{"$f":"$C$5","v":46197.75},{"$f":"$A$6","v":"2026-06-25T03:00:00"},null,{"$f":"$C$6","v":46197.791666666664},{"$f":"$A$7","v":"2026-06-25T03:00:00"},null,{"$f":"$C$7","v":46197.791666666664},{"$f":"$A$8","v":"2026-06-25T22:00:00"},null,{"$f":"$C$8","v":46198.666666666664},{"$f":"$A$9","v":"2026-06-25T22:00:00"},null,{"$f":"$C$9","v":46198.666666666664},{"$f":"$A$10","v":"2026-06-26T01:00:00"},null,{"$f":"$C$10","v":46198.75},{"$f":"$A$11","v":"2026-06-26T01:00:00"},null,{"$f":"$C$11","v":46198.75},{"$f":"$A$12","v":"2026-06-26T04:00:00"},null,{"$f":"$C$12","v":46198.791666666664},{"$f":"$A$13","v":"2026-06-26T04:00:00"},null,{"$f":"$C$13","v":46198.791666666664},{"$f":"$A$14","v":"2026-06-26T21:00:00"},null,{"$f":"$C$14","v":46199.625},{"$f":"$A$15","v":"2026-06-26T21:00:00"},null,{"$f":"$C$15","v":46199.625},{"$f":"$A$16","v":"2026-06-27T02:00:00"},null,{"$f":"$C$16","v":46199.791666666664},{"$f":"$A$17","v":"2026-06-27T02:00:00"},null,{"$f":"$C$17","v":46199.75},{"$f":"$A$18","v":"2026-06-27T05:00:00"},null,{"$f":"$C$18","v":46199.833333333336},{"$f":"$A$19","v":"2026-06-27T05:00:00"},null,{"$f":"$C$19","v":46199.833333333336},{"$f":"$A$20","v":"2026-06-27T23:00:00"},null,{"$f":"$C$20","v":46200.708333333336},{"$f":"$A$21","v":"2026-06-27T23:00:00"},null,{"$f":"$C$21","v":46200.708333333336},{"$f":"$A$22","v":"2026-06-28T01:30:00"},null,{"$f":"$C$22","v":46200.8125},{"$f":"$A$23","v":"2026-06-28T01:30:00"},null,{"$f":"$C$23","v":46200.8125},{"$f":"$A$24","v":"2026-06-28T04:00:00"},null,{"$f":"$C$24","v":46200.875},{"$f":"$A$25","v":"2026-06-28T04:00:00"},null,{"$f":"$C$25","v":46200.875},null,null,null,null,null,null,null,null,null,null,null,null,null,null,null,null,null,null,null,null,null,null,null,null,null,null,null,null,null,null,null,null,null,null,null,null,null,null,null,null,null,null,null,null,null,null,null,null,null,null,null,null,null,null,null,null,null,null,null,null,null,null,null,null,null,null,null,null,null,null,null,null,null,null,null,null,null,null,null,null,null,null,null,null,null,null,null,null,null,null,null,null,null,null,null,null,null,null,null,null,null,null,null,null,null,null,null,null,null,null,null,null,null,null,null,null,null,null,null,null,null,{"$f":"TODAY()","v":"2026-05-19"}]

{"sheet":"Vorrunde (Tabellen)","index":3,"n_rows":497,"n_cols":101,"rows_kept":497,"cut":false,"hidden":false,"merged":[[113,1,113,5],[114,1,114,5],[90,1,90,5],[91,1,91,5],[92,1,92,5],[93,1,93,5],[94,1,94,5],[95,1,95,5],[96,1,96,5],[97,1,97,5],[98,1,98,5],[99,1,99,5],[100,1,100,5],[101,1,101,5],[102,1,102,5],[103,1,103,5],[104,1,104,5],[105,1,105,5],[111,1,111,5],[112,1,112,5],[107,1,107,5],[108,1,108,5],[109,1,109,5],[110,1,110,5],[74,1,74,5],[75,1,75,5],[76,1,76,5],[77,1,77,5],[78,1,78,5],[79,1,79,5],[80,1,80,5],[81,1,81,5],[106,1,106,5],[82,1,82,5],[83,1,83,5],[84,1,84,5],[85,1,85,5],[86,1,86,5],[87,1,87,5],[88,1,88,5],[89,1,89,5],[73,1,73,5],[56,1,56,5],[57,1,57,5],[58,1,58,5],[59,1,59,5],[60,1,60,5],[61,1,61,5],[62,1,62,5],[63,1,63,5],[64,1,64,5],[65,1,65,5],[66,1,66,5],[67,1,67,5],[68,1,68,5],[69,1,69,5],[70,1,70,5],[71,1,71,5],[72,1,72,5],[55,1,55,5],[51,1,51,5],[52,1,52,5],[53,1,53,5],[54,1,54,5],[47,1,47,2],[47,6,47,7],[47,9,47,11],[48,1,48,2],[48,6,48,7],[48,9,48,11],[50,1,50,5],[50,9,50,29],[53,9,53,29],[35,0,35,11],[36,1,36,2],[36,3,36,5],[36,6,36,7],[36,9,36,11],[37,9,37,11],[37,1,37,2],[37,6,37,7],[46,1,46,2],[46,6,46,7],[46,9,46,11],[44,1,44,2],[44,6,44,7],[44,9,44,11],[38,1,38,2],[38,6,38,7],[38,9,38,11],[39,1,39,2],[39,6,39,7],[39,9,39,11],[40,1,40,2],[40,6,40,7],[40,9,40,11],[45,1,45,2],[45,6,45,7],[45,9,45,11],[43,1,43,2],[43,6,43,7],[43,9,43,11],[41,1,41,2],[41,6,41,7],[41,9,41,11],[42,1,42,2],[42,6,42,7],[42,9,42,11],[22,59,22,60],[22,61,22,63],[23,59,23,60],[24,59,24,60],[25,59,25,60],[19,59,19,60],[20,58,20,64],[21,58,21,60],[21,61,21,64],[16,59,16,60],[17,59,17,60],[18,59,18,60],[12,59,12,60],[13,58,13,64],[14,58,14,60],[14,61,14,64],[26,59,26,60],[0,61,0,64],[1,59,1,60],[1,61,1,63],[2,59,2,60],[3,59,3,60],[0,58,0,60],[4,59,4,60],[5,59,5,60],[6,58,6,64],[7,58,7,60],[7,61,7,64],[8,59,8,60],[8,61,8,63],[9,59,9,60],[10,59,10,60],[11,59,11,60],[15,1,15,2],[15,3,15,5],[15,59,15,60],[15,61,15,63],[25,1,25,2],[26,1,26,2],[19,1,19,2],[20,0,20,6],[21,0,21,2],[21,3,21,6],[22,1,22,2],[22,3,22,5],[23,1,23,2],[24,1,24,2],[16,1,16,2],[17,1,17,2],[18,1,18,2],[20,29,20,35],[15,30,15,31],[15,32,15,34],[16,30,16,31],[17,30,17,31],[18,30,18,31],[19,30,19,31],[13,0,13,6],[14,0,14,2],[14,3,14,6],[3,1,3,2],[4,1,4,2],[5,1,5,2],[0,29,0,31],[0,0,0,2],[0,3,0,6],[1,1,1,2],[1,3,1,5],[2,1,2,2],[13,29,13,35],[14,29,14,31],[14,32,14,35],[6,0,6,6],[7,0,7,2],[7,3,7,6],[8,1,8,2],[8,3,8,5],[9,1,9,2],[10,1,10,2],[11,1,11,2],[12,1,12,2],[25,30,25,31],[26,30,26,31],[21,29,21,31],[21,32,21,35],[22,30,22,31],[22,32,22,34],[23,30,23,31],[24,30,24,31],[0,32,0,35],[1,30,1,31],[1,32,1,34],[2,30,2,31],[3,30,3,31],[12,30,12,31],[4,30,4,31],[5,30,5,31],[6,29,6,35],[7,29,7,31],[7,32,7,35],[8,30,8,31],[8,32,8,34],[9,30,9,31],[10,30,10,31],[11,30,11,31],[50,37,50,40],[50,41,50,63],[51,9,51,29],[51,37,51,40],[51,41,51,43],[51,58,51,63],[52,9,52,29],[52,37,52,40],[52,41,52,43],[52,58,52,63],[53,37,53,40],[53,41,53,43],[53,58,53,63],[54,9,54,29],[54,37,54,40],[54,41,54,43],[54,58,54,63],[55,9,55,29],[55,37,55,40],[55,41,55,43],[55,58,55,63],[56,37,56,40],[56,41,56,43],[56,58,56,63],[57,9,57,29],[57,37,57,40],[57,41,57,43],[57,58,57,63],[58,9,58,29],[58,37,58,40],[58,41,58,43],[58,58,58,63],[56,9,56,29],[59,41,59,43],[60,9,60,29],[61,9,61,29],[62,9,62,29],[63,9,63,29],[64,9,64,29],[65,9,65,29],[66,9,66,29],[67,9,67,29],[59,9,59,29],[68,9,68,29],[69,9,69,29],[70,9,70,29],[71,9,71,29],[72,9,72,29],[73,9,73,29],[74,9,74,29],[75,9,75,29],[76,9,76,29],[77,9,77,29],[78,9,78,29],[79,9,79,29],[80,9,80,29],[81,9,81,29],[82,9,82,29],[83,9,83,29],[84,9,84,29],[85,9,85,29],[86,9,86,29],[87,9,87,29],[88,9,88,29],[89,9,89,29],[90,9,90,29],[91,9,91,29],[92,9,92,29],[93,9,93,29],[94,9,94,29],[95,9,95,29],[96,9,96,29],[97,9,97,29],[98,9,98,29],[99,9,99,29],[100,9,100,29],[101,9,101,29],[102,9,102,29],[103,9,103,29],[113,9,113,29],[114,9,114,29],[104,9,104,29],[105,9,105,29],[106,9,106,29],[107,9,107,29],[108,9,108,29],[109,9,109,29],[110,9,110,29],[111,9,111,29],[112,9,112,29]]}
[null,null,null,"Gruppe A",null,null,null," / ","Mexiko","-","Südafrika",{"$f":"IF('Vorrunde 01-24'!$H$2<>\"\",'Vorrunde 01-24'!$H$2,\"\")","v":""},":",{"$f":"IF('Vorrunde 01-24'!$J$2<>\"\",'Vorrunde 01-24'!$J$2,\"\")","v":""},null,null,null,null,null,null,null,null,null,null,null,null,null,null,null,null,null,null,"Gruppe E",null,null,null,null,"Deutschland","-","Curaçao",{"$f":"IF('Vorrunde 01-24'!$H$10<>\"\",'Vorrunde 01-24'!$H$10,\"\")","v":""},":",{"$f":"IF('Vorrunde 01-24'!$J$10<>\"\",'Vorrunde 01-24'!$J$10,\"\")","v":""},null,null,null,null,null,null,null,null,null,null,null,null,null,null,null,null,null,null,"Gruppe I",null,null,null,null,"Frankreich","-","Senegal",{"$f":"IF('Vorrunde 01-24'!$H$18<>\"\",'Vorrunde 01-24'!$H$18,\"\")","v":""},":",{"$f":"IF('Vorrunde 01-24'!$J$18<>\"\",'Vorrunde 01-24'!$J$18,\"\")","v":""},null,null,null,null,null,null,null,null,null,null,null,null,null,null,null,null,null,null,null,null,"Zuordnung","1. Gruppe A  vs.  3. Gruppe","1. Gruppe B  vs.  3. Gruppe","1. Gruppe D  vs.  3. Gruppe","1. Gruppe E  vs.  3. Gruppe","1. Gruppe G  vs.  3. Gruppe","1. Gruppe I  vs.  3. Gruppe","1. Gruppe K  vs.  3. Gruppe","1. Gruppe L  vs.  3. Gruppe"]
["PLATZ","MANNSCHAFT",null,"TORE",null,null,"PUNKTE",null,"Südkorea","-","Tschechien",{"$f":"IF('Vorrunde 01-24'!$H$3<>\"\",'Vorrunde 01-24'!$H$3,\"\")","v":""},":",{"$f":"IF('Vorrunde 01-24'!$J$3<>\"\",'Vorrunde 01-24'!$J$3,\"\")","v":""},null,null,null,null,null,null,null,null,null,null,null,null,null,null,null,"PLATZ","MANNSCHAFT",null,"TORE",null,null,"PUNKTE",null,"Elfenbeinküste","-","Ecuador",{"$f":"IF('Vorrunde 01-24'!$H$12<>\"\",'Vorrunde 01-24'!$H$12,\"\")","v":""},":",{"$f":"IF('Vorrunde 01-24'!$J$12<>\"\",'Vorrunde 01-24'!$J$12,\"\")","v":""},null,null,null,null,null,null,null,null,null,null,null,null,null,null,null,"PLATZ","MANNSCHAFT",null,"TORE",null,null,"PUNKTE",null,"Irak","-","Norwegen",{"$f":"IF('Vorrunde 01-24'!$H$19<>\"\",'Vorrunde 01-24'!$H$19,\"\")","v":""},":",{"$f":"IF('Vorrunde 01-24'!$J$19<>\"\",'Vorrunde 01-24'!$J$19,\"\")","v":""},null,null,null,null,null,null,null,null,null,null,null,null,null,null,null,null,null,null,null,null,"ABCDEFGH",{"$f":"$BB$26","v":"Saudi-Arabien"},{"$f":"$BB$19","v":"Iran"},{"$f":"$Y$12","v":"Katar"},{"$f":"$Y$19","v":"Haiti"},{"$f":"$Y$5","v":"Südkorea"},{"$f":"$BB$12","v":"Schweden"},{"$f":"$Y$26","v":"Australien"},{"$f":"$BB$5","v":"Elfenbeinküste"}]
[{"$f":"IF(L1<>\"\",\"1.\",\"\")","v":""},{"$f":"IF(Y3<>\"\",Y3,\"\")","v":"Mexiko"},null,{"$f":"IF(L1<>\"\",Z3,\"\")","v":""},":",{"$f":"IF(L1<>\"\",AA3,\"\")","v":""},{"$f":"IF(AC3<>\"\",AC3,\"\")","v":0},null,"Tschechien","-","Südafrika",{"$f":"IF('Vorrunde 25-48'!$H$2<>\"\",'Vorrunde 25-48'!$H$2,\"\")","v":""},":",{"$f":"IF('Vorrunde 25-48'!$J$2<>\"\",'Vorrunde 25-48'!$J$2,\"\")","v":""},null,{"$f":"SUM(L1,L4,N5)","v":0},{"$f":"SUM(N1,N4,L5)","v":0},{"$f":"IF(L1>N1,3,0)","v":0},{"$f":"IF(AND(L1=N1,N1<>\"\"),1,0)","v":0},{"$f":"IF(L4>N4,3,0)","v":0},{"$f":"IF(AND(L4=N4,N4<>\"\"),1,0)","v":0},{"$f":"IF(N5>L5,3,0)","v":0},{"$f":"IF(AND(N5=L5,N5<>\"\"),1,0)","v":0},{"$f":"SUM(R3:W3)","v":0},"Mexiko",{"$f":"$P$3","v":0},{"$f":"$Q$3","v":0},{"$f":"Z3-AA3","v":0},{"$f":"$X$3","v":0},{"$f":"IF(AO1<>\"\",\"1.\",\"\")","v":""},{"$f":"IF(BB3<>\"\",BB3,\"\")","v":"Deutschland"},null,{"$f":"IF(AO1<>\"\",BC3,\"\")","v":""},":",{"$f":"IF(AO1<>\"\",BD3,\"\")","v":""},{"$f":"IF(BF3<>\"\",BF3,\"\")","v":0},null,"Ecuador","-","Curaçao",{"$f":"IF('Vorrunde 25-48'!$H$12<>\"\",'Vorrunde 25-48'!$H$12,\"\")","v":""},":",{"$f":"IF('Vorrunde 25-48'!$J$12<>\"\",'Vorrunde 25-48'!$J$12,\"\")","v":""},null,{"$f":"SUM(AO1,AO4,AQ5)","v":0},{"$f":"SUM(AQ1,AQ4,AO5)","v":0},{"$f":"IF(AO1>AQ1,3,0)","v":0},{"$f":"IF(AND(AO1=AQ1,AQ1<>\"\"),1,0)","v":0},{"$f":"IF(AO4>AQ4,3,0)","v":0},{"$f":"IF(AND(AO4=AQ4,AQ4<>\"\"),1,0)","v":0},{"$f":"IF(AQ5>AO5,3,0)","v":0},{"$f":"IF(AND(AQ5=AO5,AQ5<>\"\"),1,0)","v":0},{"$f":"SUM(AU3:AZ3)","v":0},"Deutschland",{"$f":"$AS$3","v":0},{"$f":"$AT$3","v":0},{"$f":"BC3-BD3","v":0},{"$f":"$BA$3","v":0},{"$f":"IF(BR1<>\"\",\"1.\",\"\")","v":""},{"$f":"IF(CE3<>\"\",CE3,\"\")","v":"Frankreich"},null,{"$f":"IF(BR1<>\"\",CF3,\"\")","v":""},":",{"$f":"IF(BR1<>\"\",CG3,\"\")","v":""},{"$f":"IF(CI3<>\"\",CI3,\"\")","v":0},null,"Norwegen","-","Senegal",{"$f":"IF('Vorrunde 25-48'!$H$20<>\"\",'Vorrunde 25-48'!$H$20,\"\")","v":""},":",{"$f":"IF('Vorrunde 25-48'!$J$20<>\"\",'Vorrunde 25-48'!$J$20,\"\")","v":""},null,{"$f":"SUM(BR1,BR4,BT5)","v":0},{"$f":"SUM(BT1,BT4,BR5)","v":0},{"$f":"IF(BR1>BT1,3,0)","v":0},{"$f":"IF(AND(BR1=BT1,BT1<>\"\"),1,0)","v":0},{"$f":"IF(BR4>BT4,3,0)","v":0},{"$f":"IF(AND(BR4=BT4,BT4<>\"\"),1,0)","v":0},{"$f":"IF(BT5>BR5,3,0)","v":0},{"$f":"IF(AND(BT5=BR5,BT5<>\"\"),1,0)","v":0},{"$f":"SUM(BX3:CC3)","v":0},"Frankreich",{"$f":"$BV$3","v":0},{"$f":"$BW$3","v":0},{"$f":"CF3-CG3","v":0},{"$f":"$CD$3","v":0},null,null,null,null,null,"ABCDEFGI",{"$f":"$Y$19","v":"Haiti"},{"$f":"$BB$19","v":"Iran"},"Katar",{"$f":"$Y$26","v":"Australien"},"Südkorea","Schweden",{"$f":"$BB$5","v":"Elfenbeinküste"},{"$f":"$CE$5","v":"Irak"}]
[{"$f":"IF(L1<>\"\",\"2.\",\"\")","v":""},{"$f":"IF(Y4<>\"\",Y4,\"\")","v":"Südafrika"},null,{"$f":"IF(L1<>\"\",Z4,\"\")","v":""},":",{"$f":"IF(L1<>\"\",AA4,\"\")","v":""},{"$f":"IF(AC4<>\"\",AC4,\"\")","v":0},null,"Mexiko","-","Südkorea",{"$f":"IF('Vorrunde 25-48'!$H$5<>\"\",'Vorrunde 25-48'!$H$5,\"\")","v":""},":",{"$f":"IF('Vorrunde 25-48'!$J$5<>\"\",'Vorrunde 25-48'!$J$5,\"\")","v":""},null,{"$f":"SUM(N1,N3,L6)","v":0},{"$f":"SUM(L1,L3,N6)","v":0},{"$f":"IF(N1>L1,3,0)","v":0},{"$f":"IF(AND(N1=L1,N1<>\"\"),1,0)","v":0},{"$f":"IF(N3>L3,3,0)","v":0},{"$f":"IF(AND(N3=L3,N3<>\"\"),1,0)","v":0},{"$f":"IF(L6>N6,3,0)","v":0},{"$f":"IF(AND(L6=N6,N6<>\"\"),1,0)","v":0},{"$f":"SUM(R4:W4)","v":0},"Südafrika",{"$f":"$P$4","v":0},{"$f":"$Q$4","v":0},{"$f":"Z4-AA4","v":0},{"$f":"$X$4","v":0},{"$f":"IF(AO1<>\"\",\"2.\",\"\")","v":""},{"$f":"IF(BB4<>\"\",BB4,\"\")","v":"Curaçao"},null,{"$f":"IF(AO1<>\"\",BC4,\"\")","v":""},":",{"$f":"IF(AO1<>\"\",BD4,\"\")","v":""},{"$f":"IF(BF4<>\"\",BF4,\"\")","v":0},null,"Deutschland","-","Elfenbeinküste",{"$f":"IF('Vorrunde 25-48'!$H$11<>\"\",'Vorrunde 25-48'!$H$11,\"\")","v":""},":",{"$f":"IF('Vorrunde 25-48'!$J$11<>\"\",'Vorrunde 25-48'!$J$11,\"\")","v":""},null,{"$f":"SUM(AQ1,AQ3,AO6)","v":0},{"$f":"SUM(AO1,AO3,AQ6)","v":0},{"$f":"IF(AQ1>AO1,3,0)","v":0},{"$f":"IF(AND(AQ1=AO1,AQ1<>\"\"),1,0)","v":0},{"$f":"IF(AQ3>AO3,3,0)","v":0},{"$f":"IF(AND(AQ3=AO3,AQ3<>\"\"),1,0)","v":0},{"$f":"IF(AO6>AQ6,3,0)","v":0},{"$f":"IF(AND(AO6=AQ6,AQ6<>\"\"),1,0)","v":0},{"$f":"SUM(AU4:AZ4)","v":0},"Curaçao",{"$f":"$AS$4","v":0},{"$f":"$AT$4","v":0},{"$f":"BC4-BD4","v":0},{"$f":"$BA$4","v":0},{"$f":"IF(BR1<>\"\",\"2.\",\"\")","v":""},{"$f":"IF(CE4<>\"\",CE4,\"\")","v":"Senegal"},null,{"$f":"IF(BR1<>\"\",CF4,\"\")","v":""},":",{"$f":"IF(BR1<>\"\",CG4,\"\")","v":""},{"$f":"IF(CI4<>\"\",CI4,\"\")","v":0},null,"Frankreich","-","Irak",{"$f":"IF('Vorrunde 25-48'!$H$19<>\"\",'Vorrunde 25-48'!$H$19,\"\")","v":""},":",{"$f":"IF('Vorrunde 25-48'!$J$19<>\"\",'Vorrunde 25-48'!$J$19,\"\")","v":""},null,{"$f":"SUM(BT1,BT3,BR6)","v":0},{"$f":"SUM(BR1,BR3,BT6)","v":0},{"$f":"IF(BT1>BR1,3,0)","v":0},{"$f":"IF(AND(BT1=BR1,BT1<>\"\"),1,0)","v":0},{"$f":"IF(BT3>BR3,3,0)","v":0},{"$f":"IF(AND(BT3=BR3,BT3<>\"\"),1,0)","v":0},{"$f":"IF(BR6>BT6,3,0)","v":0},{"$f":"IF(AND(BR6=BT6,BT6<>\"\"),1,0)","v":0},{"$f":"SUM(BX4:CC4)","v":0},"Senegal",{"$f":"$BV$4","v":0},{"$f":"$BW$4","v":0},{"$f":"CF4-CG4","v":0},{"$f":"$CD$4","v":0},null,null,null,null,null,"ABCDEFGJ",{"$f":"$Y$19","v":"Haiti"},{"$f":"$BB$19","v":"Iran"},"Katar",{"$f":"$Y$26","v":"Australien"},"Südkorea","Schweden",{"$f":"$BB$5","v":"Elfenbeinküste"},{"$f":"$CE$12","v":"Österreich"}]
[{"$f":"IF(L1<>\"\",\"3.\",\"\")","v":""},{"$f":"IF(Y5<>\"\",Y5,\"\")","v":"Südkorea"},null,{"$f":"IF(L1<>\"\",Z5,\"\")","v":""},":",{"$f":"IF(L1<>\"\",AA5,\"\")","v":""},{"$f":"IF(AC5<>\"\",AC5,\"\")","v":0},null,"Tschechien","-","Mexiko",{"$f":"IF('Vorrunde 49-72'!$H$6<>\"\",'Vorrunde 49-72'!$H$6,\"\")","v":""},":",{"$f":"IF('Vorrunde 49-72'!$J$6<>\"\",'Vorrunde 49-72'!$J$6,\"\")","v":""},null,{"$f":"SUM(L2,N4,N6)","v":0},{"$f":"SUM(N2,L4,L6)","v":0},{"$f":"IF(L2>N2,3,0)","v":0},{"$f":"IF(AND(L2=N2,N2<>\"\"),1,0)","v":0},{"$f":"IF(N4>L4,3,0)","v":0},{"$f":"IF(AND(N4=L4,N4<>\"\"),1,0)","v":0},{"$f":"IF(N6>L6,3,0)","v":0},{"$f":"IF(AND(N6=L6,N6<>\"\"),1,0)","v":0},{"$f":"SUM(R5:W5)","v":0},"Südkorea",{"$f":"$P$5","v":0},{"$f":"$Q$5","v":0},{"$f":"Z5-AA5","v":0},{"$f":"$X$5","v":0},{"$f":"IF(AO1<>\"\",\"3.\",\"\")","v":""},{"$f":"IF(BB5<>\"\",BB5,\"\")","v":"Elfenbeinküste"},null,{"$f":"IF(AO1<>\"\",BC5,\"\")","v":""},":",{"$f":"IF(AO1<>\"\",BD5,\"\")","v":""},{"$f":"IF(BF5<>\"\",BF5,\"\")","v":0},null,"Ecuador","-","Deutschland",{"$f":"IF('Vorrunde 49-72'!$H$9<>\"\",'Vorrunde 49-72'!$H$9,\"\")","v":""},":",{"$f":"IF('Vorrunde 49-72'!$J$9<>\"\",'Vorrunde 49-72'!$J$9,\"\")","v":""},null,{"$f":"SUM(AO2,AQ4,AQ6)","v":0},{"$f":"SUM(AQ2,AO4,AO6)","v":0},{"$f":"IF(AO2>AQ2,3,0)","v":0},{"$f":"IF(AND(AO2=AQ2,AQ2<>\"\"),1,0)","v":0},{"$f":"IF(AQ4>AO4,3,0)","v":0},{"$f":"IF(AND(AQ4=AO4,AQ4<>\"\"),1,0)","v":0},{"$f":"IF(AQ6>AO6,3,0)","v":0},{"$f":"IF(AND(AQ6=AO6,AQ6<>\"\"),1,0)","v":0},{"$f":"SUM(AU5:AZ5)","v":0},"Elfenbeinküste",{"$f":"$AS$5","v":0},{"$f":"$AT$5","v":0},{"$f":"BC5-BD5","v":0},{"$f":"$BA$5","v":0},{"$f":"IF(BR1<>\"\",\"3.\",\"\")","v":""},{"$f":"IF(CE5<>\"\",CE5,\"\")","v":"Irak"},null,{"$f":"IF(BR1<>\"\",CF5,\"\")","v":""},":",{"$f":"IF(BR1<>\"\",CG5,\"\")","v":""},{"$f":"IF(CI5<>\"\",CI5,\"\")","v":0},null,"Norwegen","-","Frankreich",{"$f":"IF('Vorrunde 49-72'!$H$14<>\"\",'Vorrunde 49-72'!$H$14,\"\")","v":""},":",{"$f":"IF('Vorrunde 49-72'!$J$14<>\"\",'Vorrunde 49-72'!$J$14,\"\")","v":""},null,{"$f":"SUM(BR2,BT4,BT6)","v":0},{"$f":"SUM(BT2,BR4,BR6)","v":0},{"$f":"IF(BR2>BT2,3,0)","v":0},{"$f":"IF(AND(BR2=BT2,BT2<>\"\"),1,0)","v":0},{"$f":"IF(BT4>BR4,3,0)","v":0},{"$f":"IF(AND(BT4=BR4,BT4<>\"\"),1,0)","v":0},{"$f":"IF(BT6>BR6,3,0)","v":0},{"$f":"IF(AND(BT6=BR6,BT6<>\"\"),1,0)","v":0},{"$f":"SUM(BX5:CC5)","v":0},"Irak",{"$f":"$BV$5","v":0},{"$f":"$BW$5","v":0},{"$f":"CF5-CG5","v":0},{"$f":"$CD$5","v":0},null,null,null,null,null,"ABCDEFGK",{"$f":"$Y$19","v":"Haiti"},{"$f":"$BB$19","v":"Iran"},"Katar",{"$f":"$Y$26","v":"Australien"},"Südkorea","Schweden",{"$f":"$BB$5","v":"Elfenbeinküste"},{"$f":"$CE$19","v":"Usbekistan"}]
[{"$f":"IF(L1<>\"\",\"4.\",\"\")","v":""},{"$f":"IF(Y6<>\"\",Y6,\"\")","v":"Tschechien"},null,{"$f":"IF(L1<>\"\",Z6,\"\")","v":""},":",{"$f":"IF(L1<>\"\",AA6,\"\")","v":""},{"$f":"IF(AC6<>\"\",AC6,\"\")","v":0},null,"Südafrika","-","Südkorea",{"$f":"IF('Vorrunde 49-72'!$H$7<>\"\",'Vorrunde 49-72'!$H$7,\"\")","v":""},":",{"$f":"IF('Vorrunde 49-72'!$J$7<>\"\",'Vorrunde 49-72'!$J$7,\"\")","v":""},null,{"$f":"SUM(N2,L3,L5)","v":0},{"$f":"SUM(L2,N3,N5)","v":0},{"$f":"IF(N2>L2,3,0)","v":0},{"$f":"IF(AND(N2=L2,N2<>\"\"),1,0)","v":0},{"$f":"IF(L3>N3,3,0)","v":0},{"$f":"IF(AND(L3=N3,N3<>\"\"),1,0)","v":0},{"$f":"IF(L5>N5,3,0)","v":0},{"$f":"IF(AND(L5=N5,N5<>\"\"),1,0)","v":0},{"$f":"SUM(R6:W6)","v":0},"Tschechien",{"$f":"$P$6","v":0},{"$f":"$Q$6","v":0},{"$f":"Z6-AA6","v":0},{"$f":"$X$6","v":0},{"$f":"IF(AO1<>\"\",\"4.\",\"\")","v":""},{"$f":"IF(BB6<>\"\",BB6,\"\")","v":"Ecuador"},null,{"$f":"IF(AO1<>\"\",BC6,\"\")","v":""},":",{"$f":"IF(AO1<>\"\",BD6,\"\")","v":""},{"$f":"IF(BF6<>\"\",BF6,\"\")","v":0},null,"Curaçao","-","Elfenbeinküste",{"$f":"IF('Vorrunde 49-72'!$H$8<>\"\",'Vorrunde 49-72'!$H$8,\"\")","v":""},":",{"$f":"IF('Vorrunde 49-72'!$J$8<>\"\",'Vorrunde 49-72'!$J$8,\"\")","v":""},null,{"$f":"SUM(AQ2,AO3,AO5)","v":0},{"$f":"SUM(AO2,AQ3,AQ5)","v":0},{"$f":"IF(AQ2>AO2,3,0)","v":0},{"$f":"IF(AND(AQ2=AO2,AQ2<>\"\"),1,0)","v":0},{"$f":"IF(AO3>AQ3,3,0)","v":0},{"$f":"IF(AND(AO3=AQ3,AQ3<>\"\"),1,0)","v":0},{"$f":"IF(AO5>AQ5,3,0)","v":0},{"$f":"IF(AND(AO5=AQ5,AQ5<>\"\"),1,0)","v":0},{"$f":"SUM(AU6:AZ6)","v":0},"Ecuador",{"$f":"$AS$6","v":0},{"$f":"$AT$6","v":0},{"$f":"BC6-BD6","v":0},{"$f":"$BA$6","v":0},{"$f":"IF(BR1<>\"\",\"4.\",\"\")","v":""},{"$f":"IF(CE6<>\"\",CE6,\"\")","v":"Norwegen"},null,{"$f":"IF(BR1<>\"\",CF6,\"\")","v":""},":",{"$f":"IF(BR1<>\"\",CG6,\"\")","v":""},{"$f":"IF(CI6<>\"\",CI6,\"\")","v":0},null,"Senegal","-","Irak",{"$f":"IF('Vorrunde 49-72'!$H$15<>\"\",'Vorrunde 49-72'!$H$15,\"\")","v":""},":",{"$f":"IF('Vorrunde 49-72'!$J$15<>\"\",'Vorrunde 49-72'!$J$15,\"\")","v":""},null,{"$f":"SUM(BT2,BR3,BR5)","v":0},{"$f":"SUM(BR2,BT3,BT5)","v":0},{"$f":"IF(BT2>BR2,3,0)","v":0},{"$f":"IF(AND(BT2=BR2,BT2<>\"\"),1,0)","v":0},{"$f":"IF(BR3>BT3,3,0)","v":0},{"$f":"IF(AND(BR3=BT3,BT3<>\"\"),1,0)","v":0},{"$f":"IF(BR5>BT5,3,0)","v":0},{"$f":"IF(AND(BR5=BT5,BT5<>\"\"),1,0)","v":0},{"$f":"SUM(BX6:CC6)","v":0},"Norwegen",{"$f":"$BV$6","v":0},{"$f":"$BW$6","v":0},{"$f":"CF6-CG6","v":0},{"$f":"$CD$6","v":0},null,null,null,null,null,"ABCDEFGL",{"$f":"$Y$19","v":"Haiti"},{"$f":"$BB$19","v":"Iran"},"Katar",{"$f":"$Y$26","v":"Australien"},"Südkorea","Schweden",{"$f":"$CE$26","v":"Ghana"},{"$f":"$BB$5","v":"Elfenbeinküste"}]
[null,null,null,null,null,null,null,null,"",null,"",null,null,null,null,null,null,null,null,null,null,null,null,null,null,null,null,null,null,null,null,null,null,null,null,null,null,"",null,"",null,null,null,null,null,null,null,null,null,null,null,null,null,null,null,null,null,null,null,null,null,null,null,null,null,null,"",null,"",null,null,null,null,null,null,null,null,null,null,null,null,null,null,null,null,null,null,null,null,null,null,null,"ABCDEFHI",{"$f":"$BB$26","v":"Saudi-Arabien"},{"$f":"$BB$5","v":"Elfenbeinküste"},"Katar",{"$f":"$Y$19","v":"Haiti"},"Südkorea","Schweden",{"$f":"$Y$26","v":"Australien"},{"$f":"$CE$5","v":"Irak"}]
[null,null,null,"Gruppe B",null,null,null,null,"Kanada","-","Bosnien-Herzegowina",{"$f":"IF('Vorrunde 01-24'!$H$4<>\"\",'Vorrunde 01-24'!$H$4,\"\")","v":""},":",{"$f":"IF('Vorrunde 01-24'!$J$4<>\"\",'Vorrunde 01-24'!$J$4,\"\")","v":""},null,null,null,null,null,null,null,null,null,null,null,null,null,null,null,null,null,null,"Gruppe F",null,null,null,null,"Niederlande","-","Japan",{"$f":"IF('Vorrunde 01-24'!$H$11<>\"\",'Vorrunde 01-24'!$H$11,\"\")","v":""},":",{"$f":"IF('Vorrunde 01-24'!$J$11<>\"\",'Vorrunde 01-24'!$J$11,\"\")","v":""},null,null,null,null,null,null,null,null,null,null,null,null,null,null,null,null,null,null,"Gruppe J",null,null,null,null,"Argentinien","-","Algerien",{"$f":"IF('Vorrunde 01-24'!$H$20<>\"\",'Vorrunde 01-24'!$H$20,\"\")","v":""},":",{"$f":"IF('Vorrunde 01-24'!$J$20<>\"\",'Vorrunde 01-24'!$J$20,\"\")","v":""},null,null,null,null,null,null,null,null,null,null,null,null,null,null,null,null,null,null,null,null,"ABCDEFHJ",{"$f":"$BB$26","v":"Saudi-Arabien"},{"$f":"$CE$12","v":"Österreich"},"Katar",{"$f":"$Y$19","v":"Haiti"},"Südkorea","Schweden",{"$f":"$Y$26","v":"Australien"},{"$f":"$BB$5","v":"Elfenbeinküste"}]
["PLATZ","MANNSCHAFT",null,"TORE",null,null,"PUNKTE",null,"Katar","-","Schweiz",{"$f":"IF('Vorrunde 01-24'!$H$6<>\"\",'Vorrunde 01-24'!$H$6,\"\")","v":""},":",{"$f":"IF('Vorrunde 01-24'!$J$6<>\"\",'Vorrunde 01-24'!$J$6,\"\")","v":""},null,null,null,null,null,null,null,null,null,null,null,null,null,null,null,"PLATZ","MANNSCHAFT",null,"TORE",null,null,"PUNKTE",null,"Schweden","-","Tunesien",{"$f":"IF('Vorrunde 01-24'!$H$13<>\"\",'Vorrunde 01-24'!$H$13,\"\")","v":""},":",{"$f":"IF('Vorrunde 01-24'!$J$13<>\"\",'Vorrunde 01-24'!$J$13,\"\")","v":""},null,null,null,null,null,null,null,null,null,null,null,null,null,null,null,"PLATZ","MANNSCHAFT",null,"TORE",null,null,"PUNKTE",null,"Österreich","-","Jordanien",{"$f":"IF('Vorrunde 01-24'!$H$21<>\"\",'Vorrunde 01-24'!$H$21,\"\")","v":""},":",{"$f":"IF('Vorrunde 01-24'!$J$21<>\"\",'Vorrunde 01-24'!$J$21,\"\")","v":""},null,null,null,null,null,null,null,null,null,null,null,null,null,null,null,null,null,null,null,null,"ABCDEFHK",{"$f":"$BB$26","v":"Saudi-Arabien"},{"$f":"$BB$5","v":"Elfenbeinküste"},"Katar",{"$f":"$Y$19","v":"Haiti"},"Südkorea","Schweden",{"$f":"$Y$26","v":"Australien"},{"$f":"$CE$19","v":"Usbekistan"}]
[{"$f":"IF(L8<>\"\",\"1.\",\"\")","v":""},{"$f":"IF(Y10<>\"\",Y10,\"\")","v":"Kanada"},null,{"$f":"IF(L8<>\"\",Z10,\"\")","v":""},":",{"$f":"IF(L8<>\"\",AA10,\"\")","v":""},{"$f":"IF(AC10<>\"\",AC10,\"\")","v":0},null,"Schweiz","-","Bosnien-Herzegowina",{"$f":"IF('Vorrunde 25-48'!$H$3<>\"\",'Vorrunde 25-48'!$H$3,\"\")","v":""},":",{"$f":"IF('Vorrunde 25-48'!$J$3<>\"\",'Vorrunde 25-48'!$J$3,\"\")","v":""},null,{"$f":"SUM(L8,L11,N12)","v":0},{"$f":"SUM(N8,N11,L12)","v":0},{"$f":"IF(L8>N8,3,0)","v":0},{"$f":"IF(AND(L8=N8,N8<>\"\"),1,0)","v":0},{"$f":"IF(L11>N11,3,0)","v":0},{"$f":"IF(AND(L11=N11,N11<>\"\"),1,0)","v":0},{"$f":"IF(N12>L12,3,0)","v":0},{"$f":"IF(AND(N12=L12,N12<>\"\"),1,0)","v":0},{"$f":"SUM(R10:W10)","v":0},"Kanada",{"$f":"$P$10","v":0},{"$f":"$Q$10","v":0},{"$f":"Z10-AA10","v":0},{"$f":"$X$10","v":0},{"$f":"IF(AO8<>\"\",\"1.\",\"\")","v":""},{"$f":"IF(BB10<>\"\",BB10,\"\")","v":"Niederlande"},null,{"$f":"IF(AO8<>\"\",BC10,\"\")","v":""},":",{"$f":"IF(AO8<>\"\",BD10,\"\")","v":""},{"$f":"IF(BF10<>\"\",BF10,\"\")","v":0},null,"Tunesien","-","Japan",{"$f":"IF('Vorrunde 25-48'!$H$13<>\"\",'Vorrunde 25-48'!$H$13,\"\")","v":""},":",{"$f":"IF('Vorrunde 25-48'!$J$13<>\"\",'Vorrunde 25-48'!$J$13,\"\")","v":""},null,{"$f":"SUM(AO8,AO11,AQ12)","v":0},{"$f":"SUM(AQ8,AQ11,AO12)","v":0},{"$f":"IF(AO8>AQ8,3,0)","v":0},{"$f":"IF(AND(AO8=AQ8,AQ8<>\"\"),1,0)","v":0},{"$f":"IF(AO11>AQ11,3,0)","v":0},{"$f":"IF(AND(AO11=AQ11,AQ11<>\"\"),1,0)","v":0},{"$f":"IF(AQ12>AO12,3,0)","v":0},{"$f":"IF(AND(AQ12=AO12,AQ12<>\"\"),1,0)","v":0},{"$f":"SUM(AU10:AZ10)","v":0},"Niederlande",{"$f":"$AS$10","v":0},{"$f":"$AT$10","v":0},{"$f":"BC10-BD10","v":0},{"$f":"$BA$10","v":0},{"$f":"IF(BR8<>\"\",\"1.\",\"\")","v":""},{"$f":"IF(CE10<>\"\",CE10,\"\")","v":"Argentinien"},null,{"$f":"IF(BR8<>\"\",CF10,\"\")","v":""},":",{"$f":"IF(BR8<>\"\",CG10,\"\")","v":""},{"$f":"IF(CI10<>\"\",CI10,\"\")","v":0},null,"Jordanien","-","Algerien",{"$f":"IF('Vorrunde 25-48'!$H$21<>\"\",'Vorrunde 25-48'!$H$21,\"\")","v":""},":",{"$f":"IF('Vorrunde 25-48'!$J$21<>\"\",'Vorrunde 25-48'!$J$21,\"\")","v":""},null,{"$f":"SUM(BR8,BR11,BT12)","v":0},{"$f":"SUM(BT8,BT11,BR12)","v":0},{"$f":"IF(BR8>BT8,3,0)","v":0},{"$f":"IF(AND(BR8=BT8,BT8<>\"\"),1,0)","v":0},{"$f":"IF(BR11>BT11,3,0)","v":0},{"$f":"IF(AND(BR11=BT11,BT11<>\"\"),1,0)","v":0},{"$f":"IF(BT12>BR12,3,0)","v":0},{"$f":"IF(AND(BT12=BR12,BT12<>\"\"),1,0)","v":0},{"$f":"SUM(BX10:CC10)","v":0},"Argentinien",{"$f":"$BV$10","v":0},{"$f":"$BW$10","v":0},{"$f":"CF10-CG10","v":0},{"$f":"$CD$10","v":0},null,null,null,null,null,"ABCDEFHL",{"$f":"$BB$26","v":"Saudi-Arabien"},{"$f":"$BB$12","v":"Schweden"},"Katar",{"$f":"$Y$19","v":"Haiti"},"Südkorea",{"$f":"$Y$26","v":"Australien"},{"$f":"$CE$26","v":"Ghana"},{"$f":"$BB$5","v":"Elfenbeinküste"}]
[{"$f":"IF(L8<>\"\",\"2.\",\"\")","v":""},{"$f":"IF(Y11<>\"\",Y11,\"\")","v":"Bosnien-Herzegowina"},null,{"$f":"IF(L8<>\"\",Z11,\"\")","v":""},":",{"$f":"IF(L8<>\"\",AA11,\"\")","v":""},{"$f":"IF(AC11<>\"\",AC11,\"\")","v":0},null,"Kanada","-","Katar",{"$f":"IF('Vorrunde 25-48'!$H$4<>\"\",'Vorrunde 25-48'!$H$4,\"\")","v":""},":",{"$f":"IF('Vorrunde 25-48'!$J$4<>\"\",'Vorrunde 25-48'!$J$4,\"\")","v":""},null,{"$f":"SUM(N8,N10,L13)","v":0},{"$f":"SUM(L8,L10,N13)","v":0},{"$f":"IF(N8>L8,3,0)","v":0},{"$f":"IF(AND(N8=L8,N8<>\"\"),1,0)","v":0},{"$f":"IF(N10>L10,3,0)","v":0},{"$f":"IF(AND(N10=L10,N10<>\"\"),1,0)","v":0},{"$f":"IF(L13>N13,3,0)","v":0},{"$f":"IF(AND(L13=N13,N13<>\"\"),1,0)","v":0},{"$f":"SUM(R11:W11)","v":0},"Bosnien-Herzegowina",{"$f":"$P$11","v":0},{"$f":"$Q$11","v":0},{"$f":"Z11-AA11","v":0},{"$f":"$X$11","v":0},{"$f":"IF(AO8<>\"\",\"2.\",\"\")","v":""},{"$f":"IF(BB11<>\"\",BB11,\"\")","v":"Japan"},null,{"$f":"IF(AO8<>\"\",BC11,\"\")","v":""},":",{"$f":"IF(AO8<>\"\",BD11,\"\")","v":""},{"$f":"IF(BF11<>\"\",BF11,\"\")","v":0},null,"Niederlande","-","Schweden",{"$f":"IF('Vorrunde 25-48'!$H$10<>\"\",'Vorrunde 25-48'!$H$10,\"\")","v":""},":",{"$f":"IF('Vorrunde 25-48'!$J$10<>\"\",'Vorrunde 25-48'!$J$10,\"\")","v":""},null,{"$f":"SUM(AQ8,AQ10,AO13)","v":0},{"$f":"SUM(AO8,AO10,AQ13)","v":0},{"$f":"IF(AQ8>AO8,3,0)","v":0},{"$f":"IF(AND(AQ8=AO8,AQ8<>\"\"),1,0)","v":0},{"$f":"IF(AQ10>AO10,3,0)","v":0},{"$f":"IF(AND(AQ10=AO10,AQ10<>\"\"),1,0)","v":0},{"$f":"IF(AO13>AQ13,3,0)","v":0},{"$f":"IF(AND(AO13=AQ13,AQ13<>\"\"),1,0)","v":0},{"$f":"SUM(AU11:AZ11)","v":0},"Japan",{"$f":"$AS$11","v":0},{"$f":"$AT$11","v":0},{"$f":"BC11-BD11","v":0},{"$f":"$BA$11","v":0},{"$f":"IF(BR8<>\"\",\"2.\",\"\")","v":""},{"$f":"IF(CE11<>\"\",CE11,\"\")","v":"Algerien"},null,{"$f":"IF(BR8<>\"\",CF11,\"\")","v":""},":",{"$f":"IF(BR8<>\"\",CG11,\"\")","v":""},{"$f":"IF(CI11<>\"\",CI11,\"\")","v":0},null,"Argentinien","-","Österreich",{"$f":"IF('Vorrunde 25-48'!$H$18<>\"\",'Vorrunde 25-48'!$H$18,\"\")","v":""},":",{"$f":"IF('Vorrunde 25-48'!$J$18<>\"\",'Vorrunde 25-48'!$J$18,\"\")","v":""},null,{"$f":"SUM(BT8,BT10,BR13)","v":0},{"$f":"SUM(BR8,BR10,BT13)","v":0},{"$f":"IF(BT8>BR8,3,0)","v":0},{"$f":"IF(AND(BT8=BR8,BT8<>\"\"),1,0)","v":0},{"$f":"IF(BT10>BR10,3,0)","v":0},{"$f":"IF(AND(BT10=BR10,BT10<>\"\"),1,0)","v":0},{"$f":"IF(BR13>BT13,3,0)","v":0},{"$f":"IF(AND(BR13=BT13,BT13<>\"\"),1,0)","v":0},{"$f":"SUM(BX11:CC11)","v":0},"Algerien",{"$f":"$BV$11","v":0},{"$f":"$BW$11","v":0},{"$f":"CF11-CG11","v":0},{"$f":"$CD$11","v":0},null,null,null,null,null,"ABCDEFIJ",{"$f":"$Y$19","v":"Haiti"},{"$f":"$CE$12","v":"Österreich"},"Katar",{"$f":"$Y$26","v":"Australien"},"Südkorea",{"$f":"$BB$12","v":"Schweden"},{"$f":"$BB$5","v":"Elfenbeinküste"},{"$f":"$CE$5","v":"Irak"}]
[{"$f":"IF(L8<>\"\",\"3.\",\"\")","v":""},{"$f":"IF(Y12<>\"\",Y12,\"\")","v":"Katar"},null,{"$f":"IF(L8<>\"\",Z12,\"\")","v":""},":",{"$f":"IF(L8<>\"\",AA12,\"\")","v":""},{"$f":"IF(AC12<>\"\",AC12,\"\")","v":0},null,"Schweiz","-","Kanada",{"$f":"IF('Vorrunde 49-72'!$H$2<>\"\",'Vorrunde 49-72'!$H$2,\"\")","v":""},":",{"$f":"IF('Vorrunde 49-72'!$J$2<>\"\",'Vorrunde 49-72'!$J$2,\"\")","v":""},null,{"$f":"SUM(L9,N11,N13)","v":0},{"$f":"SUM(N9,L11,L13)","v":0},{"$f":"IF(L9>N9,3,0)","v":0},{"$f":"IF(AND(L9=N9,N9<>\"\"),1,0)","v":0},{"$f":"IF(N11>L11,3,0)","v":0},{"$f":"IF(AND(N11=L11,N11<>\"\"),1,0)","v":0},{"$f":"IF(N13>L13,3,0)","v":0},{"$f":"IF(AND(N13=L13,N13<>\"\"),1,0)","v":0},{"$f":"SUM(R12:W12)","v":0},"Katar",{"$f":"$P$12","v":0},{"$f":"$Q$12","v":0},{"$f":"Z12-AA12","v":0},{"$f":"$X$12","v":0},{"$f":"IF(AO8<>\"\",\"3.\",\"\")","v":""},{"$f":"IF(BB12<>\"\",BB12,\"\")","v":"Schweden"},null,{"$f":"IF(AO8<>\"\",BC12,\"\")","v":""},":",{"$f":"IF(AO8<>\"\",BD12,\"\")","v":""},{"$f":"IF(BF12<>\"\",BF12,\"\")","v":0},null,"Tunesien","-","Niederlande",{"$f":"IF('Vorrunde 49-72'!$H$11<>\"\",'Vorrunde 49-72'!$H$11,\"\")","v":""},":",{"$f":"IF('Vorrunde 49-72'!$J$11<>\"\",'Vorrunde 49-72'!$J$11,\"\")","v":""},null,{"$f":"SUM(AO9,AQ11,AQ13)","v":0},{"$f":"SUM(AQ9,AO11,AO13)","v":0},{"$f":"IF(AO9>AQ9,3,0)","v":0},{"$f":"IF(AND(AO9=AQ9,AQ9<>\"\"),1,0)","v":0},{"$f":"IF(AQ11>AO11,3,0)","v":0},{"$f":"IF(AND(AQ11=AO11,AQ11<>\"\"),1,0)","v":0},{"$f":"IF(AQ13>AO13,3,0)","v":0},{"$f":"IF(AND(AQ13=AO13,AQ13<>\"\"),1,0)","v":0},{"$f":"SUM(AU12:AZ12)","v":0},"Schweden",{"$f":"$AS$12","v":0},{"$f":"$AT$12","v":0},{"$f":"BC12-BD12","v":0},{"$f":"$BA$12","v":0},{"$f":"IF(BR8<>\"\",\"3.\",\"\")","v":""},{"$f":"IF(CE12<>\"\",CE12,\"\")","v":"Österreich"},null,{"$f":"IF(BR8<>\"\",CF12,\"\")","v":""},":",{"$f":"IF(BR8<>\"\",CG12,\"\")","v":""},{"$f":"IF(CI12<>\"\",CI12,\"\")","v":0},null,"Jordanien","-","Argentinien",{"$f":"IF('Vorrunde 49-72'!$H$25<>\"\",'Vorrunde 49-72'!$H$25,\"\")","v":""},":",{"$f":"IF('Vorrunde 49-72'!$J$25<>\"\",'Vorrunde 49-72'!$J$25,\"\")","v":""},null,{"$f":"SUM(BR9,BT11,BT13)","v":0},{"$f":"SUM(BT9,BR11,BR13)","v":0},{"$f":"IF(BR9>BT9,3,0)","v":0},{"$f":"IF(AND(BR9=BT9,BT9<>\"\"),1,0)","v":0},{"$f":"IF(BT11>BR11,3,0)","v":0},{"$f":"IF(AND(BT11=BR11,BT11<>\"\"),1,0)","v":0},{"$f":"IF(BT13>BR13,3,0)","v":0},{"$f":"IF(AND(BT13=BR13,BT13<>\"\"),1,0)","v":0},{"$f":"SUM(BX12:CC12)","v":0},"Österreich",{"$f":"$BV$12","v":0},{"$f":"$BW$12","v":0},{"$f":"CF12-CG12","v":0},{"$f":"$CD$12","v":0},null,null,null,null,null,"ABCDEFIK","Haiti",{"$f":"$BB$5","v":"Elfenbeinküste"},"Katar","Australien","Südkorea","Schweden",{"$f":"$CE$5","v":"Irak"},{"$f":"$CE$19","v":"Usbekistan"}]
[{"$f":"IF(L8<>\"\",\"4.\",\"\")","v":""},{"$f":"IF(Y13<>\"\",Y13,\"\")","v":"Schweiz"},null,{"$f":"IF(L8<>\"\",Z13,\"\")","v":""},":",{"$f":"IF(L8<>\"\",AA13,\"\")","v":""},{"$f":"IF(AC13<>\"\",AC13,\"\")","v":0},null,"Bosnien-Herzegowina","-","Katar",{"$f":"IF('Vorrunde 49-72'!$H$3<>\"\",'Vorrunde 49-72'!$H$3,\"\")","v":""},":",{"$f":"IF('Vorrunde 49-72'!$J$3<>\"\",'Vorrunde 49-72'!$J$3,\"\")","v":""},null,{"$f":"SUM(N9,L10,L12)","v":0},{"$f":"SUM(L9,N10,N12)","v":0},{"$f":"IF(N9>L9,3,0)","v":0},{"$f":"IF(AND(N9=L9,N9<>\"\"),1,0)","v":0},{"$f":"IF(L10>N10,3,0)","v":0},{"$f":"IF(AND(L10=N10,N10<>\"\"),1,0)","v":0},{"$f":"IF(L12>N12,3,0)","v":0},{"$f":"IF(AND(L12=N12,N12<>\"\"),1,0)","v":0},{"$f":"SUM(R13:W13)","v":0},"Schweiz",{"$f":"$P$13","v":0},{"$f":"$Q$13","v":0},{"$f":"Z13-AA13","v":0},{"$f":"$X$13","v":0},{"$f":"IF(AO8<>\"\",\"4.\",\"\")","v":""},{"$f":"IF(BB13<>\"\",BB13,\"\")","v":"Tunesien"},null,{"$f":"IF(AO8<>\"\",BC13,\"\")","v":""},":",{"$f":"IF(AO8<>\"\",BD13,\"\")","v":""},{"$f":"IF(BF13<>\"\",BF13,\"\")","v":0},null,"Japan","-","Schweden",{"$f":"IF('Vorrunde 49-72'!$H$10<>\"\",'Vorrunde 49-72'!$H$10,\"\")","v":""},":",{"$f":"IF('Vorrunde 49-72'!$J$10<>\"\",'Vorrunde 49-72'!$J$10,\"\")","v":""},null,{"$f":"SUM(AQ9,AO10,AO12)","v":0},{"$f":"SUM(AO9,AQ10,AQ12)","v":0},{"$f":"IF(AQ9>AO9,3,0)","v":0},{"$f":"IF(AND(AQ9=AO9,AQ9<>\"\"),1,0)","v":0},{"$f":"IF(AO10>AQ10,3,0)","v":0},{"$f":"IF(AND(AO10=AQ10,AQ10<>\"\"),1,0)","v":0},{"$f":"IF(AO12>AQ12,3,0)","v":0},{"$f":"IF(AND(AO12=AQ12,AQ12<>\"\"),1,0)","v":0},{"$f":"SUM(AU13:AZ13)","v":0},"Tunesien",{"$f":"$AS$13","v":0},{"$f":"$AT$13","v":0},{"$f":"BC13-BD13","v":0},{"$f":"$BA$13","v":0},{"$f":"IF(BR8<>\"\",\"4.\",\"\")","v":""},{"$f":"IF(CE13<>\"\",CE13,\"\")","v":"Jordanien"},null,{"$f":"IF(BR8<>\"\",CF13,\"\")","v":""},":",{"$f":"IF(BR8<>\"\",CG13,\"\")","v":""},{"$f":"IF(CI13<>\"\",CI13,\"\")","v":0},null,"Algerien","-","Österreich",{"$f":"IF('Vorrunde 49-72'!$H$24<>\"\",'Vorrunde 49-72'!$H$24,\"\")","v":""},":",{"$f":"IF('Vorrunde 49-72'!$J$24<>\"\",'Vorrunde 49-72'!$J$24,\"\")","v":""},null,{"$f":"SUM(BT9,BR10,BR12)","v":0},{"$f":"SUM(BR9,BT10,BT12)","v":0},{"$f":"IF(BT9>BR9,3,0)","v":0},{"$f":"IF(AND(BT9=BR9,BT9<>\"\"),1,0)","v":0},{"$f":"IF(BR10>BT10,3,0)","v":0},{"$f":"IF(AND(BR10=BT10,BT10<>\"\"),1,0)","v":0},{"$f":"IF(BR12>BT12,3,0)","v":0},{"$f":"IF(AND(BR12=BT12,BT12<>\"\"),1,0)","v":0},{"$f":"SUM(BX13:CC13)","v":0},"Jordanien",{"$f":"$BV$13","v":0},{"$f":"$BW$13","v":0},{"$f":"CF13-CG13","v":0},{"$f":"$CD$13","v":0},null,null,null,null,null,"ABCDEFIL","Haiti",{"$f":"$BB$5","v":"Elfenbeinküste"},"Katar","Australien","Südkorea","Schweden",{"$f":"$CE$26","v":"Ghana"},{"$f":"$CE$5","v":"Irak"}]
[null,null,null,null,null,null,null,null,"",null,"",null,null,null,null,null,null,null,null,null,null,null,null,null,null,null,null,null,null,null,null,null,null,null,null,null,null,"",null,"",null,null,null,null,null,null,null,null,null,null,null,null,null,null,null,null,null,null,null,null,null,null,null,null,null,null,"",null,"",null,null,null,null,null,null,null,null,null,null,null,null,null,null,null,null,null,null,null,null,null,null,null,"ABCDEFJK","Haiti",{"$f":"$CE$12","v":"Österreich"},"Katar","Australien","Südkorea","Schweden",{"$f":"$BB$5","v":"Elfenbeinküste"},{"$f":"$CE$19","v":"Usbekistan"}]
[null,null,null,"Gruppe C",null,null,null,null,"Brasilien","-","Marokko",{"$f":"IF('Vorrunde 01-24'!$H$7<>\"\",'Vorrunde 01-24'!$H$7,\"\")","v":""},":",{"$f":"IF('Vorrunde 01-24'!$J$7<>\"\",'Vorrunde 01-24'!$J$7,\"\")","v":""},null,null,null,null,null,null,null,null,null,null,null,null,null,null,null,null,null,null,"Gruppe G",null,null,null,null,"Belgien","-","Ägypten",{"$f":"IF('Vorrunde 01-24'!$H$15<>\"\",'Vorrunde 01-24'!$H$15,\"\")","v":""},":",{"$f":"IF('Vorrunde 01-24'!$J$15<>\"\",'Vorrunde 01-24'!$J$15,\"\")","v":""},null,null,null,null,null,null,null,null,null,null,null,null,null,null,null,null,null,null,"Gruppe K",null,null,null,null,"Portugal","-","DR Kongo",{"$f":"IF('Vorrunde 01-24'!$H$22<>\"\",'Vorrunde 01-24'!$H$22,\"\")","v":""},":",{"$f":"IF('Vorrunde 01-24'!$J$22<>\"\",'Vorrunde 01-24'!$J$22,\"\")","v":""},null,null,null,null,null,null,null,null,null,null,null,null,null,null,null,null,null,null,null,null,"ABCDEFJL","Haiti",{"$f":"$CE$12","v":"Österreich"},"Katar","Australien","Südkorea","Schweden",{"$f":"$CE$26","v":"Ghana"},{"$f":"$BB$5","v":"Elfenbeinküste"}]
["PLATZ","MANNSCHAFT",null,"TORE",null,null,"PUNKTE",null,"Haiti","-","Schottland",{"$f":"IF('Vorrunde 01-24'!$H$8<>\"\",'Vorrunde 01-24'!$H$8,\"\")","v":""},":",{"$f":"IF('Vorrunde 01-24'!$J$8<>\"\",'Vorrunde 01-24'!$J$8,\"\")","v":""},null,null,null,null,null,null,null,null,null,null,null,null,null,null,null,"PLATZ","MANNSCHAFT",null,"TORE",null,null,"PUNKTE",null,"Iran","-","Neuseeland",{"$f":"IF('Vorrunde 01-24'!$H$17<>\"\",'Vorrunde 01-24'!$H$17,\"\")","v":""},":",{"$f":"IF('Vorrunde 01-24'!$J$17<>\"\",'Vorrunde 01-24'!$J$17,\"\")","v":""},null,null,null,null,null,null,null,null,null,null,null,null,null,null,null,"PLATZ","MANNSCHAFT",null,"TORE",null,null,"PUNKTE",null,"Usbekistan","-","Kolumbien",{"$f":"IF('Vorrunde 01-24'!$H$25<>\"\",'Vorrunde 01-24'!$H$25,\"\")","v":""},":",{"$f":"IF('Vorrunde 01-24'!$J$25<>\"\",'Vorrunde 01-24'!$J$25,\"\")","v":""},null,null,null,null,null,null,null,null,null,null,null,null,null,null,null,null,null,null,null,null,"ABCDEFKL","Haiti",{"$f":"$BB$5","v":"Elfenbeinküste"},"Katar","Australien","Südkorea","Schweden",{"$f":"$CE$26","v":"Ghana"},{"$f":"$CE$19","v":"Usbekistan"}]
[{"$f":"IF(L15<>\"\",\"1.\",\"\")","v":""},{"$f":"IF(Y17<>\"\",Y17,\"\")","v":"Brasilien"},null,{"$f":"IF(L15<>\"\",Z17,\"\")","v":""},":",{"$f":"IF(L15<>\"\",AA17,\"\")","v":""},{"$f":"IF(AC17<>\"\",AC17,\"\")","v":0},null,"Schottland","-","Marokko",{"$f":"IF('Vorrunde 25-48'!$H$7<>\"\",'Vorrunde 25-48'!$H$7,\"\")","v":""},":",{"$f":"IF('Vorrunde 25-48'!$J$7<>\"\",'Vorrunde 25-48'!$J$7,\"\")","v":""},null,{"$f":"SUM(L15,L18,N19)","v":0},{"$f":"SUM(N15,N18,L19)","v":0},{"$f":"IF(L15>N15,3,0)","v":0},{"$f":"IF(AND(L15=N15,N15<>\"\"),1,0)","v":0},{"$f":"IF(L18>N18,3,0)","v":0},{"$f":"IF(AND(L18=N18,N18<>\"\"),1,0)","v":0},{"$f":"IF(N19>L19,3,0)","v":0},{"$f":"IF(AND(N19=L19,N19<>\"\"),1,0)","v":0},{"$f":"SUM(R17:W17)","v":0},"Brasilien",{"$f":"$P$17","v":0},{"$f":"$Q$17","v":0},{"$f":"Z17-AA17","v":0},{"$f":"$X$17","v":0},{"$f":"IF(AO15<>\"\",\"1.\",\"\")","v":""},{"$f":"IF(BB17<>\"\",BB17,\"\")","v":"Belgien"},null,{"$f":"IF(AO15<>\"\",BC17,\"\")","v":""},":",{"$f":"IF(AO15<>\"\",BD17,\"\")","v":""},{"$f":"IF(BF17<>\"\",BF17,\"\")","v":0},null,"Neuseeland","-","Ägypten",{"$f":"IF('Vorrunde 25-48'!$H$17<>\"\",'Vorrunde 25-48'!$H$17,\"\")","v":""},":",{"$f":"IF('Vorrunde 25-48'!$J$17<>\"\",'Vorrunde 25-48'!$J$17,\"\")","v":""},null,{"$f":"SUM(AO15,AO18,AQ19)","v":0},{"$f":"SUM(AQ15,AQ18,AO19)","v":0},{"$f":"IF(AO15>AQ15,3,0)","v":0},{"$f":"IF(AND(AO15=AQ15,AQ15<>\"\"),1,0)","v":0},{"$f":"IF(AO18>AQ18,3,0)","v":0},{"$f":"IF(AND(AO18=AQ18,AQ18<>\"\"),1,0)","v":0},{"$f":"IF(AQ19>AO19,3,0)","v":0},{"$f":"IF(AND(AQ19=AO19,AQ19<>\"\"),1,0)","v":0},{"$f":"SUM(AU17:AZ17)","v":0},"Belgien",{"$f":"$AS$17","v":0},{"$f":"$AT$17","v":0},{"$f":"BC17-BD17","v":0},{"$f":"$BA$17","v":0},{"$f":"IF(BR15<>\"\",\"1.\",\"\")","v":""},{"$f":"IF(CE17<>\"\",CE17,\"\")","v":"Portugal"},null,{"$f":"IF(BR15<>\"\",CF17,\"\")","v":""},":",{"$f":"IF(BR15<>\"\",CG17,\"\")","v":""},{"$f":"IF(CI17<>\"\",CI17,\"\")","v":0},null,"Kolumbien","-","DR Kongo",{"$f":"IF('Vorrunde 25-48'!$H$25<>\"\",'Vorrunde 25-48'!$H$25,\"\")","v":""},":",{"$f":"IF('Vorrunde 25-48'!$J$25<>\"\",'Vorrunde 25-48'!$J$25,\"\")","v":""},null,{"$f":"SUM(BR15,BR18,BT19)","v":0},{"$f":"SUM(BT15,BT18,BR19)","v":0},{"$f":"IF(BR15>BT15,3,0)","v":0},{"$f":"IF(AND(BR15=BT15,BT15<>\"\"),1,0)","v":0},{"$f":"IF(BR18>BT18,3,0)","v":0},{"$f":"IF(AND(BR18=BT18,BT18<>\"\"),1,0)","v":0},{"$f":"IF(BT19>BR19,3,0)","v":0},{"$f":"IF(AND(BT19=BR19,BT19<>\"\"),1,0)","v":0},{"$f":"SUM(BX17:CC17)","v":0},"Portugal",{"$f":"$BV$17","v":0},{"$f":"$BW$17","v":0},{"$f":"CF17-CG17","v":0},{"$f":"$CD$17","v":0},null,null,null,null,null,"ABCDEGHI",{"$f":"$BB$26","v":"Saudi-Arabien"},{"$f":"$BB$19","v":"Iran"},"Katar",{"$f":"$Y$19","v":"Haiti"},"Südkorea",{"$f":"$Y$26","v":"Australien"},{"$f":"$BB$5","v":"Elfenbeinküste"},{"$f":"$CE$5","v":"Irak"}]
[{"$f":"IF(L15<>\"\",\"2.\",\"\")","v":""},{"$f":"IF(Y18<>\"\",Y18,\"\")","v":"Marokko"},null,{"$f":"IF(L15<>\"\",Z18,\"\")","v":""},":",{"$f":"IF(L15<>\"\",AA18,\"\")","v":""},{"$f":"IF(AC18<>\"\",AC18,\"\")","v":0},null,"Brasilien","-","Haiti",{"$f":"IF('Vorrunde 25-48'!$H$8<>\"\",'Vorrunde 25-48'!$H$8,\"\")","v":""},":",{"$f":"IF('Vorrunde 25-48'!$J$8<>\"\",'Vorrunde 25-48'!$J$8,\"\")","v":""},null,{"$f":"SUM(N15,N17,L20)","v":0},{"$f":"SUM(L15,L17,N20)","v":0},{"$f":"IF(N15>L15,3,0)","v":0},{"$f":"IF(AND(N15=L15,N15<>\"\"),1,0)","v":0},{"$f":"IF(N17>L17,3,0)","v":0},{"$f":"IF(AND(N17=L17,N17<>\"\"),1,0)","v":0},{"$f":"IF(L20>N20,3,0)","v":0},{"$f":"IF(AND(L20=N20,N20<>\"\"),1,0)","v":0},{"$f":"SUM(R18:W18)","v":0},"Marokko",{"$f":"$P$18","v":0},{"$f":"$Q$18","v":0},{"$f":"Z18-AA18","v":0},{"$f":"$X$18","v":0},{"$f":"IF(AO15<>\"\",\"2.\",\"\")","v":""},{"$f":"IF(BB18<>\"\",BB18,\"\")","v":"Ägypten"},null,{"$f":"IF(AO15<>\"\",BC18,\"\")","v":""},":",{"$f":"IF(AO15<>\"\",BD18,\"\")","v":""},{"$f":"IF(BF18<>\"\",BF18,\"\")","v":0},null,"Belgien","-","Iran",{"$f":"IF('Vorrunde 25-48'!$H$15<>\"\",'Vorrunde 25-48'!$H$15,\"\")","v":""},":",{"$f":"IF('Vorrunde 25-48'!$J$15<>\"\",'Vorrunde 25-48'!$J$15,\"\")","v":""},null,{"$f":"SUM(AQ15,AQ17,AO20)","v":0},{"$f":"SUM(AO15,AO17,AQ20)","v":0},{"$f":"IF(AQ15>AO15,3,0)","v":0},{"$f":"IF(AND(AQ15=AO15,AQ15<>\"\"),1,0)","v":0},{"$f":"IF(AQ17>AO17,3,0)","v":0},{"$f":"IF(AND(AQ17=AO17,AQ17<>\"\"),1,0)","v":0},{"$f":"IF(AO20>AQ20,3,0)","v":0},{"$f":"IF(AND(AO20=AQ20,AQ20<>\"\"),1,0)","v":0},{"$f":"SUM(AU18:AZ18)","v":0},"Ägypten",{"$f":"$AS$18","v":0},{"$f":"$AT$18","v":0},{"$f":"BC18-BD18","v":0},{"$f":"$BA$18","v":0},{"$f":"IF(BR15<>\"\",\"2.\",\"\")","v":""},{"$f":"IF(CE18<>\"\",CE18,\"\")","v":"DR Kongo"},null,{"$f":"IF(BR15<>\"\",CF18,\"\")","v":""},":",{"$f":"IF(BR15<>\"\",CG18,\"\")","v":""},{"$f":"IF(CI18<>\"\",CI18,\"\")","v":0},null,"Portugal","-","Usbekistan",{"$f":"IF('Vorrunde 25-48'!$H$22<>\"\",'Vorrunde 25-48'!$H$22,\"\")","v":""},":",{"$f":"IF('Vorrunde 25-48'!$J$22<>\"\",'Vorrunde 25-48'!$J$22,\"\")","v":""},null,{"$f":"SUM(BT15,BT17,BR20)","v":0},{"$f":"SUM(BR15,BR17,BT20)","v":0},{"$f":"IF(BT15>BR15,3,0)","v":0},{"$f":"IF(AND(BT15=BR15,BT15<>\"\"),1,0)","v":0},{"$f":"IF(BT17>BR17,3,0)","v":0},{"$f":"IF(AND(BT17=BR17,BT17<>\"\"),1,0)","v":0},{"$f":"IF(BR20>BT20,3,0)","v":0},{"$f":"IF(AND(BR20=BT20,BT20<>\"\"),1,0)","v":0},{"$f":"SUM(BX18:CC18)","v":0},"DR Kongo",{"$f":"$BV$18","v":0},{"$f":"$BW$18","v":0},{"$f":"CF18-CG18","v":0},{"$f":"$CD$18","v":0},null,null,null,null,null,"ABCDEGHJ",{"$f":"$BB$26","v":"Saudi-Arabien"},"Iran","Katar","Haiti","Südkorea","Australien",{"$f":"$BB$5","v":"Elfenbeinküste"},{"$f":"$CE$12","v":"Österreich"}]
[{"$f":"IF(L15<>\"\",\"3.\",\"\")","v":""},{"$f":"IF(Y19<>\"\",Y19,\"\")","v":"Haiti"},null,{"$f":"IF(L15<>\"\",Z19,\"\")","v":""},":",{"$f":"IF(L15<>\"\",AA19,\"\")","v":""},{"$f":"IF(AC19<>\"\",AC19,\"\")","v":0},null,"Schottland","-","Brasilien",{"$f":"IF('Vorrunde 49-72'!$H$4<>\"\",'Vorrunde 49-72'!$H$4,\"\")","v":""},":",{"$f":"IF('Vorrunde 49-72'!$J$4<>\"\",'Vorrunde 49-72'!$J$4,\"\")","v":""},null,{"$f":"SUM(L16,N18,N20)","v":0},{"$f":"SUM(N16,L18,L20)","v":0},{"$f":"IF(L16>N16,3,0)","v":0},{"$f":"IF(AND(L16=N16,N16<>\"\"),1,0)","v":0},{"$f":"IF(N18>L18,3,0)","v":0},{"$f":"IF(AND(N18=L18,N18<>\"\"),1,0)","v":0},{"$f":"IF(N20>L20,3,0)","v":0},{"$f":"IF(AND(N20=L20,N20<>\"\"),1,0)","v":0},{"$f":"SUM(R19:W19)","v":0},"Haiti",{"$f":"$P$19","v":0},{"$f":"$Q$19","v":0},{"$f":"Z19-AA19","v":0},{"$f":"$X$19","v":0},{"$f":"IF(AO15<>\"\",\"3.\",\"\")","v":""},{"$f":"IF(BB19<>\"\",BB19,\"\")","v":"Iran"},null,{"$f":"IF(AO15<>\"\",BC19,\"\")","v":""},":",{"$f":"IF(AO15<>\"\",BD19,\"\")","v":""},{"$f":"IF(BF19<>\"\",BF19,\"\")","v":0},null,"Neuseeland","-","Belgien",{"$f":"IF('Vorrunde 49-72'!$H$19<>\"\",'Vorrunde 49-72'!$H$19,\"\")","v":""},":",{"$f":"IF('Vorrunde 49-72'!$J$19<>\"\",'Vorrunde 49-72'!$J$19,\"\")","v":""},null,{"$f":"SUM(AO16,AQ18,AQ20)","v":0},{"$f":"SUM(AQ16,AO18,AO20)","v":0},{"$f":"IF(AO16>AQ16,3,0)","v":0},{"$f":"IF(AND(AO16=AQ16,AQ16<>\"\"),1,0)","v":0},{"$f":"IF(AQ18>AO18,3,0)","v":0},{"$f":"IF(AND(AQ18=AO18,AQ18<>\"\"),1,0)","v":0},{"$f":"IF(AQ20>AO20,3,0)","v":0},{"$f":"IF(AND(AQ20=AO20,AQ20<>\"\"),1,0)","v":0},{"$f":"SUM(AU19:AZ19)","v":0},"Iran",{"$f":"$AS$19","v":0},{"$f":"$AT$19","v":0},{"$f":"BC19-BD19","v":0},{"$f":"$BA$19","v":0},{"$f":"IF(BR15<>\"\",\"3.\",\"\")","v":""},{"$f":"IF(CE19<>\"\",CE19,\"\")","v":"Usbekistan"},null,{"$f":"IF(BR15<>\"\",CF19,\"\")","v":""},":",{"$f":"IF(BR15<>\"\",CG19,\"\")","v":""},{"$f":"IF(CI19<>\"\",CI19,\"\")","v":0},null,"Kolumbien","-","Portugal",{"$f":"IF('Vorrunde 49-72'!$H$22<>\"\",'Vorrunde 49-72'!$H$22,\"\")","v":""},":",{"$f":"IF('Vorrunde 49-72'!$J$22<>\"\",'Vorrunde 49-72'!$J$22,\"\")","v":""},null,{"$f":"SUM(BR16,BT18,BT20)","v":0},{"$f":"SUM(BT16,BR18,BR20)","v":0},{"$f":"IF(BR16>BT16,3,0)","v":0},{"$f":"IF(AND(BR16=BT16,BT16<>\"\"),1,0)","v":0},{"$f":"IF(BT18>BR18,3,0)","v":0},{"$f":"IF(AND(BT18=BR18,BT18<>\"\"),1,0)","v":0},{"$f":"IF(BT20>BR20,3,0)","v":0},{"$f":"IF(AND(BT20=BR20,BT20<>\"\"),1,0)","v":0},{"$f":"SUM(BX19:CC19)","v":0},"Usbekistan",{"$f":"$BV$19","v":0},{"$f":"$BW$19","v":0},{"$f":"CF19-CG19","v":0},{"$f":"$CD$19","v":0},null,null,null,null,null,"ABCDEGHK",{"$f":"$BB$26","v":"Saudi-Arabien"},"Iran","Katar","Haiti","Südkorea","Australien",{"$f":"$BB$5","v":"Elfenbeinküste"},{"$f":"$CE$19","v":"Usbekistan"}]
[{"$f":"IF(L15<>\"\",\"4.\",\"\")","v":""},{"$f":"IF(Y20<>\"\",Y20,\"\")","v":"Schottland"},null,{"$f":"IF(L15<>\"\",Z20,\"\")","v":""},":",{"$f":"IF(L15<>\"\",AA20,\"\")","v":""},{"$f":"IF(AC20<>\"\",AC20,\"\")","v":0},null,"Marokko","-","Haiti",{"$f":"IF('Vorrunde 49-72'!$H$5<>\"\",'Vorrunde 49-72'!$H$5,\"\")","v":""},":",{"$f":"IF('Vorrunde 49-72'!$J$5<>\"\",'Vorrunde 49-72'!$J$5,\"\")","v":""},null,{"$f":"SUM(N16,L17,L19)","v":0},{"$f":"SUM(L16,N17,N19)","v":0},{"$f":"IF(N16>L16,3,0)","v":0},{"$f":"IF(AND(N16=L16,N16<>\"\"),1,0)","v":0},{"$f":"IF(L17>N17,3,0)","v":0},{"$f":"IF(AND(L17=N17,N17<>\"\"),1,0)","v":0},{"$f":"IF(L19>N19,3,0)","v":0},{"$f":"IF(AND(L19=N19,N19<>\"\"),1,0)","v":0},{"$f":"SUM(R20:W20)","v":0},"Schottland",{"$f":"$P$20","v":0},{"$f":"$Q$20","v":0},{"$f":"Z20-AA20","v":0},{"$f":"$X$20","v":0},{"$f":"IF(AO15<>\"\",\"4.\",\"\")","v":""},{"$f":"IF(BB20<>\"\",BB20,\"\")","v":"Neuseeland"},null,{"$f":"IF(AO15<>\"\",BC20,\"\")","v":""},":",{"$f":"IF(AO15<>\"\",BD20,\"\")","v":""},{"$f":"IF(BF20<>\"\",BF20,\"\")","v":0},null,"Ägypten","-","Iran",{"$f":"IF('Vorrunde 49-72'!$H$18<>\"\",'Vorrunde 49-72'!$H$18,\"\")","v":""},":",{"$f":"IF('Vorrunde 49-72'!$J$18<>\"\",'Vorrunde 49-72'!$J$18,\"\")","v":""},null,{"$f":"SUM(AQ16,AO17,AO19)","v":0},{"$f":"SUM(AO16,AQ17,AQ19)","v":0},{"$f":"IF(AQ16>AO16,3,0)","v":0},{"$f":"IF(AND(AQ16=AO16,AQ16<>\"\"),1,0)","v":0},{"$f":"IF(AO17>AQ17,3,0)","v":0},{"$f":"IF(AND(AO17=AQ17,AQ17<>\"\"),1,0)","v":0},{"$f":"IF(AO19>AQ19,3,0)","v":0},{"$f":"IF(AND(AO19=AQ19,AQ19<>\"\"),1,0)","v":0},{"$f":"SUM(AU20:AZ20)","v":0},"Neuseeland",{"$f":"$AS$20","v":0},{"$f":"$AT$20","v":0},{"$f":"BC20-BD20","v":0},{"$f":"$BA$20","v":0},{"$f":"IF(BR15<>\"\",\"4.\",\"\")","v":""},{"$f":"IF(CE20<>\"\",CE20,\"\")","v":"Kolumbien"},null,{"$f":"IF(BR15<>\"\",CF20,\"\")","v":""},":",{"$f":"IF(BR15<>\"\",CG20,\"\")","v":""},{"$f":"IF(CI20<>\"\",CI20,\"\")","v":0},null,"DR Kongo","-","Usbekistan",{"$f":"IF('Vorrunde 49-72'!$H$23<>\"\",'Vorrunde 49-72'!$H$23,\"\")","v":""},":",{"$f":"IF('Vorrunde 49-72'!$J$23<>\"\",'Vorrunde 49-72'!$J$23,\"\")","v":""},null,{"$f":"SUM(BT16,BR17,BR19)","v":0},{"$f":"SUM(BR16,BT17,BT19)","v":0},{"$f":"IF(BT16>BR16,3,0)","v":0},{"$f":"IF(AND(BT16=BR16,BT16<>\"\"),1,0)","v":0},{"$f":"IF(BR17>BT17,3,0)","v":0},{"$f":"IF(AND(BR17=BT17,BT17<>\"\"),1,0)","v":0},{"$f":"IF(BR19>BT19,3,0)","v":0},{"$f":"IF(AND(BR19=BT19,BT19<>\"\"),1,0)","v":0},{"$f":"SUM(BX20:CC20)","v":0},"Kolumbien",{"$f":"$BV$20","v":0},{"$f":"$BW$20","v":0},{"$f":"CF20-CG20","v":0},{"$f":"$CD$20","v":0},null,null,null,null,null,"ABCDEGHL",{"$f":"$BB$26","v":"Saudi-Arabien"},"Iran","Katar","Haiti","Südkorea","Australien",{"$f":"$CE$26","v":"Ghana"},{"$f":"$BB$5","v":"Elfenbeinküste"}]
[null,null,null,null,null,null,null,null,"",null,"",null,null,null,null,null,null,null,null,null,null,null,null,null,null,null,null,null,null,null,null,null,null,null,null,null,null,"",null,"",null,null,null,null,null,null,null,null,null,null,null,null,null,null,null,null,null,null,null,null,null,null,null,null,null,null,"",null,"",null,null,null,null,null,null,null,null,null,null,null,null,null,null,null,null,null,null,null,null,null,null,null,"ABCDEGIJ",{"$f":"$BB$5","v":"Elfenbeinküste"},"Iran","Katar","Haiti","Südkorea","Australien",{"$f":"$CE$5","v":"Irak"},{"$f":"$CE$12","v":"Österreich"}]
[null,null,null,"Gruppe D",null,null,null,null,"USA","-","Paraguay",{"$f":"IF('Vorrunde 01-24'!$H$5<>\"\",'Vorrunde 01-24'!$H$5,\"\")","v":""},":",{"$f":"IF('Vorrunde 01-24'!$J$5<>\"\",'Vorrunde 01-24'!$J$5,\"\")","v":""},null,null,null,null,null,null,null,null,null,null,null,null,null,null,null,null,null,null,"Gruppe H",null,null,null,null,"Spanien","-","Kap Verde",{"$f":"IF('Vorrunde 01-24'!$H$14<>\"\",'Vorrunde 01-24'!$H$14,\"\")","v":""},":",{"$f":"IF('Vorrunde 01-24'!$J$14<>\"\",'Vorrunde 01-24'!$J$14,\"\")","v":""},null,null,null,null,null,null,null,null,null,null,null,null,null,null,null,null,null,null,"Gruppe L",null,null,null,null,"England","-","Kroatien",{"$f":"IF('Vorrunde 01-24'!$H$23<>\"\",'Vorrunde 01-24'!$H$23,\"\")","v":""},":",{"$f":"IF('Vorrunde 01-24'!$J$23<>\"\",'Vorrunde 01-24'!$J$23,\"\")","v":""},null,null,null,null,null,null,null,null,null,null,null,null,null,null,null,null,null,null,null,null,"ABCDEGIK","Elfenbeinküste","Iran","Katar","Haiti","Südkorea","Australien",{"$f":"$CE$5","v":"Irak"},{"$f":"$CE$19","v":"Usbekistan"}]
["PLATZ","MANNSCHAFT",null,"TORE",null,null,"PUNKTE",null,"Australien","-","Türkei",{"$f":"IF('Vorrunde 01-24'!$H$9<>\"\",'Vorrunde 01-24'!$H$9,\"\")","v":""},":",{"$f":"IF('Vorrunde 01-24'!$J$9<>\"\",'Vorrunde 01-24'!$J$9,\"\")","v":""},null,null,null,null,null,null,null,null,null,null,null,null,null,null,null,"PLATZ","MANNSCHAFT",null,"TORE",null,null,"PUNKTE",null,"Saudi-Arabien","-","Uruguay",{"$f":"IF('Vorrunde 01-24'!$H$16<>\"\",'Vorrunde 01-24'!$H$16,\"\")","v":""},":",{"$f":"IF('Vorrunde 01-24'!$J$16<>\"\",'Vorrunde 01-24'!$J$16,\"\")","v":""},null,null,null,null,null,null,null,null,null,null,null,null,null,null,null,"PLATZ","MANNSCHAFT",null,"TORE",null,null,"PUNKTE",null,"Ghana","-","Panama",{"$f":"IF('Vorrunde 01-24'!$H$24<>\"\",'Vorrunde 01-24'!$H$24,\"\")","v":""},":",{"$f":"IF('Vorrunde 01-24'!$J$24<>\"\",'Vorrunde 01-24'!$J$24,\"\")","v":""},null,null,null,null,null,null,null,null,null,null,null,null,null,null,null,null,null,null,null,null,"ABCDEGIL","Elfenbeinküste","Iran","Katar","Haiti","Südkorea","Australien",{"$f":"$CE$26","v":"Ghana"},{"$f":"$CE$5","v":"Irak"}]
[{"$f":"IF(L22<>\"\",\"1.\",\"\")","v":""},{"$f":"IF(Y24<>\"\",Y24,\"\")","v":"USA"},null,{"$f":"IF(L22<>\"\",Z24,\"\")","v":""},":",{"$f":"IF(L22<>\"\",AA24,\"\")","v":""},{"$f":"IF(AC24<>\"\",AC24,\"\")","v":0},null,"Türkei","-","Paraguay",{"$f":"IF('Vorrunde 25-48'!$H$9<>\"\",'Vorrunde 25-48'!$H$9,\"\")","v":""},":",{"$f":"IF('Vorrunde 25-48'!$J$9<>\"\",'Vorrunde 25-48'!$J$9,\"\")","v":""},null,{"$f":"SUM(L22,L25,N26)","v":0},{"$f":"SUM(N22,N25,L26)","v":0},{"$f":"IF(L22>N22,3,0)","v":0},{"$f":"IF(AND(L22=N22,N22<>\"\"),1,0)","v":0},{"$f":"IF(L25>N25,3,0)","v":0},{"$f":"IF(AND(L25=N25,N25<>\"\"),1,0)","v":0},{"$f":"IF(N26>L26,3,0)","v":0},{"$f":"IF(AND(N26=L26,N26<>\"\"),1,0)","v":0},{"$f":"SUM(R24:W24)","v":0},"USA",{"$f":"$P$24","v":0},{"$f":"$Q$24","v":0},{"$f":"Z24-AA24","v":0},{"$f":"$X$24","v":0},{"$f":"IF(AO22<>\"\",\"1.\",\"\")","v":""},{"$f":"IF(BB24<>\"\",BB24,\"\")","v":"Spanien"},null,{"$f":"IF(AO22<>\"\",BC24,\"\")","v":""},":",{"$f":"IF(AO22<>\"\",BD24,\"\")","v":""},{"$f":"IF(BF24<>\"\",BF24,\"\")","v":0},null,"Uruguay","-","Kap Verde",{"$f":"IF('Vorrunde 25-48'!$H$16<>\"\",'Vorrunde 25-48'!$H$16,\"\")","v":""},":",{"$f":"IF('Vorrunde 25-48'!$J$16<>\"\",'Vorrunde 25-48'!$J$16,\"\")","v":""},null,{"$f":"SUM(AO22,AO25,AQ26)","v":0},{"$f":"SUM(AQ22,AQ25,AO26)","v":0},{"$f":"IF(AO22>AQ22,3,0)","v":0},{"$f":"IF(AND(AO22=AQ22,AQ22<>\"\"),1,0)","v":0},{"$f":"IF(AO25>AQ25,3,0)","v":0},{"$f":"IF(AND(AO25=AQ25,AQ25<>\"\"),1,0)","v":0},{"$f":"IF(AQ26>AO26,3,0)","v":0},{"$f":"IF(AND(AQ26=AO26,AQ26<>\"\"),1,0)","v":0},{"$f":"SUM(AU24:AZ24)","v":0},"Spanien",{"$f":"$AS$24","v":0},{"$f":"$AT$24","v":0},{"$f":"BC24-BD24","v":0},{"$f":"$BA$24","v":0},{"$f":"IF(BR22<>\"\",\"1.\",\"\")","v":""},{"$f":"IF(CE24<>\"\",CE24,\"\")","v":"England"},null,{"$f":"IF(BR22<>\"\",CF24,\"\")","v":""},":",{"$f":"IF(BR22<>\"\",CG24,\"\")","v":""},{"$f":"IF(CI24<>\"\",CI24,\"\")","v":0},null,"Panama","-","Kroatien",{"$f":"IF('Vorrunde 25-48'!$H$24<>\"\",'Vorrunde 25-48'!$H$24,\"\")","v":""},":",{"$f":"IF('Vorrunde 25-48'!$J$24<>\"\",'Vorrunde 25-48'!$J$24,\"\")","v":""},null,{"$f":"SUM(BR22,BR25,BT26)","v":0},{"$f":"SUM(BT22,BT25,BR26)","v":0},{"$f":"IF(BR22>BT22,3,0)","v":0},{"$f":"IF(AND(BR22=BT22,BT22<>\"\"),1,0)","v":0},{"$f":"IF(BR25>BT25,3,0)","v":0},{"$f":"IF(AND(BR25=BT25,BT25<>\"\"),1,0)","v":0},{"$f":"IF(BT26>BR26,3,0)","v":0},{"$f":"IF(AND(BT26=BR26,BT26<>\"\"),1,0)","v":0},{"$f":"SUM(BX24:CC24)","v":0},"England",{"$f":"$BV$24","v":0},{"$f":"$BW$24","v":0},{"$f":"CF24-CG24","v":0},{"$f":"$CD$24","v":0},null,null,null,null,null,"ABCDEGJK","Elfenbeinküste","Iran","Katar","Haiti","Südkorea","Australien",{"$f":"$CE$12","v":"Österreich"},{"$f":"$CE$19","v":"Usbekistan"}]
[{"$f":"IF(L22<>\"\",\"2.\",\"\")","v":""},{"$f":"IF(Y25<>\"\",Y25,\"\")","v":"Paraguay"},null,{"$f":"IF(L22<>\"\",Z25,\"\")","v":""},":",{"$f":"IF(L22<>\"\",AA25,\"\")","v":""},{"$f":"IF(AC25<>\"\",AC25,\"\")","v":0},null,"USA","-","Australien",{"$f":"IF('Vorrunde 25-48'!$H$6<>\"\",'Vorrunde 25-48'!$H$6,\"\")","v":""},":",{"$f":"IF('Vorrunde 25-48'!$J$6<>\"\",'Vorrunde 25-48'!$J$6,\"\")","v":""},null,{"$f":"SUM(N22,N24,L27)","v":0},{"$f":"SUM(L22,L24,N27)","v":0},{"$f":"IF(N22>L22,3,0)","v":0},{"$f":"IF(AND(N22=L22,N22<>\"\"),1,0)","v":0},{"$f":"IF(N24>L24,3,0)","v":0},{"$f":"IF(AND(N24=L24,N24<>\"\"),1,0)","v":0},{"$f":"IF(L27>N27,3,0)","v":0},{"$f":"IF(AND(L27=N27,N27<>\"\"),1,0)","v":0},{"$f":"SUM(R25:W25)","v":0},"Paraguay",{"$f":"$P$25","v":0},{"$f":"$Q$25","v":0},{"$f":"Z25-AA25","v":0},{"$f":"$X$25","v":0},{"$f":"IF(AO22<>\"\",\"2.\",\"\")","v":""},{"$f":"IF(BB25<>\"\",BB25,\"\")","v":"Kap Verde"},null,{"$f":"IF(AO22<>\"\",BC25,\"\")","v":""},":",{"$f":"IF(AO22<>\"\",BD25,\"\")","v":""},{"$f":"IF(BF25<>\"\",BF25,\"\")","v":0},null,"Spanien","-","Saudi-Arabien",{"$f":"IF('Vorrunde 25-48'!$H$14<>\"\",'Vorrunde 25-48'!$H$14,\"\")","v":""},":",{"$f":"IF('Vorrunde 25-48'!$J$14<>\"\",'Vorrunde 25-48'!$J$14,\"\")","v":""},null,{"$f":"SUM(AQ22,AQ24,AO27)","v":0},{"$f":"SUM(AO22,AO24,AQ27)","v":0},{"$f":"IF(AQ22>AO22,3,0)","v":0},{"$f":"IF(AND(AQ22=AO22,AQ22<>\"\"),1,0)","v":0},{"$f":"IF(AQ24>AO24,3,0)","v":0},{"$f":"IF(AND(AQ24=AO24,AQ24<>\"\"),1,0)","v":0},{"$f":"IF(AO27>AQ27,3,0)","v":0},{"$f":"IF(AND(AO27=AQ27,AQ27<>\"\"),1,0)","v":0},{"$f":"SUM(AU25:AZ25)","v":0},"Kap Verde",{"$f":"$AS$25","v":0},{"$f":"$AT$25","v":0},{"$f":"BC25-BD25","v":0},{"$f":"$BA$25","v":0},{"$f":"IF(BR22<>\"\",\"2.\",\"\")","v":""},{"$f":"IF(CE25<>\"\",CE25,\"\")","v":"Kroatien"},null,{"$f":"IF(BR22<>\"\",CF25,\"\")","v":""},":",{"$f":"IF(BR22<>\"\",CG25,\"\")","v":""},{"$f":"IF(CI25<>\"\",CI25,\"\")","v":0},null,"England","-","Ghana",{"$f":"IF('Vorrunde 25-48'!$H$23<>\"\",'Vorrunde 25-48'!$H$23,\"\")","v":""},":",{"$f":"IF('Vorrunde 25-48'!$J$23<>\"\",'Vorrunde 25-48'!$J$23,\"\")","v":""},null,{"$f":"SUM(BT22,BT24,BR27)","v":0},{"$f":"SUM(BR22,BR24,BT27)","v":0},{"$f":"IF(BT22>BR22,3,0)","v":0},{"$f":"IF(AND(BT22=BR22,BT22<>\"\"),1,0)","v":0},{"$f":"IF(BT24>BR24,3,0)","v":0},{"$f":"IF(AND(BT24=BR24,BT24<>\"\"),1,0)","v":0},{"$f":"IF(BR27>BT27,3,0)","v":0},{"$f":"IF(AND(BR27=BT27,BT27<>\"\"),1,0)","v":0},{"$f":"SUM(BX25:CC25)","v":0},"Kroatien",{"$f":"$BV$25","v":0},{"$f":"$BW$25","v":0},{"$f":"CF25-CG25","v":0},{"$f":"$CD$25","v":0},null,null,null,null,null,"ABCDEGJL","Elfenbeinküste","Iran","Katar","Haiti","Südkorea","Australien",{"$f":"$CE$26","v":"Ghana"},{"$f":"$CE$12","v":"Österreich"}]
[{"$f":"IF(L22<>\"\",\"3.\",\"\")","v":""},{"$f":"IF(Y26<>\"\",Y26,\"\")","v":"Australien"},null,{"$f":"IF(L22<>\"\",Z26,\"\")","v":""},":",{"$f":"IF(L22<>\"\",AA26,\"\")","v":""},{"$f":"IF(AC26<>\"\",AC26,\"\")","v":0},null,"Türkei","-","USA",{"$f":"IF('Vorrunde 49-72'!$H$12<>\"\",'Vorrunde 49-72'!$H$12,\"\")","v":""},":",{"$f":"IF('Vorrunde 49-72'!$J$12<>\"\",'Vorrunde 49-72'!$J$12,\"\")","v":""},null,{"$f":"SUM(L23,N25,N27)","v":0},{"$f":"SUM(N23,L25,L27)","v":0},{"$f":"IF(L23>N23,3,0)","v":0},{"$f":"IF(AND(L23=N23,N23<>\"\"),1,0)","v":0},{"$f":"IF(N25>L25,3,0)","v":0},{"$f":"IF(AND(N25=L25,N25<>\"\"),1,0)","v":0},{"$f":"IF(N27>L27,3,0)","v":0},{"$f":"IF(AND(N27=L27,N27<>\"\"),1,0)","v":0},{"$f":"SUM(R26:W26)","v":0},"Australien",{"$f":"$P$26","v":0},{"$f":"$Q$26","v":0},{"$f":"Z26-AA26","v":0},{"$f":"$X$26","v":0},{"$f":"IF(AO22<>\"\",\"3.\",\"\")","v":""},{"$f":"IF(BB26<>\"\",BB26,\"\")","v":"Saudi-Arabien"},null,{"$f":"IF(AO22<>\"\",BC26,\"\")","v":""},":",{"$f":"IF(AO22<>\"\",BD26,\"\")","v":""},{"$f":"IF(BF26<>\"\",BF26,\"\")","v":0},null,"Uruguay","-","Spanien",{"$f":"IF('Vorrunde 49-72'!$H$17<>\"\",'Vorrunde 49-72'!$H$17,\"\")","v":""},":",{"$f":"IF('Vorrunde 49-72'!$J$17<>\"\",'Vorrunde 49-72'!$J$17,\"\")","v":""},null,{"$f":"SUM(AO23,AQ25,AQ27)","v":0},{"$f":"SUM(AQ23,AO25,AO27)","v":0},{"$f":"IF(AO23>AQ23,3,0)","v":0},{"$f":"IF(AND(AO23=AQ23,AQ23<>\"\"),1,0)","v":0},{"$f":"IF(AQ25>AO25,3,0)","v":0},{"$f":"IF(AND(AQ25=AO25,AQ25<>\"\"),1,0)","v":0},{"$f":"IF(AQ27>AO27,3,0)","v":0},{"$f":"IF(AND(AQ27=AO27,AQ27<>\"\"),1,0)","v":0},{"$f":"SUM(AU26:AZ26)","v":0},"Saudi-Arabien",{"$f":"$AS$26","v":0},{"$f":"$AT$26","v":0},{"$f":"BC26-BD26","v":0},{"$f":"$BA$26","v":0},{"$f":"IF(BR22<>\"\",\"3.\",\"\")","v":""},{"$f":"IF(CE26<>\"\",CE26,\"\")","v":"Ghana"},null,{"$f":"IF(BR22<>\"\",CF26,\"\")","v":""},":",{"$f":"IF(BR22<>\"\",CG26,\"\")","v":""},{"$f":"IF(CI26<>\"\",CI26,\"\")","v":0},null,"Panama","-","England",{"$f":"IF('Vorrunde 49-72'!$H$20<>\"\",'Vorrunde 49-72'!$H$20,\"\")","v":""},":",{"$f":"IF('Vorrunde 49-72'!$J$20<>\"\",'Vorrunde 49-72'!$J$20,\"\")","v":""},null,{"$f":"SUM(BR23,BT25,BT27)","v":0},{"$f":"SUM(BT23,BR25,BR27)","v":0},{"$f":"IF(BR23>BT23,3,0)","v":0},{"$f":"IF(AND(BR23=BT23,BT23<>\"\"),1,0)","v":0},{"$f":"IF(BT25>BR25,3,0)","v":0},{"$f":"IF(AND(BT25=BR25,BT25<>\"\"),1,0)","v":0},{"$f":"IF(BT27>BR27,3,0)","v":0},{"$f":"IF(AND(BT27=BR27,BT27<>\"\"),1,0)","v":0},{"$f":"SUM(BX26:CC26)","v":0},"Ghana",{"$f":"$BV$26","v":0},{"$f":"$BW$26","v":0},{"$f":"CF26-CG26","v":0},{"$f":"$CD$26","v":0},null,null,null,null,null,"ABCDEGKL","Elfenbeinküste","Iran","Katar","Haiti","Südkorea","Australien",{"$f":"$CE$26","v":"Ghana"},{"$f":"$CE$19","v":"Usbekistan"}]
[{"$f":"IF(L22<>\"\",\"4.\",\"\")","v":""},{"$f":"IF(Y27<>\"\",Y27,\"\")","v":"Türkei"},null,{"$f":"IF(L22<>\"\",Z27,\"\")","v":""},":",{"$f":"IF(L22<>\"\",AA27,\"\")","v":""},{"$f":"IF(AC27<>\"\",AC27,\"\")","v":0},null,"Paraguay","-","Australien",{"$f":"IF('Vorrunde 49-72'!$H$13<>\"\",'Vorrunde 49-72'!$H$13,\"\")","v":""},":",{"$f":"IF('Vorrunde 49-72'!$J$13<>\"\",'Vorrunde 49-72'!$J$13,\"\")","v":""},null,{"$f":"SUM(N23,L24,L26)","v":0},{"$f":"SUM(L23,N24,N26)","v":0},{"$f":"IF(N23>L23,3,0)","v":0},{"$f":"IF(AND(N23=L23,N23<>\"\"),1,0)","v":0},{"$f":"IF(L24>N24,3,0)","v":0},{"$f":"IF(AND(L24=N24,N24<>\"\"),1,0)","v":0},{"$f":"IF(L26>N26,3,0)","v":0},{"$f":"IF(AND(L26=N26,N26<>\"\"),1,0)","v":0},{"$f":"SUM(R27:W27)","v":0},"Türkei",{"$f":"$P$27","v":0},{"$f":"$Q$27","v":0},{"$f":"Z27-AA27","v":0},{"$f":"$X$27","v":0},{"$f":"IF(AO22<>\"\",\"4.\",\"\")","v":""},{"$f":"IF(BB27<>\"\",BB27,\"\")","v":"Uruguay"},null,{"$f":"IF(AO22<>\"\",BC27,\"\")","v":""},":",{"$f":"IF(AO22<>\"\",BD27,\"\")","v":""},{"$f":"IF(BF27<>\"\",BF27,\"\")","v":0},null,"Kap Verde","-","Saudi-Arabien",{"$f":"IF('Vorrunde 49-72'!$H$16<>\"\",'Vorrunde 49-72'!$H$16,\"\")","v":""},":",{"$f":"IF('Vorrunde 49-72'!$J$16<>\"\",'Vorrunde 49-72'!$J$16,\"\")","v":""},null,{"$f":"SUM(AQ23,AO24,AO26)","v":0},{"$f":"SUM(AO23,AQ24,AQ26)","v":0},{"$f":"IF(AQ23>AO23,3,0)","v":0},{"$f":"IF(AND(AQ23=AO23,AQ23<>\"\"),1,0)","v":0},{"$f":"IF(AO24>AQ24,3,0)","v":0},{"$f":"IF(AND(AO24=AQ24,AQ24<>\"\"),1,0)","v":0},{"$f":"IF(AO26>AQ26,3,0)","v":0},{"$f":"IF(AND(AO26=AQ26,AQ26<>\"\"),1,0)","v":0},{"$f":"SUM(AU27:AZ27)","v":0},"Uruguay",{"$f":"$AS$27","v":0},{"$f":"$AT$27","v":0},{"$f":"BC27-BD27","v":0},{"$f":"$BA$27","v":0},{"$f":"IF(BR22<>\"\",\"4.\",\"\")","v":""},{"$f":"IF(CE27<>\"\",CE27,\"\")","v":"Panama"},null,{"$f":"IF(BR22<>\"\",CF27,\"\")","v":""},":",{"$f":"IF(BR22<>\"\",CG27,\"\")","v":""},{"$f":"IF(CI27<>\"\",CI27,\"\")","v":0},null,"Kroatien","-","Ghana",{"$f":"IF('Vorrunde 49-72'!$H$21<>\"\",'Vorrunde 49-72'!$H$21,\"\")","v":""},":",{"$f":"IF('Vorrunde 49-72'!$J$21<>\"\",'Vorrunde 49-72'!$J$21,\"\")","v":""},null,{"$f":"SUM(BT23,BR24,BR26)","v":0},{"$f":"SUM(BR23,BT24,BT26)","v":0},{"$f":"IF(BT23>BR23,3,0)","v":0},{"$f":"IF(AND(BT23=BR23,BT23<>\"\"),1,0)","v":0},{"$f":"IF(BR24>BT24,3,0)","v":0},{"$f":"IF(AND(BR24=BT24,BT24<>\"\"),1,0)","v":0},{"$f":"IF(BR26>BT26,3,0)","v":0},{"$f":"IF(AND(BR26=BT26,BT26<>\"\"),1,0)","v":0},{"$f":"SUM(BX27:CC27)","v":0},"Panama",{"$f":"$BV$27","v":0},{"$f":"$BW$27","v":0},{"$f":"CF27-CG27","v":0},{"$f":"$CD$27","v":0},null,null,null,null,null,"ABCDEHIJ",{"$f":"$BB$26","v":"Saudi-Arabien"},{"$f":"$CE$12","v":"Österreich"},"Katar","Haiti","Südkorea","Australien",{"$f":"$BB$5","v":"Elfenbeinküste"},{"$f":"$CE$5","v":"Irak"}]
[null,null,null,null,null,null,null,null,null,null,null,null,null,null,null,null,null,null,null,null,null,null,null,null,null,null,null,null,null,null,null,null,null,null,null,null,null,null,null,null,null,null,null,null,null,null,null,null,null,null,null,null,null,null,null,null,null,null,null,null,null,null,null,null,null,null,null,null,null,null,null,null,null,null,null,null,null,null,null,null,null,null,null,null,null,null,null,null,null,null,null,null,"ABCDEHIK","Saudi-Arabien",{"$f":"$BB$5","v":"Elfenbeinküste"},"Katar","Haiti","Südkorea","Australien",{"$f":"$CE$5","v":"Irak"},{"$f":"$CE$19","v":"Usbekistan"}]
[null,null,null,null,null,null,null,null,null,null,null,null,null,null,null,null,null,null,null,null,null,null,null,null,null,null,null,null,null,null,null,null,null,null,null,null,null,null,null,null,null,null,null,null,null,null,null,null,null,null,null,null,null,null,null,null,null,null,null,null,null,null,null,null,null,null,null,null,null,null,null,null,null,null,null,null,null,null,null,null,null,null,null,null,null,null,null,null,null,null,null,null,"ABCDEHIL","Saudi-Arabien",{"$f":"$BB$5","v":"Elfenbeinküste"},"Katar","Haiti","Südkorea","Australien",{"$f":"$CE$26","v":"Ghana"},{"$f":"$CE$5","v":"Irak"}]
[null,null,null,null,null,null,null,null,null,null,null,null,null,null,null,null,null,null,null,null,null,null,null,null,null,null,null,null,null,null,null,null,null,null,null,null,null,null,null,null,null,null,null,null,null,null,null,null,null,null,null,null,null,null,null,null,null,null,null,null,null,null,null,null,null,null,null,null,null,null,null,null,null,null,null,null,null,null,null,null,null,null,null,null,null,null,null,null,null,null,null,null,"ABCDEHJK","Saudi-Arabien",{"$f":"$CE$12","v":"Österreich"},"Katar","Haiti","Südkorea","Australien",{"$f":"$BB$5","v":"Elfenbeinküste"},{"$f":"$CE$19","v":"Usbekistan"}]
[null,null,null,null,null,null,null,null,null,null,null,null,null,null,null,null,null,null,null,null,null,null,null,null,null,null,null,null,null,null,null,null,null,null,null,null,null,null,null,null,null,null,null,null,null,null,null,null,null,null,null,null,null,null,null,null,null,null,null,null,null,null,null,null,null,null,null,null,null,null,null,null,null,null,null,null,null,null,null,null,null,null,null,null,null,null,null,null,null,null,null,null,"ABCDEHJL","Saudi-Arabien",{"$f":"$CE$12","v":"Österreich"},"Katar","Haiti","Südkorea","Australien",{"$f":"$CE$26","v":"Ghana"},{"$f":"$BB$5","v":"Elfenbeinküste"}]
[null,null,null,null,null,null,null,null,null,null,null,null,null,null,null,null,null,null,null,null,null,null,null,null,null,null,null,null,null,null,null,null,null,null,null,null,null,null,null,null,null,null,null,null,null,null,null,null,null,null,null,null,null,null,null,null,null,null,null,null,null,null,null,null,null,null,null,null,null,null,null,null,null,null,null,null,null,null,null,null,null,null,null,null,null,null,null,null,null,null,null,null,"ABCDEHKL","Saudi-Arabien",{"$f":"$BB$5","v":"Elfenbeinküste"},"Katar","Haiti","Südkorea","Australien",{"$f":"$CE$26","v":"Ghana"},{"$f":"$CE$19","v":"Usbekistan"}]
[null,null,null,null,null,null,null,null,null,null,null,null,null,null,null,null,null,null,null,null,null,null,null,null,null,null,null,null,null,null,null,null,null,null,null,null,null,null,null,null,null,null,null,null,null,null,null,null,null,null,null,null,null,null,null,null,null,null,null,null,null,null,null,null,null,null,null,null,null,null,null,null,null,null,null,null,null,null,null,null,null,null,null,null,null,null,null,null,null,null,null,null,"ABCDEIJK",{"$f":"$BB$5","v":"Elfenbeinküste"},{"$f":"$CE$12","v":"Österreich"},"Katar","Haiti","Südkorea","Australien",{"$f":"$CE$5","v":"Irak"},{"$f":"$CE$19","v":"Usbekistan"}]
[null,{"$f":"A38&A39&A40&A41&A42&A43&A44&A45","v":""},null,null,null,null,null,null,null,null,{"$f":"A38&A39&A40&A41&A42&A43&A44&A45","v":""},null,null,null,null,null,null,null,null,null,null,null,null,null,null,null,null,null,null,null,null,null,null,null,null,null,null,null,null,null,null,null,null,null,null,null,null,null,null,null,null,null,null,null,null,null,null,null,null,null,null,null,null,null,null,null,null,null,null,null,null,null,null,null,null,null,null,null,null,null,null,null,null,null,null,null,null,null,null,null,null,null,"ABCDEIJL",{"$f":"$BB$5","v":"Elfenbeinküste"},{"$f":"$CE$12","v":"Österreich"},"Katar","Haiti",{"$f":"$Y$5","v":"Südkorea"},"Australien",{"$f":"$CE$26","v":"Ghana"},{"$f":"$CE$5","v":"Irak"}]
[null,null,null,null,null,null,null,null,null,null,null,null,null,null,null,null,null,null,null,null,null,null,null,null,null,null,null,null,null,null,null,null,null,null,null,null,null,null,null,null,null,null,null,null,null,null,null,null,null,null,null,null,null,null,null,null,null,null,null,null,null,null,null,null,null,null,null,null,null,null,null,null,null,null,null,null,null,null,null,null,null,null,null,null,null,null,null,null,null,null,null,null,"ABCDEIKL",{"$f":"$BB$5","v":"Elfenbeinküste"},{"$f":"$CE$5","v":"Irak"},"Katar","Haiti","Südkorea","Australien",{"$f":"$CE$26","v":"Ghana"},{"$f":"$CE$19","v":"Usbekistan"}]
["Die Rangliste aller 3. Plätze ( die Ränge 1 bis 4 sind qualifiziert für das Achtelfinale )",null,null,null,null,null,null,null,null,null,null,null,null,null,null,null,null,null,null,null,null,null,null,null,null,null,null,null,null,null,null,null,null,null,null,null,null,null,null,null,null,null,null,null,null,null,null,null,null,null,null,null,null,null,null,null,null,null,null,null,null,null,null,null,null,null,null,null,null,null,null,null,null,null,null,null,null,null,null,null,null,null,null,null,null,null,null,null,null,null,null,null,"ABCDEJKL",{"$f":"$BB$5","v":"Elfenbeinküste"},{"$f":"$CE$12","v":"Österreich"},"Katar","Haiti","Südkorea","Australien",{"$f":"$CE$26","v":"Ghana"},{"$f":"$CE$19","v":"Usbekistan"}]
["Gruppe","MANNSCHAFT",null,"TORE",null,null,"Tordifferenz",null,"PUNKTE",{"$f":"A38&$H$1&A39&$H$1&A40&$H$1&A41&$H$1&A42&$H$1&A43&$H$1&A44&$H$1&A45","v":" /  /  /  /  /  /  / "},null,null,null,null,null,null,null,null,null,null,null,null,null,null,null,null,null,null,null,null,null,null,null,null,null,null,null,null,null,null,null,null,null,null,null,null,null,null,null,null,null,null,null,null,null,null,null,null,null,null,null,null,null,null,null,null,null,null,null,null,null,null,null,null,null,null,null,null,null,null,null,null,null,null,null,null,null,null,null,null,null,null,"ABCDFGHI",{"$f":"$BB$26","v":"Saudi-Arabien"},{"$f":"$BB$19","v":"Iran"},"Katar","Haiti","Südkorea",{"$f":"$BB$12","v":"Schweden"},{"$f":"$Y$26","v":"Australien"},{"$f":"$CE$5","v":"Irak"}]
[{"$f":"IF($L$5=\"\",\"\",$X$38)","v":""},{"$f":"IF($L$5=\"\",\"\",$Y$38)","v":""},null,{"$f":"IF($L$5=\"\",\"\",$Z$38)","v":""},":",{"$f":"IF($L$5=\"\",\"\",$AA$38)","v":""},{"$f":"IF($L$5=\"\",\"\",$AB$38)","v":""},null,{"$f":"IF($L$5=\"\",\"\",$AC$38)","v":""},"Rang 1",null,null,null,null,null,null,null,null,null,null,null,null,null,"A",{"$f":"$Y$5","v":"Südkorea"},{"$f":"$Z$5","v":0},{"$f":"$AA$5","v":0},{"$f":"$AB$5","v":0},{"$f":"$AC$5","v":0},null,null,null,null,null,null,null,null,null,null,null,null,null,null,null,null,null,null,null,null,null,null,null,null,null,null,null,null,null,null,null,null,null,null,null,null,null,null,null,null,null,null,null,null,null,null,null,null,null,null,null,null,null,null,null,null,null,null,null,null,null,null,null,"ABCDFGHJ",{"$f":"$BB$26","v":"Saudi-Arabien"},"Iran","Katar","Haiti","Südkorea","Schweden",{"$f":"$Y$26","v":"Australien"},{"$f":"$CE$12","v":"Österreich"}]
[{"$f":"IF($L$5=\"\",\"\",$X$39)","v":""},{"$f":"IF($L$5=\"\",\"\",$Y$39)","v":""},null,{"$f":"IF($L$5=\"\",\"\",$Z$39)","v":""},":",{"$f":"IF($L$5=\"\",\"\",$AA$39)","v":""},{"$f":"IF($L$5=\"\",\"\",$AB$39)","v":""},null,{"$f":"IF($L$5=\"\",\"\",$AC$39)","v":""},"Rang 2",null,null,null,null,null,null,null,null,null,null,null,null,null,"B",{"$f":"$Y$12","v":"Katar"},{"$f":"$Z$12","v":0},{"$f":"$AA$12","v":0},{"$f":"$AB$12","v":0},{"$f":"$AC$12","v":0},null,null,null,null,null,null,null,null,null,null,null,null,null,null,null,null,null,null,null,null,null,null,null,null,null,null,null,null,null,null,null,null,null,null,null,null,null,null,null,null,null,null,null,null,null,null,null,null,null,null,null,null,null,null,null,null,null,null,null,null,null,null,null,"ABCDFGHK",{"$f":"$BB$26","v":"Saudi-Arabien"},"Iran","Katar","Haiti","Südkorea","Schweden",{"$f":"$Y$26","v":"Australien"},{"$f":"$CE$19","v":"Usbekistan"}]
[{"$f":"IF($L$5=\"\",\"\",$X$40)","v":""},{"$f":"IF($L$5=\"\",\"\",$Y$40)","v":""},null,{"$f":"IF($L$5=\"\",\"\",$Z$40)","v":""},":",{"$f":"IF($L$5=\"\",\"\",$AA$40)","v":""},{"$f":"IF($L$5=\"\",\"\",$AB$40)","v":""},null,{"$f":"IF($L$5=\"\",\"\",$AC$40)","v":""},"Rang 3",null,null,null,null,null,null,null,null,null,null,null,null,null,"C",{"$f":"$Y$19","v":"Haiti"},{"$f":"$Z$19","v":0},{"$f":"$AA$19","v":0},{"$f":"$AB$19","v":0},{"$f":"$AC$19","v":0},null,null,null,null,null,null,null,null,null,null,null,null,null,null,null,null,null,null,null,null,null,null,null,null,null,null,null,null,null,null,null,null,null,null,null,null,null,null,null,null,null,null,null,null,null,null,null,null,null,null,null,null,null,null,null,null,null,null,null,null,null,null,null,"ABCDFGHL",{"$f":"$Y$19","v":"Haiti"},"Iran","Katar",{"$f":"$Y$26","v":"Australien"},"Südkorea","Schweden",{"$f":"$CE$26","v":"Ghana"},{"$f":"$BB$26","v":"Saudi-Arabien"}]
[{"$f":"IF($L$5=\"\",\"\",$X$41)","v":""},{"$f":"IF($L$5=\"\",\"\",$Y$41)","v":""},null,{"$f":"IF($L$5=\"\",\"\",$Z$41)","v":""},":",{"$f":"IF($L$5=\"\",\"\",$AA$41)","v":""},{"$f":"IF($L$5=\"\",\"\",$AB$41)","v":""},null,{"$f":"IF($L$5=\"\",\"\",$AC$41)","v":""},"Rang 4",null,null,null,null,null,null,null,null,null,null,null,null,null,"D",{"$f":"$Y$26","v":"Australien"},{"$f":"$Z$26","v":0},{"$f":"$AA$26","v":0},{"$f":"$AB$26","v":0},{"$f":"$AC$26","v":0},null,null,null,null,null,null,null,null,null,null,null,null,null,null,null,null,null,null,null,null,null,null,null,null,null,null,null,null,null,null,null,null,null,null,null,null,null,null,null,null,null,null,null,null,null,null,null,null,null,null,null,null,null,null,null,null,null,null,null,null,null,null,null,"ABCDFGIJ","Haiti","Iran","Katar","Australien","Südkorea","Schweden",{"$f":"$CE$5","v":"Irak"},{"$f":"$CE$12","v":"Österreich"}]
[{"$f":"IF($L$5=\"\",\"\",$X$42)","v":""},{"$f":"IF($L$5=\"\",\"\",$Y$42)","v":""},null,{"$f":"IF($L$5=\"\",\"\",$Z$42)","v":""},":",{"$f":"IF($L$5=\"\",\"\",$AA$42)","v":""},{"$f":"IF($L$5=\"\",\"\",$AB$42)","v":""},null,{"$f":"IF($L$5=\"\",\"\",$AC$42)","v":""},"Rang 5",null,null,null,null,null,null,null,null,null,null,null,null,null,"E",{"$f":"$BB$5","v":"Elfenbeinküste"},{"$f":"$BC$5","v":0},{"$f":"$BD$5","v":0},{"$f":"$BE$5","v":0},{"$f":"$BF$5","v":0},null,null,null,null,null,null,null,null,null,null,null,null,null,null,null,null,null,null,null,null,null,null,null,null,null,null,null,null,null,null,null,null,null,null,null,null,null,null,null,null,null,null,null,null,null,null,null,null,null,null,null,null,null,null,null,null,null,null,null,null,null,null,null,"ABCDFGIK","Haiti","Iran","Katar","Australien","Südkorea","Schweden",{"$f":"$CE$5","v":"Irak"},{"$f":"$CE$19","v":"Usbekistan"}]
[{"$f":"IF($L$5=\"\",\"\",$X$43)","v":""},{"$f":"IF($L$5=\"\",\"\",$Y$43)","v":""},null,{"$f":"IF($L$5=\"\",\"\",$Z$43)","v":""},":",{"$f":"IF($L$5=\"\",\"\",$AA$43)","v":""},{"$f":"IF($L$5=\"\",\"\",$AB$43)","v":""},null,{"$f":"IF($L$5=\"\",\"\",$AC$43)","v":""},"Rang 6",null,null,null,null,null,null,null,null,null,null,null,null,null,"F",{"$f":"$BB$12","v":"Schweden"},{"$f":"$BC$12","v":0},{"$f":"$BD$12","v":0},{"$f":"$BE$12","v":0},{"$f":"$BF$12","v":0},null,null,null,null,null,null,null,null,null,null,null,null,null,null,null,null,null,null,null,null,null,null,null,null,null,null,null,null,null,null,null,null,null,null,null,null,null,null,null,null,null,null,null,null,null,null,null,null,null,null,null,null,null,null,null,null,null,null,null,null,null,null,null,"ABCDFGIL","Haiti","Iran","Katar","Australien","Südkorea","Schweden",{"$f":"$CE$26","v":"Ghana"},{"$f":"$CE$5","v":"Irak"}]
[{"$f":"IF($L$5=\"\",\"\",$X$44)","v":""},{"$f":"IF($L$5=\"\",\"\",$Y$44)","v":""},null,{"$f":"IF($L$5=\"\",\"\",$Z$44)","v":""},":",{"$f":"IF($L$5=\"\",\"\",$AA$44)","v":""},{"$f":"IF($L$5=\"\",\"\",$AB$44)","v":""},null,{"$f":"IF($L$5=\"\",\"\",$AC$44)","v":""},"Rang 7",null,null,null,null,null,null,null,null,null,null,null,null,null,"G",{"$f":"$BB$19","v":"Iran"},{"$f":"$BC$19","v":0},{"$f":"$BD$19","v":0},{"$f":"$BE$19","v":0},{"$f":"$BF$19","v":0},null,null,null,null,null,null,null,null,null,null,null,null,null,null,null,null,null,null,null,null,null,null,null,null,null,null,null,null,null,null,null,null,null,null,null,null,null,null,null,null,null,null,null,null,null,null,null,null,null,null,null,null,null,null,null,null,null,null,null,null,null,null,null,"ABCDFGJK","Haiti","Iran","Katar","Australien","Südkorea","Schweden",{"$f":"$CE$12","v":"Österreich"},{"$f":"$CE$19","v":"Usbekistan"}]
[{"$f":"IF($L$5=\"\",\"\",$X$45)","v":""},{"$f":"IF($L$5=\"\",\"\",$Y$45)","v":""},null,{"$f":"IF($L$5=\"\",\"\",$Z$45)","v":""},":",{"$f":"IF($L$5=\"\",\"\",$AA$45)","v":""},{"$f":"IF($L$5=\"\",\"\",$AB$45)","v":""},null,{"$f":"IF($L$5=\"\",\"\",$AC$45)","v":""},"Rang 8",null,null,null,null,null,null,null,null,null,null,null,null,null,"H",{"$f":"$BB$26","v":"Saudi-Arabien"},{"$f":"$BC$26","v":0},{"$f":"$BD$26","v":0},{"$f":"$BE$26","v":0},{"$f":"$BF$26","v":0},null,null,null,null,null,null,null,null,null,null,null,null,null,null,null,null,null,null,null,null,null,null,null,null,null,null,null,null,null,null,null,null,null,null,null,null,null,null,null,null,null,null,null,null,null,null,null,null,null,null,null,null,null,null,null,null,null,null,null,null,null,null,null,"ABCDFGJL","Haiti","Iran","Katar","Australien","Südkorea","Schweden",{"$f":"$CE$26","v":"Ghana"},{"$f":"$CE$12","v":"Österreich"}]
[{"$f":"IF($L$5=\"\",\"\",$X$46)","v":""},{"$f":"IF($L$5=\"\",\"\",$Y$46)","v":""},null,{"$f":"IF($L$5=\"\",\"\",$Z$46)","v":""},":",{"$f":"IF($L$5=\"\",\"\",$AA$46)","v":""},{"$f":"IF($L$5=\"\",\"\",$AB$46)","v":""},null,{"$f":"IF($L$5=\"\",\"\",$AC$46)","v":""},"Rang 9",null,null,null,null,null,null,null,null,null,null,null,null,null,"I",{"$f":"$CE$5","v":"Irak"},{"$f":"$CF$5","v":0},{"$f":"$CG$5","v":0},{"$f":"$CH$5","v":0},{"$f":"$CI$5","v":0},null,null,null,null,null,null,null,null,null,null,null,null,null,null,null,null,null,null,null,null,null,null,null,null,null,null,null,null,null,null,null,null,null,null,null,null,null,null,null,null,null,null,null,null,null,null,null,null,null,null,null,null,null,null,null,null,null,null,null,null,null,null,null,"ABCDFGKL","Haiti","Iran","Katar","Australien","Südkorea","Schweden",{"$f":"$CE$26","v":"Ghana"},{"$f":"$CE$19","v":"Usbekistan"}]
[{"$f":"IF($L$5=\"\",\"\",$X$47)","v":""},{"$f":"IF($L$5=\"\",\"\",$Y$47)","v":""},null,{"$f":"IF($L$5=\"\",\"\",$Z$47)","v":""},":",{"$f":"IF($L$5=\"\",\"\",$AA$47)","v":""},{"$f":"IF($L$5=\"\",\"\",$AB$47)","v":""},null,{"$f":"IF($L$5=\"\",\"\",$AC$47)","v":""},"Rang 10",null,null,null,null,null,null,null,null,null,null,null,null,null,"J",{"$f":"$CE$12","v":"Österreich"},{"$f":"$CF$12","v":0},{"$f":"$CG$12","v":0},{"$f":"$CH$12","v":0},{"$f":"$CI$12","v":0},null,null,null,null,null,null,null,null,null,null,null,null,null,null,null,null,null,null,null,null,null,null,null,null,null,null,null,null,null,null,null,null,null,null,null,null,null,null,null,null,null,null,null,null,null,null,null,null,null,null,null,null,null,null,null,null,null,null,null,null,null,null,null,"ABCDFHIJ",{"$f":"$BB$26","v":"Saudi-Arabien"},{"$f":"$CE$12","v":"Österreich"},"Katar",{"$f":"$Y$19","v":"Haiti"},"Südkorea","Schweden",{"$f":"$Y$26","v":"Australien"},{"$f":"$CE$5","v":"Irak"}]
[{"$f":"IF($L$5=\"\",\"\",$X$48)","v":""},{"$f":"IF($L$5=\"\",\"\",$Y$48)","v":""},null,{"$f":"IF($L$5=\"\",\"\",$Z$48)","v":""},":",{"$f":"IF($L$5=\"\",\"\",$AA$48)","v":""},{"$f":"IF($L$5=\"\",\"\",$AB$48)","v":""},null,{"$f":"IF($L$5=\"\",\"\",$AC$48)","v":""},"Rang 11",null,null,null,null,null,null,null,null,null,null,null,null,null,"K",{"$f":"$CE$19","v":"Usbekistan"},{"$f":"$CF$19","v":0},{"$f":"$CG$19","v":0},{"$f":"$CH$19","v":0},{"$f":"$CI$19","v":0},null,null,null,null,null,null,null,null,null,null,null,null,null,null,null,null,null,null,null,null,null,null,null,null,null,null,null,null,null,null,null,null,null,null,null,null,null,null,null,null,null,null,null,null,null,null,null,null,null,null,null,null,null,null,null,null,null,null,null,null,null,null,null,"ABCDFHIK",{"$f":"$BB$26","v":"Saudi-Arabien"},{"$f":"$BB$12","v":"Schweden"},"Katar",{"$f":"$Y$19","v":"Haiti"},"Südkorea",{"$f":"$Y$26","v":"Australien"},{"$f":"$CE$5","v":"Irak"},{"$f":"$CE$19","v":"Usbekistan"}]
[{"$f":"IF($L$5=\"\",\"\",$X$49)","v":""},{"$f":"IF($L$5=\"\",\"\",$Y$49)","v":""},null,{"$f":"IF($L$5=\"\",\"\",$Z$49)","v":""},":",{"$f":"IF($L$5=\"\",\"\",$AA$49)","v":""},{"$f":"IF($L$5=\"\",\"\",$AB$49)","v":""},null,{"$f":"IF($L$5=\"\",\"\",$AC$49)","v":""},"Rang 12",null,null,null,null,null,null,null,null,null,null,null,null,null,"L",{"$f":"$CE$26","v":"Ghana"},{"$f":"$CF$26","v":0},{"$f":"$CG$26","v":0},{"$f":"$CH$26","v":0},{"$f":"$CI$26","v":0},null,null,null,null,null,null,null,null,null,null,null,null,null,null,null,null,null,null,null,null,null,null,null,null,null,null,null,null,null,null,null,null,null,null,null,null,null,null,null,null,null,null,null,null,null,null,null,null,null,null,null,null,null,null,null,null,null,null,null,null,null,null,null,"ABCDFHIL",{"$f":"$BB$26","v":"Saudi-Arabien"},{"$f":"$BB$12","v":"Schweden"},"Katar",{"$f":"$Y$19","v":"Haiti"},"Südkorea",{"$f":"$Y$26","v":"Australien"},{"$f":"$CE$26","v":"Ghana"},{"$f":"$CE$5","v":"Irak"}]
[null,null,null,null,null,null,null,null,null,null,null,null,null,null,null,null,null,null,null,null,null,null,null,null,null,null,null,null,null,null,null,null,null,null,null,null,null,null,null,null,null,null,null,null,null,null,null,null,null,null,null,null,null,null,null,null,null,null,null,null,null,null,null,null,null,null,null,null,null,null,null,null,null,null,null,null,null,null,null,null,null,null,null,null,null,null,null,null,null,null,null,null,"ABCDFHJK",{"$f":"$BB$26","v":"Saudi-Arabien"},{"$f":"$CE$12","v":"Österreich"},"Katar",{"$f":"$Y$19","v":"Haiti"},"Südkorea",{"$f":"$BB$12","v":"Schweden"},{"$f":"$Y$26","v":"Australien"},{"$f":"$CE$19","v":"Usbekistan"}]
["Nr.","Team-Name",null,null,null,null,"Kürzel","Nr.","Kürzel","Team-Name",null,null,null,null,null,null,null,null,null,null,null,null,null,null,null,null,null,null,null,null,null,null,null,null,null,null,null,"Team-Name",null,null,null,"Anzahl und Jahre der Titelgewinne",null,null,null,null,null,null,null,null,null,null,null,null,null,null,null,null,null,null,null,null,null,null,null,null,null,null,null,null,null,null,null,null,null,null,null,null,null,null,null,null,null,null,null,null,null,null,null,null,null,null,"ABCDFHJL",{"$f":"$Y$19","v":"Haiti"},{"$f":"$CE$12","v":"Österreich"},"Katar",{"$f":"$Y$26","v":"Australien"},"Südkorea",{"$f":"$BB$12","v":"Schweden"},{"$f":"$CE$26","v":"Ghana"},{"$f":"$BB$26","v":"Saudi-Arabien"}]
[1,"Ägypten",null,null,null,null,"ÄGY",1,"ÄGY","Ägypten",null,null,null,null,null,null,null,null,null,null,null,null,null,null,null,null,null,null,null,null,null,null,null,null,null,null,null,"Brasilien",null,null,null,5,null,null,null,null,null,null,null,null,null,null,null,null,null,null,null,null,"1958 / 1962 / 1970 / 1994 / 2002",null,null,null,null,null,null,null,null,null,null,null,null,null,null,null,null,null,null,null,null,null,null,null,null,null,null,null,null,null,null,null,null,null,"ABCDFHKL",{"$f":"$BB$26","v":"Saudi-Arabien"},{"$f":"$BB$12","v":"Schweden"},"Katar",{"$f":"$Y$19","v":"Haiti"},"Südkorea",{"$f":"$Y$26","v":"Australien"},{"$f":"$CE$26","v":"Ghana"},{"$f":"$CE$19","v":"Usbekistan"}]
[2,"Albanien",null,null,null,null,"ALB",2,"ALB","Albanien",null,null,null,null,null,null,null,null,null,null,null,null,null,null,null,null,null,null,null,null,null,null,null,null,null,null,null,"Deutschland",null,null,null,4,null,null,null,null,null,null,null,null,null,null,null,null,null,null,null,null,"1954 / 1974 / 1990 / 2014",null,null,null,null,null,null,null,null,null,null,null,null,null,null,null,null,null,null,null,null,null,null,null,null,null,null,null,null,null,null,null,null,null,"ABCDFIJK",{"$f":"$Y$19","v":"Haiti"},{"$f":"$CE$12","v":"Österreich"},"Katar",{"$f":"$Y$26","v":"Australien"},"Südkorea",{"$f":"$BB$12","v":"Schweden"},{"$f":"$CE$5","v":"Irak"},{"$f":"$CE$19","v":"Usbekistan"}]
[3,"Algerien",null,null,null,null,"ALG",3,"ALG","Algerien",null,null,null,null,null,null,null,null,null,null,null,null,null,null,null,null,null,null,null,null,null,null,null,null,null,null,null,"Italien",null,null,null,4,null,null,null,null,null,null,null,null,null,null,null,null,null,null,null,null,"1934 / 1938 / 1982 / 2006",null,null,null,null,null,null,null,null,null,null,null,null,null,null,null,null,null,null,null,null,null,null,null,null,null,null,null,null,null,null,null,null,null,"ABCDFIJL",{"$f":"$Y$19","v":"Haiti"},{"$f":"$CE$12","v":"Österreich"},"Katar",{"$f":"$Y$26","v":"Australien"},"Südkorea",{"$f":"$BB$12","v":"Schweden"},{"$f":"$CE$26","v":"Ghana"},{"$f":"$CE$5","v":"Irak"}]
[4,"Argentinien",null,null,null,null,"ARG",4,"ARG","Argentinien",null,null,null,null,null,null,null,null,null,null,null,null,null,null,null,null,null,null,null,null,null,null,null,null,null,null,null,"Argentinien",null,null,null,3,null,null,null,null,null,null,null,null,null,null,null,null,null,null,null,null,"1978 / 1986 / 2022",null,null,null,null,null,null,null,null,null,null,null,null,null,null,null,null,null,null,null,null,null,null,null,null,null,null,null,null,null,null,null,null,null,"ABCDFIKL",{"$f":"$Y$19","v":"Haiti"},{"$f":"$CE$5","v":"Irak"},"Katar",{"$f":"$Y$26","v":"Australien"},"Südkorea",{"$f":"$BB$12","v":"Schweden"},{"$f":"$CE$26","v":"Ghana"},{"$f":"$CE$19","v":"Usbekistan"}]
[5,"Australien",null,null,null,null,"AUS",5,"AUS","Australien",null,null,null,null,null,null,null,null,null,null,null,null,null,null,null,null,null,null,null,null,null,null,null,null,null,null,null,"Frankreich",null,null,null,2,null,null,null,null,null,null,null,null,null,null,null,null,null,null,null,null,"1998 / 2018",null,null,null,null,null,null,null,null,null,null,null,null,null,null,null,null,null,null,null,null,null,null,null,null,null,null,null,null,null,null,null,null,null,"ABCDFJKL",{"$f":"$Y$19","v":"Haiti"},{"$f":"$CE$12","v":"Österreich"},"Katar",{"$f":"$Y$26","v":"Australien"},"Südkorea",{"$f":"$BB$12","v":"Schweden"},{"$f":"$CE$26","v":"Ghana"},{"$f":"$CE$19","v":"Usbekistan"}]
[6,"Belgien",null,null,null,null,"BEL",6,"BEL","Belgien",null,null,null,null,null,null,null,null,null,null,null,null,null,null,null,null,null,null,null,null,null,null,null,null,null,null,null,"Uruguay",null,null,null,2,null,null,null,null,null,null,null,null,null,null,null,null,null,null,null,null,"1930 / 1950",null,null,null,null,null,null,null,null,null,null,null,null,null,null,null,null,null,null,null,null,null,null,null,null,null,null,null,null,null,null,null,null,null,"ABCDGHIJ",{"$f":"$BB$26","v":"Saudi-Arabien"},{"$f":"$BB$19","v":"Iran"},"Katar",{"$f":"$Y$19","v":"Haiti"},"Südkorea",{"$f":"$Y$26","v":"Australien"},{"$f":"$CE$5","v":"Irak"},{"$f":"$CE$12","v":"Österreich"}]
[7,"Irak",null,null,null,null,"BOL",7,"BOH","Bosnien und Herzegowina",null,null,null,null,null,null,null,null,null,null,null,null,null,null,null,null,null,null,null,null,null,null,null,null,null,null,null,"Spanien",null,null,null,1,null,null,null,null,null,null,null,null,null,null,null,null,null,null,null,null,2010,null,null,null,null,null,null,null,null,null,null,null,null,null,null,null,null,null,null,null,null,null,null,null,null,null,null,null,null,null,null,null,null,null,"ABCDGHIK","Saudi-Arabien","Iran","Katar","Haiti","Südkorea","Australien",{"$f":"$CE$5","v":"Irak"},{"$f":"$CE$19","v":"Usbekistan"}]
[8,"Bosnien und Herzegowina",null,null,null,null,"BOH",8,"BOL","Irak",null,null,null,null,null,null,null,null,null,null,null,null,null,null,null,null,null,null,null,null,null,null,null,null,null,null,null,"England",null,null,null,1,null,null,null,null,null,null,null,null,null,null,null,null,null,null,null,null,1966,null,null,null,null,null,null,null,null,null,null,null,null,null,null,null,null,null,null,null,null,null,null,null,null,null,null,null,null,null,null,null,null,null,"ABCDGHIL","Saudi-Arabien","Iran","Katar","Haiti","Südkorea","Australien",{"$f":"$CE$26","v":"Ghana"},{"$f":"$CE$5","v":"Irak"}]
[9,"Brasilien",null,null,null,null,"BRA",9,"BRA","Brasilien",null,null,null,null,null,null,null,null,null,null,null,null,null,null,null,null,null,null,null,null,null,null,null,null,null,null,null,null,null,null,null,{"$f":"SUM(AP52:AP59)","v":22},null,null,null,null,null,null,null,null,null,null,null,null,null,null,null,null,null,null,null,null,null,null,null,null,null,null,null,null,null,null,null,null,null,null,null,null,null,null,null,null,null,null,null,null,null,null,null,null,null,null,"ABCDGHJK","Saudi-Arabien","Iran","Katar","Haiti","Südkorea","Australien",{"$f":"$CE$12","v":"Österreich"},{"$f":"$CE$19","v":"Usbekistan"}]
[10,"Curaçao",null,null,null,null,"CUR",10,"CUR","Curaçao",null,null,null,null,null,null,null,null,null,null,null,null,null,null,null,null,null,null,null,null,null,null,null,null,null,null,null,null,null,null,null,null,null,null,null,null,null,null,null,null,null,null,null,null,null,null,null,null,null,null,null,null,null,null,null,null,null,null,null,null,null,null,null,null,null,null,null,null,null,null,null,null,null,null,null,null,null,null,null,null,null,null,"ABCDGHJL","Saudi-Arabien","Iran","Katar","Haiti","Südkorea","Australien",{"$f":"$CE$26","v":"Ghana"},{"$f":"$CE$12","v":"Österreich"}]
[11,"Tschechien",null,null,null,null,"DÄN",11,"DÄN","Tschechien",null,null,null,null,null,null,null,null,null,null,null,null,null,null,null,null,null,null,null,null,null,null,null,null,null,null,null,null,null,null,null,null,null,null,null,null,null,null,null,null,null,null,null,null,null,null,null,null,null,null,null,null,null,null,null,null,null,null,null,null,null,null,null,null,null,null,null,null,null,null,null,null,null,null,null,null,null,null,null,null,null,null,"ABCDGHKL","Saudi-Arabien","Iran","Katar","Haiti","Südkorea","Australien",{"$f":"$CE$26","v":"Ghana"},{"$f":"$CE$19","v":"Usbekistan"}]
[12,"Demokratische Republik Kongo",null,null,null,null,"KON",12,"DEU","Deutschland",null,null,null,null,null,null,null,null,null,null,null,null,null,null,null,null,null,null,null,null,null,null,null,null,null,null,null,null,null,null,null,null,null,null,null,null,null,null,null,null,null,null,null,null,null,null,null,null,null,null,null,null,null,null,null,null,null,null,null,null,null,null,null,null,null,null,null,null,null,null,null,null,null,null,null,null,null,null,null,null,null,null,"ABCDGIJK",{"$f":"$Y$19","v":"Haiti"},{"$f":"$CE$12","v":"Österreich"},"Katar",{"$f":"$Y$26","v":"Australien"},"Südkorea",{"$f":"$BB$19","v":"Iran"},{"$f":"$CE$5","v":"Irak"},{"$f":"$CE$19","v":"Usbekistan"}]
[13,"Deutschland",null,null,null,null,"DEU",13,"ECU","Ecuador",null,null,null,null,null,null,null,null,null,null,null,null,null,null,null,null,null,null,null,null,null,null,null,null,null,null,null,null,null,null,null,null,null,null,null,null,null,null,null,null,null,null,null,null,null,null,null,null,null,null,null,null,null,null,null,null,null,null,null,null,null,null,null,null,null,null,null,null,null,null,null,null,null,null,null,null,null,null,null,null,null,null,"ABCDGIJL",{"$f":"$Y$19","v":"Haiti"},{"$f":"$CE$12","v":"Österreich"},"Katar",{"$f":"$Y$26","v":"Australien"},"Südkorea",{"$f":"$BB$19","v":"Iran"},{"$f":"$CE$26","v":"Ghana"},{"$f":"$CE$5","v":"Irak"}]
[14,"Ecuador",null,null,null,null,"ECU",14,"ELF","Elfenbeinküste",null,null,null,null,null,null,null,null,null,null,null,null,null,null,null,null,null,null,null,null,null,null,null,null,null,null,null,null,null,null,null,null,null,null,null,null,null,null,null,null,null,null,null,null,null,null,null,null,null,null,null,null,null,null,null,null,null,null,null,null,null,null,null,null,null,null,null,null,null,null,null,null,null,null,null,null,null,null,null,null,null,null,"ABCDGIKL",{"$f":"$CE$5","v":"Irak"},{"$f":"$BB$19","v":"Iran"},"Katar",{"$f":"$Y$19","v":"Haiti"},"Südkorea",{"$f":"$Y$26","v":"Australien"},{"$f":"$CE$26","v":"Ghana"},{"$f":"$CE$19","v":"Usbekistan"}]
[15,"Elfenbeinküste",null,null,null,null,"ELF",15,"ENG","England",null,null,null,null,null,null,null,null,null,null,null,null,null,null,null,null,null,null,null,null,null,null,null,null,null,null,null,null,null,null,null,null,null,null,null,null,null,null,null,null,null,null,null,null,null,null,null,null,null,null,null,null,null,null,null,null,null,null,null,null,null,null,null,null,null,null,null,null,null,null,null,null,null,null,null,null,null,null,null,null,null,null,"ABCDGJKL",{"$f":"$Y$19","v":"Haiti"},{"$f":"$CE$12","v":"Österreich"},{"$f":"$Y$12","v":"Katar"},{"$f":"$Y$26","v":"Australien"},{"$f":"$Y$5","v":"Südkorea"},{"$f":"$BB$19","v":"Iran"},{"$f":"$CE$26","v":"Ghana"},{"$f":"$CE$19","v":"Usbekistan"}]
[16,"England",null,null,null,null,"ENG",16,"FRA","Frankreich",null,null,null,null,null,null,null,null,null,null,null,null,null,null,null,null,null,null,null,null,null,null,null,null,null,null,null,null,null,null,null,null,null,null,null,null,null,null,null,null,null,null,null,null,null,null,null,null,null,null,null,null,null,null,null,null,null,null,null,null,null,null,null,null,null,null,null,null,null,null,null,null,null,null,null,null,null,null,null,null,null,null,"ABCDHIJK",{"$f":"$BB$26","v":"Saudi-Arabien"},{"$f":"$CE$12","v":"Österreich"},"Katar",{"$f":"$Y$19","v":"Haiti"},"Südkorea",{"$f":"$Y$26","v":"Australien"},{"$f":"$CE$5","v":"Irak"},{"$f":"$CE$19","v":"Usbekistan"}]
[17,"Frankreich",null,null,null,null,"FRA",17,"GAN","Ghana",null,null,null,null,null,null,null,null,null,null,null,null,null,null,null,null,null,null,null,null,null,null,null,null,null,null,null,null,null,null,null,null,null,null,null,null,null,null,null,null,null,null,null,null,null,null,null,null,null,null,null,null,null,null,null,null,null,null,null,null,null,null,null,null,null,null,null,null,null,null,null,null,null,null,null,null,null,null,null,null,null,null,"ABCDHIJL",{"$f":"$BB$26","v":"Saudi-Arabien"},{"$f":"$CE$12","v":"Österreich"},"Katar","Haiti","Südkorea",{"$f":"$Y$26","v":"Australien"},{"$f":"$CE$26","v":"Ghana"},{"$f":"$CE$5","v":"Irak"}]
[18,"Ghana",null,null,null,null,"GAN",18,"HAI","Haiti",null,null,null,null,null,null,null,null,null,null,null,null,null,null,null,null,null,null,null,null,null,null,null,null,null,null,null,null,null,null,null,null,null,null,null,null,null,null,null,null,null,null,null,null,null,null,null,null,null,null,null,null,null,null,null,null,null,null,null,null,null,null,null,null,null,null,null,null,null,null,null,null,null,null,null,null,null,null,null,null,null,null,"ABCDHIKL",{"$f":"$BB$26","v":"Saudi-Arabien"},{"$f":"$CE$5","v":"Irak"},"Katar","Haiti","Südkorea",{"$f":"$Y$26","v":"Australien"},{"$f":"$CE$26","v":"Ghana"},{"$f":"$CE$19","v":"Usbekistan"}]
[19,"Haiti",null,null,null,null,"HAI",19,"HOL","Niederlande",null,null,null,null,null,null,null,null,null,null,null,null,null,null,null,null,null,null,null,null,null,null,null,null,null,null,null,null,null,null,null,null,null,null,null,null,null,null,null,null,null,null,null,null,null,null,null,null,null,null,null,null,null,null,null,null,null,null,null,null,null,null,null,null,null,null,null,null,null,null,null,null,null,null,null,null,null,null,null,null,null,null,"ABCDHJKL",{"$f":"$BB$26","v":"Saudi-Arabien"},{"$f":"$CE$12","v":"Österreich"},"Katar","Haiti","Südkorea",{"$f":"$Y$26","v":"Australien"},{"$f":"$CE$26","v":"Ghana"},{"$f":"$CE$19","v":"Usbekistan"}]
[20,"Irak",null,null,null,null,"IRK",20,"IRK","Irak",null,null,null,null,null,null,null,null,null,null,null,null,null,null,null,null,null,null,null,null,null,null,null,null,null,null,null,null,null,null,null,null,null,null,null,null,null,null,null,null,null,null,null,null,null,null,null,null,null,null,null,null,null,null,null,null,null,null,null,null,null,null,null,null,null,null,null,null,null,null,null,null,null,null,null,null,null,null,null,null,null,null,"ABCDIJKL",{"$f":"$CE$5","v":"Irak"},{"$f":"$CE$12","v":"Österreich"},"Katar","Haiti","Südkorea",{"$f":"$Y$26","v":"Australien"},{"$f":"$CE$26","v":"Ghana"},{"$f":"$CE$19","v":"Usbekistan"}]
[21,"Iran",null,null,null,null,"IRN",21,"IRL","Irland",null,null,null,null,null,null,null,null,null,null,null,null,null,null,null,null,null,null,null,null,null,null,null,null,null,null,null,null,null,null,null,null,null,null,null,null,null,null,null,null,null,null,null,null,null,null,null,null,null,null,null,null,null,null,null,null,null,null,null,null,null,null,null,null,null,null,null,null,null,null,null,null,null,null,null,null,null,null,null,null,null,null,"ABCEFGHI",{"$f":"$BB$26","v":"Saudi-Arabien"},{"$f":"$BB$19","v":"Iran"},"Katar","Haiti","Südkorea",{"$f":"$BB$12","v":"Schweden"},{"$f":"$BB$5","v":"Elfenbeinküste"},{"$f":"$CE$5","v":"Irak"}]
[22,"Irland",null,null,null,null,"IRL",22,"IRN","Iran",null,null,null,null,null,null,null,null,null,null,null,null,null,null,null,null,null,null,null,null,null,null,null,null,null,null,null,null,null,null,null,null,null,null,null,null,null,null,null,null,null,null,null,null,null,null,null,null,null,null,null,null,null,null,null,null,null,null,null,null,null,null,null,null,null,null,null,null,null,null,null,null,null,null,null,null,null,null,null,null,null,null,"ABCEFGHJ",{"$f":"$BB$26","v":"Saudi-Arabien"},"Iran","Katar","Haiti","Südkorea","Schweden",{"$f":"$BB$5","v":"Elfenbeinküste"},{"$f":"$CE$12","v":"Österreich"}]
[23,"Bosnien-Herzegowina",null,null,null,null,"ITA",23,"ITA","Bosnien-Herzegowina",null,null,null,null,null,null,null,null,null,null,null,null,null,null,null,null,null,null,null,null,null,null,null,null,null,null,null,null,null,null,null,null,null,null,null,null,null,null,null,null,null,null,null,null,null,null,null,null,null,null,null,null,null,null,null,null,null,null,null,null,null,null,null,null,null,null,null,null,null,null,null,null,null,null,null,null,null,null,null,null,null,null,"ABCEFGHK",{"$f":"$BB$26","v":"Saudi-Arabien"},"Iran","Katar","Haiti","Südkorea","Schweden",{"$f":"$BB$5","v":"Elfenbeinküste"},{"$f":"$CE$19","v":"Usbekistan"}]
[24,"DR Kongo",null,null,null,null,"JAM",24,"JAM","DR Kongo",null,null,null,null,null,null,null,null,null,null,null,null,null,null,null,null,null,null,null,null,null,null,null,null,null,null,null,null,null,null,null,null,null,null,null,null,null,null,null,null,null,null,null,null,null,null,null,null,null,null,null,null,null,null,null,null,null,null,null,null,null,null,null,null,null,null,null,null,null,null,null,null,null,null,null,null,null,null,null,null,null,null,"ABCEFGHL",{"$f":"$BB$26","v":"Saudi-Arabien"},"Iran","Katar","Haiti","Südkorea","Schweden",{"$f":"$CE$26","v":"Ghana"},{"$f":"$BB$5","v":"Elfenbeinküste"}]
[25,"Japan",null,null,null,null,"JAP",25,"JAP","Japan",null,null,null,null,null,null,null,null,null,null,null,null,null,null,null,null,null,null,null,null,null,null,null,null,null,null,null,null,null,null,null,null,null,null,null,null,null,null,null,null,null,null,null,null,null,null,null,null,null,null,null,null,null,null,null,null,null,null,null,null,null,null,null,null,null,null,null,null,null,null,null,null,null,null,null,null,null,null,null,null,null,null,"ABCEFGIJ",{"$f":"$BB$5","v":"Elfenbeinküste"},"Iran","Katar","Haiti","Südkorea","Schweden",{"$f":"$CE$5","v":"Irak"},{"$f":"$CE$12","v":"Österreich"}]
[26,"Jordanien",null,null,null,null,"JOR",26,"JOR","Jordanien",null,null,null,null,null,null,null,null,null,null,null,null,null,null,null,null,null,null,null,null,null,null,null,null,null,null,null,null,null,null,null,null,null,null,null,null,null,null,null,null,null,null,null,null,null,null,null,null,null,null,null,null,null,null,null,null,null,null,null,null,null,null,null,null,null,null,null,null,null,null,null,null,null,null,null,null,null,null,null,null,null,null,"ABCEFGIK","Elfenbeinküste","Iran","Katar","Haiti","Südkorea","Schweden",{"$f":"$CE$5","v":"Irak"},{"$f":"$CE$19","v":"Usbekistan"}]
[27,"Kanada",null,null,null,null,"KAN",27,"KAN","Kanada",null,null,null,null,null,null,null,null,null,null,null,null,null,null,null,null,null,null,null,null,null,null,null,null,null,null,null,null,null,null,null,null,null,null,null,null,null,null,null,null,null,null,null,null,null,null,null,null,null,null,null,null,null,null,null,null,null,null,null,null,null,null,null,null,null,null,null,null,null,null,null,null,null,null,null,null,null,null,null,null,null,null,"ABCEFGIL","Elfenbeinküste","Iran","Katar","Haiti","Südkorea","Schweden",{"$f":"$CE$26","v":"Ghana"},{"$f":"$CE$5","v":"Irak"}]
[28,"Kap Verde",null,null,null,null,"KVD",28,"KAT","Katar",null,null,null,null,null,null,null,null,null,null,null,null,null,null,null,null,null,null,null,null,null,null,null,null,null,null,null,null,null,null,null,null,null,null,null,null,null,null,null,null,null,null,null,null,null,null,null,null,null,null,null,null,null,null,null,null,null,null,null,null,null,null,null,null,null,null,null,null,null,null,null,null,null,null,null,null,null,null,null,null,null,null,"ABCEFGJK","Elfenbeinküste","Iran","Katar","Haiti","Südkorea","Schweden",{"$f":"$CE$12","v":"Österreich"},{"$f":"$CE$19","v":"Usbekistan"}]
[29,"Katar",null,null,null,null,"KAT",29,"KOL","Kolumbien",null,null,null,null,null,null,null,null,null,null,null,null,null,null,null,null,null,null,null,null,null,null,null,null,null,null,null,null,null,null,null,null,null,null,null,null,null,null,null,null,null,null,null,null,null,null,null,null,null,null,null,null,null,null,null,null,null,null,null,null,null,null,null,null,null,null,null,null,null,null,null,null,null,null,null,null,null,null,null,null,null,null,"ABCEFGJL","Elfenbeinküste","Iran","Katar","Haiti","Südkorea","Schweden",{"$f":"$CE$26","v":"Ghana"},{"$f":"$CE$12","v":"Österreich"}]
[30,"Kolumbien",null,null,null,null,"KOL",30,"KON","Demokratische Republik Kongo",null,null,null,null,null,null,null,null,null,null,null,null,null,null,null,null,null,null,null,null,null,null,null,null,null,null,null,null,null,null,null,null,null,null,null,null,null,null,null,null,null,null,null,null,null,null,null,null,null,null,null,null,null,null,null,null,null,null,null,null,null,null,null,null,null,null,null,null,null,null,null,null,null,null,null,null,null,null,null,null,null,null,"ABCEFGKL","Elfenbeinküste","Iran","Katar","Haiti","Südkorea","Schweden",{"$f":"$CE$26","v":"Ghana"},{"$f":"$CE$19","v":"Usbekistan"}]
[31,"Kosovo",null,null,null,null,"KOS",31,"KOR","Südkorea",null,null,null,null,null,null,null,null,null,null,null,null,null,null,null,null,null,null,null,null,null,null,null,null,null,null,null,null,null,null,null,null,null,null,null,null,null,null,null,null,null,null,null,null,null,null,null,null,null,null,null,null,null,null,null,null,null,null,null,null,null,null,null,null,null,null,null,null,null,null,null,null,null,null,null,null,null,null,null,null,null,null,"ABCEFHIJ",{"$f":"$BB$26","v":"Saudi-Arabien"},{"$f":"$CE$12","v":"Österreich"},"Katar","Haiti","Südkorea","Schweden",{"$f":"$BB$5","v":"Elfenbeinküste"},{"$f":"$CE$5","v":"Irak"}]
[32,"Kroatien",null,null,null,null,"KRO",32,"KOS","Kosovo",null,null,null,null,null,null,null,null,null,null,null,null,null,null,null,null,null,null,null,null,null,null,null,null,null,null,null,null,null,null,null,null,null,null,null,null,null,null,null,null,null,null,null,null,null,null,null,null,null,null,null,null,null,null,null,null,null,null,null,null,null,null,null,null,null,null,null,null,null,null,null,null,null,null,null,null,null,null,null,null,null,null,"ABCEFHIK","Saudi-Arabien",{"$f":"$BB$5","v":"Elfenbeinküste"},"Katar","Haiti","Südkorea","Schweden",{"$f":"$CE$5","v":"Irak"},{"$f":"$CE$19","v":"Usbekistan"}]
[33,"Marokko",null,null,null,null,"MAR",33,"KRO","Kroatien",null,null,null,null,null,null,null,null,null,null,null,null,null,null,null,null,null,null,null,null,null,null,null,null,null,null,null,null,null,null,null,null,null,null,null,null,null,null,null,null,null,null,null,null,null,null,null,null,null,null,null,null,null,null,null,null,null,null,null,null,null,null,null,null,null,null,null,null,null,null,null,null,null,null,null,null,null,null,null,null,null,null,"ABCEFHIL","Saudi-Arabien",{"$f":"$BB$5","v":"Elfenbeinküste"},"Katar","Haiti","Südkorea","Schweden",{"$f":"$CE$26","v":"Ghana"},{"$f":"$CE$5","v":"Irak"}]
[34,"Mexiko",null,null,null,null,"MEX",34,"KVD","Kap Verde",null,null,null,null,null,null,null,null,null,null,null,null,null,null,null,null,null,null,null,null,null,null,null,null,null,null,null,null,null,null,null,null,null,null,null,null,null,null,null,null,null,null,null,null,null,null,null,null,null,null,null,null,null,null,null,null,null,null,null,null,null,null,null,null,null,null,null,null,null,null,null,null,null,null,null,null,null,null,null,null,null,null,"ABCEFHJK","Saudi-Arabien",{"$f":"$CE$12","v":"Österreich"},"Katar","Haiti","Südkorea","Schweden",{"$f":"$BB$5","v":"Elfenbeinküste"},{"$f":"$CE$19","v":"Usbekistan"}]
[35,"Neukaledonien",null,null,null,null,"NKA",35,"MAR","Marokko",null,null,null,null,null,null,null,null,null,null,null,null,null,null,null,null,null,null,null,null,null,null,null,null,null,null,null,null,null,null,null,null,null,null,null,null,null,null,null,null,null,null,null,null,null,null,null,null,null,null,null,null,null,null,null,null,null,null,null,null,null,null,null,null,null,null,null,null,null,null,null,null,null,null,null,null,null,null,null,null,null,null,"ABCEFHJL","Saudi-Arabien",{"$f":"$CE$12","v":"Österreich"},"Katar","Haiti","Südkorea","Schweden",{"$f":"$CE$26","v":"Ghana"},{"$f":"$BB$5","v":"Elfenbeinküste"}]
[36,"Neuseeland",null,null,null,null,"NEU",36,"MAZ","Nordmazedonien",null,null,null,null,null,null,null,null,null,null,null,null,null,null,null,null,null,null,null,null,null,null,null,null,null,null,null,null,null,null,null,null,null,null,null,null,null,null,null,null,null,null,null,null,null,null,null,null,null,null,null,null,null,null,null,null,null,null,null,null,null,null,null,null,null,null,null,null,null,null,null,null,null,null,null,null,null,null,null,null,null,null,"ABCEFHKL","Saudi-Arabien",{"$f":"$BB$5","v":"Elfenbeinküste"},"Katar","Haiti","Südkorea","Schweden",{"$f":"$CE$26","v":"Ghana"},{"$f":"$CE$19","v":"Usbekistan"}]
[37,"Niederlande",null,null,null,null,"HOL",37,"MEX","Mexiko",null,null,null,null,null,null,null,null,null,null,null,null,null,null,null,null,null,null,null,null,null,null,null,null,null,null,null,null,null,null,null,null,null,null,null,null,null,null,null,null,null,null,null,null,null,null,null,null,null,null,null,null,null,null,null,null,null,null,null,null,null,null,null,null,null,null,null,null,null,null,null,null,null,null,null,null,null,null,null,null,null,null,"ABCEFIJK",{"$f":"$BB$5","v":"Elfenbeinküste"},{"$f":"$CE$12","v":"Österreich"},"Katar","Haiti","Südkorea","Schweden",{"$f":"$CE$5","v":"Irak"},{"$f":"$CE$19","v":"Usbekistan"}]
[38,"Nordirland",null,null,null,null,"NIR",38,"NEU","Neuseeland",null,null,null,null,null,null,null,null,null,null,null,null,null,null,null,null,null,null,null,null,null,null,null,null,null,null,null,null,null,null,null,null,null,null,null,null,null,null,null,null,null,null,null,null,null,null,null,null,null,null,null,null,null,null,null,null,null,null,null,null,null,null,null,null,null,null,null,null,null,null,null,null,null,null,null,null,null,null,null,null,null,null,"ABCEFIJL",{"$f":"$BB$5","v":"Elfenbeinküste"},{"$f":"$CE$12","v":"Österreich"},"Katar","Haiti","Südkorea","Schweden",{"$f":"$CE$26","v":"Ghana"},{"$f":"$CE$5","v":"Irak"}]
[39,"Nordmazedonien",null,null,null,null,"MAZ",39,"NIR","Nordirland",null,null,null,null,null,null,null,null,null,null,null,null,null,null,null,null,null,null,null,null,null,null,null,null,null,null,null,null,null,null,null,null,null,null,null,null,null,null,null,null,null,null,null,null,null,null,null,null,null,null,null,null,null,null,null,null,null,null,null,null,null,null,null,null,null,null,null,null,null,null,null,null,null,null,null,null,null,null,null,null,null,null,"ABCEFIKL",{"$f":"$BB$5","v":"Elfenbeinküste"},{"$f":"$CE$5","v":"Irak"},"Katar","Haiti","Südkorea","Schweden",{"$f":"$CE$26","v":"Ghana"},{"$f":"$CE$19","v":"Usbekistan"}]
[40,"Norwegen",null,null,null,null,"NOR",40,"NKA","Neukaledonien",null,null,null,null,null,null,null,null,null,null,null,null,null,null,null,null,null,null,null,null,null,null,null,null,null,null,null,null,null,null,null,null,null,null,null,null,null,null,null,null,null,null,null,null,null,null,null,null,null,null,null,null,null,null,null,null,null,null,null,null,null,null,null,null,null,null,null,null,null,null,null,null,null,null,null,null,null,null,null,null,null,null,"ABCEFJKL",{"$f":"$BB$5","v":"Elfenbeinküste"},{"$f":"$CE$12","v":"Österreich"},"Katar","Haiti","Südkorea","Schweden",{"$f":"$CE$26","v":"Ghana"},{"$f":"$CE$19","v":"Usbekistan"}]
[41,"Österreich",null,null,null,null,"ÖST",41,"NOR","Norwegen",null,null,null,null,null,null,null,null,null,null,null,null,null,null,null,null,null,null,null,null,null,null,null,null,null,null,null,null,null,null,null,null,null,null,null,null,null,null,null,null,null,null,null,null,null,null,null,null,null,null,null,null,null,null,null,null,null,null,null,null,null,null,null,null,null,null,null,null,null,null,null,null,null,null,null,null,null,null,null,null,null,null,"ABCEGHIJ",{"$f":"$BB$26","v":"Saudi-Arabien"},{"$f":"$CE$12","v":"Österreich"},"Katar","Haiti","Südkorea",{"$f":"$BB$19","v":"Iran"},{"$f":"$BB$5","v":"Elfenbeinküste"},{"$f":"$CE$5","v":"Irak"}]
[42,"Panama",null,null,null,null,"PAN",42,"ÖST","Österreich",null,null,null,null,null,null,null,null,null,null,null,null,null,null,null,null,null,null,null,null,null,null,null,null,null,null,null,null,null,null,null,null,null,null,null,null,null,null,null,null,null,null,null,null,null,null,null,null,null,null,null,null,null,null,null,null,null,null,null,null,null,null,null,null,null,null,null,null,null,null,null,null,null,null,null,null,null,null,null,null,null,null,"ABCEGHIK",{"$f":"$BB$5","v":"Elfenbeinküste"},{"$f":"$BB$19","v":"Iran"},"Katar","Haiti","Südkorea",{"$f":"$BB$26","v":"Saudi-Arabien"},{"$f":"$CE$5","v":"Irak"},{"$f":"$CE$19","v":"Usbekistan"}]
[43,"Paraguay",null,null,null,null,"PAR",43,"PAN","Panama",null,null,null,null,null,null,null,null,null,null,null,null,null,null,null,null,null,null,null,null,null,null,null,null,null,null,null,null,null,null,null,null,null,null,null,null,null,null,null,null,null,null,null,null,null,null,null,null,null,null,null,null,null,null,null,null,null,null,null,null,null,null,null,null,null,null,null,null,null,null,null,null,null,null,null,null,null,null,null,null,null,null,"ABCEGHIL",{"$f":"$BB$5","v":"Elfenbeinküste"},{"$f":"$BB$19","v":"Iran"},"Katar","Haiti","Südkorea",{"$f":"$BB$26","v":"Saudi-Arabien"},{"$f":"$CE$26","v":"Ghana"},{"$f":"$CE$5","v":"Irak"}]
[44,"Polen",null,null,null,null,"POL",44,"PAR","Paraguay",null,null,null,null,null,null,null,null,null,null,null,null,null,null,null,null,null,null,null,null,null,null,null,null,null,null,null,null,null,null,null,null,null,null,null,null,null,null,null,null,null,null,null,null,null,null,null,null,null,null,null,null,null,null,null,null,null,null,null,null,null,null,null,null,null,null,null,null,null,null,null,null,null,null,null,null,null,null,null,null,null,null,"ABCEGHJK",{"$f":"$BB$26","v":"Saudi-Arabien"},{"$f":"$CE$12","v":"Österreich"},"Katar","Haiti","Südkorea",{"$f":"$BB$19","v":"Iran"},{"$f":"$BB$5","v":"Elfenbeinküste"},{"$f":"$CE$19","v":"Usbekistan"}]
[45,"Portugal",null,null,null,null,"POR",45,"POL","Polen",null,null,null,null,null,null,null,null,null,null,null,null,null,null,null,null,null,null,null,null,null,null,null,null,null,null,null,null,null,null,null,null,null,null,null,null,null,null,null,null,null,null,null,null,null,null,null,null,null,null,null,null,null,null,null,null,null,null,null,null,null,null,null,null,null,null,null,null,null,null,null,null,null,null,null,null,null,null,null,null,null,null,"ABCEGHJL",{"$f":"$BB$26","v":"Saudi-Arabien"},{"$f":"$CE$12","v":"Österreich"},"Katar","Haiti","Südkorea",{"$f":"$BB$19","v":"Iran"},{"$f":"$CE$26","v":"Ghana"},{"$f":"$BB$5","v":"Elfenbeinküste"}]
[46,"Rumänien",null,null,null,null,"RUM",46,"POR","Portugal",null,null,null,null,null,null,null,null,null,null,null,null,null,null,null,null,null,null,null,null,null,null,null,null,null,null,null,null,null,null,null,null,null,null,null,null,null,null,null,null,null,null,null,null,null,null,null,null,null,null,null,null,null,null,null,null,null,null,null,null,null,null,null,null,null,null,null,null,null,null,null,null,null,null,null,null,null,null,null,null,null,null,"ABCEGHKL",{"$f":"$BB$5","v":"Elfenbeinküste"},{"$f":"$BB$19","v":"Iran"},"Katar","Haiti","Südkorea",{"$f":"$BB$26","v":"Saudi-Arabien"},{"$f":"$CE$26","v":"Ghana"},{"$f":"$CE$19","v":"Usbekistan"}]
[47,"Saudi-Arabien",null,null,null,null,"SAR",47,"RUM","Rumänien",null,null,null,null,null,null,null,null,null,null,null,null,null,null,null,null,null,null,null,null,null,null,null,null,null,null,null,null,null,null,null,null,null,null,null,null,null,null,null,null,null,null,null,null,null,null,null,null,null,null,null,null,null,null,null,null,null,null,null,null,null,null,null,null,null,null,null,null,null,null,null,null,null,null,null,null,null,null,null,null,null,null,"ABCEGIJK","Elfenbeinküste",{"$f":"$CE$12","v":"Österreich"},"Katar","Haiti","Südkorea",{"$f":"$BB$19","v":"Iran"},{"$f":"$CE$5","v":"Irak"},{"$f":"$CE$19","v":"Usbekistan"}]
[48,"Schottland",null,null,null,null,"SCO",48,"SAF","Südafrika",null,null,null,null,null,null,null,null,null,null,null,null,null,null,null,null,null,null,null,null,null,null,null,null,null,null,null,null,null,null,null,null,null,null,null,null,null,null,null,null,null,null,null,null,null,null,null,null,null,null,null,null,null,null,null,null,null,null,null,null,null,null,null,null,null,null,null,null,null,null,null,null,null,null,null,null,null,null,null,null,null,null,"ABCEGIJL","Elfenbeinküste",{"$f":"$CE$12","v":"Österreich"},"Katar","Haiti","Südkorea",{"$f":"$BB$19","v":"Iran"},{"$f":"$CE$26","v":"Ghana"},{"$f":"$CE$5","v":"Irak"}]
[49,"Schweden",null,null,null,null,"SWE",49,"SAR","Saudi-Arabien",null,null,null,null,null,null,null,null,null,null,null,null,null,null,null,null,null,null,null,null,null,null,null,null,null,null,null,null,null,null,null,null,null,null,null,null,null,null,null,null,null,null,null,null,null,null,null,null,null,null,null,null,null,null,null,null,null,null,null,null,null,null,null,null,null,null,null,null,null,null,null,null,null,null,null,null,null,null,null,null,null,null,"ABCEGIKL","Elfenbeinküste",{"$f":"$BB$19","v":"Iran"},"Katar",{"$f":"$Y$5","v":"Südkorea"},{"$f":"$CE$5","v":"Irak"},{"$f":"$Y$19","v":"Haiti"},{"$f":"$CE$26","v":"Ghana"},{"$f":"$CE$19","v":"Usbekistan"}]
[50,"Schweiz",null,null,null,null,"SCH",50,"SCH","Schweiz",null,null,null,null,null,null,null,null,null,null,null,null,null,null,null,null,null,null,null,null,null,null,null,null,null,null,null,null,null,null,null,null,null,null,null,null,null,null,null,null,null,null,null,null,null,null,null,null,null,null,null,null,null,null,null,null,null,null,null,null,null,null,null,null,null,null,null,null,null,null,null,null,null,null,null,null,null,null,null,null,null,null,"ABCEGJKL","Elfenbeinküste",{"$f":"$CE$12","v":"Österreich"},"Katar",{"$f":"$Y$19","v":"Haiti"},{"$f":"$Y$5","v":"Südkorea"},{"$f":"$BB$19","v":"Iran"},{"$f":"$CE$26","v":"Ghana"},{"$f":"$CE$19","v":"Usbekistan"}]
[51,"Senegal",null,null,null,null,"SEN",51,"SCO","Schottland",null,null,null,null,null,null,null,null,null,null,null,null,null,null,null,null,null,null,null,null,null,null,null,null,null,null,null,null,null,null,null,null,null,null,null,null,null,null,null,null,null,null,null,null,null,null,null,null,null,null,null,null,null,null,null,null,null,null,null,null,null,null,null,null,null,null,null,null,null,null,null,null,null,null,null,null,null,null,null,null,null,null,"ABCEHIJK","Elfenbeinküste",{"$f":"$CE$12","v":"Österreich"},"Katar",{"$f":"$Y$19","v":"Haiti"},{"$f":"$Y$5","v":"Südkorea"},{"$f":"$BB$26","v":"Saudi-Arabien"},{"$f":"$CE$5","v":"Irak"},{"$f":"$CE$19","v":"Usbekistan"}]
[52,"Slowakei",null,null,null,null,"SLO",52,"SEN","Senegal",null,null,null,null,null,null,null,null,null,null,null,null,null,null,null,null,null,null,null,null,null,null,null,null,null,null,null,null,null,null,null,null,null,null,null,null,null,null,null,null,null,null,null,null,null,null,null,null,null,null,null,null,null,null,null,null,null,null,null,null,null,null,null,null,null,null,null,null,null,null,null,null,null,null,null,null,null,null,null,null,null,null,"ABCEHIJL","Elfenbeinküste",{"$f":"$CE$12","v":"Österreich"},"Katar",{"$f":"$Y$19","v":"Haiti"},{"$f":"$Y$5","v":"Südkorea"},{"$f":"$BB$26","v":"Saudi-Arabien"},{"$f":"$CE$26","v":"Ghana"},{"$f":"$CE$5","v":"Irak"}]
[53,"Spanien",null,null,null,null,"SPA",53,"SLO","Slowakei",null,null,null,null,null,null,null,null,null,null,null,null,null,null,null,null,null,null,null,null,null,null,null,null,null,null,null,null,null,null,null,null,null,null,null,null,null,null,null,null,null,null,null,null,null,null,null,null,null,null,null,null,null,null,null,null,null,null,null,null,null,null,null,null,null,null,null,null,null,null,null,null,null,null,null,null,null,null,null,null,null,null,"ABCEHIKL","Elfenbeinküste",{"$f":"$CE$5","v":"Irak"},"Katar",{"$f":"$Y$19","v":"Haiti"},{"$f":"$Y$5","v":"Südkorea"},{"$f":"$BB$26","v":"Saudi-Arabien"},{"$f":"$CE$26","v":"Ghana"},{"$f":"$CE$19","v":"Usbekistan"}]
[54,"Südafrika",null,null,null,null,"SAF",54,"SPA","Spanien",null,null,null,null,null,null,null,null,null,null,null,null,null,null,null,null,null,null,null,null,null,null,null,null,null,null,null,null,null,null,null,null,null,null,null,null,null,null,null,null,null,null,null,null,null,null,null,null,null,null,null,null,null,null,null,null,null,null,null,null,null,null,null,null,null,null,null,null,null,null,null,null,null,null,null,null,null,null,null,null,null,null,"ABCEHJKL","Elfenbeinküste",{"$f":"$CE$12","v":"Österreich"},"Katar",{"$f":"$Y$19","v":"Haiti"},{"$f":"$Y$5","v":"Südkorea"},{"$f":"$BB$26","v":"Saudi-Arabien"},{"$f":"$CE$26","v":"Ghana"},{"$f":"$CE$19","v":"Usbekistan"}]
[55,"Südkorea",null,null,null,null,"KOR",55,"SUR","Suriname",null,null,null,null,null,null,null,null,null,null,null,null,null,null,null,null,null,null,null,null,null,null,null,null,null,null,null,null,null,null,null,null,null,null,null,null,null,null,null,null,null,null,null,null,null,null,null,null,null,null,null,null,null,null,null,null,null,null,null,null,null,null,null,null,null,null,null,null,null,null,null,null,null,null,null,null,null,null,null,null,null,null,"ABCEIJKL","Elfenbeinküste",{"$f":"$CE$12","v":"Österreich"},"Katar",{"$f":"$Y$5","v":"Südkorea"},{"$f":"$CE$5","v":"Irak"},{"$f":"$Y$19","v":"Haiti"},{"$f":"$CE$26","v":"Ghana"},{"$f":"$CE$19","v":"Usbekistan"}]
[56,"Suriname",null,null,null,null,"SUR",56,"SWE","Schweden",null,null,null,null,null,null,null,null,null,null,null,null,null,null,null,null,null,null,null,null,null,null,null,null,null,null,null,null,null,null,null,null,null,null,null,null,null,null,null,null,null,null,null,null,null,null,null,null,null,null,null,null,null,null,null,null,null,null,null,null,null,null,null,null,null,null,null,null,null,null,null,null,null,null,null,null,null,null,null,null,null,null,"ABCFGHIJ",{"$f":"$BB$26","v":"Saudi-Arabien"},{"$f":"$BB$19","v":"Iran"},"Katar",{"$f":"$Y$19","v":"Haiti"},{"$f":"$Y$5","v":"Südkorea"},{"$f":"$BB$12","v":"Schweden"},{"$f":"$CE$5","v":"Irak"},{"$f":"$CE$12","v":"Österreich"}]
[57,"Tschechien",null,null,null,null,"TCH",57,"TCH","Tschechien",null,null,null,null,null,null,null,null,null,null,null,null,null,null,null,null,null,null,null,null,null,null,null,null,null,null,null,null,null,null,null,null,null,null,null,null,null,null,null,null,null,null,null,null,null,null,null,null,null,null,null,null,null,null,null,null,null,null,null,null,null,null,null,null,null,null,null,null,null,null,null,null,null,null,null,null,null,null,null,null,null,null,"ABCFGHIK","Saudi-Arabien","Iran","Katar","Haiti","Südkorea","Schweden",{"$f":"$CE$5","v":"Irak"},{"$f":"$CE$19","v":"Usbekistan"}]
[58,"Tunesien",null,null,null,null,"TUN",58,"TUN","Tunesien",null,null,null,null,null,null,null,null,null,null,null,null,null,null,null,null,null,null,null,null,null,null,null,null,null,null,null,null,null,null,null,null,null,null,null,null,null,null,null,null,null,null,null,null,null,null,null,null,null,null,null,null,null,null,null,null,null,null,null,null,null,null,null,null,null,null,null,null,null,null,null,null,null,null,null,null,null,null,null,null,null,null,"ABCFGHIL","Saudi-Arabien","Iran","Katar","Haiti","Südkorea","Schweden",{"$f":"$CE$26","v":"Ghana"},{"$f":"$CE$5","v":"Irak"}]
[59,"Türkei",null,null,null,null,"TÜR",59,"TÜR","Türkei",null,null,null,null,null,null,null,null,null,null,null,null,null,null,null,null,null,null,null,null,null,null,null,null,null,null,null,null,null,null,null,null,null,null,null,null,null,null,null,null,null,null,null,null,null,null,null,null,null,null,null,null,null,null,null,null,null,null,null,null,null,null,null,null,null,null,null,null,null,null,null,null,null,null,null,null,null,null,null,null,null,null,"ABCFGHJK","Saudi-Arabien","Iran","Katar","Haiti","Südkorea","Schweden",{"$f":"$CE$12","v":"Österreich"},{"$f":"$CE$19","v":"Usbekistan"}]
[60,"Schweden",null,null,null,null,"UKR",60,"UKR","Schweden",null,null,null,null,null,null,null,null,null,null,null,null,null,null,null,null,null,null,null,null,null,null,null,null,null,null,null,null,null,null,null,null,null,null,null,null,null,null,null,null,null,null,null,null,null,null,null,null,null,null,null,null,null,null,null,null,null,null,null,null,null,null,null,null,null,null,null,null,null,null,null,null,null,null,null,null,null,null,null,null,null,null,"ABCFGHJL","Saudi-Arabien","Iran","Katar","Haiti","Südkorea","Schweden",{"$f":"$CE$26","v":"Ghana"},{"$f":"$CE$12","v":"Österreich"}]
[61,"Uruguay",null,null,null,null,"URU",61,"URU","Uruguay",null,null,null,null,null,null,null,null,null,null,null,null,null,null,null,null,null,null,null,null,null,null,null,null,null,null,null,null,null,null,null,null,null,null,null,null,null,null,null,null,null,null,null,null,null,null,null,null,null,null,null,null,null,null,null,null,null,null,null,null,null,null,null,null,null,null,null,null,null,null,null,null,null,null,null,null,null,null,null,null,null,null,"ABCFGHKL","Saudi-Arabien","Iran","Katar","Haiti","Südkorea","Schweden",{"$f":"$CE$26","v":"Ghana"},{"$f":"$CE$19","v":"Usbekistan"}]
[62,"USA",null,null,null,null,"USA",62,"USA","USA",null,null,null,null,null,null,null,null,null,null,null,null,null,null,null,null,null,null,null,null,null,null,null,null,null,null,null,null,null,null,null,null,null,null,null,null,null,null,null,null,null,null,null,null,null,null,null,null,null,null,null,null,null,null,null,null,null,null,null,null,null,null,null,null,null,null,null,null,null,null,null,null,null,null,null,null,null,null,null,null,null,null,"ABCFGIJK",{"$f":"$Y$19","v":"Haiti"},{"$f":"$CE$12","v":"Österreich"},"Katar",{"$f":"$BB$12","v":"Schweden"},"Südkorea",{"$f":"$BB$19","v":"Iran"},{"$f":"$CE$5","v":"Irak"},{"$f":"$CE$19","v":"Usbekistan"}]
[63,"Usbekistan",null,null,null,null,"USB",63,"USB","Usbekistan",null,null,null,null,null,null,null,null,null,null,null,null,null,null,null,null,null,null,null,null,null,null,null,null,null,null,null,null,null,null,null,null,null,null,null,null,null,null,null,null,null,null,null,null,null,null,null,null,null,null,null,null,null,null,null,null,null,null,null,null,null,null,null,null,null,null,null,null,null,null,null,null,null,null,null,null,null,null,null,null,null,null,"ABCFGIJL",{"$f":"$Y$19","v":"Haiti"},{"$f":"$CE$12","v":"Österreich"},"Katar",{"$f":"$BB$12","v":"Schweden"},"Südkorea",{"$f":"$BB$19","v":"Iran"},{"$f":"$CE$26","v":"Ghana"},{"$f":"$CE$5","v":"Irak"}]
[64,"Wales",null,null,null,null,"WAL",64,"WAL","Wales",null,null,null,null,null,null,null,null,null,null,null,null,null,null,null,null,null,null,null,null,null,null,null,null,null,null,null,null,null,null,null,null,null,null,null,null,null,null,null,null,null,null,null,null,null,null,null,null,null,null,null,null,null,null,null,null,null,null,null,null,null,null,null,null,null,null,null,null,null,null,null,null,null,null,null,null,null,null,null,null,null,null,"ABCFGIKL",{"$f":"$CE$5","v":"Irak"},{"$f":"$BB$19","v":"Iran"},"Katar",{"$f":"$Y$19","v":"Haiti"},"Südkorea",{"$f":"$BB$12","v":"Schweden"},{"$f":"$CE$26","v":"Ghana"},{"$f":"$CE$19","v":"Usbekistan"}]
[null,null,null,null,null,null,null,null,null,null,null,null,null,null,null,null,null,null,null,null,null,null,null,null,null,null,null,null,null,null,null,null,null,null,null,null,null,null,null,null,null,null,null,null,null,null,null,null,null,null,null,null,null,null,null,null,null,null,null,null,null,null,null,null,null,null,null,null,null,null,null,null,null,null,null,null,null,null,null,null,null,null,null,null,null,null,null,null,null,null,null,null,"ABCFGJKL",{"$f":"$Y$19","v":"Haiti"},{"$f":"$CE$12","v":"Österreich"},"Katar",{"$f":"$BB$12","v":"Schweden"},"Südkorea",{"$f":"$BB$19","v":"Iran"},{"$f":"$CE$26","v":"Ghana"},{"$f":"$CE$19","v":"Usbekistan"}]
[null,null,null,null,null,null,null,null,null,null,null,null,null,null,null,null,null,null,null,null,null,null,null,null,null,null,null,null,null,null,null,null,null,null,null,null,null,null,null,null,null,null,null,null,null,null,null,null,null,null,null,null,null,null,null,null,null,null,null,null,null,null,null,null,null,null,null,null,null,null,null,null,null,null,null,null,null,null,null,null,null,null,null,null,null,null,null,null,null,null,null,null,"ABCFHIJK",{"$f":"$BB$26","v":"Saudi-Arabien"},{"$f":"$CE$12","v":"Österreich"},"Katar",{"$f":"$Y$19","v":"Haiti"},"Südkorea",{"$f":"$BB$12","v":"Schweden"},{"$f":"$CE$5","v":"Irak"},{"$f":"$CE$19","v":"Usbekistan"}]
[null,null,null,null,null,null,null,null,null,null,null,null,null,null,null,null,null,null,null,null,null,null,null,null,null,null,null,null,null,null,null,null,null,null,null,null,null,null,null,null,null,null,null,null,null,null,null,null,null,null,null,null,null,null,null,null,null,null,null,null,null,null,null,null,null,null,null,null,null,null,null,null,null,null,null,null,null,null,null,null,null,null,null,null,null,null,null,null,null,null,null,null,"ABCFHIJL",{"$f":"$BB$26","v":"Saudi-Arabien"},{"$f":"$CE$12","v":"Österreich"},"Katar","Haiti","Südkorea",{"$f":"$BB$12","v":"Schweden"},{"$f":"$CE$26","v":"Ghana"},{"$f":"$CE$5","v":"Irak"}]
[null,null,null,null,null,null,null,null,null,null,null,null,null,null,null,null,null,null,null,null,null,null,null,null,null,null,null,null,null,null,null,null,null,null,null,null,null,null,null,null,null,null,null,null,null,null,null,null,null,null,null,null,null,null,null,null,null,null,null,null,null,null,null,null,null,null,null,null,null,null,null,null,null,null,null,null,null,null,null,null,null,null,null,null,null,null,null,null,null,null,null,null,"ABCFHIKL",{"$f":"$BB$26","v":"Saudi-Arabien"},{"$f":"$CE$5","v":"Irak"},"Katar","Haiti","Südkorea",{"$f":"$BB$12","v":"Schweden"},{"$f":"$CE$26","v":"Ghana"},{"$f":"$CE$19","v":"Usbekistan"}]
[null,null,null,null,null,null,null,null,null,null,null,null,null,null,null,null,null,null,null,null,null,null,null,null,null,null,null,null,null,null,null,null,null,null,null,null,null,null,null,null,null,null,null,null,null,null,null,null,null,null,null,null,null,null,null,null,null,null,null,null,null,null,null,null,null,null,null,null,null,null,null,null,null,null,null,null,null,null,null,null,null,null,null,null,null,null,null,null,null,null,null,null,"ABCFHJKL",{"$f":"$BB$26","v":"Saudi-Arabien"},{"$f":"$CE$12","v":"Österreich"},"Katar","Haiti","Südkorea",{"$f":"$BB$12","v":"Schweden"},{"$f":"$CE$26","v":"Ghana"},{"$f":"$CE$19","v":"Usbekistan"}]
[null,null,null,null,null,null,null,null,null,null,null,null,null,null,null,null,null,null,null,null,null,null,null,null,null,null,null,null,null,null,null,null,null,null,null,null,null,null,null,null,null,null,null,null,null,null,null,null,null,null,null,null,null,null,null,null,null,null,null,null,null,null,null,null,null,null,null,null,null,null,null,null,null,null,null,null,null,null,null,null,null,null,null,null,null,null,null,null,null,null,null,null,"ABCFIJKL",{"$f":"$CE$5","v":"Irak"},{"$f":"$CE$12","v":"Österreich"},"Katar","Haiti","Südkorea",{"$f":"$BB$12","v":"Schweden"},{"$f":"$CE$26","v":"Ghana"},{"$f":"$CE$19","v":"Usbekistan"}]
[null,null,null,null,null,null,null,null,null,null,null,null,null,null,null,null,null,null,null,null,null,null,null,null,null,null,null,null,null,null,null,null,null,null,null,null,null,null,null,null,null,null,null,null,null,null,null,null,null,null,null,null,null,null,null,null,null,null,null,null,null,null,null,null,null,null,null,null,null,null,null,null,null,null,null,null,null,null,null,null,null,null,null,null,null,null,null,null,null,null,null,null,"ABCGHIJK",{"$f":"$BB$26","v":"Saudi-Arabien"},{"$f":"$CE$12","v":"Österreich"},"Katar","Haiti","Südkorea",{"$f":"$BB$19","v":"Iran"},{"$f":"$CE$5","v":"Irak"},{"$f":"$CE$19","v":"Usbekistan"}]
[null,null,null,null,null,null,null,null,null,null,null,null,null,null,null,null,null,null,null,null,null,null,null,null,null,null,null,null,null,null,null,null,null,null,null,null,null,null,null,null,null,null,null,null,null,null,null,null,null,null,null,null,null,null,null,null,null,null,null,null,null,null,null,null,null,null,null,null,null,null,null,null,null,null,null,null,null,null,null,null,null,null,null,null,null,null,null,null,null,null,null,null,"ABCGHIJL",{"$f":"$BB$26","v":"Saudi-Arabien"},{"$f":"$CE$12","v":"Österreich"},"Katar","Haiti","Südkorea",{"$f":"$BB$19","v":"Iran"},{"$f":"$CE$26","v":"Ghana"},{"$f":"$CE$5","v":"Irak"}]
[null,null,null,null,null,null,null,null,null,null,null,null,null,null,null,null,null,null,null,null,null,null,null,null,null,null,null,null,null,null,null,null,null,null,null,null,null,null,null,null,null,null,null,null,null,null,null,null,null,null,null,null,null,null,null,null,null,null,null,null,null,null,null,null,null,null,null,null,null,null,null,null,null,null,null,null,null,null,null,null,null,null,null,null,null,null,null,null,null,null,null,null,"ABCGHIKL",{"$f":"$CE$5","v":"Irak"},{"$f":"$BB$19","v":"Iran"},"Katar","Haiti","Südkorea",{"$f":"$BB$26","v":"Saudi-Arabien"},{"$f":"$CE$26","v":"Ghana"},{"$f":"$CE$19","v":"Usbekistan"}]
[null,null,null,null,null,null,null,null,null,null,null,null,null,null,null,null,null,null,null,null,null,null,null,null,null,null,null,null,null,null,null,null,null,null,null,null,null,null,null,null,null,null,null,null,null,null,null,null,null,null,null,null,null,null,null,null,null,null,null,null,null,null,null,null,null,null,null,null,null,null,null,null,null,null,null,null,null,null,null,null,null,null,null,null,null,null,null,null,null,null,null,null,"ABCGHJKL",{"$f":"$BB$26","v":"Saudi-Arabien"},{"$f":"$CE$12","v":"Österreich"},"Katar","Haiti","Südkorea",{"$f":"$BB$19","v":"Iran"},{"$f":"$CE$26","v":"Ghana"},{"$f":"$CE$19","v":"Usbekistan"}]
[null,null,null,null,null,null,null,null,null,null,null,null,null,null,null,null,null,null,null,null,null,null,null,null,null,null,null,null,null,null,null,null,null,null,null,null,null,null,null,null,null,null,null,null,null,null,null,null,null,null,null,null,null,null,null,null,null,null,null,null,null,null,null,null,null,null,null,null,null,null,null,null,null,null,null,null,null,null,null,null,null,null,null,null,null,null,null,null,null,null,null,null,"ABCGIJKL",{"$f":"$CE$5","v":"Irak"},{"$f":"$CE$12","v":"Österreich"},"Katar","Haiti","Südkorea",{"$f":"$BB$19","v":"Iran"},{"$f":"$CE$26","v":"Ghana"},{"$f":"$CE$19","v":"Usbekistan"}]
[null,null,null,null,null,null,null,null,null,null,null,null,null,null,null,null,null,null,null,null,null,null,null,null,null,null,null,null,null,null,null,null,null,null,null,null,null,null,null,null,null,null,null,null,null,null,null,null,null,null,null,null,null,null,null,null,null,null,null,null,null,null,null,null,null,null,null,null,null,null,null,null,null,null,null,null,null,null,null,null,null,null,null,null,null,null,null,null,null,null,null,null,"ABCHIJKL",{"$f":"$CE$5","v":"Irak"},{"$f":"$CE$12","v":"Österreich"},"Katar","Haiti","Südkorea",{"$f":"$BB$26","v":"Saudi-Arabien"},{"$f":"$CE$26","v":"Ghana"},{"$f":"$CE$19","v":"Usbekistan"}]
[null,null,null,null,null,null,null,null,null,null,null,null,null,null,null,null,null,null,null,null,null,null,null,null,null,null,null,null,null,null,null,null,null,null,null,null,null,null,null,null,null,null,null,null,null,null,null,null,null,null,null,null,null,null,null,null,null,null,null,null,null,null,null,null,null,null,null,null,null,null,null,null,null,null,null,null,null,null,null,null,null,null,null,null,null,null,null,null,null,null,null,null,"ABDEFGHI",{"$f":"$BB$26","v":"Saudi-Arabien"},{"$f":"$BB$19","v":"Iran"},"Katar",{"$f":"$Y$26","v":"Australien"},"Südkorea",{"$f":"$BB$12","v":"Schweden"},{"$f":"$BB$5","v":"Elfenbeinküste"},{"$f":"$CE$5","v":"Irak"}]
[null,null,null,null,null,null,null,null,null,null,null,null,null,null,null,null,null,null,null,null,null,null,null,null,null,null,null,null,null,null,null,null,null,null,null,null,null,null,null,null,null,null,null,null,null,null,null,null,null,null,null,null,null,null,null,null,null,null,null,null,null,null,null,null,null,null,null,null,null,null,null,null,null,null,null,null,null,null,null,null,null,null,null,null,null,null,null,null,null,null,null,null,"ABDEFGHJ",{"$f":"$BB$26","v":"Saudi-Arabien"},"Iran","Katar","Australien","Südkorea","Schweden",{"$f":"$BB$5","v":"Elfenbeinküste"},{"$f":"$CE$12","v":"Österreich"}]
[null,null,null,null,null,null,null,null,null,null,null,null,null,null,null,null,null,null,null,null,null,null,null,null,null,null,null,null,null,null,null,null,null,null,null,null,null,null,null,null,null,null,null,null,null,null,null,null,null,null,null,null,null,null,null,null,null,null,null,null,null,null,null,null,null,null,null,null,null,null,null,null,null,null,null,null,null,null,null,null,null,null,null,null,null,null,null,null,null,null,null,null,"ABDEFGHK",{"$f":"$BB$26","v":"Saudi-Arabien"},"Iran",{"$f":"$Y$12","v":"Katar"},"Australien","Südkorea","Schweden",{"$f":"$BB$5","v":"Elfenbeinküste"},{"$f":"$CE$19","v":"Usbekistan"}]
[null,null,null,null,null,null,null,null,null,null,null,null,null,null,null,null,null,null,null,null,null,null,null,null,null,null,null,null,null,null,null,null,null,null,null,null,null,null,null,null,null,null,null,null,null,null,null,null,null,null,null,null,null,null,null,null,null,null,null,null,null,null,null,null,null,null,null,null,null,null,null,null,null,null,null,null,null,null,null,null,null,null,null,null,null,null,null,null,null,null,null,null,"ABDEFGHL",{"$f":"$BB$26","v":"Saudi-Arabien"},"Iran","Katar","Australien","Südkorea","Schweden",{"$f":"$CE$26","v":"Ghana"},{"$f":"$BB$5","v":"Elfenbeinküste"}]
[null,null,null,null,null,null,null,null,null,null,null,null,null,null,null,null,null,null,null,null,null,null,null,null,null,null,null,null,null,null,null,null,null,null,null,null,null,null,null,null,null,null,null,null,null,null,null,null,null,null,null,null,null,null,null,null,null,null,null,null,null,null,null,null,null,null,null,null,null,null,null,null,null,null,null,null,null,null,null,null,null,null,null,null,null,null,null,null,null,null,null,null,"ABDEFGIJ",{"$f":"$BB$5","v":"Elfenbeinküste"},"Iran","Katar","Australien","Südkorea","Schweden",{"$f":"$CE$5","v":"Irak"},{"$f":"$CE$12","v":"Österreich"}]
[null,null,null,null,null,null,null,null,null,null,null,null,null,null,null,null,null,null,null,null,null,null,null,null,null,null,null,null,null,null,null,null,null,null,null,null,null,null,null,null,null,null,null,null,null,null,null,null,null,null,null,null,null,null,null,null,null,null,null,null,null,null,null,null,null,null,null,null,null,null,null,null,null,null,null,null,null,null,null,null,null,null,null,null,null,null,null,null,null,null,null,null,"ABDEFGIK","Elfenbeinküste","Iran","Katar","Australien","Südkorea","Schweden",{"$f":"$CE$5","v":"Irak"},{"$f":"$CE$19","v":"Usbekistan"}]
[null,null,null,null,null,null,null,null,null,null,null,null,null,null,null,null,null,null,null,null,null,null,null,null,null,null,null,null,null,null,null,null,null,null,null,null,null,null,null,null,null,null,null,null,null,null,null,null,null,null,null,null,null,null,null,null,null,null,null,null,null,null,null,null,null,null,null,null,null,null,null,null,null,null,null,null,null,null,null,null,null,null,null,null,null,null,null,null,null,null,null,null,"ABDEFGIL","Elfenbeinküste","Iran","Katar","Australien","Südkorea","Schweden",{"$f":"$CE$26","v":"Ghana"},{"$f":"$CE$5","v":"Irak"}]
[null,null,null,null,null,null,null,null,null,null,null,null,null,null,null,null,null,null,null,null,null,null,null,null,null,null,null,null,null,null,null,null,null,null,null,null,null,null,null,null,null,null,null,null,null,null,null,null,null,null,null,null,null,null,null,null,null,null,null,null,null,null,null,null,null,null,null,null,null,null,null,null,null,null,null,null,null,null,null,null,null,null,null,null,null,null,null,null,null,null,null,null,"ABDEFGJK","Elfenbeinküste","Iran","Katar","Australien","Südkorea","Schweden",{"$f":"$CE$12","v":"Österreich"},{"$f":"$CE$19","v":"Usbekistan"}]
[null,null,null,null,null,null,null,null,null,null,null,null,null,null,null,null,null,null,null,null,null,null,null,null,null,null,null,null,null,null,null,null,null,null,null,null,null,null,null,null,null,null,null,null,null,null,null,null,null,null,null,null,null,null,null,null,null,null,null,null,null,null,null,null,null,null,null,null,null,null,null,null,null,null,null,null,null,null,null,null,null,null,null,null,null,null,null,null,null,null,null,null,"ABDEFGJL","Elfenbeinküste","Iran","Katar","Australien","Südkorea","Schweden",{"$f":"$CE$26","v":"Ghana"},{"$f":"$CE$12","v":"Österreich"}]
[null,null,null,null,null,null,null,null,null,null,null,null,null,null,null,null,null,null,null,null,null,null,null,null,null,null,null,null,null,null,null,null,null,null,null,null,null,null,null,null,null,null,null,null,null,null,null,null,null,null,null,null,null,null,null,null,null,null,null,null,null,null,null,null,null,null,null,null,null,null,null,null,null,null,null,null,null,null,null,null,null,null,null,null,null,null,null,null,null,null,null,null,"ABDEFGKL","Elfenbeinküste","Iran","Katar","Australien","Südkorea","Schweden",{"$f":"$CE$26","v":"Ghana"},{"$f":"$CE$19","v":"Usbekistan"}]
[null,null,null,null,null,null,null,null,null,null,null,null,null,null,null,null,null,null,null,null,null,null,null,null,null,null,null,null,null,null,null,null,null,null,null,null,null,null,null,null,null,null,null,null,null,null,null,null,null,null,null,null,null,null,null,null,null,null,null,null,null,null,null,null,null,null,null,null,null,null,null,null,null,null,null,null,null,null,null,null,null,null,null,null,null,null,null,null,null,null,null,null,"ABDEFHIJ",{"$f":"$BB$26","v":"Saudi-Arabien"},{"$f":"$CE$12","v":"Österreich"},"Katar","Australien","Südkorea","Schweden",{"$f":"$BB$5","v":"Elfenbeinküste"},{"$f":"$CE$5","v":"Irak"}]
[null,null,null,null,null,null,null,null,null,null,null,null,null,null,null,null,null,null,null,null,null,null,null,null,null,null,null,null,null,null,null,null,null,null,null,null,null,null,null,null,null,null,null,null,null,null,null,null,null,null,null,null,null,null,null,null,null,null,null,null,null,null,null,null,null,null,null,null,null,null,null,null,null,null,null,null,null,null,null,null,null,null,null,null,null,null,null,null,null,null,null,null,"ABDEFHIK","Saudi-Arabien",{"$f":"$BB$5","v":"Elfenbeinküste"},"Katar","Australien",{"$f":"$Y$5","v":"Südkorea"},"Schweden",{"$f":"$CE$5","v":"Irak"},{"$f":"$CE$19","v":"Usbekistan"}]
[null,null,null,null,null,null,null,null,null,null,null,null,null,null,null,null,null,null,null,null,null,null,null,null,null,null,null,null,null,null,null,null,null,null,null,null,null,null,null,null,null,null,null,null,null,null,null,null,null,null,null,null,null,null,null,null,null,null,null,null,null,null,null,null,null,null,null,null,null,null,null,null,null,null,null,null,null,null,null,null,null,null,null,null,null,null,null,null,null,null,null,null,"ABDEFHIL","Saudi-Arabien",{"$f":"$BB$5","v":"Elfenbeinküste"},"Katar","Australien","Südkorea","Schweden",{"$f":"$CE$26","v":"Ghana"},{"$f":"$CE$5","v":"Irak"}]
[null,null,null,null,null,null,null,null,null,null,null,null,null,null,null,null,null,null,null,null,null,null,null,null,null,null,null,null,null,null,null,null,null,null,null,null,null,null,null,null,null,null,null,null,null,null,null,null,null,null,null,null,null,null,null,null,null,null,null,null,null,null,null,null,null,null,null,null,null,null,null,null,null,null,null,null,null,null,null,null,null,null,null,null,null,null,null,null,null,null,null,null,"ABDEFHJK","Saudi-Arabien",{"$f":"$CE$12","v":"Österreich"},"Katar","Australien","Südkorea","Schweden",{"$f":"$BB$5","v":"Elfenbeinküste"},{"$f":"$CE$19","v":"Usbekistan"}]
[null,null,null,null,null,null,null,null,null,null,null,null,null,null,null,null,null,null,null,null,null,null,null,null,null,null,null,null,null,null,null,null,null,null,null,null,null,null,null,null,null,null,null,null,null,null,null,null,null,null,null,null,null,null,null,null,null,null,null,null,null,null,null,null,null,null,null,null,null,null,null,null,null,null,null,null,null,null,null,null,null,null,null,null,null,null,null,null,null,null,null,null,"ABDEFHJL","Saudi-Arabien",{"$f":"$CE$12","v":"Österreich"},"Katar","Australien","Südkorea","Schweden",{"$f":"$CE$26","v":"Ghana"},{"$f":"$BB$5","v":"Elfenbeinküste"}]
[null,null,null,null,null,null,null,null,null,null,null,null,null,null,null,null,null,null,null,null,null,null,null,null,null,null,null,null,null,null,null,null,null,null,null,null,null,null,null,null,null,null,null,null,null,null,null,null,null,null,null,null,null,null,null,null,null,null,null,null,null,null,null,null,null,null,null,null,null,null,null,null,null,null,null,null,null,null,null,null,null,null,null,null,null,null,null,null,null,null,null,null,"ABDEFHKL","Saudi-Arabien",{"$f":"$BB$5","v":"Elfenbeinküste"},"Katar","Australien","Südkorea","Schweden",{"$f":"$CE$26","v":"Ghana"},{"$f":"$CE$19","v":"Usbekistan"}]
[null,null,null,null,null,null,null,null,null,null,null,null,null,null,null,null,null,null,null,null,null,null,null,null,null,null,null,null,null,null,null,null,null,null,null,null,null,null,null,null,null,null,null,null,null,null,null,null,null,null,null,null,null,null,null,null,null,null,null,null,null,null,null,null,null,null,null,null,null,null,null,null,null,null,null,null,null,null,null,null,null,null,null,null,null,null,null,null,null,null,null,null,"ABDEFIJK",{"$f":"$BB$5","v":"Elfenbeinküste"},{"$f":"$CE$12","v":"Österreich"},"Katar","Australien","Südkorea","Schweden",{"$f":"$CE$5","v":"Irak"},{"$f":"$CE$19","v":"Usbekistan"}]
[null,null,null,null,null,null,null,null,null,null,null,null,null,null,null,null,null,null,null,null,null,null,null,null,null,null,null,null,null,null,null,null,null,null,null,null,null,null,null,null,null,null,null,null,null,null,null,null,null,null,null,null,null,null,null,null,null,null,null,null,null,null,null,null,null,null,null,null,null,null,null,null,null,null,null,null,null,null,null,null,null,null,null,null,null,null,null,null,null,null,null,null,"ABDEFIJL",{"$f":"$BB$5","v":"Elfenbeinküste"},{"$f":"$CE$12","v":"Österreich"},"Katar","Australien","Südkorea","Schweden",{"$f":"$CE$26","v":"Ghana"},{"$f":"$CE$5","v":"Irak"}]
[null,null,null,null,null,null,null,null,null,null,null,null,null,null,null,null,null,null,null,null,null,null,null,null,null,null,null,null,null,null,null,null,null,null,null,null,null,null,null,null,null,null,null,null,null,null,null,null,null,null,null,null,null,null,null,null,null,null,null,null,null,null,null,null,null,null,null,null,null,null,null,null,null,null,null,null,null,null,null,null,null,null,null,null,null,null,null,null,null,null,null,null,"ABDEFIKL",{"$f":"$BB$5","v":"Elfenbeinküste"},{"$f":"$CE$5","v":"Irak"},"Katar","Australien","Südkorea","Schweden",{"$f":"$CE$26","v":"Ghana"},{"$f":"$CE$19","v":"Usbekistan"}]
[null,null,null,null,null,null,null,null,null,null,null,null,null,null,null,null,null,null,null,null,null,null,null,null,null,null,null,null,null,null,null,null,null,null,null,null,null,null,null,null,null,null,null,null,null,null,null,null,null,null,null,null,null,null,null,null,null,null,null,null,null,null,null,null,null,null,null,null,null,null,null,null,null,null,null,null,null,null,null,null,null,null,null,null,null,null,null,null,null,null,null,null,"ABDEFJKL",{"$f":"$BB$5","v":"Elfenbeinküste"},{"$f":"$CE$12","v":"Österreich"},"Katar","Australien","Südkorea","Schweden",{"$f":"$CE$26","v":"Ghana"},{"$f":"$CE$19","v":"Usbekistan"}]
[null,null,null,null,null,null,null,null,null,null,null,null,null,null,null,null,null,null,null,null,null,null,null,null,null,null,null,null,null,null,null,null,null,null,null,null,null,null,null,null,null,null,null,null,null,null,null,null,null,null,null,null,null,null,null,null,null,null,null,null,null,null,null,null,null,null,null,null,null,null,null,null,null,null,null,null,null,null,null,null,null,null,null,null,null,null,null,null,null,null,null,null,"ABDEGHIJ",{"$f":"$BB$26","v":"Saudi-Arabien"},{"$f":"$CE$12","v":"Österreich"},"Katar","Australien","Südkorea",{"$f":"$BB$19","v":"Iran"},{"$f":"$BB$5","v":"Elfenbeinküste"},{"$f":"$CE$5","v":"Irak"}]
[null,null,null,null,null,null,null,null,null,null,null,null,null,null,null,null,null,null,null,null,null,null,null,null,null,null,null,null,null,null,null,null,null,null,null,null,null,null,null,null,null,null,null,null,null,null,null,null,null,null,null,null,null,null,null,null,null,null,null,null,null,null,null,null,null,null,null,null,null,null,null,null,null,null,null,null,null,null,null,null,null,null,null,null,null,null,null,null,null,null,null,null,"ABDEGHIK",{"$f":"$BB$5","v":"Elfenbeinküste"},{"$f":"$BB$19","v":"Iran"},"Katar","Australien","Südkorea",{"$f":"$BB$26","v":"Saudi-Arabien"},{"$f":"$CE$5","v":"Irak"},{"$f":"$CE$19","v":"Usbekistan"}]
[null,null,null,null,null,null,null,null,null,null,null,null,null,null,null,null,null,null,null,null,null,null,null,null,null,null,null,null,null,null,null,null,null,null,null,null,null,null,null,null,null,null,null,null,null,null,null,null,null,null,null,null,null,null,null,null,null,null,null,null,null,null,null,null,null,null,null,null,null,null,null,null,null,null,null,null,null,null,null,null,null,null,null,null,null,null,null,null,null,null,null,null,"ABDEGHIL",{"$f":"$BB$5","v":"Elfenbeinküste"},{"$f":"$BB$19","v":"Iran"},"Katar","Australien","Südkorea",{"$f":"$BB$26","v":"Saudi-Arabien"},{"$f":"$CE$26","v":"Ghana"},{"$f":"$CE$5","v":"Irak"}]
[null,null,null,null,null,null,null,null,null,null,null,null,null,null,null,null,null,null,null,null,null,null,null,null,null,null,null,null,null,null,null,null,null,null,null,null,null,null,null,null,null,null,null,null,null,null,null,null,null,null,null,null,null,null,null,null,null,null,null,null,null,null,null,null,null,null,null,null,null,null,null,null,null,null,null,null,null,null,null,null,null,null,null,null,null,null,null,null,null,null,null,null,"ABDEGHJK",{"$f":"$BB$26","v":"Saudi-Arabien"},{"$f":"$CE$12","v":"Österreich"},"Katar","Australien","Südkorea",{"$f":"$BB$19","v":"Iran"},{"$f":"$BB$5","v":"Elfenbeinküste"},{"$f":"$CE$19","v":"Usbekistan"}]
[null,null,null,null,null,null,null,null,null,null,null,null,null,null,null,null,null,null,null,null,null,null,null,null,null,null,null,null,null,null,null,null,null,null,null,null,null,null,null,null,null,null,null,null,null,null,null,null,null,null,null,null,null,null,null,null,null,null,null,null,null,null,null,null,null,null,null,null,null,null,null,null,null,null,null,null,null,null,null,null,null,null,null,null,null,null,null,null,null,null,null,null,"ABDEGHJL",{"$f":"$BB$26","v":"Saudi-Arabien"},{"$f":"$CE$12","v":"Österreich"},"Katar","Australien","Südkorea",{"$f":"$BB$19","v":"Iran"},{"$f":"$CE$26","v":"Ghana"},{"$f":"$BB$5","v":"Elfenbeinküste"}]
[null,null,null,null,null,null,null,null,null,null,null,null,null,null,null,null,null,null,null,null,null,null,null,null,null,null,null,null,null,null,null,null,null,null,null,null,null,null,null,null,null,null,null,null,null,null,null,null,null,null,null,null,null,null,null,null,null,null,null,null,null,null,null,null,null,null,null,null,null,null,null,null,null,null,null,null,null,null,null,null,null,null,null,null,null,null,null,null,null,null,null,null,"ABDEGHKL",{"$f":"$BB$5","v":"Elfenbeinküste"},{"$f":"$BB$19","v":"Iran"},"Katar","Australien","Südkorea",{"$f":"$BB$26","v":"Saudi-Arabien"},{"$f":"$CE$26","v":"Ghana"},{"$f":"$CE$19","v":"Usbekistan"}]
[null,null,null,null,null,null,null,null,null,null,null,null,null,null,null,null,null,null,null,null,null,null,null,null,null,null,null,null,null,null,null,null,null,null,null,null,null,null,null,null,null,null,null,null,null,null,null,null,null,null,null,null,null,null,null,null,null,null,null,null,null,null,null,null,null,null,null,null,null,null,null,null,null,null,null,null,null,null,null,null,null,null,null,null,null,null,null,null,null,null,null,null,"ABDEGIJK","Elfenbeinküste",{"$f":"$CE$12","v":"Österreich"},"Katar","Australien","Südkorea",{"$f":"$BB$19","v":"Iran"},{"$f":"$CE$5","v":"Irak"},{"$f":"$CE$19","v":"Usbekistan"}]
[null,null,null,null,null,null,null,null,null,null,null,null,null,null,null,null,null,null,null,null,null,null,null,null,null,null,null,null,null,null,null,null,null,null,null,null,null,null,null,null,null,null,null,null,null,null,null,null,null,null,null,null,null,null,null,null,null,null,null,null,null,null,null,null,null,null,null,null,null,null,null,null,null,null,null,null,null,null,null,null,null,null,null,null,null,null,null,null,null,null,null,null,"ABDEGIJL","Elfenbeinküste",{"$f":"$CE$12","v":"Österreich"},"Katar","Australien","Südkorea",{"$f":"$BB$19","v":"Iran"},{"$f":"$CE$26","v":"Ghana"},{"$f":"$CE$5","v":"Irak"}]
[null,null,null,null,null,null,null,null,null,null,null,null,null,null,null,null,null,null,null,null,null,null,null,null,null,null,null,null,null,null,null,null,null,null,null,null,null,null,null,null,null,null,null,null,null,null,null,null,null,null,null,null,null,null,null,null,null,null,null,null,null,null,null,null,null,null,null,null,null,null,null,null,null,null,null,null,null,null,null,null,null,null,null,null,null,null,null,null,null,null,null,null,"ABDEGIKL","Elfenbeinküste",{"$f":"$BB$19","v":"Iran"},"Katar",{"$f":"$Y$5","v":"Südkorea"},{"$f":"$CE$5","v":"Irak"},{"$f":"$Y$26","v":"Australien"},{"$f":"$CE$26","v":"Ghana"},{"$f":"$CE$19","v":"Usbekistan"}]
[null,null,null,null,null,null,null,null,null,null,null,null,null,null,null,null,null,null,null,null,null,null,null,null,null,null,null,null,null,null,null,null,null,null,null,null,null,null,null,null,null,null,null,null,null,null,null,null,null,null,null,null,null,null,null,null,null,null,null,null,null,null,null,null,null,null,null,null,null,null,null,null,null,null,null,null,null,null,null,null,null,null,null,null,null,null,null,null,null,null,null,null,"ABDEGJKL","Elfenbeinküste",{"$f":"$CE$12","v":"Österreich"},"Katar",{"$f":"$Y$26","v":"Australien"},{"$f":"$Y$5","v":"Südkorea"},{"$f":"$BB$19","v":"Iran"},{"$f":"$CE$26","v":"Ghana"},{"$f":"$CE$19","v":"Usbekistan"}]
[null,null,null,null,null,null,null,null,null,null,null,null,null,null,null,null,null,null,null,null,null,null,null,null,null,null,null,null,null,null,null,null,null,null,null,null,null,null,null,null,null,null,null,null,null,null,null,null,null,null,null,null,null,null,null,null,null,null,null,null,null,null,null,null,null,null,null,null,null,null,null,null,null,null,null,null,null,null,null,null,null,null,null,null,null,null,null,null,null,null,null,null,"ABDEHIJK","Elfenbeinküste",{"$f":"$CE$12","v":"Österreich"},"Katar",{"$f":"$Y$26","v":"Australien"},{"$f":"$Y$5","v":"Südkorea"},{"$f":"$BB$26","v":"Saudi-Arabien"},{"$f":"$CE$5","v":"Irak"},{"$f":"$CE$19","v":"Usbekistan"}]
[null,null,null,null,null,null,null,null,null,null,null,null,null,null,null,null,null,null,null,null,null,null,null,null,null,null,null,null,null,null,null,null,null,null,null,null,null,null,null,null,null,null,null,null,null,null,null,null,null,null,null,null,null,null,null,null,null,null,null,null,null,null,null,null,null,null,null,null,null,null,null,null,null,null,null,null,null,null,null,null,null,null,null,null,null,null,null,null,null,null,null,null,"ABDEHIJL","Elfenbeinküste",{"$f":"$CE$12","v":"Österreich"},"Katar",{"$f":"$Y$26","v":"Australien"},{"$f":"$Y$5","v":"Südkorea"},{"$f":"$BB$26","v":"Saudi-Arabien"},{"$f":"$CE$26","v":"Ghana"},{"$f":"$CE$5","v":"Irak"}]
[null,null,null,null,null,null,null,null,null,null,null,null,null,null,null,null,null,null,null,null,null,null,null,null,null,null,null,null,null,null,null,null,null,null,null,null,null,null,null,null,null,null,null,null,null,null,null,null,null,null,null,null,null,null,null,null,null,null,null,null,null,null,null,null,null,null,null,null,null,null,null,null,null,null,null,null,null,null,null,null,null,null,null,null,null,null,null,null,null,null,null,null,"ABDEHIKL","Elfenbeinküste",{"$f":"$CE$5","v":"Irak"},"Katar",{"$f":"$Y$26","v":"Australien"},{"$f":"$Y$5","v":"Südkorea"},{"$f":"$BB$26","v":"Saudi-Arabien"},{"$f":"$CE$26","v":"Ghana"},{"$f":"$CE$19","v":"Usbekistan"}]
[null,null,null,null,null,null,null,null,null,null,null,null,null,null,null,null,null,null,null,null,null,null,null,null,null,null,null,null,null,null,null,null,null,null,null,null,null,null,null,null,null,null,null,null,null,null,null,null,null,null,null,null,null,null,null,null,null,null,null,null,null,null,null,null,null,null,null,null,null,null,null,null,null,null,null,null,null,null,null,null,null,null,null,null,null,null,null,null,null,null,null,null,"ABDEHJKL","Elfenbeinküste",{"$f":"$CE$12","v":"Österreich"},"Katar",{"$f":"$Y$26","v":"Australien"},{"$f":"$Y$5","v":"Südkorea"},{"$f":"$BB$26","v":"Saudi-Arabien"},{"$f":"$CE$26","v":"Ghana"},{"$f":"$CE$19","v":"Usbekistan"}]
[null,null,null,null,null,null,null,null,null,null,null,null,null,null,null,null,null,null,null,null,null,null,null,null,null,null,null,null,null,null,null,null,null,null,null,null,null,null,null,null,null,null,null,null,null,null,null,null,null,null,null,null,null,null,null,null,null,null,null,null,null,null,null,null,null,null,null,null,null,null,null,null,null,null,null,null,null,null,null,null,null,null,null,null,null,null,null,null,null,null,null,null,"ABDEIJKL","Elfenbeinküste",{"$f":"$CE$12","v":"Österreich"},"Katar",{"$f":"$Y$5","v":"Südkorea"},{"$f":"$CE$5","v":"Irak"},{"$f":"$Y$26","v":"Australien"},{"$f":"$CE$26","v":"Ghana"},{"$f":"$CE$19","v":"Usbekistan"}]
[null,null,null,null,null,null,null,null,null,null,null,null,null,null,null,null,null,null,null,null,null,null,null,null,null,null,null,null,null,null,null,null,null,null,null,null,null,null,null,null,null,null,null,null,null,null,null,null,null,null,null,null,null,null,null,null,null,null,null,null,null,null,null,null,null,null,null,null,null,null,null,null,null,null,null,null,null,null,null,null,null,null,null,null,null,null,null,null,null,null,null,null,"ABDFGHIJ",{"$f":"$BB$26","v":"Saudi-Arabien"},{"$f":"$BB$19","v":"Iran"},"Katar",{"$f":"$Y$26","v":"Australien"},{"$f":"$Y$5","v":"Südkorea"},{"$f":"$BB$12","v":"Schweden"},{"$f":"$CE$5","v":"Irak"},{"$f":"$CE$12","v":"Österreich"}]
[null,null,null,null,null,null,null,null,null,null,null,null,null,null,null,null,null,null,null,null,null,null,null,null,null,null,null,null,null,null,null,null,null,null,null,null,null,null,null,null,null,null,null,null,null,null,null,null,null,null,null,null,null,null,null,null,null,null,null,null,null,null,null,null,null,null,null,null,null,null,null,null,null,null,null,null,null,null,null,null,null,null,null,null,null,null,null,null,null,null,null,null,"ABDFGHIK","Saudi-Arabien","Iran","Katar","Australien","Südkorea","Schweden",{"$f":"$CE$5","v":"Irak"},{"$f":"$CE$19","v":"Usbekistan"}]
[null,null,null,null,null,null,null,null,null,null,null,null,null,null,null,null,null,null,null,null,null,null,null,null,null,null,null,null,null,null,null,null,null,null,null,null,null,null,null,null,null,null,null,null,null,null,null,null,null,null,null,null,null,null,null,null,null,null,null,null,null,null,null,null,null,null,null,null,null,null,null,null,null,null,null,null,null,null,null,null,null,null,null,null,null,null,null,null,null,null,null,null,"ABDFGHIL","Saudi-Arabien","Iran","Katar","Australien","Südkorea","Schweden",{"$f":"$CE$26","v":"Ghana"},{"$f":"$CE$5","v":"Irak"}]
[null,null,null,null,null,null,null,null,null,null,null,null,null,null,null,null,null,null,null,null,null,null,null,null,null,null,null,null,null,null,null,null,null,null,null,null,null,null,null,null,null,null,null,null,null,null,null,null,null,null,null,null,null,null,null,null,null,null,null,null,null,null,null,null,null,null,null,null,null,null,null,null,null,null,null,null,null,null,null,null,null,null,null,null,null,null,null,null,null,null,null,null,"ABDFGHJK","Saudi-Arabien","Iran","Katar","Australien","Südkorea","Schweden",{"$f":"$CE$12","v":"Österreich"},{"$f":"$CE$19","v":"Usbekistan"}]
[null,null,null,null,null,null,null,null,null,null,null,null,null,null,null,null,null,null,null,null,null,null,null,null,null,null,null,null,null,null,null,null,null,null,null,null,null,null,null,null,null,null,null,null,null,null,null,null,null,null,null,null,null,null,null,null,null,null,null,null,null,null,null,null,null,null,null,null,null,null,null,null,null,null,null,null,null,null,null,null,null,null,null,null,null,null,null,null,null,null,null,null,"ABDFGHJL","Saudi-Arabien","Iran","Katar","Australien","Südkorea","Schweden",{"$f":"$CE$26","v":"Ghana"},{"$f":"$CE$12","v":"Österreich"}]
[null,null,null,null,null,null,null,null,null,null,null,null,null,null,null,null,null,null,null,null,null,null,null,null,null,null,null,null,null,null,null,null,null,null,null,null,null,null,null,null,null,null,null,null,null,null,null,null,null,null,null,null,null,null,null,null,null,null,null,null,null,null,null,null,null,null,null,null,null,null,null,null,null,null,null,null,null,null,null,null,null,null,null,null,null,null,null,null,null,null,null,null,"ABDFGHKL","Saudi-Arabien","Iran","Katar","Australien","Südkorea","Schweden",{"$f":"$CE$26","v":"Ghana"},{"$f":"$CE$19","v":"Usbekistan"}]
[null,null,null,null,null,null,null,null,null,null,null,null,null,null,null,null,null,null,null,null,null,null,null,null,null,null,null,null,null,null,null,null,null,null,null,null,null,null,null,null,null,null,null,null,null,null,null,null,null,null,null,null,null,null,null,null,null,null,null,null,null,null,null,null,null,null,null,null,null,null,null,null,null,null,null,null,null,null,null,null,null,null,null,null,null,null,null,null,null,null,null,null,"ABDFGIJK",{"$f":"$BB$12","v":"Schweden"},{"$f":"$CE$12","v":"Österreich"},"Katar","Australien","Südkorea",{"$f":"$BB$19","v":"Iran"},{"$f":"$CE$5","v":"Irak"},{"$f":"$CE$19","v":"Usbekistan"}]
[null,null,null,null,null,null,null,null,null,null,null,null,null,null,null,null,null,null,null,null,null,null,null,null,null,null,null,null,null,null,null,null,null,null,null,null,null,null,null,null,null,null,null,null,null,null,null,null,null,null,null,null,null,null,null,null,null,null,null,null,null,null,null,null,null,null,null,null,null,null,null,null,null,null,null,null,null,null,null,null,null,null,null,null,null,null,null,null,null,null,null,null,"ABDFGIJL",{"$f":"$BB$12","v":"Schweden"},{"$f":"$CE$12","v":"Österreich"},"Katar","Australien","Südkorea",{"$f":"$BB$19","v":"Iran"},{"$f":"$CE$26","v":"Ghana"},{"$f":"$CE$5","v":"Irak"}]
[null,null,null,null,null,null,null,null,null,null,null,null,null,null,null,null,null,null,null,null,null,null,null,null,null,null,null,null,null,null,null,null,null,null,null,null,null,null,null,null,null,null,null,null,null,null,null,null,null,null,null,null,null,null,null,null,null,null,null,null,null,null,null,null,null,null,null,null,null,null,null,null,null,null,null,null,null,null,null,null,null,null,null,null,null,null,null,null,null,null,null,null,"ABDFGIKL",{"$f":"$CE$5","v":"Irak"},{"$f":"$BB$19","v":"Iran"},"Katar","Australien","Südkorea",{"$f":"$BB$12","v":"Schweden"},{"$f":"$CE$26","v":"Ghana"},{"$f":"$CE$19","v":"Usbekistan"}]
[null,null,null,null,null,null,null,null,null,null,null,null,null,null,null,null,null,null,null,null,null,null,null,null,null,null,null,null,null,null,null,null,null,null,null,null,null,null,null,null,null,null,null,null,null,null,null,null,null,null,null,null,null,null,null,null,null,null,null,null,null,null,null,null,null,null,null,null,null,null,null,null,null,null,null,null,null,null,null,null,null,null,null,null,null,null,null,null,null,null,null,null,"ABDFGJKL",{"$f":"$BB$12","v":"Schweden"},{"$f":"$CE$12","v":"Österreich"},"Katar","Australien","Südkorea",{"$f":"$BB$19","v":"Iran"},{"$f":"$CE$26","v":"Ghana"},{"$f":"$CE$19","v":"Usbekistan"}]
[null,null,null,null,null,null,null,null,null,null,null,null,null,null,null,null,null,null,null,null,null,null,null,null,null,null,null,null,null,null,null,null,null,null,null,null,null,null,null,null,null,null,null,null,null,null,null,null,null,null,null,null,null,null,null,null,null,null,null,null,null,null,null,null,null,null,null,null,null,null,null,null,null,null,null,null,null,null,null,null,null,null,null,null,null,null,null,null,null,null,null,null,"ABDFHIJK",{"$f":"$BB$26","v":"Saudi-Arabien"},{"$f":"$CE$12","v":"Österreich"},"Katar","Australien","Südkorea",{"$f":"$BB$12","v":"Schweden"},{"$f":"$CE$5","v":"Irak"},{"$f":"$CE$19","v":"Usbekistan"}]
[null,null,null,null,null,null,null,null,null,null,null,null,null,null,null,null,null,null,null,null,null,null,null,null,null,null,null,null,null,null,null,null,null,null,null,null,null,null,null,null,null,null,null,null,null,null,null,null,null,null,null,null,null,null,null,null,null,null,null,null,null,null,null,null,null,null,null,null,null,null,null,null,null,null,null,null,null,null,null,null,null,null,null,null,null,null,null,null,null,null,null,null,"ABDFHIJL",{"$f":"$BB$26","v":"Saudi-Arabien"},{"$f":"$CE$12","v":"Österreich"},"Katar","Australien","Südkorea",{"$f":"$BB$12","v":"Schweden"},{"$f":"$CE$26","v":"Ghana"},{"$f":"$CE$5","v":"Irak"}]
[null,null,null,null,null,null,null,null,null,null,null,null,null,null,null,null,null,null,null,null,null,null,null,null,null,null,null,null,null,null,null,null,null,null,null,null,null,null,null,null,null,null,null,null,null,null,null,null,null,null,null,null,null,null,null,null,null,null,null,null,null,null,null,null,null,null,null,null,null,null,null,null,null,null,null,null,null,null,null,null,null,null,null,null,null,null,null,null,null,null,null,null,"ABDFHIKL",{"$f":"$BB$26","v":"Saudi-Arabien"},{"$f":"$CE$5","v":"Irak"},"Katar","Australien","Südkorea",{"$f":"$BB$12","v":"Schweden"},{"$f":"$CE$26","v":"Ghana"},{"$f":"$CE$19","v":"Usbekistan"}]
[null,null,null,null,null,null,null,null,null,null,null,null,null,null,null,null,null,null,null,null,null,null,null,null,null,null,null,null,null,null,null,null,null,null,null,null,null,null,null,null,null,null,null,null,null,null,null,null,null,null,null,null,null,null,null,null,null,null,null,null,null,null,null,null,null,null,null,null,null,null,null,null,null,null,null,null,null,null,null,null,null,null,null,null,null,null,null,null,null,null,null,null,"ABDFHJKL",{"$f":"$BB$26","v":"Saudi-Arabien"},{"$f":"$CE$12","v":"Österreich"},"Katar","Australien","Südkorea",{"$f":"$BB$12","v":"Schweden"},{"$f":"$CE$26","v":"Ghana"},{"$f":"$CE$19","v":"Usbekistan"}]
[null,null,null,null,null,null,null,null,null,null,null,null,null,null,null,null,null,null,null,null,null,null,null,null,null,null,null,null,null,null,null,null,null,null,null,null,null,null,null,null,null,null,null,null,null,null,null,null,null,null,null,null,null,null,null,null,null,null,null,null,null,null,null,null,null,null,null,null,null,null,null,null,null,null,null,null,null,null,null,null,null,null,null,null,null,null,null,null,null,null,null,null,"ABDFIJKL",{"$f":"$CE$5","v":"Irak"},{"$f":"$CE$12","v":"Österreich"},"Katar","Australien","Südkorea",{"$f":"$BB$12","v":"Schweden"},{"$f":"$CE$26","v":"Ghana"},{"$f":"$CE$19","v":"Usbekistan"}]
[null,null,null,null,null,null,null,null,null,null,null,null,null,null,null,null,null,null,null,null,null,null,null,null,null,null,null,null,null,null,null,null,null,null,null,null,null,null,null,null,null,null,null,null,null,null,null,null,null,null,null,null,null,null,null,null,null,null,null,null,null,null,null,null,null,null,null,null,null,null,null,null,null,null,null,null,null,null,null,null,null,null,null,null,null,null,null,null,null,null,null,null,"ABDGHIJK",{"$f":"$BB$26","v":"Saudi-Arabien"},{"$f":"$CE$12","v":"Österreich"},"Katar","Australien","Südkorea",{"$f":"$BB$19","v":"Iran"},{"$f":"$CE$5","v":"Irak"},{"$f":"$CE$19","v":"Usbekistan"}]
[null,null,null,null,null,null,null,null,null,null,null,null,null,null,null,null,null,null,null,null,null,null,null,null,null,null,null,null,null,null,null,null,null,null,null,null,null,null,null,null,null,null,null,null,null,null,null,null,null,null,null,null,null,null,null,null,null,null,null,null,null,null,null,null,null,null,null,null,null,null,null,null,null,null,null,null,null,null,null,null,null,null,null,null,null,null,null,null,null,null,null,null,"ABDGHIJL",{"$f":"$BB$26","v":"Saudi-Arabien"},{"$f":"$CE$12","v":"Österreich"},"Katar","Australien","Südkorea",{"$f":"$BB$19","v":"Iran"},{"$f":"$CE$26","v":"Ghana"},{"$f":"$CE$5","v":"Irak"}]
[null,null,null,null,null,null,null,null,null,null,null,null,null,null,null,null,null,null,null,null,null,null,null,null,null,null,null,null,null,null,null,null,null,null,null,null,null,null,null,null,null,null,null,null,null,null,null,null,null,null,null,null,null,null,null,null,null,null,null,null,null,null,null,null,null,null,null,null,null,null,null,null,null,null,null,null,null,null,null,null,null,null,null,null,null,null,null,null,null,null,null,null,"ABDGHIKL",{"$f":"$CE$5","v":"Irak"},{"$f":"$BB$19","v":"Iran"},"Katar","Australien","Südkorea",{"$f":"$BB$26","v":"Saudi-Arabien"},{"$f":"$CE$26","v":"Ghana"},{"$f":"$CE$19","v":"Usbekistan"}]
[null,null,null,null,null,null,null,null,null,null,null,null,null,null,null,null,null,null,null,null,null,null,null,null,null,null,null,null,null,null,null,null,null,null,null,null,null,null,null,null,null,null,null,null,null,null,null,null,null,null,null,null,null,null,null,null,null,null,null,null,null,null,null,null,null,null,null,null,null,null,null,null,null,null,null,null,null,null,null,null,null,null,null,null,null,null,null,null,null,null,null,null,"ABDGHJKL",{"$f":"$BB$26","v":"Saudi-Arabien"},{"$f":"$CE$12","v":"Österreich"},"Katar","Australien","Südkorea",{"$f":"$BB$19","v":"Iran"},{"$f":"$CE$26","v":"Ghana"},{"$f":"$CE$19","v":"Usbekistan"}]
[null,null,null,null,null,null,null,null,null,null,null,null,null,null,null,null,null,null,null,null,null,null,null,null,null,null,null,null,null,null,null,null,null,null,null,null,null,null,null,null,null,null,null,null,null,null,null,null,null,null,null,null,null,null,null,null,null,null,null,null,null,null,null,null,null,null,null,null,null,null,null,null,null,null,null,null,null,null,null,null,null,null,null,null,null,null,null,null,null,null,null,null,"ABDGIJKL",{"$f":"$CE$5","v":"Irak"},{"$f":"$CE$12","v":"Österreich"},"Katar","Australien","Südkorea",{"$f":"$BB$19","v":"Iran"},{"$f":"$CE$26","v":"Ghana"},{"$f":"$CE$19","v":"Usbekistan"}]
[null,null,null,null,null,null,null,null,null,null,null,null,null,null,null,null,null,null,null,null,null,null,null,null,null,null,null,null,null,null,null,null,null,null,null,null,null,null,null,null,null,null,null,null,null,null,null,null,null,null,null,null,null,null,null,null,null,null,null,null,null,null,null,null,null,null,null,null,null,null,null,null,null,null,null,null,null,null,null,null,null,null,null,null,null,null,null,null,null,null,null,null,"ABDHIJKL",{"$f":"$CE$5","v":"Irak"},{"$f":"$CE$12","v":"Österreich"},"Katar","Australien","Südkorea",{"$f":"$BB$26","v":"Saudi-Arabien"},{"$f":"$CE$26","v":"Ghana"},{"$f":"$CE$19","v":"Usbekistan"}]
[null,null,null,null,null,null,null,null,null,null,null,null,null,null,null,null,null,null,null,null,null,null,null,null,null,null,null,null,null,null,null,null,null,null,null,null,null,null,null,null,null,null,null,null,null,null,null,null,null,null,null,null,null,null,null,null,null,null,null,null,null,null,null,null,null,null,null,null,null,null,null,null,null,null,null,null,null,null,null,null,null,null,null,null,null,null,null,null,null,null,null,null,"ABEFGHIJ",{"$f":"$BB$26","v":"Saudi-Arabien"},{"$f":"$CE$12","v":"Österreich"},"Katar",{"$f":"$BB$12","v":"Schweden"},"Südkorea",{"$f":"$BB$19","v":"Iran"},{"$f":"$BB$5","v":"Elfenbeinküste"},{"$f":"$CE$5","v":"Irak"}]
[null,null,null,null,null,null,null,null,null,null,null,null,null,null,null,null,null,null,null,null,null,null,null,null,null,null,null,null,null,null,null,null,null,null,null,null,null,null,null,null,null,null,null,null,null,null,null,null,null,null,null,null,null,null,null,null,null,null,null,null,null,null,null,null,null,null,null,null,null,null,null,null,null,null,null,null,null,null,null,null,null,null,null,null,null,null,null,null,null,null,null,null,"ABEFGHIK",{"$f":"$BB$5","v":"Elfenbeinküste"},{"$f":"$BB$19","v":"Iran"},"Katar","Schweden","Südkorea",{"$f":"$BB$26","v":"Saudi-Arabien"},{"$f":"$CE$5","v":"Irak"},{"$f":"$CE$19","v":"Usbekistan"}]
[null,null,null,null,null,null,null,null,null,null,null,null,null,null,null,null,null,null,null,null,null,null,null,null,null,null,null,null,null,null,null,null,null,null,null,null,null,null,null,null,null,null,null,null,null,null,null,null,null,null,null,null,null,null,null,null,null,null,null,null,null,null,null,null,null,null,null,null,null,null,null,null,null,null,null,null,null,null,null,null,null,null,null,null,null,null,null,null,null,null,null,null,"ABEFGHIL",{"$f":"$BB$5","v":"Elfenbeinküste"},{"$f":"$BB$19","v":"Iran"},"Katar","Schweden","Südkorea",{"$f":"$BB$26","v":"Saudi-Arabien"},{"$f":"$CE$26","v":"Ghana"},{"$f":"$CE$5","v":"Irak"}]
[null,null,null,null,null,null,null,null,null,null,null,null,null,null,null,null,null,null,null,null,null,null,null,null,null,null,null,null,null,null,null,null,null,null,null,null,null,null,null,null,null,null,null,null,null,null,null,null,null,null,null,null,null,null,null,null,null,null,null,null,null,null,null,null,null,null,null,null,null,null,null,null,null,null,null,null,null,null,null,null,null,null,null,null,null,null,null,null,null,null,null,null,"ABEFGHJK",{"$f":"$BB$26","v":"Saudi-Arabien"},{"$f":"$CE$12","v":"Österreich"},"Katar","Schweden","Südkorea",{"$f":"$BB$19","v":"Iran"},{"$f":"$BB$5","v":"Elfenbeinküste"},{"$f":"$CE$19","v":"Usbekistan"}]
[null,null,null,null,null,null,null,null,null,null,null,null,null,null,null,null,null,null,null,null,null,null,null,null,null,null,null,null,null,null,null,null,null,null,null,null,null,null,null,null,null,null,null,null,null,null,null,null,null,null,null,null,null,null,null,null,null,null,null,null,null,null,null,null,null,null,null,null,null,null,null,null,null,null,null,null,null,null,null,null,null,null,null,null,null,null,null,null,null,null,null,null,"ABEFGHJL",{"$f":"$BB$26","v":"Saudi-Arabien"},{"$f":"$CE$12","v":"Österreich"},"Katar","Schweden","Südkorea",{"$f":"$BB$19","v":"Iran"},{"$f":"$CE$26","v":"Ghana"},{"$f":"$BB$5","v":"Elfenbeinküste"}]
[null,null,null,null,null,null,null,null,null,null,null,null,null,null,null,null,null,null,null,null,null,null,null,null,null,null,null,null,null,null,null,null,null,null,null,null,null,null,null,null,null,null,null,null,null,null,null,null,null,null,null,null,null,null,null,null,null,null,null,null,null,null,null,null,null,null,null,null,null,null,null,null,null,null,null,null,null,null,null,null,null,null,null,null,null,null,null,null,null,null,null,null,"ABEFGHKL",{"$f":"$BB$5","v":"Elfenbeinküste"},{"$f":"$BB$19","v":"Iran"},"Katar","Schweden","Südkorea",{"$f":"$BB$26","v":"Saudi-Arabien"},{"$f":"$CE$26","v":"Ghana"},{"$f":"$CE$19","v":"Usbekistan"}]
[null,null,null,null,null,null,null,null,null,null,null,null,null,null,null,null,null,null,null,null,null,null,null,null,null,null,null,null,null,null,null,null,null,null,null,null,null,null,null,null,null,null,null,null,null,null,null,null,null,null,null,null,null,null,null,null,null,null,null,null,null,null,null,null,null,null,null,null,null,null,null,null,null,null,null,null,null,null,null,null,null,null,null,null,null,null,null,null,null,null,null,null,"ABEFGIJK","Elfenbeinküste",{"$f":"$CE$12","v":"Österreich"},"Katar","Schweden","Südkorea",{"$f":"$BB$19","v":"Iran"},{"$f":"$CE$5","v":"Irak"},{"$f":"$CE$19","v":"Usbekistan"}]
[null,null,null,null,null,null,null,null,null,null,null,null,null,null,null,null,null,null,null,null,null,null,null,null,null,null,null,null,null,null,null,null,null,null,null,null,null,null,null,null,null,null,null,null,null,null,null,null,null,null,null,null,null,null,null,null,null,null,null,null,null,null,null,null,null,null,null,null,null,null,null,null,null,null,null,null,null,null,null,null,null,null,null,null,null,null,null,null,null,null,null,null,"ABEFGIJL","Elfenbeinküste",{"$f":"$CE$12","v":"Österreich"},"Katar","Schweden","Südkorea",{"$f":"$BB$19","v":"Iran"},{"$f":"$CE$26","v":"Ghana"},{"$f":"$CE$5","v":"Irak"}]
[null,null,null,null,null,null,null,null,null,null,null,null,null,null,null,null,null,null,null,null,null,null,null,null,null,null,null,null,null,null,null,null,null,null,null,null,null,null,null,null,null,null,null,null,null,null,null,null,null,null,null,null,null,null,null,null,null,null,null,null,null,null,null,null,null,null,null,null,null,null,null,null,null,null,null,null,null,null,null,null,null,null,null,null,null,null,null,null,null,null,null,null,"ABEFGIKL","Elfenbeinküste",{"$f":"$BB$19","v":"Iran"},"Katar",{"$f":"$Y$5","v":"Südkorea"},{"$f":"$CE$5","v":"Irak"},{"$f":"$BB$12","v":"Schweden"},{"$f":"$CE$26","v":"Ghana"},{"$f":"$CE$19","v":"Usbekistan"}]
[null,null,null,null,null,null,null,null,null,null,null,null,null,null,null,null,null,null,null,null,null,null,null,null,null,null,null,null,null,null,null,null,null,null,null,null,null,null,null,null,null,null,null,null,null,null,null,null,null,null,null,null,null,null,null,null,null,null,null,null,null,null,null,null,null,null,null,null,null,null,null,null,null,null,null,null,null,null,null,null,null,null,null,null,null,null,null,null,null,null,null,null,"ABEFGJKL","Elfenbeinküste",{"$f":"$CE$12","v":"Österreich"},"Katar",{"$f":"$BB$12","v":"Schweden"},{"$f":"$Y$5","v":"Südkorea"},{"$f":"$BB$19","v":"Iran"},{"$f":"$CE$26","v":"Ghana"},{"$f":"$CE$19","v":"Usbekistan"}]
[null,null,null,null,null,null,null,null,null,null,null,null,null,null,null,null,null,null,null,null,null,null,null,null,null,null,null,null,null,null,null,null,null,null,null,null,null,null,null,null,null,null,null,null,null,null,null,null,null,null,null,null,null,null,null,null,null,null,null,null,null,null,null,null,null,null,null,null,null,null,null,null,null,null,null,null,null,null,null,null,null,null,null,null,null,null,null,null,null,null,null,null,"ABEFHIJK","Elfenbeinküste",{"$f":"$CE$12","v":"Österreich"},{"$f":"$Y$12","v":"Katar"},{"$f":"$BB$12","v":"Schweden"},{"$f":"$Y$5","v":"Südkorea"},{"$f":"$BB$26","v":"Saudi-Arabien"},{"$f":"$CE$5","v":"Irak"},{"$f":"$CE$19","v":"Usbekistan"}]
[null,null,null,null,null,null,null,null,null,null,null,null,null,null,null,null,null,null,null,null,null,null,null,null,null,null,null,null,null,null,null,null,null,null,null,null,null,null,null,null,null,null,null,null,null,null,null,null,null,null,null,null,null,null,null,null,null,null,null,null,null,null,null,null,null,null,null,null,null,null,null,null,null,null,null,null,null,null,null,null,null,null,null,null,null,null,null,null,null,null,null,null,"ABEFHIJL","Elfenbeinküste",{"$f":"$CE$12","v":"Österreich"},"Katar",{"$f":"$BB$12","v":"Schweden"},{"$f":"$Y$5","v":"Südkorea"},{"$f":"$BB$26","v":"Saudi-Arabien"},{"$f":"$CE$26","v":"Ghana"},{"$f":"$CE$5","v":"Irak"}]
[null,null,null,null,null,null,null,null,null,null,null,null,null,null,null,null,null,null,null,null,null,null,null,null,null,null,null,null,null,null,null,null,null,null,null,null,null,null,null,null,null,null,null,null,null,null,null,null,null,null,null,null,null,null,null,null,null,null,null,null,null,null,null,null,null,null,null,null,null,null,null,null,null,null,null,null,null,null,null,null,null,null,null,null,null,null,null,null,null,null,null,null,"ABEFHIKL","Elfenbeinküste",{"$f":"$CE$5","v":"Irak"},"Katar",{"$f":"$BB$12","v":"Schweden"},{"$f":"$Y$5","v":"Südkorea"},{"$f":"$BB$26","v":"Saudi-Arabien"},{"$f":"$CE$26","v":"Ghana"},{"$f":"$CE$19","v":"Usbekistan"}]
[null,null,null,null,null,null,null,null,null,null,null,null,null,null,null,null,null,null,null,null,null,null,null,null,null,null,null,null,null,null,null,null,null,null,null,null,null,null,null,null,null,null,null,null,null,null,null,null,null,null,null,null,null,null,null,null,null,null,null,null,null,null,null,null,null,null,null,null,null,null,null,null,null,null,null,null,null,null,null,null,null,null,null,null,null,null,null,null,null,null,null,null,"ABEFHJKL","Elfenbeinküste",{"$f":"$CE$12","v":"Österreich"},"Katar",{"$f":"$BB$12","v":"Schweden"},{"$f":"$Y$5","v":"Südkorea"},{"$f":"$BB$26","v":"Saudi-Arabien"},{"$f":"$CE$26","v":"Ghana"},{"$f":"$CE$19","v":"Usbekistan"}]
[null,null,null,null,null,null,null,null,null,null,null,null,null,null,null,null,null,null,null,null,null,null,null,null,null,null,null,null,null,null,null,null,null,null,null,null,null,null,null,null,null,null,null,null,null,null,null,null,null,null,null,null,null,null,null,null,null,null,null,null,null,null,null,null,null,null,null,null,null,null,null,null,null,null,null,null,null,null,null,null,null,null,null,null,null,null,null,null,null,null,null,null,"ABEFIJKL","Elfenbeinküste",{"$f":"$CE$12","v":"Österreich"},"Katar",{"$f":"$Y$5","v":"Südkorea"},{"$f":"$CE$5","v":"Irak"},{"$f":"$BB$12","v":"Schweden"},{"$f":"$CE$26","v":"Ghana"},{"$f":"$CE$19","v":"Usbekistan"}]
[null,null,null,null,null,null,null,null,null,null,null,null,null,null,null,null,null,null,null,null,null,null,null,null,null,null,null,null,null,null,null,null,null,null,null,null,null,null,null,null,null,null,null,null,null,null,null,null,null,null,null,null,null,null,null,null,null,null,null,null,null,null,null,null,null,null,null,null,null,null,null,null,null,null,null,null,null,null,null,null,null,null,null,null,null,null,null,null,null,null,null,null,"ABEGHIJK","Elfenbeinküste",{"$f":"$CE$12","v":"Österreich"},"Katar","Südkorea",{"$f":"$BB$26","v":"Saudi-Arabien"},{"$f":"$BB$19","v":"Iran"},{"$f":"$CE$5","v":"Irak"},{"$f":"$CE$19","v":"Usbekistan"}]
[null,null,null,null,null,null,null,null,null,null,null,null,null,null,null,null,null,null,null,null,null,null,null,null,null,null,null,null,null,null,null,null,null,null,null,null,null,null,null,null,null,null,null,null,null,null,null,null,null,null,null,null,null,null,null,null,null,null,null,null,null,null,null,null,null,null,null,null,null,null,null,null,null,null,null,null,null,null,null,null,null,null,null,null,null,null,null,null,null,null,null,null,"ABEGHIJL","Elfenbeinküste",{"$f":"$CE$12","v":"Österreich"},"Katar","Südkorea",{"$f":"$BB$26","v":"Saudi-Arabien"},{"$f":"$BB$19","v":"Iran"},{"$f":"$CE$26","v":"Ghana"},{"$f":"$CE$5","v":"Irak"}]
[null,null,null,null,null,null,null,null,null,null,null,null,null,null,null,null,null,null,null,null,null,null,null,null,null,null,null,null,null,null,null,null,null,null,null,null,null,null,null,null,null,null,null,null,null,null,null,null,null,null,null,null,null,null,null,null,null,null,null,null,null,null,null,null,null,null,null,null,null,null,null,null,null,null,null,null,null,null,null,null,null,null,null,null,null,null,null,null,null,null,null,null,"ABEGHIKL","Elfenbeinküste",{"$f":"$BB$19","v":"Iran"},"Katar","Südkorea",{"$f":"$CE$5","v":"Irak"},{"$f":"$BB$26","v":"Saudi-Arabien"},{"$f":"$CE$26","v":"Ghana"},{"$f":"$CE$19","v":"Usbekistan"}]
[null,null,null,null,null,null,null,null,null,null,null,null,null,null,null,null,null,null,null,null,null,null,null,null,null,null,null,null,null,null,null,null,null,null,null,null,null,null,null,null,null,null,null,null,null,null,null,null,null,null,null,null,null,null,null,null,null,null,null,null,null,null,null,null,null,null,null,null,null,null,null,null,null,null,null,null,null,null,null,null,null,null,null,null,null,null,null,null,null,null,null,null,"ABEGHJKL","Elfenbeinküste",{"$f":"$CE$12","v":"Österreich"},"Katar","Südkorea",{"$f":"$BB$26","v":"Saudi-Arabien"},{"$f":"$BB$19","v":"Iran"},{"$f":"$CE$26","v":"Ghana"},{"$f":"$CE$19","v":"Usbekistan"}]
[null,null,null,null,null,null,null,null,null,null,null,null,null,null,null,null,null,null,null,null,null,null,null,null,null,null,null,null,null,null,null,null,null,null,null,null,null,null,null,null,null,null,null,null,null,null,null,null,null,null,null,null,null,null,null,null,null,null,null,null,null,null,null,null,null,null,null,null,null,null,null,null,null,null,null,null,null,null,null,null,null,null,null,null,null,null,null,null,null,null,null,null,"ABEGIJKL","Elfenbeinküste",{"$f":"$CE$12","v":"Österreich"},"Katar","Südkorea",{"$f":"$CE$5","v":"Irak"},{"$f":"$BB$19","v":"Iran"},{"$f":"$CE$26","v":"Ghana"},{"$f":"$CE$19","v":"Usbekistan"}]
[null,null,null,null,null,null,null,null,null,null,null,null,null,null,null,null,null,null,null,null,null,null,null,null,null,null,null,null,null,null,null,null,null,null,null,null,null,null,null,null,null,null,null,null,null,null,null,null,null,null,null,null,null,null,null,null,null,null,null,null,null,null,null,null,null,null,null,null,null,null,null,null,null,null,null,null,null,null,null,null,null,null,null,null,null,null,null,null,null,null,null,null,"ABEHIJKL","Elfenbeinküste",{"$f":"$CE$12","v":"Österreich"},"Katar","Südkorea",{"$f":"$CE$5","v":"Irak"},{"$f":"$BB$26","v":"Saudi-Arabien"},{"$f":"$CE$26","v":"Ghana"},{"$f":"$CE$19","v":"Usbekistan"}]
[null,null,null,null,null,null,null,null,null,null,null,null,null,null,null,null,null,null,null,null,null,null,null,null,null,null,null,null,null,null,null,null,null,null,null,null,null,null,null,null,null,null,null,null,null,null,null,null,null,null,null,null,null,null,null,null,null,null,null,null,null,null,null,null,null,null,null,null,null,null,null,null,null,null,null,null,null,null,null,null,null,null,null,null,null,null,null,null,null,null,null,null,"ABFGHIJK",{"$f":"$BB$26","v":"Saudi-Arabien"},{"$f":"$CE$12","v":"Österreich"},"Katar",{"$f":"$BB$12","v":"Schweden"},{"$f":"$Y$5","v":"Südkorea"},{"$f":"$BB$19","v":"Iran"},{"$f":"$CE$5","v":"Irak"},{"$f":"$CE$19","v":"Usbekistan"}]
[null,null,null,null,null,null,null,null,null,null,null,null,null,null,null,null,null,null,null,null,null,null,null,null,null,null,null,null,null,null,null,null,null,null,null,null,null,null,null,null,null,null,null,null,null,null,null,null,null,null,null,null,null,null,null,null,null,null,null,null,null,null,null,null,null,null,null,null,null,null,null,null,null,null,null,null,null,null,null,null,null,null,null,null,null,null,null,null,null,null,null,null,"ABFGHIJL",{"$f":"$BB$26","v":"Saudi-Arabien"},{"$f":"$CE$12","v":"Österreich"},"Katar",{"$f":"$BB$12","v":"Schweden"},{"$f":"$Y$5","v":"Südkorea"},{"$f":"$BB$19","v":"Iran"},{"$f":"$CE$26","v":"Ghana"},{"$f":"$CE$5","v":"Irak"}]
[null,null,null,null,null,null,null,null,null,null,null,null,null,null,null,null,null,null,null,null,null,null,null,null,null,null,null,null,null,null,null,null,null,null,null,null,null,null,null,null,null,null,null,null,null,null,null,null,null,null,null,null,null,null,null,null,null,null,null,null,null,null,null,null,null,null,null,null,null,null,null,null,null,null,null,null,null,null,null,null,null,null,null,null,null,null,null,null,null,null,null,null,"ABFGHIKL",{"$f":"$BB$26","v":"Saudi-Arabien"},{"$f":"$BB$19","v":"Iran"},"Katar",{"$f":"$Y$5","v":"Südkorea"},{"$f":"$CE$5","v":"Irak"},{"$f":"$BB$12","v":"Schweden"},"Ghana",{"$f":"$CE$19","v":"Usbekistan"}]
[null,null,null,null,null,null,null,null,null,null,null,null,null,null,null,null,null,null,null,null,null,null,null,null,null,null,null,null,null,null,null,null,null,null,null,null,null,null,null,null,null,null,null,null,null,null,null,null,null,null,null,null,null,null,null,null,null,null,null,null,null,null,null,null,null,null,null,null,null,null,null,null,null,null,null,null,null,null,null,null,null,null,null,null,null,null,null,null,null,null,null,null,"ABFGHJKL",{"$f":"$BB$26","v":"Saudi-Arabien"},{"$f":"$CE$12","v":"Österreich"},"Katar",{"$f":"$BB$12","v":"Schweden"},{"$f":"$Y$5","v":"Südkorea"},{"$f":"$BB$19","v":"Iran"},"Ghana",{"$f":"$CE$19","v":"Usbekistan"}]
[null,null,null,null,null,null,null,null,null,null,null,null,null,null,null,null,null,null,null,null,null,null,null,null,null,null,null,null,null,null,null,null,null,null,null,null,null,null,null,null,null,null,null,null,null,null,null,null,null,null,null,null,null,null,null,null,null,null,null,null,null,null,null,null,null,null,null,null,null,null,null,null,null,null,null,null,null,null,null,null,null,null,null,null,null,null,null,null,null,null,null,null,"ABFGIJKL",{"$f":"$CE$5","v":"Irak"},{"$f":"$CE$12","v":"Österreich"},"Katar",{"$f":"$BB$12","v":"Schweden"},{"$f":"$Y$5","v":"Südkorea"},{"$f":"$BB$19","v":"Iran"},"Ghana",{"$f":"$CE$19","v":"Usbekistan"}]
[null,null,null,null,null,null,null,null,null,null,null,null,null,null,null,null,null,null,null,null,null,null,null,null,null,null,null,null,null,null,null,null,null,null,null,null,null,null,null,null,null,null,null,null,null,null,null,null,null,null,null,null,null,null,null,null,null,null,null,null,null,null,null,null,null,null,null,null,null,null,null,null,null,null,null,null,null,null,null,null,null,null,null,null,null,null,null,null,null,null,null,null,"ABFHIJKL",{"$f":"$BB$26","v":"Saudi-Arabien"},{"$f":"$CE$12","v":"Österreich"},"Katar",{"$f":"$Y$5","v":"Südkorea"},{"$f":"$CE$5","v":"Irak"},{"$f":"$BB$12","v":"Schweden"},"Ghana",{"$f":"$CE$19","v":"Usbekistan"}]
[null,null,null,null,null,null,null,null,null,null,null,null,null,null,null,null,null,null,null,null,null,null,null,null,null,null,null,null,null,null,null,null,null,null,null,null,null,null,null,null,null,null,null,null,null,null,null,null,null,null,null,null,null,null,null,null,null,null,null,null,null,null,null,null,null,null,null,null,null,null,null,null,null,null,null,null,null,null,null,null,null,null,null,null,null,null,null,null,null,null,null,null,"ABGHIJKL","Saudi-Arabien",{"$f":"$CE$12","v":"Österreich"},"Katar",{"$f":"$Y$5","v":"Südkorea"},{"$f":"$CE$5","v":"Irak"},{"$f":"$BB$19","v":"Iran"},"Ghana",{"$f":"$CE$19","v":"Usbekistan"}]
[null,null,null,null,null,null,null,null,null,null,null,null,null,null,null,null,null,null,null,null,null,null,null,null,null,null,null,null,null,null,null,null,null,null,null,null,null,null,null,null,null,null,null,null,null,null,null,null,null,null,null,null,null,null,null,null,null,null,null,null,null,null,null,null,null,null,null,null,null,null,null,null,null,null,null,null,null,null,null,null,null,null,null,null,null,null,null,null,null,null,null,null,"ACDEFGHI","Saudi-Arabien",{"$f":"$BB$19","v":"Iran"},{"$f":"$BB$5","v":"Elfenbeinküste"},{"$f":"$Y$19","v":"Haiti"},{"$f":"$Y$5","v":"Südkorea"},{"$f":"$BB$12","v":"Schweden"},{"$f":"$Y$26","v":"Australien"},{"$f":"$CE$5","v":"Irak"}]
[null,null,null,null,null,null,null,null,null,null,null,null,null,null,null,null,null,null,null,null,null,null,null,null,null,null,null,null,null,null,null,null,null,null,null,null,null,null,null,null,null,null,null,null,null,null,null,null,null,null,null,null,null,null,null,null,null,null,null,null,null,null,null,null,null,null,null,null,null,null,null,null,null,null,null,null,null,null,null,null,null,null,null,null,null,null,null,null,null,null,null,null,"ACDEFGHJ","Saudi-Arabien","Iran",{"$f":"$CE$12","v":"Österreich"},{"$f":"$Y$19","v":"Haiti"},"Südkorea",{"$f":"$BB$12","v":"Schweden"},{"$f":"$Y$26","v":"Australien"},{"$f":"$BB$5","v":"Elfenbeinküste"}]
[null,null,null,null,null,null,null,null,null,null,null,null,null,null,null,null,null,null,null,null,null,null,null,null,null,null,null,null,null,null,null,null,null,null,null,null,null,null,null,null,null,null,null,null,null,null,null,null,null,null,null,null,null,null,null,null,null,null,null,null,null,null,null,null,null,null,null,null,null,null,null,null,null,null,null,null,null,null,null,null,null,null,null,null,null,null,null,null,null,null,null,null,"ACDEFGHK","Saudi-Arabien","Iran",{"$f":"$BB$5","v":"Elfenbeinküste"},{"$f":"$Y$19","v":"Haiti"},"Südkorea",{"$f":"$BB$12","v":"Schweden"},{"$f":"$Y$26","v":"Australien"},{"$f":"$CE$19","v":"Usbekistan"}]
[null,null,null,null,null,null,null,null,null,null,null,null,null,null,null,null,null,null,null,null,null,null,null,null,null,null,null,null,null,null,null,null,null,null,null,null,null,null,null,null,null,null,null,null,null,null,null,null,null,null,null,null,null,null,null,null,null,null,null,null,null,null,null,null,null,null,null,null,null,null,null,null,null,null,null,null,null,null,null,null,null,null,null,null,null,null,null,null,null,null,null,null,"ACDEFGHL","Saudi-Arabien","Iran",{"$f":"$BB$12","v":"Schweden"},{"$f":"$Y$19","v":"Haiti"},"Südkorea",{"$f":"$Y$26","v":"Australien"},{"$f":"$CE$26","v":"Ghana"},{"$f":"$BB$5","v":"Elfenbeinküste"}]
[null,null,null,null,null,null,null,null,null,null,null,null,null,null,null,null,null,null,null,null,null,null,null,null,null,null,null,null,null,null,null,null,null,null,null,null,null,null,null,null,null,null,null,null,null,null,null,null,null,null,null,null,null,null,null,null,null,null,null,null,null,null,null,null,null,null,null,null,null,null,null,null,null,null,null,null,null,null,null,null,null,null,null,null,null,null,null,null,null,null,null,null,"ACDEFGIJ",{"$f":"$Y$19","v":"Haiti"},"Iran",{"$f":"$CE$12","v":"Österreich"},{"$f":"$Y$26","v":"Australien"},"Südkorea",{"$f":"$BB$12","v":"Schweden"},{"$f":"$BB$5","v":"Elfenbeinküste"},{"$f":"$CE$5","v":"Irak"}]
[null,null,null,null,null,null,null,null,null,null,null,null,null,null,null,null,null,null,null,null,null,null,null,null,null,null,null,null,null,null,null,null,null,null,null,null,null,null,null,null,null,null,null,null,null,null,null,null,null,null,null,null,null,null,null,null,null,null,null,null,null,null,null,null,null,null,null,null,null,null,null,null,null,null,null,null,null,null,null,null,null,null,null,null,null,null,null,null,null,null,null,null,"ACDEFGIK","Haiti","Iran",{"$f":"$BB$5","v":"Elfenbeinküste"},"Australien","Südkorea","Schweden",{"$f":"$CE$5","v":"Irak"},{"$f":"$CE$19","v":"Usbekistan"}]
[null,null,null,null,null,null,null,null,null,null,null,null,null,null,null,null,null,null,null,null,null,null,null,null,null,null,null,null,null,null,null,null,null,null,null,null,null,null,null,null,null,null,null,null,null,null,null,null,null,null,null,null,null,null,null,null,null,null,null,null,null,null,null,null,null,null,null,null,null,null,null,null,null,null,null,null,null,null,null,null,null,null,null,null,null,null,null,null,null,null,null,null,"ACDEFGIL","Haiti","Iran",{"$f":"$BB$5","v":"Elfenbeinküste"},"Australien","Südkorea","Schweden",{"$f":"$CE$26","v":"Ghana"},{"$f":"$CE$5","v":"Irak"}]
[null,null,null,null,null,null,null,null,null,null,null,null,null,null,null,null,null,null,null,null,null,null,null,null,null,null,null,null,null,null,null,null,null,null,null,null,null,null,null,null,null,null,null,null,null,null,null,null,null,null,null,null,null,null,null,null,null,null,null,null,null,null,null,null,null,null,null,null,null,null,null,null,null,null,null,null,null,null,null,null,null,null,null,null,null,null,null,null,null,null,null,null,"ACDEFGJK","Haiti","Iran",{"$f":"$CE$12","v":"Österreich"},"Australien","Südkorea","Schweden",{"$f":"$BB$5","v":"Elfenbeinküste"},{"$f":"$CE$19","v":"Usbekistan"}]
[null,null,null,null,null,null,null,null,null,null,null,null,null,null,null,null,null,null,null,null,null,null,null,null,null,null,null,null,null,null,null,null,null,null,null,null,null,null,null,null,null,null,null,null,null,null,null,null,null,null,null,null,null,null,null,null,null,null,null,null,null,null,null,null,null,null,null,null,null,null,null,null,null,null,null,null,null,null,null,null,null,null,null,null,null,null,null,null,null,null,null,null,"ACDEFGJL","Haiti","Iran",{"$f":"$CE$12","v":"Österreich"},"Australien","Südkorea","Schweden",{"$f":"$CE$26","v":"Ghana"},{"$f":"$BB$5","v":"Elfenbeinküste"}]
[null,null,null,null,null,null,null,null,null,null,null,null,null,null,null,null,null,null,null,null,null,null,null,null,null,null,null,null,null,null,null,null,null,null,null,null,null,null,null,null,null,null,null,null,null,null,null,null,null,null,null,null,null,null,null,null,null,null,null,null,null,null,null,null,null,null,null,null,null,null,null,null,null,null,null,null,null,null,null,null,null,null,null,null,null,null,null,null,null,null,null,null,"ACDEFGKL","Haiti","Iran",{"$f":"$BB$5","v":"Elfenbeinküste"},"Australien","Südkorea","Schweden",{"$f":"$CE$26","v":"Ghana"},{"$f":"$CE$19","v":"Usbekistan"}]
[null,null,null,null,null,null,null,null,null,null,null,null,null,null,null,null,null,null,null,null,null,null,null,null,null,null,null,null,null,null,null,null,null,null,null,null,null,null,null,null,null,null,null,null,null,null,null,null,null,null,null,null,null,null,null,null,null,null,null,null,null,null,null,null,null,null,null,null,null,null,null,null,null,null,null,null,null,null,null,null,null,null,null,null,null,null,null,null,null,null,null,null,"ACDEFHIJ",{"$f":"$BB$26","v":"Saudi-Arabien"},{"$f":"$CE$12","v":"Österreich"},{"$f":"$BB$5","v":"Elfenbeinküste"},{"$f":"$Y$19","v":"Haiti"},"Südkorea","Schweden",{"$f":"$Y$26","v":"Australien"},{"$f":"$CE$5","v":"Irak"}]
[null,null,null,null,null,null,null,null,null,null,null,null,null,null,null,null,null,null,null,null,null,null,null,null,null,null,null,null,null,null,null,null,null,null,null,null,null,null,null,null,null,null,null,null,null,null,null,null,null,null,null,null,null,null,null,null,null,null,null,null,null,null,null,null,null,null,null,null,null,null,null,null,null,null,null,null,null,null,null,null,null,null,null,null,null,null,null,null,null,null,null,null,"ACDEFHIK","Saudi-Arabien",{"$f":"$BB$5","v":"Elfenbeinküste"},{"$f":"$BB$12","v":"Schweden"},"Haiti","Südkorea",{"$f":"$Y$26","v":"Australien"},{"$f":"$CE$5","v":"Irak"},{"$f":"$CE$19","v":"Usbekistan"}]
[null,null,null,null,null,null,null,null,null,null,null,null,null,null,null,null,null,null,null,null,null,null,null,null,null,null,null,null,null,null,null,null,null,null,null,null,null,null,null,null,null,null,null,null,null,null,null,null,null,null,null,null,null,null,null,null,null,null,null,null,null,null,null,null,null,null,null,null,null,null,null,null,null,null,null,null,null,null,null,null,null,null,null,null,null,null,null,null,null,null,null,null,"ACDEFHIL","Saudi-Arabien",{"$f":"$BB$5","v":"Elfenbeinküste"},{"$f":"$BB$12","v":"Schweden"},"Haiti","Südkorea",{"$f":"$Y$26","v":"Australien"},{"$f":"$CE$26","v":"Ghana"},{"$f":"$CE$5","v":"Irak"}]
[null,null,null,null,null,null,null,null,null,null,null,null,null,null,null,null,null,null,null,null,null,null,null,null,null,null,null,null,null,null,null,null,null,null,null,null,null,null,null,null,null,null,null,null,null,null,null,null,null,null,null,null,null,null,null,null,null,null,null,null,null,null,null,null,null,null,null,null,null,null,null,null,null,null,null,null,null,null,null,null,null,null,null,null,null,null,null,null,null,null,null,null,"ACDEFHJK","Saudi-Arabien",{"$f":"$CE$12","v":"Österreich"},{"$f":"$BB$5","v":"Elfenbeinküste"},"Haiti","Südkorea",{"$f":"$BB$12","v":"Schweden"},{"$f":"$Y$26","v":"Australien"},{"$f":"$CE$19","v":"Usbekistan"}]
[null,null,null,null,null,null,null,null,null,null,null,null,null,null,null,null,null,null,null,null,null,null,null,null,null,null,null,null,null,null,null,null,null,null,null,null,null,null,null,null,null,null,null,null,null,null,null,null,null,null,null,null,null,null,null,null,null,null,null,null,null,null,null,null,null,null,null,null,null,null,null,null,null,null,null,null,null,null,null,null,null,null,null,null,null,null,null,null,null,null,null,null,"ACDEFHJL","Saudi-Arabien",{"$f":"$CE$12","v":"Österreich"},{"$f":"$BB$12","v":"Schweden"},"Haiti","Südkorea",{"$f":"$Y$26","v":"Australien"},{"$f":"$CE$26","v":"Ghana"},{"$f":"$BB$5","v":"Elfenbeinküste"}]
[null,null,null,null,null,null,null,null,null,null,null,null,null,null,null,null,null,null,null,null,null,null,null,null,null,null,null,null,null,null,null,null,null,null,null,null,null,null,null,null,null,null,null,null,null,null,null,null,null,null,null,null,null,null,null,null,null,null,null,null,null,null,null,null,null,null,null,null,null,null,null,null,null,null,null,null,null,null,null,null,null,null,null,null,null,null,null,null,null,null,null,null,"ACDEFHKL","Saudi-Arabien",{"$f":"$BB$5","v":"Elfenbeinküste"},{"$f":"$BB$12","v":"Schweden"},"Haiti","Südkorea",{"$f":"$Y$26","v":"Australien"},{"$f":"$CE$26","v":"Ghana"},{"$f":"$CE$19","v":"Usbekistan"}]
[null,null,null,null,null,null,null,null,null,null,null,null,null,null,null,null,null,null,null,null,null,null,null,null,null,null,null,null,null,null,null,null,null,null,null,null,null,null,null,null,null,null,null,null,null,null,null,null,null,null,null,null,null,null,null,null,null,null,null,null,null,null,null,null,null,null,null,null,null,null,null,null,null,null,null,null,null,null,null,null,null,null,null,null,null,null,null,null,null,null,null,null,"ACDEFIJK",{"$f":"$Y$19","v":"Haiti"},{"$f":"$CE$12","v":"Österreich"},{"$f":"$BB$5","v":"Elfenbeinküste"},{"$f":"$Y$26","v":"Australien"},"Südkorea",{"$f":"$BB$12","v":"Schweden"},{"$f":"$CE$5","v":"Irak"},{"$f":"$CE$19","v":"Usbekistan"}]
[null,null,null,null,null,null,null,null,null,null,null,null,null,null,null,null,null,null,null,null,null,null,null,null,null,null,null,null,null,null,null,null,null,null,null,null,null,null,null,null,null,null,null,null,null,null,null,null,null,null,null,null,null,null,null,null,null,null,null,null,null,null,null,null,null,null,null,null,null,null,null,null,null,null,null,null,null,null,null,null,null,null,null,null,null,null,null,null,null,null,null,null,"ACDEFIJL",{"$f":"$Y$19","v":"Haiti"},{"$f":"$CE$12","v":"Österreich"},{"$f":"$BB$5","v":"Elfenbeinküste"},{"$f":"$Y$26","v":"Australien"},"Südkorea",{"$f":"$BB$12","v":"Schweden"},{"$f":"$CE$26","v":"Ghana"},{"$f":"$CE$5","v":"Irak"}]
[null,null,null,null,null,null,null,null,null,null,null,null,null,null,null,null,null,null,null,null,null,null,null,null,null,null,null,null,null,null,null,null,null,null,null,null,null,null,null,null,null,null,null,null,null,null,null,null,null,null,null,null,null,null,null,null,null,null,null,null,null,null,null,null,null,null,null,null,null,null,null,null,null,null,null,null,null,null,null,null,null,null,null,null,null,null,null,null,null,null,null,null,"ACDEFIKL",{"$f":"$Y$19","v":"Haiti"},{"$f":"$BB$5","v":"Elfenbeinküste"},{"$f":"$CE$5","v":"Irak"},{"$f":"$Y$26","v":"Australien"},"Südkorea",{"$f":"$BB$12","v":"Schweden"},{"$f":"$CE$26","v":"Ghana"},{"$f":"$CE$19","v":"Usbekistan"}]
[null,null,null,null,null,null,null,null,null,null,null,null,null,null,null,null,null,null,null,null,null,null,null,null,null,null,null,null,null,null,null,null,null,null,null,null,null,null,null,null,null,null,null,null,null,null,null,null,null,null,null,null,null,null,null,null,null,null,null,null,null,null,null,null,null,null,null,null,null,null,null,null,null,null,null,null,null,null,null,null,null,null,null,null,null,null,null,null,null,null,null,null,"ACDEFJKL",{"$f":"$Y$19","v":"Haiti"},{"$f":"$CE$12","v":"Österreich"},{"$f":"$BB$5","v":"Elfenbeinküste"},{"$f":"$Y$26","v":"Australien"},"Südkorea",{"$f":"$BB$12","v":"Schweden"},{"$f":"$CE$26","v":"Ghana"},{"$f":"$CE$19","v":"Usbekistan"}]
[null,null,null,null,null,null,null,null,null,null,null,null,null,null,null,null,null,null,null,null,null,null,null,null,null,null,null,null,null,null,null,null,null,null,null,null,null,null,null,null,null,null,null,null,null,null,null,null,null,null,null,null,null,null,null,null,null,null,null,null,null,null,null,null,null,null,null,null,null,null,null,null,null,null,null,null,null,null,null,null,null,null,null,null,null,null,null,null,null,null,null,null,"ACDEGHIJ",{"$f":"$BB$26","v":"Saudi-Arabien"},{"$f":"$BB$19","v":"Iran"},{"$f":"$CE$12","v":"Österreich"},{"$f":"$Y$19","v":"Haiti"},"Südkorea",{"$f":"$Y$26","v":"Australien"},{"$f":"$BB$5","v":"Elfenbeinküste"},{"$f":"$CE$5","v":"Irak"}]
[null,null,null,null,null,null,null,null,null,null,null,null,null,null,null,null,null,null,null,null,null,null,null,null,null,null,null,null,null,null,null,null,null,null,null,null,null,null,null,null,null,null,null,null,null,null,null,null,null,null,null,null,null,null,null,null,null,null,null,null,null,null,null,null,null,null,null,null,null,null,null,null,null,null,null,null,null,null,null,null,null,null,null,null,null,null,null,null,null,null,null,null,"ACDEGHIK","Saudi-Arabien","Iran",{"$f":"$BB$5","v":"Elfenbeinküste"},"Haiti","Südkorea","Australien",{"$f":"$CE$5","v":"Irak"},{"$f":"$CE$19","v":"Usbekistan"}]
[null,null,null,null,null,null,null,null,null,null,null,null,null,null,null,null,null,null,null,null,null,null,null,null,null,null,null,null,null,null,null,null,null,null,null,null,null,null,null,null,null,null,null,null,null,null,null,null,null,null,null,null,null,null,null,null,null,null,null,null,null,null,null,null,null,null,null,null,null,null,null,null,null,null,null,null,null,null,null,null,null,null,null,null,null,null,null,null,null,null,null,null,"ACDEGHIL","Saudi-Arabien","Iran",{"$f":"$BB$5","v":"Elfenbeinküste"},"Haiti","Südkorea","Australien",{"$f":"$CE$26","v":"Ghana"},{"$f":"$CE$5","v":"Irak"}]
[null,null,null,null,null,null,null,null,null,null,null,null,null,null,null,null,null,null,null,null,null,null,null,null,null,null,null,null,null,null,null,null,null,null,null,null,null,null,null,null,null,null,null,null,null,null,null,null,null,null,null,null,null,null,null,null,null,null,null,null,null,null,null,null,null,null,null,null,null,null,null,null,null,null,null,null,null,null,null,null,null,null,null,null,null,null,null,null,null,null,null,null,"ACDEGHJK","Saudi-Arabien","Iran",{"$f":"$CE$12","v":"Österreich"},"Haiti","Südkorea","Australien",{"$f":"$BB$5","v":"Elfenbeinküste"},{"$f":"$CE$19","v":"Usbekistan"}]
[null,null,null,null,null,null,null,null,null,null,null,null,null,null,null,null,null,null,null,null,null,null,null,null,null,null,null,null,null,null,null,null,null,null,null,null,null,null,null,null,null,null,null,null,null,null,null,null,null,null,null,null,null,null,null,null,null,null,null,null,null,null,null,null,null,null,null,null,null,null,null,null,null,null,null,null,null,null,null,null,null,null,null,null,null,null,null,null,null,null,null,null,"ACDEGHJL","Saudi-Arabien","Iran",{"$f":"$CE$12","v":"Österreich"},"Haiti","Südkorea","Australien",{"$f":"$CE$26","v":"Ghana"},{"$f":"$BB$5","v":"Elfenbeinküste"}]
[null,null,null,null,null,null,null,null,null,null,null,null,null,null,null,null,null,null,null,null,null,null,null,null,null,null,null,null,null,null,null,null,null,null,null,null,null,null,null,null,null,null,null,null,null,null,null,null,null,null,null,null,null,null,null,null,null,null,null,null,null,null,null,null,null,null,null,null,null,null,null,null,null,null,null,null,null,null,null,null,null,null,null,null,null,null,null,null,null,null,null,null,"ACDEGHKL","Saudi-Arabien","Iran",{"$f":"$BB$5","v":"Elfenbeinküste"},"Haiti","Südkorea","Australien",{"$f":"$CE$26","v":"Ghana"},{"$f":"$CE$19","v":"Usbekistan"}]
[null,null,null,null,null,null,null,null,null,null,null,null,null,null,null,null,null,null,null,null,null,null,null,null,null,null,null,null,null,null,null,null,null,null,null,null,null,null,null,null,null,null,null,null,null,null,null,null,null,null,null,null,null,null,null,null,null,null,null,null,null,null,null,null,null,null,null,null,null,null,null,null,null,null,null,null,null,null,null,null,null,null,null,null,null,null,null,null,null,null,null,null,"ACDEGIJK",{"$f":"$BB$5","v":"Elfenbeinküste"},"Iran",{"$f":"$CE$12","v":"Österreich"},"Haiti","Südkorea","Australien",{"$f":"$CE$5","v":"Irak"},{"$f":"$CE$19","v":"Usbekistan"}]
[null,null,null,null,null,null,null,null,null,null,null,null,null,null,null,null,null,null,null,null,null,null,null,null,null,null,null,null,null,null,null,null,null,null,null,null,null,null,null,null,null,null,null,null,null,null,null,null,null,null,null,null,null,null,null,null,null,null,null,null,null,null,null,null,null,null,null,null,null,null,null,null,null,null,null,null,null,null,null,null,null,null,null,null,null,null,null,null,null,null,null,null,"ACDEGIJL",{"$f":"$BB$5","v":"Elfenbeinküste"},"Iran",{"$f":"$CE$12","v":"Österreich"},"Haiti","Südkorea","Australien",{"$f":"$CE$26","v":"Ghana"},{"$f":"$CE$5","v":"Irak"}]
[null,null,null,null,null,null,null,null,null,null,null,null,null,null,null,null,null,null,null,null,null,null,null,null,null,null,null,null,null,null,null,null,null,null,null,null,null,null,null,null,null,null,null,null,null,null,null,null,null,null,null,null,null,null,null,null,null,null,null,null,null,null,null,null,null,null,null,null,null,null,null,null,null,null,null,null,null,null,null,null,null,null,null,null,null,null,null,null,null,null,null,null,"ACDEGIKL",{"$f":"$BB$5","v":"Elfenbeinküste"},"Iran",{"$f":"$CE$5","v":"Irak"},"Haiti","Südkorea","Australien",{"$f":"$CE$26","v":"Ghana"},{"$f":"$CE$19","v":"Usbekistan"}]
[null,null,null,null,null,null,null,null,null,null,null,null,null,null,null,null,null,null,null,null,null,null,null,null,null,null,null,null,null,null,null,null,null,null,null,null,null,null,null,null,null,null,null,null,null,null,null,null,null,null,null,null,null,null,null,null,null,null,null,null,null,null,null,null,null,null,null,null,null,null,null,null,null,null,null,null,null,null,null,null,null,null,null,null,null,null,null,null,null,null,null,null,"ACDEGJKL",{"$f":"$BB$5","v":"Elfenbeinküste"},"Iran",{"$f":"$CE$12","v":"Österreich"},"Haiti","Südkorea","Australien",{"$f":"$CE$26","v":"Ghana"},{"$f":"$CE$19","v":"Usbekistan"}]
[null,null,null,null,null,null,null,null,null,null,null,null,null,null,null,null,null,null,null,null,null,null,null,null,null,null,null,null,null,null,null,null,null,null,null,null,null,null,null,null,null,null,null,null,null,null,null,null,null,null,null,null,null,null,null,null,null,null,null,null,null,null,null,null,null,null,null,null,null,null,null,null,null,null,null,null,null,null,null,null,null,null,null,null,null,null,null,null,null,null,null,null,"ACDEHIJK",{"$f":"$BB$26","v":"Saudi-Arabien"},{"$f":"$CE$12","v":"Österreich"},{"$f":"$BB$5","v":"Elfenbeinküste"},"Haiti","Südkorea","Australien",{"$f":"$CE$5","v":"Irak"},{"$f":"$CE$19","v":"Usbekistan"}]
[null,null,null,null,null,null,null,null,null,null,null,null,null,null,null,null,null,null,null,null,null,null,null,null,null,null,null,null,null,null,null,null,null,null,null,null,null,null,null,null,null,null,null,null,null,null,null,null,null,null,null,null,null,null,null,null,null,null,null,null,null,null,null,null,null,null,null,null,null,null,null,null,null,null,null,null,null,null,null,null,null,null,null,null,null,null,null,null,null,null,null,null,"ACDEHIJL",{"$f":"$BB$26","v":"Saudi-Arabien"},{"$f":"$CE$12","v":"Österreich"},{"$f":"$BB$5","v":"Elfenbeinküste"},"Haiti","Südkorea","Australien",{"$f":"$CE$26","v":"Ghana"},{"$f":"$CE$5","v":"Irak"}]
[null,null,null,null,null,null,null,null,null,null,null,null,null,null,null,null,null,null,null,null,null,null,null,null,null,null,null,null,null,null,null,null,null,null,null,null,null,null,null,null,null,null,null,null,null,null,null,null,null,null,null,null,null,null,null,null,null,null,null,null,null,null,null,null,null,null,null,null,null,null,null,null,null,null,null,null,null,null,null,null,null,null,null,null,null,null,null,null,null,null,null,null,"ACDEHIKL",{"$f":"$BB$26","v":"Saudi-Arabien"},{"$f":"$BB$5","v":"Elfenbeinküste"},{"$f":"$CE$5","v":"Irak"},"Haiti",{"$f":"$Y$5","v":"Südkorea"},"Australien",{"$f":"$CE$26","v":"Ghana"},{"$f":"$CE$19","v":"Usbekistan"}]
[null,null,null,null,null,null,null,null,null,null,null,null,null,null,null,null,null,null,null,null,null,null,null,null,null,null,null,null,null,null,null,null,null,null,null,null,null,null,null,null,null,null,null,null,null,null,null,null,null,null,null,null,null,null,null,null,null,null,null,null,null,null,null,null,null,null,null,null,null,null,null,null,null,null,null,null,null,null,null,null,null,null,null,null,null,null,null,null,null,null,null,null,"ACDEHJKL",{"$f":"$BB$26","v":"Saudi-Arabien"},{"$f":"$CE$12","v":"Österreich"},{"$f":"$BB$5","v":"Elfenbeinküste"},"Haiti","Südkorea","Australien",{"$f":"$CE$26","v":"Ghana"},{"$f":"$CE$19","v":"Usbekistan"}]
[null,null,null,null,null,null,null,null,null,null,null,null,null,null,null,null,null,null,null,null,null,null,null,null,null,null,null,null,null,null,null,null,null,null,null,null,null,null,null,null,null,null,null,null,null,null,null,null,null,null,null,null,null,null,null,null,null,null,null,null,null,null,null,null,null,null,null,null,null,null,null,null,null,null,null,null,null,null,null,null,null,null,null,null,null,null,null,null,null,null,null,null,"ACDEIJKL",{"$f":"$BB$5","v":"Elfenbeinküste"},{"$f":"$CE$12","v":"Österreich"},{"$f":"$CE$5","v":"Irak"},"Haiti","Südkorea","Australien",{"$f":"$CE$26","v":"Ghana"},{"$f":"$CE$19","v":"Usbekistan"}]
[null,null,null,null,null,null,null,null,null,null,null,null,null,null,null,null,null,null,null,null,null,null,null,null,null,null,null,null,null,null,null,null,null,null,null,null,null,null,null,null,null,null,null,null,null,null,null,null,null,null,null,null,null,null,null,null,null,null,null,null,null,null,null,null,null,null,null,null,null,null,null,null,null,null,null,null,null,null,null,null,null,null,null,null,null,null,null,null,null,null,null,null,"ACDFGHIJ",{"$f":"$BB$26","v":"Saudi-Arabien"},{"$f":"$BB$19","v":"Iran"},{"$f":"$CE$12","v":"Österreich"},"Haiti","Südkorea",{"$f":"$BB$12","v":"Schweden"},{"$f":"$Y$26","v":"Australien"},{"$f":"$CE$5","v":"Irak"}]
[null,null,null,null,null,null,null,null,null,null,null,null,null,null,null,null,null,null,null,null,null,null,null,null,null,null,null,null,null,null,null,null,null,null,null,null,null,null,null,null,null,null,null,null,null,null,null,null,null,null,null,null,null,null,null,null,null,null,null,null,null,null,null,null,null,null,null,null,null,null,null,null,null,null,null,null,null,null,null,null,null,null,null,null,null,null,null,null,null,null,null,null,"ACDFGHIK",{"$f":"$BB$26","v":"Saudi-Arabien"},"Iran",{"$f":"$BB$12","v":"Schweden"},"Haiti","Südkorea",{"$f":"$Y$26","v":"Australien"},{"$f":"$CE$5","v":"Irak"},{"$f":"$CE$19","v":"Usbekistan"}]
[null,null,null,null,null,null,null,null,null,null,null,null,null,null,null,null,null,null,null,null,null,null,null,null,null,null,null,null,null,null,null,null,null,null,null,null,null,null,null,null,null,null,null,null,null,null,null,null,null,null,null,null,null,null,null,null,null,null,null,null,null,null,null,null,null,null,null,null,null,null,null,null,null,null,null,null,null,null,null,null,null,null,null,null,null,null,null,null,null,null,null,null,"ACDFGHIL",{"$f":"$BB$26","v":"Saudi-Arabien"},"Iran",{"$f":"$BB$12","v":"Schweden"},"Haiti","Südkorea",{"$f":"$Y$26","v":"Australien"},{"$f":"$CE$26","v":"Ghana"},{"$f":"$CE$5","v":"Irak"}]
[null,null,null,null,null,null,null,null,null,null,null,null,null,null,null,null,null,null,null,null,null,null,null,null,null,null,null,null,null,null,null,null,null,null,null,null,null,null,null,null,null,null,null,null,null,null,null,null,null,null,null,null,null,null,null,null,null,null,null,null,null,null,null,null,null,null,null,null,null,null,null,null,null,null,null,null,null,null,null,null,null,null,null,null,null,null,null,null,null,null,null,null,"ACDFGHJK",{"$f":"$BB$26","v":"Saudi-Arabien"},"Iran",{"$f":"$CE$12","v":"Österreich"},"Haiti","Südkorea",{"$f":"$BB$12","v":"Schweden"},{"$f":"$Y$26","v":"Australien"},{"$f":"$CE$19","v":"Usbekistan"}]
[null,null,null,null,null,null,null,null,null,null,null,null,null,null,null,null,null,null,null,null,null,null,null,null,null,null,null,null,null,null,null,null,null,null,null,null,null,null,null,null,null,null,null,null,null,null,null,null,null,null,null,null,null,null,null,null,null,null,null,null,null,null,null,null,null,null,null,null,null,null,null,null,null,null,null,null,null,null,null,null,null,null,null,null,null,null,null,null,null,null,null,null,"ACDFGHJL",{"$f":"$Y$19","v":"Haiti"},"Iran",{"$f":"$CE$12","v":"Österreich"},{"$f":"$Y$26","v":"Australien"},"Südkorea",{"$f":"$BB$12","v":"Schweden"},{"$f":"$CE$26","v":"Ghana"},{"$f":"$BB$26","v":"Saudi-Arabien"}]
[null,null,null,null,null,null,null,null,null,null,null,null,null,null,null,null,null,null,null,null,null,null,null,null,null,null,null,null,null,null,null,null,null,null,null,null,null,null,null,null,null,null,null,null,null,null,null,null,null,null,null,null,null,null,null,null,null,null,null,null,null,null,null,null,null,null,null,null,null,null,null,null,null,null,null,null,null,null,null,null,null,null,null,null,null,null,null,null,null,null,null,null,"ACDFGHKL",{"$f":"$BB$26","v":"Saudi-Arabien"},"Iran",{"$f":"$BB$12","v":"Schweden"},{"$f":"$Y$19","v":"Haiti"},"Südkorea",{"$f":"$Y$26","v":"Australien"},{"$f":"$CE$26","v":"Ghana"},{"$f":"$CE$19","v":"Usbekistan"}]
[null,null,null,null,null,null,null,null,null,null,null,null,null,null,null,null,null,null,null,null,null,null,null,null,null,null,null,null,null,null,null,null,null,null,null,null,null,null,null,null,null,null,null,null,null,null,null,null,null,null,null,null,null,null,null,null,null,null,null,null,null,null,null,null,null,null,null,null,null,null,null,null,null,null,null,null,null,null,null,null,null,null,null,null,null,null,null,null,null,null,null,null,"ACDFGIJK",{"$f":"$Y$19","v":"Haiti"},"Iran",{"$f":"$CE$12","v":"Österreich"},{"$f":"$Y$26","v":"Australien"},"Südkorea",{"$f":"$BB$12","v":"Schweden"},{"$f":"$CE$5","v":"Irak"},{"$f":"$CE$19","v":"Usbekistan"}]
[null,null,null,null,null,null,null,null,null,null,null,null,null,null,null,null,null,null,null,null,null,null,null,null,null,null,null,null,null,null,null,null,null,null,null,null,null,null,null,null,null,null,null,null,null,null,null,null,null,null,null,null,null,null,null,null,null,null,null,null,null,null,null,null,null,null,null,null,null,null,null,null,null,null,null,null,null,null,null,null,null,null,null,null,null,null,null,null,null,null,null,null,"ACDFGIJL",{"$f":"$Y$19","v":"Haiti"},"Iran",{"$f":"$CE$12","v":"Österreich"},{"$f":"$Y$26","v":"Australien"},"Südkorea",{"$f":"$BB$12","v":"Schweden"},{"$f":"$CE$26","v":"Ghana"},{"$f":"$CE$5","v":"Irak"}]
[null,null,null,null,null,null,null,null,null,null,null,null,null,null,null,null,null,null,null,null,null,null,null,null,null,null,null,null,null,null,null,null,null,null,null,null,null,null,null,null,null,null,null,null,null,null,null,null,null,null,null,null,null,null,null,null,null,null,null,null,null,null,null,null,null,null,null,null,null,null,null,null,null,null,null,null,null,null,null,null,null,null,null,null,null,null,null,null,null,null,null,null,"ACDFGIKL",{"$f":"$Y$19","v":"Haiti"},"Iran",{"$f":"$CE$5","v":"Irak"},{"$f":"$Y$26","v":"Australien"},"Südkorea",{"$f":"$BB$12","v":"Schweden"},{"$f":"$CE$26","v":"Ghana"},{"$f":"$CE$19","v":"Usbekistan"}]
[null,null,null,null,null,null,null,null,null,null,null,null,null,null,null,null,null,null,null,null,null,null,null,null,null,null,null,null,null,null,null,null,null,null,null,null,null,null,null,null,null,null,null,null,null,null,null,null,null,null,null,null,null,null,null,null,null,null,null,null,null,null,null,null,null,null,null,null,null,null,null,null,null,null,null,null,null,null,null,null,null,null,null,null,null,null,null,null,null,null,null,null,"ACDFGJKL",{"$f":"$Y$19","v":"Haiti"},"Iran",{"$f":"$CE$12","v":"Österreich"},{"$f":"$Y$26","v":"Australien"},"Südkorea",{"$f":"$BB$12","v":"Schweden"},{"$f":"$CE$26","v":"Ghana"},{"$f":"$CE$19","v":"Usbekistan"}]
[null,null,null,null,null,null,null,null,null,null,null,null,null,null,null,null,null,null,null,null,null,null,null,null,null,null,null,null,null,null,null,null,null,null,null,null,null,null,null,null,null,null,null,null,null,null,null,null,null,null,null,null,null,null,null,null,null,null,null,null,null,null,null,null,null,null,null,null,null,null,null,null,null,null,null,null,null,null,null,null,null,null,null,null,null,null,null,null,null,null,null,null,"ACDFHIJK",{"$f":"$BB$26","v":"Saudi-Arabien"},{"$f":"$CE$12","v":"Österreich"},{"$f":"$BB$12","v":"Schweden"},{"$f":"$Y$19","v":"Haiti"},"Südkorea",{"$f":"$Y$26","v":"Australien"},{"$f":"$CE$5","v":"Irak"},{"$f":"$CE$19","v":"Usbekistan"}]
[null,null,null,null,null,null,null,null,null,null,null,null,null,null,null,null,null,null,null,null,null,null,null,null,null,null,null,null,null,null,null,null,null,null,null,null,null,null,null,null,null,null,null,null,null,null,null,null,null,null,null,null,null,null,null,null,null,null,null,null,null,null,null,null,null,null,null,null,null,null,null,null,null,null,null,null,null,null,null,null,null,null,null,null,null,null,null,null,null,null,null,null,"ACDFHIJL",{"$f":"$BB$26","v":"Saudi-Arabien"},{"$f":"$CE$12","v":"Österreich"},{"$f":"$BB$12","v":"Schweden"},{"$f":"$Y$19","v":"Haiti"},"Südkorea",{"$f":"$Y$26","v":"Australien"},{"$f":"$CE$26","v":"Ghana"},{"$f":"$CE$5","v":"Irak"}]
[null,null,null,null,null,null,null,null,null,null,null,null,null,null,null,null,null,null,null,null,null,null,null,null,null,null,null,null,null,null,null,null,null,null,null,null,null,null,null,null,null,null,null,null,null,null,null,null,null,null,null,null,null,null,null,null,null,null,null,null,null,null,null,null,null,null,null,null,null,null,null,null,null,null,null,null,null,null,null,null,null,null,null,null,null,null,null,null,null,null,null,null,"ACDFHIKL",{"$f":"$BB$26","v":"Saudi-Arabien"},{"$f":"$BB$12","v":"Schweden"},{"$f":"$CE$5","v":"Irak"},{"$f":"$Y$19","v":"Haiti"},"Südkorea",{"$f":"$Y$26","v":"Australien"},{"$f":"$CE$26","v":"Ghana"},{"$f":"$CE$19","v":"Usbekistan"}]
[null,null,null,null,null,null,null,null,null,null,null,null,null,null,null,null,null,null,null,null,null,null,null,null,null,null,null,null,null,null,null,null,null,null,null,null,null,null,null,null,null,null,null,null,null,null,null,null,null,null,null,null,null,null,null,null,null,null,null,null,null,null,null,null,null,null,null,null,null,null,null,null,null,null,null,null,null,null,null,null,null,null,null,null,null,null,null,null,null,null,null,null,"ACDFHJKL",{"$f":"$BB$26","v":"Saudi-Arabien"},{"$f":"$CE$12","v":"Österreich"},{"$f":"$BB$12","v":"Schweden"},{"$f":"$Y$19","v":"Haiti"},"Südkorea",{"$f":"$Y$26","v":"Australien"},{"$f":"$CE$26","v":"Ghana"},{"$f":"$CE$19","v":"Usbekistan"}]
[null,null,null,null,null,null,null,null,null,null,null,null,null,null,null,null,null,null,null,null,null,null,null,null,null,null,null,null,null,null,null,null,null,null,null,null,null,null,null,null,null,null,null,null,null,null,null,null,null,null,null,null,null,null,null,null,null,null,null,null,null,null,null,null,null,null,null,null,null,null,null,null,null,null,null,null,null,null,null,null,null,null,null,null,null,null,null,null,null,null,null,null,"ACDFIJKL",{"$f":"$Y$19","v":"Haiti"},{"$f":"$CE$12","v":"Österreich"},{"$f":"$CE$5","v":"Irak"},{"$f":"$Y$26","v":"Australien"},"Südkorea",{"$f":"$BB$12","v":"Schweden"},{"$f":"$CE$26","v":"Ghana"},{"$f":"$CE$19","v":"Usbekistan"}]
[null,null,null,null,null,null,null,null,null,null,null,null,null,null,null,null,null,null,null,null,null,null,null,null,null,null,null,null,null,null,null,null,null,null,null,null,null,null,null,null,null,null,null,null,null,null,null,null,null,null,null,null,null,null,null,null,null,null,null,null,null,null,null,null,null,null,null,null,null,null,null,null,null,null,null,null,null,null,null,null,null,null,null,null,null,null,null,null,null,null,null,null,"ACDGHIJK",{"$f":"$BB$26","v":"Saudi-Arabien"},{"$f":"$BB$19","v":"Iran"},{"$f":"$CE$12","v":"Österreich"},{"$f":"$Y$19","v":"Haiti"},"Südkorea",{"$f":"$Y$26","v":"Australien"},{"$f":"$CE$5","v":"Irak"},{"$f":"$CE$19","v":"Usbekistan"}]
[null,null,null,null,null,null,null,null,null,null,null,null,null,null,null,null,null,null,null,null,null,null,null,null,null,null,null,null,null,null,null,null,null,null,null,null,null,null,null,null,null,null,null,null,null,null,null,null,null,null,null,null,null,null,null,null,null,null,null,null,null,null,null,null,null,null,null,null,null,null,null,null,null,null,null,null,null,null,null,null,null,null,null,null,null,null,null,null,null,null,null,null,"ACDGHIJL",{"$f":"$BB$26","v":"Saudi-Arabien"},{"$f":"$BB$19","v":"Iran"},{"$f":"$CE$12","v":"Österreich"},"Haiti","Südkorea","Australien",{"$f":"$CE$26","v":"Ghana"},{"$f":"$CE$5","v":"Irak"}]
[null,null,null,null,null,null,null,null,null,null,null,null,null,null,null,null,null,null,null,null,null,null,null,null,null,null,null,null,null,null,null,null,null,null,null,null,null,null,null,null,null,null,null,null,null,null,null,null,null,null,null,null,null,null,null,null,null,null,null,null,null,null,null,null,null,null,null,null,null,null,null,null,null,null,null,null,null,null,null,null,null,null,null,null,null,null,null,null,null,null,null,null,"ACDGHIKL",{"$f":"$BB$26","v":"Saudi-Arabien"},{"$f":"$BB$19","v":"Iran"},{"$f":"$CE$5","v":"Irak"},"Haiti","Südkorea","Australien",{"$f":"$CE$26","v":"Ghana"},{"$f":"$CE$19","v":"Usbekistan"}]
[null,null,null,null,null,null,null,null,null,null,null,null,null,null,null,null,null,null,null,null,null,null,null,null,null,null,null,null,null,null,null,null,null,null,null,null,null,null,null,null,null,null,null,null,null,null,null,null,null,null,null,null,null,null,null,null,null,null,null,null,null,null,null,null,null,null,null,null,null,null,null,null,null,null,null,null,null,null,null,null,null,null,null,null,null,null,null,null,null,null,null,null,"ACDGHJKL",{"$f":"$BB$26","v":"Saudi-Arabien"},{"$f":"$BB$19","v":"Iran"},{"$f":"$CE$12","v":"Österreich"},"Haiti","Südkorea","Australien",{"$f":"$CE$26","v":"Ghana"},{"$f":"$CE$19","v":"Usbekistan"}]
[null,null,null,null,null,null,null,null,null,null,null,null,null,null,null,null,null,null,null,null,null,null,null,null,null,null,null,null,null,null,null,null,null,null,null,null,null,null,null,null,null,null,null,null,null,null,null,null,null,null,null,null,null,null,null,null,null,null,null,null,null,null,null,null,null,null,null,null,null,null,null,null,null,null,null,null,null,null,null,null,null,null,null,null,null,null,null,null,null,null,null,null,"ACDGIJKL",{"$f":"$CE$5","v":"Irak"},{"$f":"$BB$19","v":"Iran"},{"$f":"$CE$12","v":"Österreich"},"Haiti","Südkorea","Australien",{"$f":"$CE$26","v":"Ghana"},{"$f":"$CE$19","v":"Usbekistan"}]
[null,null,null,null,null,null,null,null,null,null,null,null,null,null,null,null,null,null,null,null,null,null,null,null,null,null,null,null,null,null,null,null,null,null,null,null,null,null,null,null,null,null,null,null,null,null,null,null,null,null,null,null,null,null,null,null,null,null,null,null,null,null,null,null,null,null,null,null,null,null,null,null,null,null,null,null,null,null,null,null,null,null,null,null,null,null,null,null,null,null,null,null,"ACDHIJKL",{"$f":"$BB$26","v":"Saudi-Arabien"},{"$f":"$CE$12","v":"Österreich"},{"$f":"$CE$5","v":"Irak"},"Haiti","Südkorea","Australien",{"$f":"$CE$26","v":"Ghana"},{"$f":"$CE$19","v":"Usbekistan"}]
[null,null,null,null,null,null,null,null,null,null,null,null,null,null,null,null,null,null,null,null,null,null,null,null,null,null,null,null,null,null,null,null,null,null,null,null,null,null,null,null,null,null,null,null,null,null,null,null,null,null,null,null,null,null,null,null,null,null,null,null,null,null,null,null,null,null,null,null,null,null,null,null,null,null,null,null,null,null,null,null,null,null,null,null,null,null,null,null,null,null,null,null,"ACEFGHIJ","Saudi-Arabien",{"$f":"$BB$19","v":"Iran"},{"$f":"$CE$12","v":"Österreich"},"Haiti","Südkorea",{"$f":"$BB$12","v":"Schweden"},{"$f":"$BB$5","v":"Elfenbeinküste"},{"$f":"$CE$5","v":"Irak"}]
[null,null,null,null,null,null,null,null,null,null,null,null,null,null,null,null,null,null,null,null,null,null,null,null,null,null,null,null,null,null,null,null,null,null,null,null,null,null,null,null,null,null,null,null,null,null,null,null,null,null,null,null,null,null,null,null,null,null,null,null,null,null,null,null,null,null,null,null,null,null,null,null,null,null,null,null,null,null,null,null,null,null,null,null,null,null,null,null,null,null,null,null,"ACEFGHIK","Saudi-Arabien","Iran",{"$f":"$BB$5","v":"Elfenbeinküste"},"Haiti","Südkorea","Schweden",{"$f":"$CE$5","v":"Irak"},{"$f":"$CE$19","v":"Usbekistan"}]
[null,null,null,null,null,null,null,null,null,null,null,null,null,null,null,null,null,null,null,null,null,null,null,null,null,null,null,null,null,null,null,null,null,null,null,null,null,null,null,null,null,null,null,null,null,null,null,null,null,null,null,null,null,null,null,null,null,null,null,null,null,null,null,null,null,null,null,null,null,null,null,null,null,null,null,null,null,null,null,null,null,null,null,null,null,null,null,null,null,null,null,null,"ACEFGHIL","Saudi-Arabien","Iran",{"$f":"$BB$5","v":"Elfenbeinküste"},"Haiti","Südkorea","Schweden",{"$f":"$CE$26","v":"Ghana"},{"$f":"$CE$5","v":"Irak"}]
[null,null,null,null,null,null,null,null,null,null,null,null,null,null,null,null,null,null,null,null,null,null,null,null,null,null,null,null,null,null,null,null,null,null,null,null,null,null,null,null,null,null,null,null,null,null,null,null,null,null,null,null,null,null,null,null,null,null,null,null,null,null,null,null,null,null,null,null,null,null,null,null,null,null,null,null,null,null,null,null,null,null,null,null,null,null,null,null,null,null,null,null,"ACEFGHJK","Saudi-Arabien","Iran",{"$f":"$CE$12","v":"Österreich"},"Haiti","Südkorea","Schweden",{"$f":"$BB$5","v":"Elfenbeinküste"},{"$f":"$CE$19","v":"Usbekistan"}]
[null,null,null,null,null,null,null,null,null,null,null,null,null,null,null,null,null,null,null,null,null,null,null,null,null,null,null,null,null,null,null,null,null,null,null,null,null,null,null,null,null,null,null,null,null,null,null,null,null,null,null,null,null,null,null,null,null,null,null,null,null,null,null,null,null,null,null,null,null,null,null,null,null,null,null,null,null,null,null,null,null,null,null,null,null,null,null,null,null,null,null,null,"ACEFGHJL","Saudi-Arabien","Iran",{"$f":"$CE$12","v":"Österreich"},"Haiti","Südkorea","Schweden",{"$f":"$CE$26","v":"Ghana"},{"$f":"$BB$5","v":"Elfenbeinküste"}]
[null,null,null,null,null,null,null,null,null,null,null,null,null,null,null,null,null,null,null,null,null,null,null,null,null,null,null,null,null,null,null,null,null,null,null,null,null,null,null,null,null,null,null,null,null,null,null,null,null,null,null,null,null,null,null,null,null,null,null,null,null,null,null,null,null,null,null,null,null,null,null,null,null,null,null,null,null,null,null,null,null,null,null,null,null,null,null,null,null,null,null,null,"ACEFGHKL","Saudi-Arabien","Iran",{"$f":"$BB$5","v":"Elfenbeinküste"},"Haiti","Südkorea","Schweden",{"$f":"$CE$26","v":"Ghana"},{"$f":"$CE$19","v":"Usbekistan"}]
[null,null,null,null,null,null,null,null,null,null,null,null,null,null,null,null,null,null,null,null,null,null,null,null,null,null,null,null,null,null,null,null,null,null,null,null,null,null,null,null,null,null,null,null,null,null,null,null,null,null,null,null,null,null,null,null,null,null,null,null,null,null,null,null,null,null,null,null,null,null,null,null,null,null,null,null,null,null,null,null,null,null,null,null,null,null,null,null,null,null,null,null,"ACEFGIJK",{"$f":"$BB$5","v":"Elfenbeinküste"},"Iran",{"$f":"$CE$12","v":"Österreich"},"Haiti","Südkorea","Schweden",{"$f":"$CE$5","v":"Irak"},{"$f":"$CE$19","v":"Usbekistan"}]
[null,null,null,null,null,null,null,null,null,null,null,null,null,null,null,null,null,null,null,null,null,null,null,null,null,null,null,null,null,null,null,null,null,null,null,null,null,null,null,null,null,null,null,null,null,null,null,null,null,null,null,null,null,null,null,null,null,null,null,null,null,null,null,null,null,null,null,null,null,null,null,null,null,null,null,null,null,null,null,null,null,null,null,null,null,null,null,null,null,null,null,null,"ACEFGIJL",{"$f":"$BB$5","v":"Elfenbeinküste"},"Iran",{"$f":"$CE$12","v":"Österreich"},"Haiti","Südkorea","Schweden",{"$f":"$CE$26","v":"Ghana"},{"$f":"$CE$5","v":"Irak"}]
[null,null,null,null,null,null,null,null,null,null,null,null,null,null,null,null,null,null,null,null,null,null,null,null,null,null,null,null,null,null,null,null,null,null,null,null,null,null,null,null,null,null,null,null,null,null,null,null,null,null,null,null,null,null,null,null,null,null,null,null,null,null,null,null,null,null,null,null,null,null,null,null,null,null,null,null,null,null,null,null,null,null,null,null,null,null,null,null,null,null,null,null,"ACEFGIKL",{"$f":"$BB$5","v":"Elfenbeinküste"},"Iran",{"$f":"$CE$5","v":"Irak"},"Haiti",{"$f":"$Y$5","v":"Südkorea"},"Schweden",{"$f":"$CE$26","v":"Ghana"},{"$f":"$CE$19","v":"Usbekistan"}]
[null,null,null,null,null,null,null,null,null,null,null,null,null,null,null,null,null,null,null,null,null,null,null,null,null,null,null,null,null,null,null,null,null,null,null,null,null,null,null,null,null,null,null,null,null,null,null,null,null,null,null,null,null,null,null,null,null,null,null,null,null,null,null,null,null,null,null,null,null,null,null,null,null,null,null,null,null,null,null,null,null,null,null,null,null,null,null,null,null,null,null,null,"ACEFGJKL",{"$f":"$BB$5","v":"Elfenbeinküste"},"Iran",{"$f":"$CE$12","v":"Österreich"},"Haiti","Südkorea","Schweden",{"$f":"$CE$26","v":"Ghana"},{"$f":"$CE$19","v":"Usbekistan"}]
[null,null,null,null,null,null,null,null,null,null,null,null,null,null,null,null,null,null,null,null,null,null,null,null,null,null,null,null,null,null,null,null,null,null,null,null,null,null,null,null,null,null,null,null,null,null,null,null,null,null,null,null,null,null,null,null,null,null,null,null,null,null,null,null,null,null,null,null,null,null,null,null,null,null,null,null,null,null,null,null,null,null,null,null,null,null,null,null,null,null,null,null,"ACEFHIJK",{"$f":"$BB$26","v":"Saudi-Arabien"},{"$f":"$CE$12","v":"Österreich"},{"$f":"$BB$5","v":"Elfenbeinküste"},"Haiti","Südkorea","Schweden",{"$f":"$CE$5","v":"Irak"},{"$f":"$CE$19","v":"Usbekistan"}]
[null,null,null,null,null,null,null,null,null,null,null,null,null,null,null,null,null,null,null,null,null,null,null,null,null,null,null,null,null,null,null,null,null,null,null,null,null,null,null,null,null,null,null,null,null,null,null,null,null,null,null,null,null,null,null,null,null,null,null,null,null,null,null,null,null,null,null,null,null,null,null,null,null,null,null,null,null,null,null,null,null,null,null,null,null,null,null,null,null,null,null,null,"ACEFHIJL",{"$f":"$BB$26","v":"Saudi-Arabien"},{"$f":"$CE$12","v":"Österreich"},{"$f":"$BB$5","v":"Elfenbeinküste"},"Haiti","Südkorea","Schweden",{"$f":"$CE$26","v":"Ghana"},{"$f":"$CE$5","v":"Irak"}]
[null,null,null,null,null,null,null,null,null,null,null,null,null,null,null,null,null,null,null,null,null,null,null,null,null,null,null,null,null,null,null,null,null,null,null,null,null,null,null,null,null,null,null,null,null,null,null,null,null,null,null,null,null,null,null,null,null,null,null,null,null,null,null,null,null,null,null,null,null,null,null,null,null,null,null,null,null,null,null,null,null,null,null,null,null,null,null,null,null,null,null,null,"ACEFHIKL",{"$f":"$BB$26","v":"Saudi-Arabien"},{"$f":"$BB$5","v":"Elfenbeinküste"},{"$f":"$CE$5","v":"Irak"},"Haiti","Südkorea","Schweden",{"$f":"$CE$26","v":"Ghana"},{"$f":"$CE$19","v":"Usbekistan"}]
[null,null,null,null,null,null,null,null,null,null,null,null,null,null,null,null,null,null,null,null,null,null,null,null,null,null,null,null,null,null,null,null,null,null,null,null,null,null,null,null,null,null,null,null,null,null,null,null,null,null,null,null,null,null,null,null,null,null,null,null,null,null,null,null,null,null,null,null,null,null,null,null,null,null,null,null,null,null,null,null,null,null,null,null,null,null,null,null,null,null,null,null,"ACEFHJKL",{"$f":"$BB$26","v":"Saudi-Arabien"},{"$f":"$CE$12","v":"Österreich"},{"$f":"$BB$5","v":"Elfenbeinküste"},"Haiti","Südkorea","Schweden",{"$f":"$CE$26","v":"Ghana"},{"$f":"$CE$19","v":"Usbekistan"}]
[null,null,null,null,null,null,null,null,null,null,null,null,null,null,null,null,null,null,null,null,null,null,null,null,null,null,null,null,null,null,null,null,null,null,null,null,null,null,null,null,null,null,null,null,null,null,null,null,null,null,null,null,null,null,null,null,null,null,null,null,null,null,null,null,null,null,null,null,null,null,null,null,null,null,null,null,null,null,null,null,null,null,null,null,null,null,null,null,null,null,null,null,"ACEFIJKL",{"$f":"$BB$5","v":"Elfenbeinküste"},{"$f":"$CE$12","v":"Österreich"},{"$f":"$CE$5","v":"Irak"},"Haiti","Südkorea","Schweden",{"$f":"$CE$26","v":"Ghana"},{"$f":"$CE$19","v":"Usbekistan"}]
[null,null,null,null,null,null,null,null,null,null,null,null,null,null,null,null,null,null,null,null,null,null,null,null,null,null,null,null,null,null,null,null,null,null,null,null,null,null,null,null,null,null,null,null,null,null,null,null,null,null,null,null,null,null,null,null,null,null,null,null,null,null,null,null,null,null,null,null,null,null,null,null,null,null,null,null,null,null,null,null,null,null,null,null,null,null,null,null,null,null,null,null,"ACEGHIJK","Elfenbeinküste",{"$f":"$BB$19","v":"Iran"},{"$f":"$CE$12","v":"Österreich"},"Haiti","Südkorea",{"$f":"$BB$26","v":"Saudi-Arabien"},{"$f":"$CE$5","v":"Irak"},{"$f":"$CE$19","v":"Usbekistan"}]
[null,null,null,null,null,null,null,null,null,null,null,null,null,null,null,null,null,null,null,null,null,null,null,null,null,null,null,null,null,null,null,null,null,null,null,null,null,null,null,null,null,null,null,null,null,null,null,null,null,null,null,null,null,null,null,null,null,null,null,null,null,null,null,null,null,null,null,null,null,null,null,null,null,null,null,null,null,null,null,null,null,null,null,null,null,null,null,null,null,null,null,null,"ACEGHIJL","Elfenbeinküste",{"$f":"$BB$19","v":"Iran"},{"$f":"$CE$12","v":"Österreich"},"Haiti","Südkorea",{"$f":"$BB$26","v":"Saudi-Arabien"},{"$f":"$CE$26","v":"Ghana"},{"$f":"$CE$5","v":"Irak"}]
[null,null,null,null,null,null,null,null,null,null,null,null,null,null,null,null,null,null,null,null,null,null,null,null,null,null,null,null,null,null,null,null,null,null,null,null,null,null,null,null,null,null,null,null,null,null,null,null,null,null,null,null,null,null,null,null,null,null,null,null,null,null,null,null,null,null,null,null,null,null,null,null,null,null,null,null,null,null,null,null,null,null,null,null,null,null,null,null,null,null,null,null,"ACEGHIKL","Elfenbeinküste",{"$f":"$BB$19","v":"Iran"},{"$f":"$CE$5","v":"Irak"},"Haiti","Südkorea",{"$f":"$BB$26","v":"Saudi-Arabien"},{"$f":"$CE$26","v":"Ghana"},{"$f":"$CE$19","v":"Usbekistan"}]
[null,null,null,null,null,null,null,null,null,null,null,null,null,null,null,null,null,null,null,null,null,null,null,null,null,null,null,null,null,null,null,null,null,null,null,null,null,null,null,null,null,null,null,null,null,null,null,null,null,null,null,null,null,null,null,null,null,null,null,null,null,null,null,null,null,null,null,null,null,null,null,null,null,null,null,null,null,null,null,null,null,null,null,null,null,null,null,null,null,null,null,null,"ACEGHJKL","Elfenbeinküste",{"$f":"$BB$19","v":"Iran"},{"$f":"$CE$12","v":"Österreich"},"Haiti","Südkorea",{"$f":"$BB$26","v":"Saudi-Arabien"},{"$f":"$CE$26","v":"Ghana"},{"$f":"$CE$19","v":"Usbekistan"}]
[null,null,null,null,null,null,null,null,null,null,null,null,null,null,null,null,null,null,null,null,null,null,null,null,null,null,null,null,null,null,null,null,null,null,null,null,null,null,null,null,null,null,null,null,null,null,null,null,null,null,null,null,null,null,null,null,null,null,null,null,null,null,null,null,null,null,null,null,null,null,null,null,null,null,null,null,null,null,null,null,null,null,null,null,null,null,null,null,null,null,null,null,"ACEGIJKL","Elfenbeinküste",{"$f":"$CE$12","v":"Österreich"},{"$f":"$CE$5","v":"Irak"},"Haiti","Südkorea",{"$f":"$BB$19","v":"Iran"},{"$f":"$CE$26","v":"Ghana"},{"$f":"$CE$19","v":"Usbekistan"}]
[null,null,null,null,null,null,null,null,null,null,null,null,null,null,null,null,null,null,null,null,null,null,null,null,null,null,null,null,null,null,null,null,null,null,null,null,null,null,null,null,null,null,null,null,null,null,null,null,null,null,null,null,null,null,null,null,null,null,null,null,null,null,null,null,null,null,null,null,null,null,null,null,null,null,null,null,null,null,null,null,null,null,null,null,null,null,null,null,null,null,null,null,"ACEHIJKL","Elfenbeinküste",{"$f":"$CE$12","v":"Österreich"},{"$f":"$CE$5","v":"Irak"},"Haiti","Südkorea",{"$f":"$BB$26","v":"Saudi-Arabien"},{"$f":"$CE$26","v":"Ghana"},{"$f":"$CE$19","v":"Usbekistan"}]
[null,null,null,null,null,null,null,null,null,null,null,null,null,null,null,null,null,null,null,null,null,null,null,null,null,null,null,null,null,null,null,null,null,null,null,null,null,null,null,null,null,null,null,null,null,null,null,null,null,null,null,null,null,null,null,null,null,null,null,null,null,null,null,null,null,null,null,null,null,null,null,null,null,null,null,null,null,null,null,null,null,null,null,null,null,null,null,null,null,null,null,null,"ACFGHIJK",{"$f":"$BB$26","v":"Saudi-Arabien"},{"$f":"$BB$19","v":"Iran"},{"$f":"$CE$12","v":"Österreich"},"Haiti","Südkorea",{"$f":"$BB$12","v":"Schweden"},{"$f":"$CE$5","v":"Irak"},{"$f":"$CE$19","v":"Usbekistan"}]
[null,null,null,null,null,null,null,null,null,null,null,null,null,null,null,null,null,null,null,null,null,null,null,null,null,null,null,null,null,null,null,null,null,null,null,null,null,null,null,null,null,null,null,null,null,null,null,null,null,null,null,null,null,null,null,null,null,null,null,null,null,null,null,null,null,null,null,null,null,null,null,null,null,null,null,null,null,null,null,null,null,null,null,null,null,null,null,null,null,null,null,null,"ACFGHIJL",{"$f":"$BB$26","v":"Saudi-Arabien"},{"$f":"$BB$19","v":"Iran"},{"$f":"$CE$12","v":"Österreich"},"Haiti","Südkorea","Schweden",{"$f":"$CE$26","v":"Ghana"},{"$f":"$CE$5","v":"Irak"}]
[null,null,null,null,null,null,null,null,null,null,null,null,null,null,null,null,null,null,null,null,null,null,null,null,null,null,null,null,null,null,null,null,null,null,null,null,null,null,null,null,null,null,null,null,null,null,null,null,null,null,null,null,null,null,null,null,null,null,null,null,null,null,null,null,null,null,null,null,null,null,null,null,null,null,null,null,null,null,null,null,null,null,null,null,null,null,null,null,null,null,null,null,"ACFGHIKL",{"$f":"$BB$26","v":"Saudi-Arabien"},{"$f":"$BB$19","v":"Iran"},{"$f":"$CE$5","v":"Irak"},"Haiti","Südkorea","Schweden","Ghana",{"$f":"$CE$19","v":"Usbekistan"}]
[null,null,null,null,null,null,null,null,null,null,null,null,null,null,null,null,null,null,null,null,null,null,null,null,null,null,null,null,null,null,null,null,null,null,null,null,null,null,null,null,null,null,null,null,null,null,null,null,null,null,null,null,null,null,null,null,null,null,null,null,null,null,null,null,null,null,null,null,null,null,null,null,null,null,null,null,null,null,null,null,null,null,null,null,null,null,null,null,null,null,null,null,"ACFGHJKL",{"$f":"$BB$26","v":"Saudi-Arabien"},{"$f":"$BB$19","v":"Iran"},{"$f":"$CE$12","v":"Österreich"},"Haiti","Südkorea","Schweden","Ghana",{"$f":"$CE$19","v":"Usbekistan"}]
[null,null,null,null,null,null,null,null,null,null,null,null,null,null,null,null,null,null,null,null,null,null,null,null,null,null,null,null,null,null,null,null,null,null,null,null,null,null,null,null,null,null,null,null,null,null,null,null,null,null,null,null,null,null,null,null,null,null,null,null,null,null,null,null,null,null,null,null,null,null,null,null,null,null,null,null,null,null,null,null,null,null,null,null,null,null,null,null,null,null,null,null,"ACFGIJKL",{"$f":"$CE$5","v":"Irak"},{"$f":"$BB$19","v":"Iran"},{"$f":"$CE$12","v":"Österreich"},"Haiti","Südkorea","Schweden","Ghana",{"$f":"$CE$19","v":"Usbekistan"}]
[null,null,null,null,null,null,null,null,null,null,null,null,null,null,null,null,null,null,null,null,null,null,null,null,null,null,null,null,null,null,null,null,null,null,null,null,null,null,null,null,null,null,null,null,null,null,null,null,null,null,null,null,null,null,null,null,null,null,null,null,null,null,null,null,null,null,null,null,null,null,null,null,null,null,null,null,null,null,null,null,null,null,null,null,null,null,null,null,null,null,null,null,"ACFHIJKL",{"$f":"$BB$26","v":"Saudi-Arabien"},{"$f":"$CE$12","v":"Österreich"},{"$f":"$CE$5","v":"Irak"},"Haiti","Südkorea","Schweden","Ghana",{"$f":"$CE$19","v":"Usbekistan"}]
[null,null,null,null,null,null,null,null,null,null,null,null,null,null,null,null,null,null,null,null,null,null,null,null,null,null,null,null,null,null,null,null,null,null,null,null,null,null,null,null,null,null,null,null,null,null,null,null,null,null,null,null,null,null,null,null,null,null,null,null,null,null,null,null,null,null,null,null,null,null,null,null,null,null,null,null,null,null,null,null,null,null,null,null,null,null,null,null,null,null,null,null,"ACGHIJKL","Saudi-Arabien",{"$f":"$CE$12","v":"Österreich"},{"$f":"$CE$5","v":"Irak"},"Haiti","Südkorea",{"$f":"$BB$19","v":"Iran"},"Ghana",{"$f":"$CE$19","v":"Usbekistan"}]
[null,null,null,null,null,null,null,null,null,null,null,null,null,null,null,null,null,null,null,null,null,null,null,null,null,null,null,null,null,null,null,null,null,null,null,null,null,null,null,null,null,null,null,null,null,null,null,null,null,null,null,null,null,null,null,null,null,null,null,null,null,null,null,null,null,null,null,null,null,null,null,null,null,null,null,null,null,null,null,null,null,null,null,null,null,null,null,null,null,null,null,null,"ADEFGHIJ","Saudi-Arabien",{"$f":"$BB$19","v":"Iran"},{"$f":"$CE$12","v":"Österreich"},{"$f":"$Y$26","v":"Australien"},"Südkorea",{"$f":"$BB$12","v":"Schweden"},{"$f":"$BB$5","v":"Elfenbeinküste"},{"$f":"$CE$5","v":"Irak"}]
[null,null,null,null,null,null,null,null,null,null,null,null,null,null,null,null,null,null,null,null,null,null,null,null,null,null,null,null,null,null,null,null,null,null,null,null,null,null,null,null,null,null,null,null,null,null,null,null,null,null,null,null,null,null,null,null,null,null,null,null,null,null,null,null,null,null,null,null,null,null,null,null,null,null,null,null,null,null,null,null,null,null,null,null,null,null,null,null,null,null,null,null,"ADEFGHIK","Saudi-Arabien","Iran",{"$f":"$BB$5","v":"Elfenbeinküste"},"Australien","Südkorea","Schweden",{"$f":"$CE$5","v":"Irak"},{"$f":"$CE$19","v":"Usbekistan"}]
[null,null,null,null,null,null,null,null,null,null,null,null,null,null,null,null,null,null,null,null,null,null,null,null,null,null,null,null,null,null,null,null,null,null,null,null,null,null,null,null,null,null,null,null,null,null,null,null,null,null,null,null,null,null,null,null,null,null,null,null,null,null,null,null,null,null,null,null,null,null,null,null,null,null,null,null,null,null,null,null,null,null,null,null,null,null,null,null,null,null,null,null,"ADEFGHIL","Saudi-Arabien","Iran",{"$f":"$BB$5","v":"Elfenbeinküste"},"Australien","Südkorea","Schweden",{"$f":"$CE$26","v":"Ghana"},{"$f":"$CE$5","v":"Irak"}]
[null,null,null,null,null,null,null,null,null,null,null,null,null,null,null,null,null,null,null,null,null,null,null,null,null,null,null,null,null,null,null,null,null,null,null,null,null,null,null,null,null,null,null,null,null,null,null,null,null,null,null,null,null,null,null,null,null,null,null,null,null,null,null,null,null,null,null,null,null,null,null,null,null,null,null,null,null,null,null,null,null,null,null,null,null,null,null,null,null,null,null,null,"ADEFGHJK","Saudi-Arabien","Iran",{"$f":"$CE$12","v":"Österreich"},"Australien","Südkorea","Schweden",{"$f":"$BB$5","v":"Elfenbeinküste"},{"$f":"$CE$19","v":"Usbekistan"}]
[null,null,null,null,null,null,null,null,null,null,null,null,null,null,null,null,null,null,null,null,null,null,null,null,null,null,null,null,null,null,null,null,null,null,null,null,null,null,null,null,null,null,null,null,null,null,null,null,null,null,null,null,null,null,null,null,null,null,null,null,null,null,null,null,null,null,null,null,null,null,null,null,null,null,null,null,null,null,null,null,null,null,null,null,null,null,null,null,null,null,null,null,"ADEFGHJL","Saudi-Arabien","Iran",{"$f":"$CE$12","v":"Österreich"},"Australien","Südkorea","Schweden",{"$f":"$CE$26","v":"Ghana"},{"$f":"$BB$5","v":"Elfenbeinküste"}]
[null,null,null,null,null,null,null,null,null,null,null,null,null,null,null,null,null,null,null,null,null,null,null,null,null,null,null,null,null,null,null,null,null,null,null,null,null,null,null,null,null,null,null,null,null,null,null,null,null,null,null,null,null,null,null,null,null,null,null,null,null,null,null,null,null,null,null,null,null,null,null,null,null,null,null,null,null,null,null,null,null,null,null,null,null,null,null,null,null,null,null,null,"ADEFGHKL","Saudi-Arabien","Iran",{"$f":"$BB$5","v":"Elfenbeinküste"},"Australien","Südkorea","Schweden",{"$f":"$CE$26","v":"Ghana"},{"$f":"$CE$19","v":"Usbekistan"}]
[null,null,null,null,null,null,null,null,null,null,null,null,null,null,null,null,null,null,null,null,null,null,null,null,null,null,null,null,null,null,null,null,null,null,null,null,null,null,null,null,null,null,null,null,null,null,null,null,null,null,null,null,null,null,null,null,null,null,null,null,null,null,null,null,null,null,null,null,null,null,null,null,null,null,null,null,null,null,null,null,null,null,null,null,null,null,null,null,null,null,null,null,"ADEFGIJK",{"$f":"$BB$5","v":"Elfenbeinküste"},"Iran",{"$f":"$CE$12","v":"Österreich"},"Australien","Südkorea","Schweden",{"$f":"$CE$5","v":"Irak"},{"$f":"$CE$19","v":"Usbekistan"}]
[null,null,null,null,null,null,null,null,null,null,null,null,null,null,null,null,null,null,null,null,null,null,null,null,null,null,null,null,null,null,null,null,null,null,null,null,null,null,null,null,null,null,null,null,null,null,null,null,null,null,null,null,null,null,null,null,null,null,null,null,null,null,null,null,null,null,null,null,null,null,null,null,null,null,null,null,null,null,null,null,null,null,null,null,null,null,null,null,null,null,null,null,"ADEFGIJL",{"$f":"$BB$5","v":"Elfenbeinküste"},"Iran",{"$f":"$CE$12","v":"Österreich"},"Australien","Südkorea","Schweden",{"$f":"$CE$26","v":"Ghana"},{"$f":"$CE$5","v":"Irak"}]
[null,null,null,null,null,null,null,null,null,null,null,null,null,null,null,null,null,null,null,null,null,null,null,null,null,null,null,null,null,null,null,null,null,null,null,null,null,null,null,null,null,null,null,null,null,null,null,null,null,null,null,null,null,null,null,null,null,null,null,null,null,null,null,null,null,null,null,null,null,null,null,null,null,null,null,null,null,null,null,null,null,null,null,null,null,null,null,null,null,null,null,null,"ADEFGIKL",{"$f":"$BB$5","v":"Elfenbeinküste"},"Iran",{"$f":"$CE$5","v":"Irak"},"Australien","Südkorea","Schweden",{"$f":"$CE$26","v":"Ghana"},{"$f":"$CE$19","v":"Usbekistan"}]
[null,null,null,null,null,null,null,null,null,null,null,null,null,null,null,null,null,null,null,null,null,null,null,null,null,null,null,null,null,null,null,null,null,null,null,null,null,null,null,null,null,null,null,null,null,null,null,null,null,null,null,null,null,null,null,null,null,null,null,null,null,null,null,null,null,null,null,null,null,null,null,null,null,null,null,null,null,null,null,null,null,null,null,null,null,null,null,null,null,null,null,null,"ADEFGJKL",{"$f":"$BB$5","v":"Elfenbeinküste"},"Iran",{"$f":"$CE$12","v":"Österreich"},"Australien","Südkorea","Schweden",{"$f":"$CE$26","v":"Ghana"},{"$f":"$CE$19","v":"Usbekistan"}]
[null,null,null,null,null,null,null,null,null,null,null,null,null,null,null,null,null,null,null,null,null,null,null,null,null,null,null,null,null,null,null,null,null,null,null,null,null,null,null,null,null,null,null,null,null,null,null,null,null,null,null,null,null,null,null,null,null,null,null,null,null,null,null,null,null,null,null,null,null,null,null,null,null,null,null,null,null,null,null,null,null,null,null,null,null,null,null,null,null,null,null,null,"ADEFHIJK",{"$f":"$BB$26","v":"Saudi-Arabien"},{"$f":"$CE$12","v":"Österreich"},{"$f":"$BB$5","v":"Elfenbeinküste"},"Australien","Südkorea","Schweden",{"$f":"$CE$5","v":"Irak"},{"$f":"$CE$19","v":"Usbekistan"}]
[null,null,null,null,null,null,null,null,null,null,null,null,null,null,null,null,null,null,null,null,null,null,null,null,null,null,null,null,null,null,null,null,null,null,null,null,null,null,null,null,null,null,null,null,null,null,null,null,null,null,null,null,null,null,null,null,null,null,null,null,null,null,null,null,null,null,null,null,null,null,null,null,null,null,null,null,null,null,null,null,null,null,null,null,null,null,null,null,null,null,null,null,"ADEFHIJL",{"$f":"$BB$26","v":"Saudi-Arabien"},{"$f":"$CE$12","v":"Österreich"},{"$f":"$BB$5","v":"Elfenbeinküste"},"Australien","Südkorea","Schweden",{"$f":"$CE$26","v":"Ghana"},{"$f":"$CE$5","v":"Irak"}]
[null,null,null,null,null,null,null,null,null,null,null,null,null,null,null,null,null,null,null,null,null,null,null,null,null,null,null,null,null,null,null,null,null,null,null,null,null,null,null,null,null,null,null,null,null,null,null,null,null,null,null,null,null,null,null,null,null,null,null,null,null,null,null,null,null,null,null,null,null,null,null,null,null,null,null,null,null,null,null,null,null,null,null,null,null,null,null,null,null,null,null,null,"ADEFHIKL",{"$f":"$BB$26","v":"Saudi-Arabien"},{"$f":"$BB$5","v":"Elfenbeinküste"},{"$f":"$CE$5","v":"Irak"},"Australien",{"$f":"$Y$5","v":"Südkorea"},"Schweden",{"$f":"$CE$26","v":"Ghana"},{"$f":"$CE$19","v":"Usbekistan"}]
[null,null,null,null,null,null,null,null,null,null,null,null,null,null,null,null,null,null,null,null,null,null,null,null,null,null,null,null,null,null,null,null,null,null,null,null,null,null,null,null,null,null,null,null,null,null,null,null,null,null,null,null,null,null,null,null,null,null,null,null,null,null,null,null,null,null,null,null,null,null,null,null,null,null,null,null,null,null,null,null,null,null,null,null,null,null,null,null,null,null,null,null,"ADEFHJKL",{"$f":"$BB$26","v":"Saudi-Arabien"},{"$f":"$CE$12","v":"Österreich"},{"$f":"$BB$5","v":"Elfenbeinküste"},"Australien","Südkorea","Schweden",{"$f":"$CE$26","v":"Ghana"},{"$f":"$CE$19","v":"Usbekistan"}]
[null,null,null,null,null,null,null,null,null,null,null,null,null,null,null,null,null,null,null,null,null,null,null,null,null,null,null,null,null,null,null,null,null,null,null,null,null,null,null,null,null,null,null,null,null,null,null,null,null,null,null,null,null,null,null,null,null,null,null,null,null,null,null,null,null,null,null,null,null,null,null,null,null,null,null,null,null,null,null,null,null,null,null,null,null,null,null,null,null,null,null,null,"ADEFIJKL",{"$f":"$BB$5","v":"Elfenbeinküste"},{"$f":"$CE$12","v":"Österreich"},{"$f":"$CE$5","v":"Irak"},"Australien","Südkorea","Schweden",{"$f":"$CE$26","v":"Ghana"},{"$f":"$CE$19","v":"Usbekistan"}]
[null,null,null,null,null,null,null,null,null,null,null,null,null,null,null,null,null,null,null,null,null,null,null,null,null,null,null,null,null,null,null,null,null,null,null,null,null,null,null,null,null,null,null,null,null,null,null,null,null,null,null,null,null,null,null,null,null,null,null,null,null,null,null,null,null,null,null,null,null,null,null,null,null,null,null,null,null,null,null,null,null,null,null,null,null,null,null,null,null,null,null,null,"ADEGHIJK","Elfenbeinküste",{"$f":"$BB$19","v":"Iran"},{"$f":"$CE$12","v":"Österreich"},"Australien","Südkorea",{"$f":"$BB$26","v":"Saudi-Arabien"},{"$f":"$CE$5","v":"Irak"},{"$f":"$CE$19","v":"Usbekistan"}]
[null,null,null,null,null,null,null,null,null,null,null,null,null,null,null,null,null,null,null,null,null,null,null,null,null,null,null,null,null,null,null,null,null,null,null,null,null,null,null,null,null,null,null,null,null,null,null,null,null,null,null,null,null,null,null,null,null,null,null,null,null,null,null,null,null,null,null,null,null,null,null,null,null,null,null,null,null,null,null,null,null,null,null,null,null,null,null,null,null,null,null,null,"ADEGHIJL","Elfenbeinküste",{"$f":"$BB$19","v":"Iran"},{"$f":"$CE$12","v":"Österreich"},"Australien","Südkorea",{"$f":"$BB$26","v":"Saudi-Arabien"},{"$f":"$CE$26","v":"Ghana"},{"$f":"$CE$5","v":"Irak"}]
[null,null,null,null,null,null,null,null,null,null,null,null,null,null,null,null,null,null,null,null,null,null,null,null,null,null,null,null,null,null,null,null,null,null,null,null,null,null,null,null,null,null,null,null,null,null,null,null,null,null,null,null,null,null,null,null,null,null,null,null,null,null,null,null,null,null,null,null,null,null,null,null,null,null,null,null,null,null,null,null,null,null,null,null,null,null,null,null,null,null,null,null,"ADEGHIKL","Elfenbeinküste",{"$f":"$BB$19","v":"Iran"},{"$f":"$CE$5","v":"Irak"},"Australien","Südkorea",{"$f":"$BB$26","v":"Saudi-Arabien"},{"$f":"$CE$26","v":"Ghana"},{"$f":"$CE$19","v":"Usbekistan"}]
[null,null,null,null,null,null,null,null,null,null,null,null,null,null,null,null,null,null,null,null,null,null,null,null,null,null,null,null,null,null,null,null,null,null,null,null,null,null,null,null,null,null,null,null,null,null,null,null,null,null,null,null,null,null,null,null,null,null,null,null,null,null,null,null,null,null,null,null,null,null,null,null,null,null,null,null,null,null,null,null,null,null,null,null,null,null,null,null,null,null,null,null,"ADEGHJKL","Elfenbeinküste",{"$f":"$BB$19","v":"Iran"},{"$f":"$CE$12","v":"Österreich"},"Australien","Südkorea",{"$f":"$BB$26","v":"Saudi-Arabien"},{"$f":"$CE$26","v":"Ghana"},{"$f":"$CE$19","v":"Usbekistan"}]
[null,null,null,null,null,null,null,null,null,null,null,null,null,null,null,null,null,null,null,null,null,null,null,null,null,null,null,null,null,null,null,null,null,null,null,null,null,null,null,null,null,null,null,null,null,null,null,null,null,null,null,null,null,null,null,null,null,null,null,null,null,null,null,null,null,null,null,null,null,null,null,null,null,null,null,null,null,null,null,null,null,null,null,null,null,null,null,null,null,null,null,null,"ADEGIJKL","Elfenbeinküste",{"$f":"$CE$12","v":"Österreich"},{"$f":"$CE$5","v":"Irak"},"Australien","Südkorea",{"$f":"$BB$19","v":"Iran"},{"$f":"$CE$26","v":"Ghana"},{"$f":"$CE$19","v":"Usbekistan"}]
[null,null,null,null,null,null,null,null,null,null,null,null,null,null,null,null,null,null,null,null,null,null,null,null,null,null,null,null,null,null,null,null,null,null,null,null,null,null,null,null,null,null,null,null,null,null,null,null,null,null,null,null,null,null,null,null,null,null,null,null,null,null,null,null,null,null,null,null,null,null,null,null,null,null,null,null,null,null,null,null,null,null,null,null,null,null,null,null,null,null,null,null,"ADEHIJKL","Elfenbeinküste",{"$f":"$CE$12","v":"Österreich"},{"$f":"$CE$5","v":"Irak"},"Australien","Südkorea",{"$f":"$BB$26","v":"Saudi-Arabien"},{"$f":"$CE$26","v":"Ghana"},{"$f":"$CE$19","v":"Usbekistan"}]
[null,null,null,null,null,null,null,null,null,null,null,null,null,null,null,null,null,null,null,null,null,null,null,null,null,null,null,null,null,null,null,null,null,null,null,null,null,null,null,null,null,null,null,null,null,null,null,null,null,null,null,null,null,null,null,null,null,null,null,null,null,null,null,null,null,null,null,null,null,null,null,null,null,null,null,null,null,null,null,null,null,null,null,null,null,null,null,null,null,null,null,null,"ADFGHIJK",{"$f":"$BB$26","v":"Saudi-Arabien"},{"$f":"$BB$19","v":"Iran"},{"$f":"$CE$12","v":"Österreich"},"Australien","Südkorea",{"$f":"$BB$12","v":"Schweden"},{"$f":"$CE$5","v":"Irak"},{"$f":"$CE$19","v":"Usbekistan"}]
[null,null,null,null,null,null,null,null,null,null,null,null,null,null,null,null,null,null,null,null,null,null,null,null,null,null,null,null,null,null,null,null,null,null,null,null,null,null,null,null,null,null,null,null,null,null,null,null,null,null,null,null,null,null,null,null,null,null,null,null,null,null,null,null,null,null,null,null,null,null,null,null,null,null,null,null,null,null,null,null,null,null,null,null,null,null,null,null,null,null,null,null,"ADFGHIJL",{"$f":"$BB$26","v":"Saudi-Arabien"},{"$f":"$BB$19","v":"Iran"},{"$f":"$CE$12","v":"Österreich"},"Australien","Südkorea","Schweden",{"$f":"$CE$26","v":"Ghana"},{"$f":"$CE$5","v":"Irak"}]
[null,null,null,null,null,null,null,null,null,null,null,null,null,null,null,null,null,null,null,null,null,null,null,null,null,null,null,null,null,null,null,null,null,null,null,null,null,null,null,null,null,null,null,null,null,null,null,null,null,null,null,null,null,null,null,null,null,null,null,null,null,null,null,null,null,null,null,null,null,null,null,null,null,null,null,null,null,null,null,null,null,null,null,null,null,null,null,null,null,null,null,null,"ADFGHIKL",{"$f":"$BB$26","v":"Saudi-Arabien"},{"$f":"$BB$19","v":"Iran"},{"$f":"$CE$5","v":"Irak"},"Australien","Südkorea","Schweden","Ghana",{"$f":"$CE$19","v":"Usbekistan"}]
[null,null,null,null,null,null,null,null,null,null,null,null,null,null,null,null,null,null,null,null,null,null,null,null,null,null,null,null,null,null,null,null,null,null,null,null,null,null,null,null,null,null,null,null,null,null,null,null,null,null,null,null,null,null,null,null,null,null,null,null,null,null,null,null,null,null,null,null,null,null,null,null,null,null,null,null,null,null,null,null,null,null,null,null,null,null,null,null,null,null,null,null,"ADFGHJKL",{"$f":"$BB$26","v":"Saudi-Arabien"},{"$f":"$BB$19","v":"Iran"},{"$f":"$CE$12","v":"Österreich"},"Australien","Südkorea","Schweden","Ghana","Usbekistan"]
[null,null,null,null,null,null,null,null,null,null,null,null,null,null,null,null,null,null,null,null,null,null,null,null,null,null,null,null,null,null,null,null,null,null,null,null,null,null,null,null,null,null,null,null,null,null,null,null,null,null,null,null,null,null,null,null,null,null,null,null,null,null,null,null,null,null,null,null,null,null,null,null,null,null,null,null,null,null,null,null,null,null,null,null,null,null,null,null,null,null,null,null,"ADFGIJKL",{"$f":"$CE$5","v":"Irak"},{"$f":"$BB$19","v":"Iran"},{"$f":"$CE$12","v":"Österreich"},"Australien","Südkorea","Schweden","Ghana","Usbekistan"]
[null,null,null,null,null,null,null,null,null,null,null,null,null,null,null,null,null,null,null,null,null,null,null,null,null,null,null,null,null,null,null,null,null,null,null,null,null,null,null,null,null,null,null,null,null,null,null,null,null,null,null,null,null,null,null,null,null,null,null,null,null,null,null,null,null,null,null,null,null,null,null,null,null,null,null,null,null,null,null,null,null,null,null,null,null,null,null,null,null,null,null,null,"ADFHIJKL",{"$f":"$BB$26","v":"Saudi-Arabien"},{"$f":"$CE$12","v":"Österreich"},{"$f":"$CE$5","v":"Irak"},"Australien","Südkorea","Schweden","Ghana","Usbekistan"]
[null,null,null,null,null,null,null,null,null,null,null,null,null,null,null,null,null,null,null,null,null,null,null,null,null,null,null,null,null,null,null,null,null,null,null,null,null,null,null,null,null,null,null,null,null,null,null,null,null,null,null,null,null,null,null,null,null,null,null,null,null,null,null,null,null,null,null,null,null,null,null,null,null,null,null,null,null,null,null,null,null,null,null,null,null,null,null,null,null,null,null,null,"ADGHIJKL",{"$f":"$BB$26","v":"Saudi-Arabien"},{"$f":"$CE$12","v":"Österreich"},{"$f":"$CE$5","v":"Irak"},"Australien","Südkorea",{"$f":"$BB$19","v":"Iran"},"Ghana","Usbekistan"]
[null,null,null,null,null,null,null,null,null,null,null,null,null,null,null,null,null,null,null,null,null,null,null,null,null,null,null,null,null,null,null,null,null,null,null,null,null,null,null,null,null,null,null,null,null,null,null,null,null,null,null,null,null,null,null,null,null,null,null,null,null,null,null,null,null,null,null,null,null,null,null,null,null,null,null,null,null,null,null,null,null,null,null,null,null,null,null,null,null,null,null,null,"AEFGHIJK",{"$f":"$BB$5","v":"Elfenbeinküste"},{"$f":"$BB$19","v":"Iran"},{"$f":"$CE$12","v":"Österreich"},{"$f":"$BB$12","v":"Schweden"},"Südkorea",{"$f":"$BB$26","v":"Saudi-Arabien"},{"$f":"$CE$5","v":"Irak"},"Usbekistan"]
[null,null,null,null,null,null,null,null,null,null,null,null,null,null,null,null,null,null,null,null,null,null,null,null,null,null,null,null,null,null,null,null,null,null,null,null,null,null,null,null,null,null,null,null,null,null,null,null,null,null,null,null,null,null,null,null,null,null,null,null,null,null,null,null,null,null,null,null,null,null,null,null,null,null,null,null,null,null,null,null,null,null,null,null,null,null,null,null,null,null,null,null,"AEFGHIJL","Elfenbeinküste",{"$f":"$BB$19","v":"Iran"},{"$f":"$CE$12","v":"Österreich"},"Schweden","Südkorea",{"$f":"$BB$26","v":"Saudi-Arabien"},{"$f":"$CE$26","v":"Ghana"},{"$f":"$CE$5","v":"Irak"}]
[null,null,null,null,null,null,null,null,null,null,null,null,null,null,null,null,null,null,null,null,null,null,null,null,null,null,null,null,null,null,null,null,null,null,null,null,null,null,null,null,null,null,null,null,null,null,null,null,null,null,null,null,null,null,null,null,null,null,null,null,null,null,null,null,null,null,null,null,null,null,null,null,null,null,null,null,null,null,null,null,null,null,null,null,null,null,null,null,null,null,null,null,"AEFGHIKL","Elfenbeinküste",{"$f":"$BB$19","v":"Iran"},{"$f":"$CE$5","v":"Irak"},"Schweden","Südkorea",{"$f":"$BB$26","v":"Saudi-Arabien"},"Ghana",{"$f":"$CE$19","v":"Usbekistan"}]
[null,null,null,null,null,null,null,null,null,null,null,null,null,null,null,null,null,null,null,null,null,null,null,null,null,null,null,null,null,null,null,null,null,null,null,null,null,null,null,null,null,null,null,null,null,null,null,null,null,null,null,null,null,null,null,null,null,null,null,null,null,null,null,null,null,null,null,null,null,null,null,null,null,null,null,null,null,null,null,null,null,null,null,null,null,null,null,null,null,null,null,null,"AEFGHJKL","Elfenbeinküste",{"$f":"$BB$19","v":"Iran"},{"$f":"$CE$12","v":"Österreich"},"Schweden","Südkorea",{"$f":"$BB$26","v":"Saudi-Arabien"},"Ghana","Usbekistan"]
[null,null,null,null,null,null,null,null,null,null,null,null,null,null,null,null,null,null,null,null,null,null,null,null,null,null,null,null,null,null,null,null,null,null,null,null,null,null,null,null,null,null,null,null,null,null,null,null,null,null,null,null,null,null,null,null,null,null,null,null,null,null,null,null,null,null,null,null,null,null,null,null,null,null,null,null,null,null,null,null,null,null,null,null,null,null,null,null,null,null,null,null,"AEFGIJKL","Elfenbeinküste",{"$f":"$CE$12","v":"Österreich"},{"$f":"$CE$5","v":"Irak"},"Schweden","Südkorea",{"$f":"$BB$19","v":"Iran"},"Ghana","Usbekistan"]
[null,null,null,null,null,null,null,null,null,null,null,null,null,null,null,null,null,null,null,null,null,null,null,null,null,null,null,null,null,null,null,null,null,null,null,null,null,null,null,null,null,null,null,null,null,null,null,null,null,null,null,null,null,null,null,null,null,null,null,null,null,null,null,null,null,null,null,null,null,null,null,null,null,null,null,null,null,null,null,null,null,null,null,null,null,null,null,null,null,null,null,null,"AEFHIJKL","Elfenbeinküste",{"$f":"$CE$12","v":"Österreich"},{"$f":"$CE$5","v":"Irak"},"Schweden","Südkorea",{"$f":"$BB$26","v":"Saudi-Arabien"},"Ghana","Usbekistan"]
[null,null,null,null,null,null,null,null,null,null,null,null,null,null,null,null,null,null,null,null,null,null,null,null,null,null,null,null,null,null,null,null,null,null,null,null,null,null,null,null,null,null,null,null,null,null,null,null,null,null,null,null,null,null,null,null,null,null,null,null,null,null,null,null,null,null,null,null,null,null,null,null,null,null,null,null,null,null,null,null,null,null,null,null,null,null,null,null,null,null,null,null,"AEGHIJKL","Elfenbeinküste",{"$f":"$CE$12","v":"Österreich"},{"$f":"$CE$5","v":"Irak"},{"$f":"$Y$5","v":"Südkorea"},{"$f":"$BB$26","v":"Saudi-Arabien"},{"$f":"$BB$19","v":"Iran"},"Ghana","Usbekistan"]
[null,null,null,null,null,null,null,null,null,null,null,null,null,null,null,null,null,null,null,null,null,null,null,null,null,null,null,null,null,null,null,null,null,null,null,null,null,null,null,null,null,null,null,null,null,null,null,null,null,null,null,null,null,null,null,null,null,null,null,null,null,null,null,null,null,null,null,null,null,null,null,null,null,null,null,null,null,null,null,null,null,null,null,null,null,null,null,null,null,null,null,null,"AFGHIJKL",{"$f":"$BB$26","v":"Saudi-Arabien"},{"$f":"$CE$12","v":"Österreich"},{"$f":"$CE$5","v":"Irak"},{"$f":"$BB$12","v":"Schweden"},{"$f":"$Y$5","v":"Südkorea"},{"$f":"$BB$19","v":"Iran"},"Ghana","Usbekistan"]
[null,null,null,null,null,null,null,null,null,null,null,null,null,null,null,null,null,null,null,null,null,null,null,null,null,null,null,null,null,null,null,null,null,null,null,null,null,null,null,null,null,null,null,null,null,null,null,null,null,null,null,null,null,null,null,null,null,null,null,null,null,null,null,null,null,null,null,null,null,null,null,null,null,null,null,null,null,null,null,null,null,null,null,null,null,null,null,null,null,null,null,null,"BCDEFGHI",{"$f":"$Y$19","v":"Haiti"},{"$f":"$BB$19","v":"Iran"},{"$f":"$Y$12","v":"Katar"},{"$f":"$Y$26","v":"Australien"},{"$f":"$BB$26","v":"Saudi-Arabien"},{"$f":"$BB$12","v":"Schweden"},{"$f":"$BB$5","v":"Elfenbeinküste"},{"$f":"$CE$5","v":"Irak"}]
[null,null,null,null,null,null,null,null,null,null,null,null,null,null,null,null,null,null,null,null,null,null,null,null,null,null,null,null,null,null,null,null,null,null,null,null,null,null,null,null,null,null,null,null,null,null,null,null,null,null,null,null,null,null,null,null,null,null,null,null,null,null,null,null,null,null,null,null,null,null,null,null,null,null,null,null,null,null,null,null,null,null,null,null,null,null,null,null,null,null,null,null,"BCDEFGHJ",{"$f":"$BB$26","v":"Saudi-Arabien"},"Iran","Katar",{"$f":"$Y$19","v":"Haiti"},{"$f":"$CE$12","v":"Österreich"},"Schweden",{"$f":"$Y$26","v":"Australien"},{"$f":"$BB$5","v":"Elfenbeinküste"}]
[null,null,null,null,null,null,null,null,null,null,null,null,null,null,null,null,null,null,null,null,null,null,null,null,null,null,null,null,null,null,null,null,null,null,null,null,null,null,null,null,null,null,null,null,null,null,null,null,null,null,null,null,null,null,null,null,null,null,null,null,null,null,null,null,null,null,null,null,null,null,null,null,null,null,null,null,null,null,null,null,null,null,null,null,null,null,null,null,null,null,null,null,"BCDEFGHK",{"$f":"$Y$19","v":"Haiti"},"Iran","Katar",{"$f":"$Y$26","v":"Australien"},{"$f":"$BB$26","v":"Saudi-Arabien"},"Schweden",{"$f":"$BB$5","v":"Elfenbeinküste"},{"$f":"$CE$19","v":"Usbekistan"}]
[null,null,null,null,null,null,null,null,null,null,null,null,null,null,null,null,null,null,null,null,null,null,null,null,null,null,null,null,null,null,null,null,null,null,null,null,null,null,null,null,null,null,null,null,null,null,null,null,null,null,null,null,null,null,null,null,null,null,null,null,null,null,null,null,null,null,null,null,null,null,null,null,null,null,null,null,null,null,null,null,null,null,null,null,null,null,null,null,null,null,null,null,"BCDEFGHL","Haiti","Iran","Katar","Australien",{"$f":"$BB$26","v":"Saudi-Arabien"},"Schweden",{"$f":"$CE$26","v":"Ghana"},{"$f":"$BB$5","v":"Elfenbeinküste"}]
[null,null,null,null,null,null,null,null,null,null,null,null,null,null,null,null,null,null,null,null,null,null,null,null,null,null,null,null,null,null,null,null,null,null,null,null,null,null,null,null,null,null,null,null,null,null,null,null,null,null,null,null,null,null,null,null,null,null,null,null,null,null,null,null,null,null,null,null,null,null,null,null,null,null,null,null,null,null,null,null,null,null,null,null,null,null,null,null,null,null,null,null,"BCDEFGIJ","Haiti","Iran","Katar","Australien",{"$f":"$CE$12","v":"Österreich"},"Schweden",{"$f":"$BB$5","v":"Elfenbeinküste"},{"$f":"$CE$5","v":"Irak"}]
[null,null,null,null,null,null,null,null,null,null,null,null,null,null,null,null,null,null,null,null,null,null,null,null,null,null,null,null,null,null,null,null,null,null,null,null,null,null,null,null,null,null,null,null,null,null,null,null,null,null,null,null,null,null,null,null,null,null,null,null,null,null,null,null,null,null,null,null,null,null,null,null,null,null,null,null,null,null,null,null,null,null,null,null,null,null,null,null,null,null,null,null,"BCDEFGIK","Haiti","Iran","Katar","Australien",{"$f":"$BB$5","v":"Elfenbeinküste"},"Schweden",{"$f":"$CE$5","v":"Irak"},{"$f":"$CE$19","v":"Usbekistan"}]
[null,null,null,null,null,null,null,null,null,null,null,null,null,null,null,null,null,null,null,null,null,null,null,null,null,null,null,null,null,null,null,null,null,null,null,null,null,null,null,null,null,null,null,null,null,null,null,null,null,null,null,null,null,null,null,null,null,null,null,null,null,null,null,null,null,null,null,null,null,null,null,null,null,null,null,null,null,null,null,null,null,null,null,null,null,null,null,null,null,null,null,null,"BCDEFGIL","Haiti","Iran","Katar","Australien",{"$f":"$BB$5","v":"Elfenbeinküste"},"Schweden",{"$f":"$CE$26","v":"Ghana"},{"$f":"$CE$5","v":"Irak"}]
[null,null,null,null,null,null,null,null,null,null,null,null,null,null,null,null,null,null,null,null,null,null,null,null,null,null,null,null,null,null,null,null,null,null,null,null,null,null,null,null,null,null,null,null,null,null,null,null,null,null,null,null,null,null,null,null,null,null,null,null,null,null,null,null,null,null,null,null,null,null,null,null,null,null,null,null,null,null,null,null,null,null,null,null,null,null,null,null,null,null,null,null,"BCDEFGJK","Haiti","Iran","Katar","Australien",{"$f":"$CE$12","v":"Österreich"},"Schweden",{"$f":"$BB$5","v":"Elfenbeinküste"},{"$f":"$CE$19","v":"Usbekistan"}]
[null,null,null,null,null,null,null,null,null,null,null,null,null,null,null,null,null,null,null,null,null,null,null,null,null,null,null,null,null,null,null,null,null,null,null,null,null,null,null,null,null,null,null,null,null,null,null,null,null,null,null,null,null,null,null,null,null,null,null,null,null,null,null,null,null,null,null,null,null,null,null,null,null,null,null,null,null,null,null,null,null,null,null,null,null,null,null,null,null,null,null,null,"BCDEFGJL","Haiti","Iran","Katar","Australien",{"$f":"$CE$12","v":"Österreich"},"Schweden",{"$f":"$CE$26","v":"Ghana"},{"$f":"$BB$5","v":"Elfenbeinküste"}]
[null,null,null,null,null,null,null,null,null,null,null,null,null,null,null,null,null,null,null,null,null,null,null,null,null,null,null,null,null,null,null,null,null,null,null,null,null,null,null,null,null,null,null,null,null,null,null,null,null,null,null,null,null,null,null,null,null,null,null,null,null,null,null,null,null,null,null,null,null,null,null,null,null,null,null,null,null,null,null,null,null,null,null,null,null,null,null,null,null,null,null,null,"BCDEFGKL","Haiti","Iran","Katar","Australien",{"$f":"$BB$5","v":"Elfenbeinküste"},"Schweden",{"$f":"$CE$26","v":"Ghana"},{"$f":"$CE$19","v":"Usbekistan"}]
[null,null,null,null,null,null,null,null,null,null,null,null,null,null,null,null,null,null,null,null,null,null,null,null,null,null,null,null,null,null,null,null,null,null,null,null,null,null,null,null,null,null,null,null,null,null,null,null,null,null,null,null,null,null,null,null,null,null,null,null,null,null,null,null,null,null,null,null,null,null,null,null,null,null,null,null,null,null,null,null,null,null,null,null,null,null,null,null,null,null,null,null,"BCDEFHIJ","Haiti",{"$f":"$CE$12","v":"Österreich"},"Katar","Australien",{"$f":"$BB$26","v":"Saudi-Arabien"},"Schweden",{"$f":"$BB$5","v":"Elfenbeinküste"},{"$f":"$CE$5","v":"Irak"}]
[null,null,null,null,null,null,null,null,null,null,null,null,null,null,null,null,null,null,null,null,null,null,null,null,null,null,null,null,null,null,null,null,null,null,null,null,null,null,null,null,null,null,null,null,null,null,null,null,null,null,null,null,null,null,null,null,null,null,null,null,null,null,null,null,null,null,null,null,null,null,null,null,null,null,null,null,null,null,null,null,null,null,null,null,null,null,null,null,null,null,null,null,"BCDEFHIK","Haiti",{"$f":"$BB$5","v":"Elfenbeinküste"},"Katar","Australien","Saudi-Arabien","Schweden",{"$f":"$CE$5","v":"Irak"},{"$f":"$CE$19","v":"Usbekistan"}]
[null,null,null,null,null,null,null,null,null,null,null,null,null,null,null,null,null,null,null,null,null,null,null,null,null,null,null,null,null,null,null,null,null,null,null,null,null,null,null,null,null,null,null,null,null,null,null,null,null,null,null,null,null,null,null,null,null,null,null,null,null,null,null,null,null,null,null,null,null,null,null,null,null,null,null,null,null,null,null,null,null,null,null,null,null,null,null,null,null,null,null,null,"BCDEFHIL","Haiti",{"$f":"$BB$5","v":"Elfenbeinküste"},"Katar","Australien","Saudi-Arabien","Schweden",{"$f":"$CE$26","v":"Ghana"},{"$f":"$CE$5","v":"Irak"}]
[null,null,null,null,null,null,null,null,null,null,null,null,null,null,null,null,null,null,null,null,null,null,null,null,null,null,null,null,null,null,null,null,null,null,null,null,null,null,null,null,null,null,null,null,null,null,null,null,null,null,null,null,null,null,null,null,null,null,null,null,null,null,null,null,null,null,null,null,null,null,null,null,null,null,null,null,null,null,null,null,null,null,null,null,null,null,null,null,null,null,null,null,"BCDEFHJK","Haiti",{"$f":"$CE$12","v":"Österreich"},"Katar","Australien","Saudi-Arabien","Schweden",{"$f":"$BB$5","v":"Elfenbeinküste"},{"$f":"$CE$19","v":"Usbekistan"}]
[null,null,null,null,null,null,null,null,null,null,null,null,null,null,null,null,null,null,null,null,null,null,null,null,null,null,null,null,null,null,null,null,null,null,null,null,null,null,null,null,null,null,null,null,null,null,null,null,null,null,null,null,null,null,null,null,null,null,null,null,null,null,null,null,null,null,null,null,null,null,null,null,null,null,null,null,null,null,null,null,null,null,null,null,null,null,null,null,null,null,null,null,"BCDEFHJL","Haiti",{"$f":"$CE$12","v":"Österreich"},"Katar","Australien","Saudi-Arabien","Schweden",{"$f":"$CE$26","v":"Ghana"},{"$f":"$BB$5","v":"Elfenbeinküste"}]
[null,null,null,null,null,null,null,null,null,null,null,null,null,null,null,null,null,null,null,null,null,null,null,null,null,null,null,null,null,null,null,null,null,null,null,null,null,null,null,null,null,null,null,null,null,null,null,null,null,null,null,null,null,null,null,null,null,null,null,null,null,null,null,null,null,null,null,null,null,null,null,null,null,null,null,null,null,null,null,null,null,null,null,null,null,null,null,null,null,null,null,null,"BCDEFHKL","Haiti",{"$f":"$BB$5","v":"Elfenbeinküste"},"Katar","Australien","Saudi-Arabien","Schweden",{"$f":"$CE$26","v":"Ghana"},{"$f":"$CE$19","v":"Usbekistan"}]
[null,null,null,null,null,null,null,null,null,null,null,null,null,null,null,null,null,null,null,null,null,null,null,null,null,null,null,null,null,null,null,null,null,null,null,null,null,null,null,null,null,null,null,null,null,null,null,null,null,null,null,null,null,null,null,null,null,null,null,null,null,null,null,null,null,null,null,null,null,null,null,null,null,null,null,null,null,null,null,null,null,null,null,null,null,null,null,null,null,null,null,null,"BCDEFIJK","Haiti",{"$f":"$CE$12","v":"Österreich"},"Katar","Australien",{"$f":"$BB$5","v":"Elfenbeinküste"},"Schweden",{"$f":"$CE$5","v":"Irak"},{"$f":"$CE$19","v":"Usbekistan"}]
[null,null,null,null,null,null,null,null,null,null,null,null,null,null,null,null,null,null,null,null,null,null,null,null,null,null,null,null,null,null,null,null,null,null,null,null,null,null,null,null,null,null,null,null,null,null,null,null,null,null,null,null,null,null,null,null,null,null,null,null,null,null,null,null,null,null,null,null,null,null,null,null,null,null,null,null,null,null,null,null,null,null,null,null,null,null,null,null,null,null,null,null,"BCDEFIJL","Haiti",{"$f":"$CE$12","v":"Österreich"},"Katar","Australien",{"$f":"$BB$5","v":"Elfenbeinküste"},"Schweden",{"$f":"$CE$26","v":"Ghana"},{"$f":"$CE$5","v":"Irak"}]
[null,null,null,null,null,null,null,null,null,null,null,null,null,null,null,null,null,null,null,null,null,null,null,null,null,null,null,null,null,null,null,null,null,null,null,null,null,null,null,null,null,null,null,null,null,null,null,null,null,null,null,null,null,null,null,null,null,null,null,null,null,null,null,null,null,null,null,null,null,null,null,null,null,null,null,null,null,null,null,null,null,null,null,null,null,null,null,null,null,null,null,null,"BCDEFIKL","Haiti",{"$f":"$BB$5","v":"Elfenbeinküste"},"Katar","Australien",{"$f":"$CE$5","v":"Irak"},"Schweden",{"$f":"$CE$26","v":"Ghana"},{"$f":"$CE$19","v":"Usbekistan"}]
[null,null,null,null,null,null,null,null,null,null,null,null,null,null,null,null,null,null,null,null,null,null,null,null,null,null,null,null,null,null,null,null,null,null,null,null,null,null,null,null,null,null,null,null,null,null,null,null,null,null,null,null,null,null,null,null,null,null,null,null,null,null,null,null,null,null,null,null,null,null,null,null,null,null,null,null,null,null,null,null,null,null,null,null,null,null,null,null,null,null,null,null,"BCDEFJKL","Haiti",{"$f":"$CE$12","v":"Österreich"},"Katar","Australien",{"$f":"$BB$5","v":"Elfenbeinküste"},"Schweden",{"$f":"$CE$26","v":"Ghana"},{"$f":"$CE$19","v":"Usbekistan"}]
[null,null,null,null,null,null,null,null,null,null,null,null,null,null,null,null,null,null,null,null,null,null,null,null,null,null,null,null,null,null,null,null,null,null,null,null,null,null,null,null,null,null,null,null,null,null,null,null,null,null,null,null,null,null,null,null,null,null,null,null,null,null,null,null,null,null,null,null,null,null,null,null,null,null,null,null,null,null,null,null,null,null,null,null,null,null,null,null,null,null,null,null,"BCDEGHIJ",{"$f":"$BB$26","v":"Saudi-Arabien"},{"$f":"$BB$19","v":"Iran"},"Katar",{"$f":"$Y$19","v":"Haiti"},{"$f":"$CE$12","v":"Österreich"},{"$f":"$Y$26","v":"Australien"},{"$f":"$BB$5","v":"Elfenbeinküste"},{"$f":"$CE$5","v":"Irak"}]
[null,null,null,null,null,null,null,null,null,null,null,null,null,null,null,null,null,null,null,null,null,null,null,null,null,null,null,null,null,null,null,null,null,null,null,null,null,null,null,null,null,null,null,null,null,null,null,null,null,null,null,null,null,null,null,null,null,null,null,null,null,null,null,null,null,null,null,null,null,null,null,null,null,null,null,null,null,null,null,null,null,null,null,null,null,null,null,null,null,null,null,null,"BCDEGHIK",{"$f":"$BB$5","v":"Elfenbeinküste"},"Iran","Katar","Haiti",{"$f":"$BB$26","v":"Saudi-Arabien"},"Australien",{"$f":"$CE$5","v":"Irak"},{"$f":"$CE$19","v":"Usbekistan"}]
[null,null,null,null,null,null,null,null,null,null,null,null,null,null,null,null,null,null,null,null,null,null,null,null,null,null,null,null,null,null,null,null,null,null,null,null,null,null,null,null,null,null,null,null,null,null,null,null,null,null,null,null,null,null,null,null,null,null,null,null,null,null,null,null,null,null,null,null,null,null,null,null,null,null,null,null,null,null,null,null,null,null,null,null,null,null,null,null,null,null,null,null,"BCDEGHIL",{"$f":"$BB$5","v":"Elfenbeinküste"},"Iran","Katar","Haiti",{"$f":"$BB$26","v":"Saudi-Arabien"},"Australien",{"$f":"$CE$26","v":"Ghana"},{"$f":"$CE$5","v":"Irak"}]
[null,null,null,null,null,null,null,null,null,null,null,null,null,null,null,null,null,null,null,null,null,null,null,null,null,null,null,null,null,null,null,null,null,null,null,null,null,null,null,null,null,null,null,null,null,null,null,null,null,null,null,null,null,null,null,null,null,null,null,null,null,null,null,null,null,null,null,null,null,null,null,null,null,null,null,null,null,null,null,null,null,null,null,null,null,null,null,null,null,null,null,null,"BCDEGHJK",{"$f":"$BB$26","v":"Saudi-Arabien"},"Iran","Katar","Haiti",{"$f":"$CE$12","v":"Österreich"},"Australien",{"$f":"$BB$5","v":"Elfenbeinküste"},{"$f":"$CE$19","v":"Usbekistan"}]
[null,null,null,null,null,null,null,null,null,null,null,null,null,null,null,null,null,null,null,null,null,null,null,null,null,null,null,null,null,null,null,null,null,null,null,null,null,null,null,null,null,null,null,null,null,null,null,null,null,null,null,null,null,null,null,null,null,null,null,null,null,null,null,null,null,null,null,null,null,null,null,null,null,null,null,null,null,null,null,null,null,null,null,null,null,null,null,null,null,null,null,null,"BCDEGHJL",{"$f":"$BB$26","v":"Saudi-Arabien"},"Iran","Katar","Haiti",{"$f":"$CE$12","v":"Österreich"},"Australien",{"$f":"$CE$26","v":"Ghana"},{"$f":"$BB$5","v":"Elfenbeinküste"}]
[null,null,null,null,null,null,null,null,null,null,null,null,null,null,null,null,null,null,null,null,null,null,null,null,null,null,null,null,null,null,null,null,null,null,null,null,null,null,null,null,null,null,null,null,null,null,null,null,null,null,null,null,null,null,null,null,null,null,null,null,null,null,null,null,null,null,null,null,null,null,null,null,null,null,null,null,null,null,null,null,null,null,null,null,null,null,null,null,null,null,null,null,"BCDEGHKL",{"$f":"$BB$5","v":"Elfenbeinküste"},"Iran","Katar","Haiti",{"$f":"$BB$26","v":"Saudi-Arabien"},"Australien",{"$f":"$CE$26","v":"Ghana"},{"$f":"$CE$19","v":"Usbekistan"}]
[null,null,null,null,null,null,null,null,null,null,null,null,null,null,null,null,null,null,null,null,null,null,null,null,null,null,null,null,null,null,null,null,null,null,null,null,null,null,null,null,null,null,null,null,null,null,null,null,null,null,null,null,null,null,null,null,null,null,null,null,null,null,null,null,null,null,null,null,null,null,null,null,null,null,null,null,null,null,null,null,null,null,null,null,null,null,null,null,null,null,null,null,"BCDEGIJK","Elfenbeinküste","Iran","Katar","Haiti",{"$f":"$CE$12","v":"Österreich"},"Australien",{"$f":"$CE$5","v":"Irak"},{"$f":"$CE$19","v":"Usbekistan"}]
[null,null,null,null,null,null,null,null,null,null,null,null,null,null,null,null,null,null,null,null,null,null,null,null,null,null,null,null,null,null,null,null,null,null,null,null,null,null,null,null,null,null,null,null,null,null,null,null,null,null,null,null,null,null,null,null,null,null,null,null,null,null,null,null,null,null,null,null,null,null,null,null,null,null,null,null,null,null,null,null,null,null,null,null,null,null,null,null,null,null,null,null,"BCDEGIJL","Elfenbeinküste","Iran","Katar","Haiti",{"$f":"$CE$12","v":"Österreich"},"Australien",{"$f":"$CE$26","v":"Ghana"},{"$f":"$CE$5","v":"Irak"}]
[null,null,null,null,null,null,null,null,null,null,null,null,null,null,null,null,null,null,null,null,null,null,null,null,null,null,null,null,null,null,null,null,null,null,null,null,null,null,null,null,null,null,null,null,null,null,null,null,null,null,null,null,null,null,null,null,null,null,null,null,null,null,null,null,null,null,null,null,null,null,null,null,null,null,null,null,null,null,null,null,null,null,null,null,null,null,null,null,null,null,null,null,"BCDEGIKL","Elfenbeinküste","Iran","Katar","Haiti",{"$f":"$CE$5","v":"Irak"},"Australien",{"$f":"$CE$26","v":"Ghana"},{"$f":"$CE$19","v":"Usbekistan"}]
[null,null,null,null,null,null,null,null,null,null,null,null,null,null,null,null,null,null,null,null,null,null,null,null,null,null,null,null,null,null,null,null,null,null,null,null,null,null,null,null,null,null,null,null,null,null,null,null,null,null,null,null,null,null,null,null,null,null,null,null,null,null,null,null,null,null,null,null,null,null,null,null,null,null,null,null,null,null,null,null,null,null,null,null,null,null,null,null,null,null,null,null,"BCDEGJKL","Elfenbeinküste","Iran","Katar","Haiti",{"$f":"$CE$12","v":"Österreich"},"Australien",{"$f":"$CE$26","v":"Ghana"},{"$f":"$CE$19","v":"Usbekistan"}]
[null,null,null,null,null,null,null,null,null,null,null,null,null,null,null,null,null,null,null,null,null,null,null,null,null,null,null,null,null,null,null,null,null,null,null,null,null,null,null,null,null,null,null,null,null,null,null,null,null,null,null,null,null,null,null,null,null,null,null,null,null,null,null,null,null,null,null,null,null,null,null,null,null,null,null,null,null,null,null,null,null,null,null,null,null,null,null,null,null,null,null,null,"BCDEHIJK","Elfenbeinküste",{"$f":"$CE$12","v":"Österreich"},"Katar","Haiti",{"$f":"$BB$26","v":"Saudi-Arabien"},"Australien",{"$f":"$CE$5","v":"Irak"},{"$f":"$CE$19","v":"Usbekistan"}]
[null,null,null,null,null,null,null,null,null,null,null,null,null,null,null,null,null,null,null,null,null,null,null,null,null,null,null,null,null,null,null,null,null,null,null,null,null,null,null,null,null,null,null,null,null,null,null,null,null,null,null,null,null,null,null,null,null,null,null,null,null,null,null,null,null,null,null,null,null,null,null,null,null,null,null,null,null,null,null,null,null,null,null,null,null,null,null,null,null,null,null,null,"BCDEHIJL","Elfenbeinküste",{"$f":"$CE$12","v":"Österreich"},"Katar","Haiti",{"$f":"$BB$26","v":"Saudi-Arabien"},"Australien",{"$f":"$CE$26","v":"Ghana"},{"$f":"$CE$5","v":"Irak"}]
[null,null,null,null,null,null,null,null,null,null,null,null,null,null,null,null,null,null,null,null,null,null,null,null,null,null,null,null,null,null,null,null,null,null,null,null,null,null,null,null,null,null,null,null,null,null,null,null,null,null,null,null,null,null,null,null,null,null,null,null,null,null,null,null,null,null,null,null,null,null,null,null,null,null,null,null,null,null,null,null,null,null,null,null,null,null,null,null,null,null,null,null,"BCDEHIKL","Elfenbeinküste",{"$f":"$CE$5","v":"Irak"},{"$f":"$Y$12","v":"Katar"},"Haiti",{"$f":"$BB$26","v":"Saudi-Arabien"},"Australien",{"$f":"$CE$26","v":"Ghana"},{"$f":"$CE$19","v":"Usbekistan"}]
[null,null,null,null,null,null,null,null,null,null,null,null,null,null,null,null,null,null,null,null,null,null,null,null,null,null,null,null,null,null,null,null,null,null,null,null,null,null,null,null,null,null,null,null,null,null,null,null,null,null,null,null,null,null,null,null,null,null,null,null,null,null,null,null,null,null,null,null,null,null,null,null,null,null,null,null,null,null,null,null,null,null,null,null,null,null,null,null,null,null,null,null,"BCDEHJKL","Elfenbeinküste",{"$f":"$CE$12","v":"Österreich"},"Katar","Haiti",{"$f":"$BB$26","v":"Saudi-Arabien"},"Australien",{"$f":"$CE$26","v":"Ghana"},{"$f":"$CE$19","v":"Usbekistan"}]
[null,null,null,null,null,null,null,null,null,null,null,null,null,null,null,null,null,null,null,null,null,null,null,null,null,null,null,null,null,null,null,null,null,null,null,null,null,null,null,null,null,null,null,null,null,null,null,null,null,null,null,null,null,null,null,null,null,null,null,null,null,null,null,null,null,null,null,null,null,null,null,null,null,null,null,null,null,null,null,null,null,null,null,null,null,null,null,null,null,null,null,null,"BCDEIJKL","Elfenbeinküste",{"$f":"$CE$12","v":"Österreich"},"Katar","Haiti",{"$f":"$CE$5","v":"Irak"},"Australien",{"$f":"$CE$26","v":"Ghana"},{"$f":"$CE$19","v":"Usbekistan"}]
[null,null,null,null,null,null,null,null,null,null,null,null,null,null,null,null,null,null,null,null,null,null,null,null,null,null,null,null,null,null,null,null,null,null,null,null,null,null,null,null,null,null,null,null,null,null,null,null,null,null,null,null,null,null,null,null,null,null,null,null,null,null,null,null,null,null,null,null,null,null,null,null,null,null,null,null,null,null,null,null,null,null,null,null,null,null,null,null,null,null,null,null,"BCDFGHIJ",{"$f":"$BB$26","v":"Saudi-Arabien"},{"$f":"$BB$19","v":"Iran"},"Katar","Haiti",{"$f":"$CE$12","v":"Österreich"},{"$f":"$BB$12","v":"Schweden"},{"$f":"$Y$26","v":"Australien"},{"$f":"$CE$5","v":"Irak"}]
[null,null,null,null,null,null,null,null,null,null,null,null,null,null,null,null,null,null,null,null,null,null,null,null,null,null,null,null,null,null,null,null,null,null,null,null,null,null,null,null,null,null,null,null,null,null,null,null,null,null,null,null,null,null,null,null,null,null,null,null,null,null,null,null,null,null,null,null,null,null,null,null,null,null,null,null,null,null,null,null,null,null,null,null,null,null,null,null,null,null,null,null,"BCDFGHIK",{"$f":"$Y$19","v":"Haiti"},"Iran","Katar",{"$f":"$Y$26","v":"Australien"},{"$f":"$BB$26","v":"Saudi-Arabien"},"Schweden",{"$f":"$CE$5","v":"Irak"},{"$f":"$CE$19","v":"Usbekistan"}]
[null,null,null,null,null,null,null,null,null,null,null,null,null,null,null,null,null,null,null,null,null,null,null,null,null,null,null,null,null,null,null,null,null,null,null,null,null,null,null,null,null,null,null,null,null,null,null,null,null,null,null,null,null,null,null,null,null,null,null,null,null,null,null,null,null,null,null,null,null,null,null,null,null,null,null,null,null,null,null,null,null,null,null,null,null,null,null,null,null,null,null,null,"BCDFGHIL",{"$f":"$Y$19","v":"Haiti"},"Iran","Katar",{"$f":"$Y$26","v":"Australien"},{"$f":"$BB$26","v":"Saudi-Arabien"},"Schweden",{"$f":"$CE$26","v":"Ghana"},{"$f":"$CE$5","v":"Irak"}]
[null,null,null,null,null,null,null,null,null,null,null,null,null,null,null,null,null,null,null,null,null,null,null,null,null,null,null,null,null,null,null,null,null,null,null,null,null,null,null,null,null,null,null,null,null,null,null,null,null,null,null,null,null,null,null,null,null,null,null,null,null,null,null,null,null,null,null,null,null,null,null,null,null,null,null,null,null,null,null,null,null,null,null,null,null,null,null,null,null,null,null,null,"BCDFGHJK",{"$f":"$BB$26","v":"Saudi-Arabien"},"Iran","Katar",{"$f":"$Y$19","v":"Haiti"},{"$f":"$CE$12","v":"Österreich"},"Schweden",{"$f":"$Y$26","v":"Australien"},{"$f":"$CE$19","v":"Usbekistan"}]
[null,null,null,null,null,null,null,null,null,null,null,null,null,null,null,null,null,null,null,null,null,null,null,null,null,null,null,null,null,null,null,null,null,null,null,null,null,null,null,null,null,null,null,null,null,null,null,null,null,null,null,null,null,null,null,null,null,null,null,null,null,null,null,null,null,null,null,null,null,null,null,null,null,null,null,null,null,null,null,null,null,null,null,null,null,null,null,null,null,null,null,null,"BCDFGHJL",{"$f":"$Y$19","v":"Haiti"},"Iran","Katar",{"$f":"$Y$26","v":"Australien"},{"$f":"$BB$26","v":"Saudi-Arabien"},"Schweden",{"$f":"$CE$26","v":"Ghana"},{"$f":"$CE$12","v":"Österreich"}]
[null,null,null,null,null,null,null,null,null,null,null,null,null,null,null,null,null,null,null,null,null,null,null,null,null,null,null,null,null,null,null,null,null,null,null,null,null,null,null,null,null,null,null,null,null,null,null,null,null,null,null,null,null,null,null,null,null,null,null,null,null,null,null,null,null,null,null,null,null,null,null,null,null,null,null,null,null,null,null,null,null,null,null,null,null,null,null,null,null,null,null,null,"BCDFGHKL","Haiti","Iran","Katar","Australien",{"$f":"$BB$26","v":"Saudi-Arabien"},"Schweden",{"$f":"$CE$26","v":"Ghana"},{"$f":"$CE$19","v":"Usbekistan"}]
[null,null,null,null,null,null,null,null,null,null,null,null,null,null,null,null,null,null,null,null,null,null,null,null,null,null,null,null,null,null,null,null,null,null,null,null,null,null,null,null,null,null,null,null,null,null,null,null,null,null,null,null,null,null,null,null,null,null,null,null,null,null,null,null,null,null,null,null,null,null,null,null,null,null,null,null,null,null,null,null,null,null,null,null,null,null,null,null,null,null,null,null,"BCDFGIJK","Haiti","Iran","Katar","Australien",{"$f":"$CE$12","v":"Österreich"},"Schweden",{"$f":"$CE$5","v":"Irak"},{"$f":"$CE$19","v":"Usbekistan"}]
[null,null,null,null,null,null,null,null,null,null,null,null,null,null,null,null,null,null,null,null,null,null,null,null,null,null,null,null,null,null,null,null,null,null,null,null,null,null,null,null,null,null,null,null,null,null,null,null,null,null,null,null,null,null,null,null,null,null,null,null,null,null,null,null,null,null,null,null,null,null,null,null,null,null,null,null,null,null,null,null,null,null,null,null,null,null,null,null,null,null,null,null,"BCDFGIJL","Haiti","Iran","Katar","Australien",{"$f":"$CE$12","v":"Österreich"},"Schweden",{"$f":"$CE$26","v":"Ghana"},{"$f":"$CE$5","v":"Irak"}]
[null,null,null,null,null,null,null,null,null,null,null,null,null,null,null,null,null,null,null,null,null,null,null,null,null,null,null,null,null,null,null,null,null,null,null,null,null,null,null,null,null,null,null,null,null,null,null,null,null,null,null,null,null,null,null,null,null,null,null,null,null,null,null,null,null,null,null,null,null,null,null,null,null,null,null,null,null,null,null,null,null,null,null,null,null,null,null,null,null,null,null,null,"BCDFGIKL","Haiti","Iran","Katar","Australien",{"$f":"$CE$5","v":"Irak"},"Schweden",{"$f":"$CE$26","v":"Ghana"},{"$f":"$CE$19","v":"Usbekistan"}]
[null,null,null,null,null,null,null,null,null,null,null,null,null,null,null,null,null,null,null,null,null,null,null,null,null,null,null,null,null,null,null,null,null,null,null,null,null,null,null,null,null,null,null,null,null,null,null,null,null,null,null,null,null,null,null,null,null,null,null,null,null,null,null,null,null,null,null,null,null,null,null,null,null,null,null,null,null,null,null,null,null,null,null,null,null,null,null,null,null,null,null,null,"BCDFGJKL","Haiti","Iran","Katar","Australien",{"$f":"$CE$12","v":"Österreich"},"Schweden",{"$f":"$CE$26","v":"Ghana"},{"$f":"$CE$19","v":"Usbekistan"}]
[null,null,null,null,null,null,null,null,null,null,null,null,null,null,null,null,null,null,null,null,null,null,null,null,null,null,null,null,null,null,null,null,null,null,null,null,null,null,null,null,null,null,null,null,null,null,null,null,null,null,null,null,null,null,null,null,null,null,null,null,null,null,null,null,null,null,null,null,null,null,null,null,null,null,null,null,null,null,null,null,null,null,null,null,null,null,null,null,null,null,null,null,"BCDFHIJK","Haiti",{"$f":"$CE$12","v":"Österreich"},"Katar","Australien",{"$f":"$BB$26","v":"Saudi-Arabien"},"Schweden",{"$f":"$CE$5","v":"Irak"},{"$f":"$CE$19","v":"Usbekistan"}]
[null,null,null,null,null,null,null,null,null,null,null,null,null,null,null,null,null,null,null,null,null,null,null,null,null,null,null,null,null,null,null,null,null,null,null,null,null,null,null,null,null,null,null,null,null,null,null,null,null,null,null,null,null,null,null,null,null,null,null,null,null,null,null,null,null,null,null,null,null,null,null,null,null,null,null,null,null,null,null,null,null,null,null,null,null,null,null,null,null,null,null,null,"BCDFHIJL","Haiti",{"$f":"$CE$12","v":"Österreich"},"Katar","Australien",{"$f":"$BB$26","v":"Saudi-Arabien"},"Schweden",{"$f":"$CE$26","v":"Ghana"},{"$f":"$CE$5","v":"Irak"}]
[null,null,null,null,null,null,null,null,null,null,null,null,null,null,null,null,null,null,null,null,null,null,null,null,null,null,null,null,null,null,null,null,null,null,null,null,null,null,null,null,null,null,null,null,null,null,null,null,null,null,null,null,null,null,null,null,null,null,null,null,null,null,null,null,null,null,null,null,null,null,null,null,null,null,null,null,null,null,null,null,null,null,null,null,null,null,null,null,null,null,null,null,"BCDFHIKL","Haiti",{"$f":"$CE$5","v":"Irak"},"Katar","Australien",{"$f":"$BB$26","v":"Saudi-Arabien"},"Schweden",{"$f":"$CE$26","v":"Ghana"},{"$f":"$CE$19","v":"Usbekistan"}]
[null,null,null,null,null,null,null,null,null,null,null,null,null,null,null,null,null,null,null,null,null,null,null,null,null,null,null,null,null,null,null,null,null,null,null,null,null,null,null,null,null,null,null,null,null,null,null,null,null,null,null,null,null,null,null,null,null,null,null,null,null,null,null,null,null,null,null,null,null,null,null,null,null,null,null,null,null,null,null,null,null,null,null,null,null,null,null,null,null,null,null,null,"BCDFHJKL","Haiti",{"$f":"$CE$12","v":"Österreich"},"Katar","Australien",{"$f":"$BB$26","v":"Saudi-Arabien"},"Schweden",{"$f":"$CE$26","v":"Ghana"},{"$f":"$CE$19","v":"Usbekistan"}]
[null,null,null,null,null,null,null,null,null,null,null,null,null,null,null,null,null,null,null,null,null,null,null,null,null,null,null,null,null,null,null,null,null,null,null,null,null,null,null,null,null,null,null,null,null,null,null,null,null,null,null,null,null,null,null,null,null,null,null,null,null,null,null,null,null,null,null,null,null,null,null,null,null,null,null,null,null,null,null,null,null,null,null,null,null,null,null,null,null,null,null,null,"BCDFIJKL","Haiti",{"$f":"$CE$12","v":"Österreich"},"Katar","Australien",{"$f":"$CE$5","v":"Irak"},"Schweden",{"$f":"$CE$26","v":"Ghana"},{"$f":"$CE$19","v":"Usbekistan"}]
[null,null,null,null,null,null,null,null,null,null,null,null,null,null,null,null,null,null,null,null,null,null,null,null,null,null,null,null,null,null,null,null,null,null,null,null,null,null,null,null,null,null,null,null,null,null,null,null,null,null,null,null,null,null,null,null,null,null,null,null,null,null,null,null,null,null,null,null,null,null,null,null,null,null,null,null,null,null,null,null,null,null,null,null,null,null,null,null,null,null,null,null,"BCDGHIJK",{"$f":"$BB$26","v":"Saudi-Arabien"},{"$f":"$BB$19","v":"Iran"},"Katar",{"$f":"$Y$19","v":"Haiti"},{"$f":"$CE$12","v":"Österreich"},{"$f":"$Y$26","v":"Australien"},{"$f":"$CE$5","v":"Irak"},{"$f":"$CE$19","v":"Usbekistan"}]
[null,null,null,null,null,null,null,null,null,null,null,null,null,null,null,null,null,null,null,null,null,null,null,null,null,null,null,null,null,null,null,null,null,null,null,null,null,null,null,null,null,null,null,null,null,null,null,null,null,null,null,null,null,null,null,null,null,null,null,null,null,null,null,null,null,null,null,null,null,null,null,null,null,null,null,null,null,null,null,null,null,null,null,null,null,null,null,null,null,null,null,null,"BCDGHIJL",{"$f":"$BB$26","v":"Saudi-Arabien"},{"$f":"$BB$19","v":"Iran"},"Katar","Haiti",{"$f":"$CE$12","v":"Österreich"},"Australien",{"$f":"$CE$26","v":"Ghana"},{"$f":"$CE$5","v":"Irak"}]
[null,null,null,null,null,null,null,null,null,null,null,null,null,null,null,null,null,null,null,null,null,null,null,null,null,null,null,null,null,null,null,null,null,null,null,null,null,null,null,null,null,null,null,null,null,null,null,null,null,null,null,null,null,null,null,null,null,null,null,null,null,null,null,null,null,null,null,null,null,null,null,null,null,null,null,null,null,null,null,null,null,null,null,null,null,null,null,null,null,null,null,null,"BCDGHIKL",{"$f":"$BB$26","v":"Saudi-Arabien"},{"$f":"$BB$19","v":"Iran"},"Katar","Haiti",{"$f":"$CE$5","v":"Irak"},"Australien",{"$f":"$CE$26","v":"Ghana"},{"$f":"$CE$19","v":"Usbekistan"}]
[null,null,null,null,null,null,null,null,null,null,null,null,null,null,null,null,null,null,null,null,null,null,null,null,null,null,null,null,null,null,null,null,null,null,null,null,null,null,null,null,null,null,null,null,null,null,null,null,null,null,null,null,null,null,null,null,null,null,null,null,null,null,null,null,null,null,null,null,null,null,null,null,null,null,null,null,null,null,null,null,null,null,null,null,null,null,null,null,null,null,null,null,"BCDGHJKL",{"$f":"$BB$26","v":"Saudi-Arabien"},{"$f":"$BB$19","v":"Iran"},"Katar","Haiti",{"$f":"$CE$12","v":"Österreich"},"Australien",{"$f":"$CE$26","v":"Ghana"},{"$f":"$CE$19","v":"Usbekistan"}]
[null,null,null,null,null,null,null,null,null,null,null,null,null,null,null,null,null,null,null,null,null,null,null,null,null,null,null,null,null,null,null,null,null,null,null,null,null,null,null,null,null,null,null,null,null,null,null,null,null,null,null,null,null,null,null,null,null,null,null,null,null,null,null,null,null,null,null,null,null,null,null,null,null,null,null,null,null,null,null,null,null,null,null,null,null,null,null,null,null,null,null,null,"BCDGIJKL",{"$f":"$CE$5","v":"Irak"},{"$f":"$BB$19","v":"Iran"},"Katar","Haiti",{"$f":"$CE$12","v":"Österreich"},"Australien",{"$f":"$CE$26","v":"Ghana"},{"$f":"$CE$19","v":"Usbekistan"}]
[null,null,null,null,null,null,null,null,null,null,null,null,null,null,null,null,null,null,null,null,null,null,null,null,null,null,null,null,null,null,null,null,null,null,null,null,null,null,null,null,null,null,null,null,null,null,null,null,null,null,null,null,null,null,null,null,null,null,null,null,null,null,null,null,null,null,null,null,null,null,null,null,null,null,null,null,null,null,null,null,null,null,null,null,null,null,null,null,null,null,null,null,"BCDHIJKL",{"$f":"$BB$26","v":"Saudi-Arabien"},{"$f":"$CE$12","v":"Österreich"},"Katar","Haiti",{"$f":"$CE$5","v":"Irak"},"Australien",{"$f":"$CE$26","v":"Ghana"},{"$f":"$CE$19","v":"Usbekistan"}]
[null,null,null,null,null,null,null,null,null,null,null,null,null,null,null,null,null,null,null,null,null,null,null,null,null,null,null,null,null,null,null,null,null,null,null,null,null,null,null,null,null,null,null,null,null,null,null,null,null,null,null,null,null,null,null,null,null,null,null,null,null,null,null,null,null,null,null,null,null,null,null,null,null,null,null,null,null,null,null,null,null,null,null,null,null,null,null,null,null,null,null,null,"BCEFGHIJ",{"$f":"$BB$26","v":"Saudi-Arabien"},{"$f":"$BB$19","v":"Iran"},"Katar","Haiti",{"$f":"$CE$12","v":"Österreich"},{"$f":"$BB$12","v":"Schweden"},{"$f":"$BB$5","v":"Elfenbeinküste"},{"$f":"$CE$5","v":"Irak"}]
[null,null,null,null,null,null,null,null,null,null,null,null,null,null,null,null,null,null,null,null,null,null,null,null,null,null,null,null,null,null,null,null,null,null,null,null,null,null,null,null,null,null,null,null,null,null,null,null,null,null,null,null,null,null,null,null,null,null,null,null,null,null,null,null,null,null,null,null,null,null,null,null,null,null,null,null,null,null,null,null,null,null,null,null,null,null,null,null,null,null,null,null,"BCEFGHIK",{"$f":"$BB$5","v":"Elfenbeinküste"},"Iran","Katar","Haiti",{"$f":"$BB$26","v":"Saudi-Arabien"},"Schweden",{"$f":"$CE$5","v":"Irak"},{"$f":"$CE$19","v":"Usbekistan"}]
[null,null,null,null,null,null,null,null,null,null,null,null,null,null,null,null,null,null,null,null,null,null,null,null,null,null,null,null,null,null,null,null,null,null,null,null,null,null,null,null,null,null,null,null,null,null,null,null,null,null,null,null,null,null,null,null,null,null,null,null,null,null,null,null,null,null,null,null,null,null,null,null,null,null,null,null,null,null,null,null,null,null,null,null,null,null,null,null,null,null,null,null,"BCEFGHIL",{"$f":"$BB$5","v":"Elfenbeinküste"},"Iran","Katar","Haiti",{"$f":"$BB$26","v":"Saudi-Arabien"},"Schweden",{"$f":"$CE$26","v":"Ghana"},{"$f":"$CE$5","v":"Irak"}]
[null,null,null,null,null,null,null,null,null,null,null,null,null,null,null,null,null,null,null,null,null,null,null,null,null,null,null,null,null,null,null,null,null,null,null,null,null,null,null,null,null,null,null,null,null,null,null,null,null,null,null,null,null,null,null,null,null,null,null,null,null,null,null,null,null,null,null,null,null,null,null,null,null,null,null,null,null,null,null,null,null,null,null,null,null,null,null,null,null,null,null,null,"BCEFGHJK",{"$f":"$BB$26","v":"Saudi-Arabien"},"Iran","Katar","Haiti",{"$f":"$CE$12","v":"Österreich"},"Schweden",{"$f":"$BB$5","v":"Elfenbeinküste"},{"$f":"$CE$19","v":"Usbekistan"}]
[null,null,null,null,null,null,null,null,null,null,null,null,null,null,null,null,null,null,null,null,null,null,null,null,null,null,null,null,null,null,null,null,null,null,null,null,null,null,null,null,null,null,null,null,null,null,null,null,null,null,null,null,null,null,null,null,null,null,null,null,null,null,null,null,null,null,null,null,null,null,null,null,null,null,null,null,null,null,null,null,null,null,null,null,null,null,null,null,null,null,null,null,"BCEFGHJL",{"$f":"$BB$26","v":"Saudi-Arabien"},"Iran","Katar","Haiti",{"$f":"$CE$12","v":"Österreich"},"Schweden",{"$f":"$CE$26","v":"Ghana"},{"$f":"$BB$5","v":"Elfenbeinküste"}]
[null,null,null,null,null,null,null,null,null,null,null,null,null,null,null,null,null,null,null,null,null,null,null,null,null,null,null,null,null,null,null,null,null,null,null,null,null,null,null,null,null,null,null,null,null,null,null,null,null,null,null,null,null,null,null,null,null,null,null,null,null,null,null,null,null,null,null,null,null,null,null,null,null,null,null,null,null,null,null,null,null,null,null,null,null,null,null,null,null,null,null,null,"BCEFGHKL",{"$f":"$BB$5","v":"Elfenbeinküste"},"Iran","Katar","Haiti",{"$f":"$BB$26","v":"Saudi-Arabien"},"Schweden",{"$f":"$CE$26","v":"Ghana"},{"$f":"$CE$19","v":"Usbekistan"}]
[null,null,null,null,null,null,null,null,null,null,null,null,null,null,null,null,null,null,null,null,null,null,null,null,null,null,null,null,null,null,null,null,null,null,null,null,null,null,null,null,null,null,null,null,null,null,null,null,null,null,null,null,null,null,null,null,null,null,null,null,null,null,null,null,null,null,null,null,null,null,null,null,null,null,null,null,null,null,null,null,null,null,null,null,null,null,null,null,null,null,null,null,"BCEFGIJK","Elfenbeinküste","Iran","Katar","Haiti",{"$f":"$CE$12","v":"Österreich"},"Schweden",{"$f":"$CE$5","v":"Irak"},{"$f":"$CE$19","v":"Usbekistan"}]
[null,null,null,null,null,null,null,null,null,null,null,null,null,null,null,null,null,null,null,null,null,null,null,null,null,null,null,null,null,null,null,null,null,null,null,null,null,null,null,null,null,null,null,null,null,null,null,null,null,null,null,null,null,null,null,null,null,null,null,null,null,null,null,null,null,null,null,null,null,null,null,null,null,null,null,null,null,null,null,null,null,null,null,null,null,null,null,null,null,null,null,null,"BCEFGIJL","Elfenbeinküste","Iran","Katar","Haiti",{"$f":"$CE$12","v":"Österreich"},"Schweden",{"$f":"$CE$26","v":"Ghana"},{"$f":"$CE$5","v":"Irak"}]
[null,null,null,null,null,null,null,null,null,null,null,null,null,null,null,null,null,null,null,null,null,null,null,null,null,null,null,null,null,null,null,null,null,null,null,null,null,null,null,null,null,null,null,null,null,null,null,null,null,null,null,null,null,null,null,null,null,null,null,null,null,null,null,null,null,null,null,null,null,null,null,null,null,null,null,null,null,null,null,null,null,null,null,null,null,null,null,null,null,null,null,null,"BCEFGIKL","Elfenbeinküste","Iran",{"$f":"$Y$12","v":"Katar"},"Haiti",{"$f":"$CE$5","v":"Irak"},"Schweden",{"$f":"$CE$26","v":"Ghana"},{"$f":"$CE$19","v":"Usbekistan"}]
[null,null,null,null,null,null,null,null,null,null,null,null,null,null,null,null,null,null,null,null,null,null,null,null,null,null,null,null,null,null,null,null,null,null,null,null,null,null,null,null,null,null,null,null,null,null,null,null,null,null,null,null,null,null,null,null,null,null,null,null,null,null,null,null,null,null,null,null,null,null,null,null,null,null,null,null,null,null,null,null,null,null,null,null,null,null,null,null,null,null,null,null,"BCEFGJKL","Elfenbeinküste","Iran","Katar","Haiti",{"$f":"$CE$12","v":"Österreich"},"Schweden",{"$f":"$CE$26","v":"Ghana"},{"$f":"$CE$19","v":"Usbekistan"}]
[null,null,null,null,null,null,null,null,null,null,null,null,null,null,null,null,null,null,null,null,null,null,null,null,null,null,null,null,null,null,null,null,null,null,null,null,null,null,null,null,null,null,null,null,null,null,null,null,null,null,null,null,null,null,null,null,null,null,null,null,null,null,null,null,null,null,null,null,null,null,null,null,null,null,null,null,null,null,null,null,null,null,null,null,null,null,null,null,null,null,null,null,"BCEFHIJK","Elfenbeinküste",{"$f":"$CE$12","v":"Österreich"},"Katar","Haiti",{"$f":"$BB$26","v":"Saudi-Arabien"},"Schweden",{"$f":"$CE$5","v":"Irak"},{"$f":"$CE$19","v":"Usbekistan"}]
[null,null,null,null,null,null,null,null,null,null,null,null,null,null,null,null,null,null,null,null,null,null,null,null,null,null,null,null,null,null,null,null,null,null,null,null,null,null,null,null,null,null,null,null,null,null,null,null,null,null,null,null,null,null,null,null,null,null,null,null,null,null,null,null,null,null,null,null,null,null,null,null,null,null,null,null,null,null,null,null,null,null,null,null,null,null,null,null,null,null,null,null,"BCEFHIJL","Elfenbeinküste",{"$f":"$CE$12","v":"Österreich"},"Katar","Haiti",{"$f":"$BB$26","v":"Saudi-Arabien"},"Schweden",{"$f":"$CE$26","v":"Ghana"},{"$f":"$CE$5","v":"Irak"}]
[null,null,null,null,null,null,null,null,null,null,null,null,null,null,null,null,null,null,null,null,null,null,null,null,null,null,null,null,null,null,null,null,null,null,null,null,null,null,null,null,null,null,null,null,null,null,null,null,null,null,null,null,null,null,null,null,null,null,null,null,null,null,null,null,null,null,null,null,null,null,null,null,null,null,null,null,null,null,null,null,null,null,null,null,null,null,null,null,null,null,null,null,"BCEFHIKL","Elfenbeinküste",{"$f":"$CE$5","v":"Irak"},"Katar","Haiti",{"$f":"$BB$26","v":"Saudi-Arabien"},"Schweden",{"$f":"$CE$26","v":"Ghana"},{"$f":"$CE$19","v":"Usbekistan"}]
[null,null,null,null,null,null,null,null,null,null,null,null,null,null,null,null,null,null,null,null,null,null,null,null,null,null,null,null,null,null,null,null,null,null,null,null,null,null,null,null,null,null,null,null,null,null,null,null,null,null,null,null,null,null,null,null,null,null,null,null,null,null,null,null,null,null,null,null,null,null,null,null,null,null,null,null,null,null,null,null,null,null,null,null,null,null,null,null,null,null,null,null,"BCEFHJKL","Elfenbeinküste",{"$f":"$CE$12","v":"Österreich"},"Katar","Haiti",{"$f":"$BB$26","v":"Saudi-Arabien"},"Schweden",{"$f":"$CE$26","v":"Ghana"},{"$f":"$CE$19","v":"Usbekistan"}]
[null,null,null,null,null,null,null,null,null,null,null,null,null,null,null,null,null,null,null,null,null,null,null,null,null,null,null,null,null,null,null,null,null,null,null,null,null,null,null,null,null,null,null,null,null,null,null,null,null,null,null,null,null,null,null,null,null,null,null,null,null,null,null,null,null,null,null,null,null,null,null,null,null,null,null,null,null,null,null,null,null,null,null,null,null,null,null,null,null,null,null,null,"BCEFIJKL","Elfenbeinküste",{"$f":"$CE$12","v":"Österreich"},"Katar","Haiti",{"$f":"$CE$5","v":"Irak"},"Schweden",{"$f":"$CE$26","v":"Ghana"},{"$f":"$CE$19","v":"Usbekistan"}]
[null,null,null,null,null,null,null,null,null,null,null,null,null,null,null,null,null,null,null,null,null,null,null,null,null,null,null,null,null,null,null,null,null,null,null,null,null,null,null,null,null,null,null,null,null,null,null,null,null,null,null,null,null,null,null,null,null,null,null,null,null,null,null,null,null,null,null,null,null,null,null,null,null,null,null,null,null,null,null,null,null,null,null,null,null,null,null,null,null,null,null,null,"BCEGHIJK","Elfenbeinküste",{"$f":"$CE$12","v":"Österreich"},"Katar","Haiti",{"$f":"$BB$26","v":"Saudi-Arabien"},{"$f":"$BB$19","v":"Iran"},{"$f":"$CE$5","v":"Irak"},{"$f":"$CE$19","v":"Usbekistan"}]
[null,null,null,null,null,null,null,null,null,null,null,null,null,null,null,null,null,null,null,null,null,null,null,null,null,null,null,null,null,null,null,null,null,null,null,null,null,null,null,null,null,null,null,null,null,null,null,null,null,null,null,null,null,null,null,null,null,null,null,null,null,null,null,null,null,null,null,null,null,null,null,null,null,null,null,null,null,null,null,null,null,null,null,null,null,null,null,null,null,null,null,null,"BCEGHIJL","Elfenbeinküste",{"$f":"$CE$12","v":"Österreich"},"Katar","Haiti",{"$f":"$BB$26","v":"Saudi-Arabien"},{"$f":"$BB$19","v":"Iran"},{"$f":"$CE$26","v":"Ghana"},{"$f":"$CE$5","v":"Irak"}]
[null,null,null,null,null,null,null,null,null,null,null,null,null,null,null,null,null,null,null,null,null,null,null,null,null,null,null,null,null,null,null,null,null,null,null,null,null,null,null,null,null,null,null,null,null,null,null,null,null,null,null,null,null,null,null,null,null,null,null,null,null,null,null,null,null,null,null,null,null,null,null,null,null,null,null,null,null,null,null,null,null,null,null,null,null,null,null,null,null,null,null,null,"BCEGHIKL","Elfenbeinküste",{"$f":"$BB$19","v":"Iran"},"Katar","Haiti",{"$f":"$CE$5","v":"Irak"},{"$f":"$BB$26","v":"Saudi-Arabien"},{"$f":"$CE$26","v":"Ghana"},{"$f":"$CE$19","v":"Usbekistan"}]
[null,null,null,null,null,null,null,null,null,null,null,null,null,null,null,null,null,null,null,null,null,null,null,null,null,null,null,null,null,null,null,null,null,null,null,null,null,null,null,null,null,null,null,null,null,null,null,null,null,null,null,null,null,null,null,null,null,null,null,null,null,null,null,null,null,null,null,null,null,null,null,null,null,null,null,null,null,null,null,null,null,null,null,null,null,null,null,null,null,null,null,null,"BCEGHJKL","Elfenbeinküste",{"$f":"$CE$12","v":"Österreich"},"Katar","Haiti",{"$f":"$BB$26","v":"Saudi-Arabien"},{"$f":"$BB$19","v":"Iran"},{"$f":"$CE$26","v":"Ghana"},{"$f":"$CE$19","v":"Usbekistan"}]
[null,null,null,null,null,null,null,null,null,null,null,null,null,null,null,null,null,null,null,null,null,null,null,null,null,null,null,null,null,null,null,null,null,null,null,null,null,null,null,null,null,null,null,null,null,null,null,null,null,null,null,null,null,null,null,null,null,null,null,null,null,null,null,null,null,null,null,null,null,null,null,null,null,null,null,null,null,null,null,null,null,null,null,null,null,null,null,null,null,null,null,null,"BCEGIJKL","Elfenbeinküste",{"$f":"$CE$12","v":"Österreich"},"Katar","Haiti",{"$f":"$CE$5","v":"Irak"},{"$f":"$BB$19","v":"Iran"},{"$f":"$CE$26","v":"Ghana"},{"$f":"$CE$19","v":"Usbekistan"}]
[null,null,null,null,null,null,null,null,null,null,null,null,null,null,null,null,null,null,null,null,null,null,null,null,null,null,null,null,null,null,null,null,null,null,null,null,null,null,null,null,null,null,null,null,null,null,null,null,null,null,null,null,null,null,null,null,null,null,null,null,null,null,null,null,null,null,null,null,null,null,null,null,null,null,null,null,null,null,null,null,null,null,null,null,null,null,null,null,null,null,null,null,"BCEHIJKL","Elfenbeinküste",{"$f":"$CE$12","v":"Österreich"},"Katar","Haiti",{"$f":"$CE$5","v":"Irak"},{"$f":"$BB$26","v":"Saudi-Arabien"},{"$f":"$CE$26","v":"Ghana"},{"$f":"$CE$19","v":"Usbekistan"}]
[null,null,null,null,null,null,null,null,null,null,null,null,null,null,null,null,null,null,null,null,null,null,null,null,null,null,null,null,null,null,null,null,null,null,null,null,null,null,null,null,null,null,null,null,null,null,null,null,null,null,null,null,null,null,null,null,null,null,null,null,null,null,null,null,null,null,null,null,null,null,null,null,null,null,null,null,null,null,null,null,null,null,null,null,null,null,null,null,null,null,null,null,"BCFGHIJK",{"$f":"$BB$26","v":"Saudi-Arabien"},{"$f":"$BB$19","v":"Iran"},"Katar","Haiti",{"$f":"$CE$12","v":"Österreich"},{"$f":"$BB$12","v":"Schweden"},{"$f":"$CE$5","v":"Irak"},{"$f":"$CE$19","v":"Usbekistan"}]
[null,null,null,null,null,null,null,null,null,null,null,null,null,null,null,null,null,null,null,null,null,null,null,null,null,null,null,null,null,null,null,null,null,null,null,null,null,null,null,null,null,null,null,null,null,null,null,null,null,null,null,null,null,null,null,null,null,null,null,null,null,null,null,null,null,null,null,null,null,null,null,null,null,null,null,null,null,null,null,null,null,null,null,null,null,null,null,null,null,null,null,null,"BCFGHIJL",{"$f":"$BB$26","v":"Saudi-Arabien"},{"$f":"$BB$19","v":"Iran"},"Katar","Haiti",{"$f":"$CE$12","v":"Österreich"},"Schweden",{"$f":"$CE$26","v":"Ghana"},{"$f":"$CE$5","v":"Irak"}]
[null,null,null,null,null,null,null,null,null,null,null,null,null,null,null,null,null,null,null,null,null,null,null,null,null,null,null,null,null,null,null,null,null,null,null,null,null,null,null,null,null,null,null,null,null,null,null,null,null,null,null,null,null,null,null,null,null,null,null,null,null,null,null,null,null,null,null,null,null,null,null,null,null,null,null,null,null,null,null,null,null,null,null,null,null,null,null,null,null,null,null,null,"BCFGHIKL",{"$f":"$BB$26","v":"Saudi-Arabien"},{"$f":"$BB$19","v":"Iran"},"Katar","Haiti",{"$f":"$CE$5","v":"Irak"},"Schweden","Ghana",{"$f":"$CE$19","v":"Usbekistan"}]
[null,null,null,null,null,null,null,null,null,null,null,null,null,null,null,null,null,null,null,null,null,null,null,null,null,null,null,null,null,null,null,null,null,null,null,null,null,null,null,null,null,null,null,null,null,null,null,null,null,null,null,null,null,null,null,null,null,null,null,null,null,null,null,null,null,null,null,null,null,null,null,null,null,null,null,null,null,null,null,null,null,null,null,null,null,null,null,null,null,null,null,null,"BCFGHJKL",{"$f":"$BB$26","v":"Saudi-Arabien"},{"$f":"$BB$19","v":"Iran"},"Katar","Haiti",{"$f":"$CE$12","v":"Österreich"},"Schweden","Ghana",{"$f":"$CE$19","v":"Usbekistan"}]
[null,null,null,null,null,null,null,null,null,null,null,null,null,null,null,null,null,null,null,null,null,null,null,null,null,null,null,null,null,null,null,null,null,null,null,null,null,null,null,null,null,null,null,null,null,null,null,null,null,null,null,null,null,null,null,null,null,null,null,null,null,null,null,null,null,null,null,null,null,null,null,null,null,null,null,null,null,null,null,null,null,null,null,null,null,null,null,null,null,null,null,null,"BCFGIJKL",{"$f":"$CE$5","v":"Irak"},{"$f":"$BB$19","v":"Iran"},"Katar","Haiti",{"$f":"$CE$12","v":"Österreich"},"Schweden","Ghana",{"$f":"$CE$19","v":"Usbekistan"}]
[null,null,null,null,null,null,null,null,null,null,null,null,null,null,null,null,null,null,null,null,null,null,null,null,null,null,null,null,null,null,null,null,null,null,null,null,null,null,null,null,null,null,null,null,null,null,null,null,null,null,null,null,null,null,null,null,null,null,null,null,null,null,null,null,null,null,null,null,null,null,null,null,null,null,null,null,null,null,null,null,null,null,null,null,null,null,null,null,null,null,null,null,"BCFHIJKL",{"$f":"$BB$26","v":"Saudi-Arabien"},{"$f":"$CE$12","v":"Österreich"},"Katar","Haiti",{"$f":"$CE$5","v":"Irak"},"Schweden","Ghana",{"$f":"$CE$19","v":"Usbekistan"}]
[null,null,null,null,null,null,null,null,null,null,null,null,null,null,null,null,null,null,null,null,null,null,null,null,null,null,null,null,null,null,null,null,null,null,null,null,null,null,null,null,null,null,null,null,null,null,null,null,null,null,null,null,null,null,null,null,null,null,null,null,null,null,null,null,null,null,null,null,null,null,null,null,null,null,null,null,null,null,null,null,null,null,null,null,null,null,null,null,null,null,null,null,"BCGHIJKL",{"$f":"$BB$26","v":"Saudi-Arabien"},{"$f":"$CE$12","v":"Österreich"},"Katar","Haiti",{"$f":"$CE$5","v":"Irak"},{"$f":"$BB$19","v":"Iran"},"Ghana",{"$f":"$CE$19","v":"Usbekistan"}]
[null,null,null,null,null,null,null,null,null,null,null,null,null,null,null,null,null,null,null,null,null,null,null,null,null,null,null,null,null,null,null,null,null,null,null,null,null,null,null,null,null,null,null,null,null,null,null,null,null,null,null,null,null,null,null,null,null,null,null,null,null,null,null,null,null,null,null,null,null,null,null,null,null,null,null,null,null,null,null,null,null,null,null,null,null,null,null,null,null,null,null,null,"BDEFGHIJ",{"$f":"$BB$26","v":"Saudi-Arabien"},{"$f":"$BB$19","v":"Iran"},"Katar",{"$f":"$Y$26","v":"Australien"},{"$f":"$CE$12","v":"Österreich"},{"$f":"$BB$12","v":"Schweden"},{"$f":"$BB$5","v":"Elfenbeinküste"},{"$f":"$CE$5","v":"Irak"}]
[null,null,null,null,null,null,null,null,null,null,null,null,null,null,null,null,null,null,null,null,null,null,null,null,null,null,null,null,null,null,null,null,null,null,null,null,null,null,null,null,null,null,null,null,null,null,null,null,null,null,null,null,null,null,null,null,null,null,null,null,null,null,null,null,null,null,null,null,null,null,null,null,null,null,null,null,null,null,null,null,null,null,null,null,null,null,null,null,null,null,null,null,"BDEFGHIK",{"$f":"$BB$5","v":"Elfenbeinküste"},"Iran","Katar","Australien",{"$f":"$BB$26","v":"Saudi-Arabien"},"Schweden",{"$f":"$CE$5","v":"Irak"},{"$f":"$CE$19","v":"Usbekistan"}]
[null,null,null,null,null,null,null,null,null,null,null,null,null,null,null,null,null,null,null,null,null,null,null,null,null,null,null,null,null,null,null,null,null,null,null,null,null,null,null,null,null,null,null,null,null,null,null,null,null,null,null,null,null,null,null,null,null,null,null,null,null,null,null,null,null,null,null,null,null,null,null,null,null,null,null,null,null,null,null,null,null,null,null,null,null,null,null,null,null,null,null,null,"BDEFGHIL",{"$f":"$BB$5","v":"Elfenbeinküste"},"Iran","Katar","Australien",{"$f":"$BB$26","v":"Saudi-Arabien"},"Schweden",{"$f":"$CE$26","v":"Ghana"},{"$f":"$CE$5","v":"Irak"}]
[null,null,null,null,null,null,null,null,null,null,null,null,null,null,null,null,null,null,null,null,null,null,null,null,null,null,null,null,null,null,null,null,null,null,null,null,null,null,null,null,null,null,null,null,null,null,null,null,null,null,null,null,null,null,null,null,null,null,null,null,null,null,null,null,null,null,null,null,null,null,null,null,null,null,null,null,null,null,null,null,null,null,null,null,null,null,null,null,null,null,null,null,"BDEFGHJK",{"$f":"$BB$26","v":"Saudi-Arabien"},"Iran","Katar","Australien",{"$f":"$CE$12","v":"Österreich"},"Schweden",{"$f":"$BB$5","v":"Elfenbeinküste"},{"$f":"$CE$19","v":"Usbekistan"}]
[null,null,null,null,null,null,null,null,null,null,null,null,null,null,null,null,null,null,null,null,null,null,null,null,null,null,null,null,null,null,null,null,null,null,null,null,null,null,null,null,null,null,null,null,null,null,null,null,null,null,null,null,null,null,null,null,null,null,null,null,null,null,null,null,null,null,null,null,null,null,null,null,null,null,null,null,null,null,null,null,null,null,null,null,null,null,null,null,null,null,null,null,"BDEFGHJL",{"$f":"$BB$26","v":"Saudi-Arabien"},"Iran","Katar","Australien",{"$f":"$CE$12","v":"Österreich"},"Schweden",{"$f":"$CE$26","v":"Ghana"},{"$f":"$BB$5","v":"Elfenbeinküste"}]
[null,null,null,null,null,null,null,null,null,null,null,null,null,null,null,null,null,null,null,null,null,null,null,null,null,null,null,null,null,null,null,null,null,null,null,null,null,null,null,null,null,null,null,null,null,null,null,null,null,null,null,null,null,null,null,null,null,null,null,null,null,null,null,null,null,null,null,null,null,null,null,null,null,null,null,null,null,null,null,null,null,null,null,null,null,null,null,null,null,null,null,null,"BDEFGHKL",{"$f":"$BB$5","v":"Elfenbeinküste"},"Iran","Katar","Australien",{"$f":"$BB$26","v":"Saudi-Arabien"},"Schweden",{"$f":"$CE$26","v":"Ghana"},{"$f":"$CE$19","v":"Usbekistan"}]
[null,null,null,null,null,null,null,null,null,null,null,null,null,null,null,null,null,null,null,null,null,null,null,null,null,null,null,null,null,null,null,null,null,null,null,null,null,null,null,null,null,null,null,null,null,null,null,null,null,null,null,null,null,null,null,null,null,null,null,null,null,null,null,null,null,null,null,null,null,null,null,null,null,null,null,null,null,null,null,null,null,null,null,null,null,null,null,null,null,null,null,null,"BDEFGIJK","Elfenbeinküste","Iran","Katar","Australien",{"$f":"$CE$12","v":"Österreich"},"Schweden",{"$f":"$CE$5","v":"Irak"},{"$f":"$CE$19","v":"Usbekistan"}]
[null,null,null,null,null,null,null,null,null,null,null,null,null,null,null,null,null,null,null,null,null,null,null,null,null,null,null,null,null,null,null,null,null,null,null,null,null,null,null,null,null,null,null,null,null,null,null,null,null,null,null,null,null,null,null,null,null,null,null,null,null,null,null,null,null,null,null,null,null,null,null,null,null,null,null,null,null,null,null,null,null,null,null,null,null,null,null,null,null,null,null,null,"BDEFGIJL","Elfenbeinküste","Iran","Katar","Australien",{"$f":"$CE$12","v":"Österreich"},"Schweden",{"$f":"$CE$26","v":"Ghana"},{"$f":"$CE$5","v":"Irak"}]
[null,null,null,null,null,null,null,null,null,null,null,null,null,null,null,null,null,null,null,null,null,null,null,null,null,null,null,null,null,null,null,null,null,null,null,null,null,null,null,null,null,null,null,null,null,null,null,null,null,null,null,null,null,null,null,null,null,null,null,null,null,null,null,null,null,null,null,null,null,null,null,null,null,null,null,null,null,null,null,null,null,null,null,null,null,null,null,null,null,null,null,null,"BDEFGIKL","Elfenbeinküste","Iran","Katar","Australien",{"$f":"$CE$5","v":"Irak"},"Schweden",{"$f":"$CE$26","v":"Ghana"},{"$f":"$CE$19","v":"Usbekistan"}]
[null,null,null,null,null,null,null,null,null,null,null,null,null,null,null,null,null,null,null,null,null,null,null,null,null,null,null,null,null,null,null,null,null,null,null,null,null,null,null,null,null,null,null,null,null,null,null,null,null,null,null,null,null,null,null,null,null,null,null,null,null,null,null,null,null,null,null,null,null,null,null,null,null,null,null,null,null,null,null,null,null,null,null,null,null,null,null,null,null,null,null,null,"BDEFGJKL","Elfenbeinküste","Iran","Katar","Australien",{"$f":"$CE$12","v":"Österreich"},"Schweden",{"$f":"$CE$26","v":"Ghana"},{"$f":"$CE$19","v":"Usbekistan"}]
[null,null,null,null,null,null,null,null,null,null,null,null,null,null,null,null,null,null,null,null,null,null,null,null,null,null,null,null,null,null,null,null,null,null,null,null,null,null,null,null,null,null,null,null,null,null,null,null,null,null,null,null,null,null,null,null,null,null,null,null,null,null,null,null,null,null,null,null,null,null,null,null,null,null,null,null,null,null,null,null,null,null,null,null,null,null,null,null,null,null,null,null,"BDEFHIJK","Elfenbeinküste",{"$f":"$CE$12","v":"Österreich"},"Katar","Australien",{"$f":"$BB$26","v":"Saudi-Arabien"},"Schweden",{"$f":"$CE$5","v":"Irak"},{"$f":"$CE$19","v":"Usbekistan"}]
[null,null,null,null,null,null,null,null,null,null,null,null,null,null,null,null,null,null,null,null,null,null,null,null,null,null,null,null,null,null,null,null,null,null,null,null,null,null,null,null,null,null,null,null,null,null,null,null,null,null,null,null,null,null,null,null,null,null,null,null,null,null,null,null,null,null,null,null,null,null,null,null,null,null,null,null,null,null,null,null,null,null,null,null,null,null,null,null,null,null,null,null,"BDEFHIJL","Elfenbeinküste",{"$f":"$CE$12","v":"Österreich"},"Katar","Australien",{"$f":"$BB$26","v":"Saudi-Arabien"},"Schweden",{"$f":"$CE$26","v":"Ghana"},{"$f":"$CE$5","v":"Irak"}]
[null,null,null,null,null,null,null,null,null,null,null,null,null,null,null,null,null,null,null,null,null,null,null,null,null,null,null,null,null,null,null,null,null,null,null,null,null,null,null,null,null,null,null,null,null,null,null,null,null,null,null,null,null,null,null,null,null,null,null,null,null,null,null,null,null,null,null,null,null,null,null,null,null,null,null,null,null,null,null,null,null,null,null,null,null,null,null,null,null,null,null,null,"BDEFHIKL","Elfenbeinküste",{"$f":"$CE$5","v":"Irak"},{"$f":"$Y$12","v":"Katar"},"Australien",{"$f":"$BB$26","v":"Saudi-Arabien"},"Schweden",{"$f":"$CE$26","v":"Ghana"},{"$f":"$CE$19","v":"Usbekistan"}]
[null,null,null,null,null,null,null,null,null,null,null,null,null,null,null,null,null,null,null,null,null,null,null,null,null,null,null,null,null,null,null,null,null,null,null,null,null,null,null,null,null,null,null,null,null,null,null,null,null,null,null,null,null,null,null,null,null,null,null,null,null,null,null,null,null,null,null,null,null,null,null,null,null,null,null,null,null,null,null,null,null,null,null,null,null,null,null,null,null,null,null,null,"BDEFHJKL","Elfenbeinküste",{"$f":"$CE$12","v":"Österreich"},"Katar","Australien",{"$f":"$BB$26","v":"Saudi-Arabien"},"Schweden",{"$f":"$CE$26","v":"Ghana"},{"$f":"$CE$19","v":"Usbekistan"}]
[null,null,null,null,null,null,null,null,null,null,null,null,null,null,null,null,null,null,null,null,null,null,null,null,null,null,null,null,null,null,null,null,null,null,null,null,null,null,null,null,null,null,null,null,null,null,null,null,null,null,null,null,null,null,null,null,null,null,null,null,null,null,null,null,null,null,null,null,null,null,null,null,null,null,null,null,null,null,null,null,null,null,null,null,null,null,null,null,null,null,null,null,"BDEFIJKL","Elfenbeinküste",{"$f":"$CE$12","v":"Österreich"},"Katar","Australien",{"$f":"$CE$5","v":"Irak"},"Schweden",{"$f":"$CE$26","v":"Ghana"},{"$f":"$CE$19","v":"Usbekistan"}]
[null,null,null,null,null,null,null,null,null,null,null,null,null,null,null,null,null,null,null,null,null,null,null,null,null,null,null,null,null,null,null,null,null,null,null,null,null,null,null,null,null,null,null,null,null,null,null,null,null,null,null,null,null,null,null,null,null,null,null,null,null,null,null,null,null,null,null,null,null,null,null,null,null,null,null,null,null,null,null,null,null,null,null,null,null,null,null,null,null,null,null,null,"BDEGHIJK","Elfenbeinküste",{"$f":"$CE$12","v":"Österreich"},"Katar","Australien",{"$f":"$BB$26","v":"Saudi-Arabien"},{"$f":"$BB$19","v":"Iran"},{"$f":"$CE$5","v":"Irak"},{"$f":"$CE$19","v":"Usbekistan"}]
[null,null,null,null,null,null,null,null,null,null,null,null,null,null,null,null,null,null,null,null,null,null,null,null,null,null,null,null,null,null,null,null,null,null,null,null,null,null,null,null,null,null,null,null,null,null,null,null,null,null,null,null,null,null,null,null,null,null,null,null,null,null,null,null,null,null,null,null,null,null,null,null,null,null,null,null,null,null,null,null,null,null,null,null,null,null,null,null,null,null,null,null,"BDEGHIJL","Elfenbeinküste",{"$f":"$CE$12","v":"Österreich"},"Katar","Australien",{"$f":"$BB$26","v":"Saudi-Arabien"},{"$f":"$BB$19","v":"Iran"},{"$f":"$CE$26","v":"Ghana"},{"$f":"$CE$5","v":"Irak"}]
[null,null,null,null,null,null,null,null,null,null,null,null,null,null,null,null,null,null,null,null,null,null,null,null,null,null,null,null,null,null,null,null,null,null,null,null,null,null,null,null,null,null,null,null,null,null,null,null,null,null,null,null,null,null,null,null,null,null,null,null,null,null,null,null,null,null,null,null,null,null,null,null,null,null,null,null,null,null,null,null,null,null,null,null,null,null,null,null,null,null,null,null,"BDEGHIKL","Elfenbeinküste",{"$f":"$BB$19","v":"Iran"},"Katar","Australien",{"$f":"$CE$5","v":"Irak"},{"$f":"$BB$26","v":"Saudi-Arabien"},{"$f":"$CE$26","v":"Ghana"},{"$f":"$CE$19","v":"Usbekistan"}]
[null,null,null,null,null,null,null,null,null,null,null,null,null,null,null,null,null,null,null,null,null,null,null,null,null,null,null,null,null,null,null,null,null,null,null,null,null,null,null,null,null,null,null,null,null,null,null,null,null,null,null,null,null,null,null,null,null,null,null,null,null,null,null,null,null,null,null,null,null,null,null,null,null,null,null,null,null,null,null,null,null,null,null,null,null,null,null,null,null,null,null,null,"BDEGHJKL","Elfenbeinküste",{"$f":"$CE$12","v":"Österreich"},"Katar","Australien",{"$f":"$BB$26","v":"Saudi-Arabien"},{"$f":"$BB$19","v":"Iran"},{"$f":"$CE$26","v":"Ghana"},{"$f":"$CE$19","v":"Usbekistan"}]
[null,null,null,null,null,null,null,null,null,null,null,null,null,null,null,null,null,null,null,null,null,null,null,null,null,null,null,null,null,null,null,null,null,null,null,null,null,null,null,null,null,null,null,null,null,null,null,null,null,null,null,null,null,null,null,null,null,null,null,null,null,null,null,null,null,null,null,null,null,null,null,null,null,null,null,null,null,null,null,null,null,null,null,null,null,null,null,null,null,null,null,null,"BDEGIJKL","Elfenbeinküste",{"$f":"$CE$12","v":"Österreich"},"Katar","Australien",{"$f":"$CE$5","v":"Irak"},{"$f":"$BB$19","v":"Iran"},{"$f":"$CE$26","v":"Ghana"},{"$f":"$CE$19","v":"Usbekistan"}]
[null,null,null,null,null,null,null,null,null,null,null,null,null,null,null,null,null,null,null,null,null,null,null,null,null,null,null,null,null,null,null,null,null,null,null,null,null,null,null,null,null,null,null,null,null,null,null,null,null,null,null,null,null,null,null,null,null,null,null,null,null,null,null,null,null,null,null,null,null,null,null,null,null,null,null,null,null,null,null,null,null,null,null,null,null,null,null,null,null,null,null,null,"BDEHIJKL","Elfenbeinküste",{"$f":"$CE$12","v":"Österreich"},"Katar","Australien",{"$f":"$CE$5","v":"Irak"},{"$f":"$BB$26","v":"Saudi-Arabien"},{"$f":"$CE$26","v":"Ghana"},{"$f":"$CE$19","v":"Usbekistan"}]
[null,null,null,null,null,null,null,null,null,null,null,null,null,null,null,null,null,null,null,null,null,null,null,null,null,null,null,null,null,null,null,null,null,null,null,null,null,null,null,null,null,null,null,null,null,null,null,null,null,null,null,null,null,null,null,null,null,null,null,null,null,null,null,null,null,null,null,null,null,null,null,null,null,null,null,null,null,null,null,null,null,null,null,null,null,null,null,null,null,null,null,null,"BDFGHIJK",{"$f":"$BB$26","v":"Saudi-Arabien"},{"$f":"$BB$19","v":"Iran"},"Katar","Australien",{"$f":"$CE$12","v":"Österreich"},{"$f":"$BB$12","v":"Schweden"},{"$f":"$CE$5","v":"Irak"},{"$f":"$CE$19","v":"Usbekistan"}]
[null,null,null,null,null,null,null,null,null,null,null,null,null,null,null,null,null,null,null,null,null,null,null,null,null,null,null,null,null,null,null,null,null,null,null,null,null,null,null,null,null,null,null,null,null,null,null,null,null,null,null,null,null,null,null,null,null,null,null,null,null,null,null,null,null,null,null,null,null,null,null,null,null,null,null,null,null,null,null,null,null,null,null,null,null,null,null,null,null,null,null,null,"BDFGHIJL",{"$f":"$BB$26","v":"Saudi-Arabien"},{"$f":"$BB$19","v":"Iran"},"Katar","Australien",{"$f":"$CE$12","v":"Österreich"},"Schweden",{"$f":"$CE$26","v":"Ghana"},{"$f":"$CE$5","v":"Irak"}]
[null,null,null,null,null,null,null,null,null,null,null,null,null,null,null,null,null,null,null,null,null,null,null,null,null,null,null,null,null,null,null,null,null,null,null,null,null,null,null,null,null,null,null,null,null,null,null,null,null,null,null,null,null,null,null,null,null,null,null,null,null,null,null,null,null,null,null,null,null,null,null,null,null,null,null,null,null,null,null,null,null,null,null,null,null,null,null,null,null,null,null,null,"BDFGHIKL",{"$f":"$BB$26","v":"Saudi-Arabien"},{"$f":"$BB$19","v":"Iran"},"Katar","Australien",{"$f":"$CE$5","v":"Irak"},"Schweden","Ghana",{"$f":"$CE$19","v":"Usbekistan"}]
[null,null,null,null,null,null,null,null,null,null,null,null,null,null,null,null,null,null,null,null,null,null,null,null,null,null,null,null,null,null,null,null,null,null,null,null,null,null,null,null,null,null,null,null,null,null,null,null,null,null,null,null,null,null,null,null,null,null,null,null,null,null,null,null,null,null,null,null,null,null,null,null,null,null,null,null,null,null,null,null,null,null,null,null,null,null,null,null,null,null,null,null,"BDFGHJKL",{"$f":"$BB$26","v":"Saudi-Arabien"},{"$f":"$BB$19","v":"Iran"},"Katar","Australien",{"$f":"$CE$12","v":"Österreich"},"Schweden","Ghana","Usbekistan"]
[null,null,null,null,null,null,null,null,null,null,null,null,null,null,null,null,null,null,null,null,null,null,null,null,null,null,null,null,null,null,null,null,null,null,null,null,null,null,null,null,null,null,null,null,null,null,null,null,null,null,null,null,null,null,null,null,null,null,null,null,null,null,null,null,null,null,null,null,null,null,null,null,null,null,null,null,null,null,null,null,null,null,null,null,null,null,null,null,null,null,null,null,"BDFGIJKL",{"$f":"$CE$5","v":"Irak"},{"$f":"$BB$19","v":"Iran"},"Katar","Australien",{"$f":"$CE$12","v":"Österreich"},"Schweden","Ghana","Usbekistan"]
[null,null,null,null,null,null,null,null,null,null,null,null,null,null,null,null,null,null,null,null,null,null,null,null,null,null,null,null,null,null,null,null,null,null,null,null,null,null,null,null,null,null,null,null,null,null,null,null,null,null,null,null,null,null,null,null,null,null,null,null,null,null,null,null,null,null,null,null,null,null,null,null,null,null,null,null,null,null,null,null,null,null,null,null,null,null,null,null,null,null,null,null,"BDFHIJKL",{"$f":"$BB$26","v":"Saudi-Arabien"},{"$f":"$CE$12","v":"Österreich"},"Katar","Australien",{"$f":"$CE$5","v":"Irak"},"Schweden","Ghana","Usbekistan"]
[null,null,null,null,null,null,null,null,null,null,null,null,null,null,null,null,null,null,null,null,null,null,null,null,null,null,null,null,null,null,null,null,null,null,null,null,null,null,null,null,null,null,null,null,null,null,null,null,null,null,null,null,null,null,null,null,null,null,null,null,null,null,null,null,null,null,null,null,null,null,null,null,null,null,null,null,null,null,null,null,null,null,null,null,null,null,null,null,null,null,null,null,"BDGHIJKL",{"$f":"$BB$26","v":"Saudi-Arabien"},{"$f":"$CE$12","v":"Österreich"},"Katar","Australien",{"$f":"$CE$5","v":"Irak"},{"$f":"$BB$19","v":"Iran"},"Ghana","Usbekistan"]
[null,null,null,null,null,null,null,null,null,null,null,null,null,null,null,null,null,null,null,null,null,null,null,null,null,null,null,null,null,null,null,null,null,null,null,null,null,null,null,null,null,null,null,null,null,null,null,null,null,null,null,null,null,null,null,null,null,null,null,null,null,null,null,null,null,null,null,null,null,null,null,null,null,null,null,null,null,null,null,null,null,null,null,null,null,null,null,null,null,null,null,null,"BEFGHIJK",{"$f":"$BB$5","v":"Elfenbeinküste"},{"$f":"$CE$12","v":"Österreich"},"Katar",{"$f":"$BB$12","v":"Schweden"},{"$f":"$BB$26","v":"Saudi-Arabien"},{"$f":"$BB$19","v":"Iran"},{"$f":"$CE$5","v":"Irak"},"Usbekistan"]
[null,null,null,null,null,null,null,null,null,null,null,null,null,null,null,null,null,null,null,null,null,null,null,null,null,null,null,null,null,null,null,null,null,null,null,null,null,null,null,null,null,null,null,null,null,null,null,null,null,null,null,null,null,null,null,null,null,null,null,null,null,null,null,null,null,null,null,null,null,null,null,null,null,null,null,null,null,null,null,null,null,null,null,null,null,null,null,null,null,null,null,null,"BEFGHIJL","Elfenbeinküste",{"$f":"$CE$12","v":"Österreich"},"Katar","Schweden",{"$f":"$BB$26","v":"Saudi-Arabien"},{"$f":"$BB$19","v":"Iran"},{"$f":"$CE$26","v":"Ghana"},{"$f":"$CE$5","v":"Irak"}]
[null,null,null,null,null,null,null,null,null,null,null,null,null,null,null,null,null,null,null,null,null,null,null,null,null,null,null,null,null,null,null,null,null,null,null,null,null,null,null,null,null,null,null,null,null,null,null,null,null,null,null,null,null,null,null,null,null,null,null,null,null,null,null,null,null,null,null,null,null,null,null,null,null,null,null,null,null,null,null,null,null,null,null,null,null,null,null,null,null,null,null,null,"BEFGHIKL","Elfenbeinküste",{"$f":"$BB$19","v":"Iran"},"Katar","Schweden",{"$f":"$CE$5","v":"Irak"},{"$f":"$BB$26","v":"Saudi-Arabien"},"Ghana",{"$f":"$CE$19","v":"Usbekistan"}]
[null,null,null,null,null,null,null,null,null,null,null,null,null,null,null,null,null,null,null,null,null,null,null,null,null,null,null,null,null,null,null,null,null,null,null,null,null,null,null,null,null,null,null,null,null,null,null,null,null,null,null,null,null,null,null,null,null,null,null,null,null,null,null,null,null,null,null,null,null,null,null,null,null,null,null,null,null,null,null,null,null,null,null,null,null,null,null,null,null,null,null,null,"BEFGHJKL","Elfenbeinküste",{"$f":"$CE$12","v":"Österreich"},"Katar","Schweden",{"$f":"$BB$26","v":"Saudi-Arabien"},{"$f":"$BB$19","v":"Iran"},"Ghana","Usbekistan"]
[null,null,null,null,null,null,null,null,null,null,null,null,null,null,null,null,null,null,null,null,null,null,null,null,null,null,null,null,null,null,null,null,null,null,null,null,null,null,null,null,null,null,null,null,null,null,null,null,null,null,null,null,null,null,null,null,null,null,null,null,null,null,null,null,null,null,null,null,null,null,null,null,null,null,null,null,null,null,null,null,null,null,null,null,null,null,null,null,null,null,null,null,"BEFGIJKL","Elfenbeinküste",{"$f":"$CE$12","v":"Österreich"},"Katar","Schweden",{"$f":"$CE$5","v":"Irak"},{"$f":"$BB$19","v":"Iran"},"Ghana","Usbekistan"]
[null,null,null,null,null,null,null,null,null,null,null,null,null,null,null,null,null,null,null,null,null,null,null,null,null,null,null,null,null,null,null,null,null,null,null,null,null,null,null,null,null,null,null,null,null,null,null,null,null,null,null,null,null,null,null,null,null,null,null,null,null,null,null,null,null,null,null,null,null,null,null,null,null,null,null,null,null,null,null,null,null,null,null,null,null,null,null,null,null,null,null,null,"BEFHIJKL","Elfenbeinküste",{"$f":"$CE$12","v":"Österreich"},"Katar","Schweden",{"$f":"$CE$5","v":"Irak"},{"$f":"$BB$26","v":"Saudi-Arabien"},"Ghana","Usbekistan"]
[null,null,null,null,null,null,null,null,null,null,null,null,null,null,null,null,null,null,null,null,null,null,null,null,null,null,null,null,null,null,null,null,null,null,null,null,null,null,null,null,null,null,null,null,null,null,null,null,null,null,null,null,null,null,null,null,null,null,null,null,null,null,null,null,null,null,null,null,null,null,null,null,null,null,null,null,null,null,null,null,null,null,null,null,null,null,null,null,null,null,null,null,"BEGHIJKL","Elfenbeinküste",{"$f":"$CE$12","v":"Österreich"},{"$f":"$CE$5","v":"Irak"},{"$f":"$Y$12","v":"Katar"},{"$f":"$BB$26","v":"Saudi-Arabien"},{"$f":"$BB$19","v":"Iran"},"Ghana","Usbekistan"]
[null,null,null,null,null,null,null,null,null,null,null,null,null,null,null,null,null,null,null,null,null,null,null,null,null,null,null,null,null,null,null,null,null,null,null,null,null,null,null,null,null,null,null,null,null,null,null,null,null,null,null,null,null,null,null,null,null,null,null,null,null,null,null,null,null,null,null,null,null,null,null,null,null,null,null,null,null,null,null,null,null,null,null,null,null,null,null,null,null,null,null,null,"BFGHIJKL",{"$f":"$BB$26","v":"Saudi-Arabien"},{"$f":"$CE$12","v":"Österreich"},{"$f":"$Y$12","v":"Katar"},{"$f":"$BB$12","v":"Schweden"},{"$f":"$CE$5","v":"Irak"},{"$f":"$BB$19","v":"Iran"},"Ghana","Usbekistan"]
[null,null,null,null,null,null,null,null,null,null,null,null,null,null,null,null,null,null,null,null,null,null,null,null,null,null,null,null,null,null,null,null,null,null,null,null,null,null,null,null,null,null,null,null,null,null,null,null,null,null,null,null,null,null,null,null,null,null,null,null,null,null,null,null,null,null,null,null,null,null,null,null,null,null,null,null,null,null,null,null,null,null,null,null,null,null,null,null,null,null,null,null,"CDEFGHIJ",{"$f":"$Y$19","v":"Haiti"},{"$f":"$BB$19","v":"Iran"},{"$f":"$CE$12","v":"Österreich"},{"$f":"$Y$26","v":"Australien"},{"$f":"$BB$26","v":"Saudi-Arabien"},{"$f":"$BB$12","v":"Schweden"},{"$f":"$BB$5","v":"Elfenbeinküste"},{"$f":"$CE$5","v":"Irak"}]
[null,null,null,null,null,null,null,null,null,null,null,null,null,null,null,null,null,null,null,null,null,null,null,null,null,null,null,null,null,null,null,null,null,null,null,null,null,null,null,null,null,null,null,null,null,null,null,null,null,null,null,null,null,null,null,null,null,null,null,null,null,null,null,null,null,null,null,null,null,null,null,null,null,null,null,null,null,null,null,null,null,null,null,null,null,null,null,null,null,null,null,null,"CDEFGHIK","Haiti","Iran",{"$f":"$BB$5","v":"Elfenbeinküste"},"Australien","Saudi-Arabien","Schweden",{"$f":"$CE$5","v":"Irak"},{"$f":"$CE$19","v":"Usbekistan"}]
[null,null,null,null,null,null,null,null,null,null,null,null,null,null,null,null,null,null,null,null,null,null,null,null,null,null,null,null,null,null,null,null,null,null,null,null,null,null,null,null,null,null,null,null,null,null,null,null,null,null,null,null,null,null,null,null,null,null,null,null,null,null,null,null,null,null,null,null,null,null,null,null,null,null,null,null,null,null,null,null,null,null,null,null,null,null,null,null,null,null,null,null,"CDEFGHIL","Haiti","Iran",{"$f":"$BB$5","v":"Elfenbeinküste"},"Australien","Saudi-Arabien","Schweden",{"$f":"$CE$26","v":"Ghana"},{"$f":"$CE$5","v":"Irak"}]
[null,null,null,null,null,null,null,null,null,null,null,null,null,null,null,null,null,null,null,null,null,null,null,null,null,null,null,null,null,null,null,null,null,null,null,null,null,null,null,null,null,null,null,null,null,null,null,null,null,null,null,null,null,null,null,null,null,null,null,null,null,null,null,null,null,null,null,null,null,null,null,null,null,null,null,null,null,null,null,null,null,null,null,null,null,null,null,null,null,null,null,null,"CDEFGHJK","Haiti","Iran",{"$f":"$CE$12","v":"Österreich"},"Australien","Saudi-Arabien","Schweden",{"$f":"$BB$5","v":"Elfenbeinküste"},{"$f":"$CE$19","v":"Usbekistan"}]
[null,null,null,null,null,null,null,null,null,null,null,null,null,null,null,null,null,null,null,null,null,null,null,null,null,null,null,null,null,null,null,null,null,null,null,null,null,null,null,null,null,null,null,null,null,null,null,null,null,null,null,null,null,null,null,null,null,null,null,null,null,null,null,null,null,null,null,null,null,null,null,null,null,null,null,null,null,null,null,null,null,null,null,null,null,null,null,null,null,null,null,null,"CDEFGHJL","Haiti","Iran",{"$f":"$CE$12","v":"Österreich"},"Australien","Saudi-Arabien","Schweden",{"$f":"$CE$26","v":"Ghana"},{"$f":"$BB$5","v":"Elfenbeinküste"}]
[null,null,null,null,null,null,null,null,null,null,null,null,null,null,null,null,null,null,null,null,null,null,null,null,null,null,null,null,null,null,null,null,null,null,null,null,null,null,null,null,null,null,null,null,null,null,null,null,null,null,null,null,null,null,null,null,null,null,null,null,null,null,null,null,null,null,null,null,null,null,null,null,null,null,null,null,null,null,null,null,null,null,null,null,null,null,null,null,null,null,null,null,"CDEFGHKL","Haiti","Iran",{"$f":"$BB$5","v":"Elfenbeinküste"},"Australien","Saudi-Arabien","Schweden",{"$f":"$CE$26","v":"Ghana"},{"$f":"$CE$19","v":"Usbekistan"}]
[null,null,null,null,null,null,null,null,null,null,null,null,null,null,null,null,null,null,null,null,null,null,null,null,null,null,null,null,null,null,null,null,null,null,null,null,null,null,null,null,null,null,null,null,null,null,null,null,null,null,null,null,null,null,null,null,null,null,null,null,null,null,null,null,null,null,null,null,null,null,null,null,null,null,null,null,null,null,null,null,null,null,null,null,null,null,null,null,null,null,null,null,"CDEFGIJK","Haiti","Iran","Elfenbeinküste","Australien",{"$f":"$CE$12","v":"Österreich"},"Schweden",{"$f":"$CE$5","v":"Irak"},{"$f":"$CE$19","v":"Usbekistan"}]
[null,null,null,null,null,null,null,null,null,null,null,null,null,null,null,null,null,null,null,null,null,null,null,null,null,null,null,null,null,null,null,null,null,null,null,null,null,null,null,null,null,null,null,null,null,null,null,null,null,null,null,null,null,null,null,null,null,null,null,null,null,null,null,null,null,null,null,null,null,null,null,null,null,null,null,null,null,null,null,null,null,null,null,null,null,null,null,null,null,null,null,null,"CDEFGIJL","Haiti","Iran","Elfenbeinküste","Australien",{"$f":"$CE$12","v":"Österreich"},"Schweden",{"$f":"$CE$26","v":"Ghana"},{"$f":"$CE$5","v":"Irak"}]
[null,null,null,null,null,null,null,null,null,null,null,null,null,null,null,null,null,null,null,null,null,null,null,null,null,null,null,null,null,null,null,null,null,null,null,null,null,null,null,null,null,null,null,null,null,null,null,null,null,null,null,null,null,null,null,null,null,null,null,null,null,null,null,null,null,null,null,null,null,null,null,null,null,null,null,null,null,null,null,null,null,null,null,null,null,null,null,null,null,null,null,null,"CDEFGIKL","Haiti","Iran","Elfenbeinküste","Australien",{"$f":"$CE$5","v":"Irak"},"Schweden",{"$f":"$CE$26","v":"Ghana"},{"$f":"$CE$19","v":"Usbekistan"}]
[null,null,null,null,null,null,null,null,null,null,null,null,null,null,null,null,null,null,null,null,null,null,null,null,null,null,null,null,null,null,null,null,null,null,null,null,null,null,null,null,null,null,null,null,null,null,null,null,null,null,null,null,null,null,null,null,null,null,null,null,null,null,null,null,null,null,null,null,null,null,null,null,null,null,null,null,null,null,null,null,null,null,null,null,null,null,null,null,null,null,null,null,"CDEFGJKL","Haiti","Iran","Elfenbeinküste","Australien",{"$f":"$CE$12","v":"Österreich"},"Schweden",{"$f":"$CE$26","v":"Ghana"},{"$f":"$CE$19","v":"Usbekistan"}]
[null,null,null,null,null,null,null,null,null,null,null,null,null,null,null,null,null,null,null,null,null,null,null,null,null,null,null,null,null,null,null,null,null,null,null,null,null,null,null,null,null,null,null,null,null,null,null,null,null,null,null,null,null,null,null,null,null,null,null,null,null,null,null,null,null,null,null,null,null,null,null,null,null,null,null,null,null,null,null,null,null,null,null,null,null,null,null,null,null,null,null,null,"CDEFHIJK","Haiti",{"$f":"$CE$12","v":"Österreich"},"Elfenbeinküste","Australien",{"$f":"$BB$26","v":"Saudi-Arabien"},"Schweden",{"$f":"$CE$5","v":"Irak"},{"$f":"$CE$19","v":"Usbekistan"}]
[null,null,null,null,null,null,null,null,null,null,null,null,null,null,null,null,null,null,null,null,null,null,null,null,null,null,null,null,null,null,null,null,null,null,null,null,null,null,null,null,null,null,null,null,null,null,null,null,null,null,null,null,null,null,null,null,null,null,null,null,null,null,null,null,null,null,null,null,null,null,null,null,null,null,null,null,null,null,null,null,null,null,null,null,null,null,null,null,null,null,null,null,"CDEFHIJL","Haiti",{"$f":"$CE$12","v":"Österreich"},"Elfenbeinküste","Australien",{"$f":"$BB$26","v":"Saudi-Arabien"},"Schweden",{"$f":"$CE$26","v":"Ghana"},{"$f":"$CE$5","v":"Irak"}]
[null,null,null,null,null,null,null,null,null,null,null,null,null,null,null,null,null,null,null,null,null,null,null,null,null,null,null,null,null,null,null,null,null,null,null,null,null,null,null,null,null,null,null,null,null,null,null,null,null,null,null,null,null,null,null,null,null,null,null,null,null,null,null,null,null,null,null,null,null,null,null,null,null,null,null,null,null,null,null,null,null,null,null,null,null,null,null,null,null,null,null,null,"CDEFHIKL","Haiti",{"$f":"$BB$5","v":"Elfenbeinküste"},{"$f":"$CE$5","v":"Irak"},"Australien",{"$f":"$BB$26","v":"Saudi-Arabien"},"Schweden",{"$f":"$CE$26","v":"Ghana"},{"$f":"$CE$19","v":"Usbekistan"}]
[null,null,null,null,null,null,null,null,null,null,null,null,null,null,null,null,null,null,null,null,null,null,null,null,null,null,null,null,null,null,null,null,null,null,null,null,null,null,null,null,null,null,null,null,null,null,null,null,null,null,null,null,null,null,null,null,null,null,null,null,null,null,null,null,null,null,null,null,null,null,null,null,null,null,null,null,null,null,null,null,null,null,null,null,null,null,null,null,null,null,null,null,"CDEFHJKL","Haiti",{"$f":"$CE$12","v":"Österreich"},{"$f":"$BB$5","v":"Elfenbeinküste"},"Australien",{"$f":"$BB$26","v":"Saudi-Arabien"},"Schweden",{"$f":"$CE$26","v":"Ghana"},{"$f":"$CE$19","v":"Usbekistan"}]
[null,null,null,null,null,null,null,null,null,null,null,null,null,null,null,null,null,null,null,null,null,null,null,null,null,null,null,null,null,null,null,null,null,null,null,null,null,null,null,null,null,null,null,null,null,null,null,null,null,null,null,null,null,null,null,null,null,null,null,null,null,null,null,null,null,null,null,null,null,null,null,null,null,null,null,null,null,null,null,null,null,null,null,null,null,null,null,null,null,null,null,null,"CDEFIJKL","Haiti",{"$f":"$CE$12","v":"Österreich"},{"$f":"$BB$5","v":"Elfenbeinküste"},"Australien",{"$f":"$CE$5","v":"Irak"},"Schweden",{"$f":"$CE$26","v":"Ghana"},{"$f":"$CE$19","v":"Usbekistan"}]
[null,null,null,null,null,null,null,null,null,null,null,null,null,null,null,null,null,null,null,null,null,null,null,null,null,null,null,null,null,null,null,null,null,null,null,null,null,null,null,null,null,null,null,null,null,null,null,null,null,null,null,null,null,null,null,null,null,null,null,null,null,null,null,null,null,null,null,null,null,null,null,null,null,null,null,null,null,null,null,null,null,null,null,null,null,null,null,null,null,null,null,null,"CDEGHIJK",{"$f":"$BB$5","v":"Elfenbeinküste"},{"$f":"$BB$19","v":"Iran"},{"$f":"$CE$12","v":"Österreich"},{"$f":"$Y$19","v":"Haiti"},{"$f":"$BB$26","v":"Saudi-Arabien"},{"$f":"$Y$26","v":"Australien"},{"$f":"$CE$5","v":"Irak"},{"$f":"$CE$19","v":"Usbekistan"}]
[null,null,null,null,null,null,null,null,null,null,null,null,null,null,null,null,null,null,null,null,null,null,null,null,null,null,null,null,null,null,null,null,null,null,null,null,null,null,null,null,null,null,null,null,null,null,null,null,null,null,null,null,null,null,null,null,null,null,null,null,null,null,null,null,null,null,null,null,null,null,null,null,null,null,null,null,null,null,null,null,null,null,null,null,null,null,null,null,null,null,null,null,"CDEGHIJL","Elfenbeinküste",{"$f":"$BB$19","v":"Iran"},{"$f":"$CE$12","v":"Österreich"},"Haiti",{"$f":"$BB$26","v":"Saudi-Arabien"},"Australien",{"$f":"$CE$26","v":"Ghana"},{"$f":"$CE$5","v":"Irak"}]
[null,null,null,null,null,null,null,null,null,null,null,null,null,null,null,null,null,null,null,null,null,null,null,null,null,null,null,null,null,null,null,null,null,null,null,null,null,null,null,null,null,null,null,null,null,null,null,null,null,null,null,null,null,null,null,null,null,null,null,null,null,null,null,null,null,null,null,null,null,null,null,null,null,null,null,null,null,null,null,null,null,null,null,null,null,null,null,null,null,null,null,null,"CDEGHIKL","Elfenbeinküste",{"$f":"$BB$19","v":"Iran"},{"$f":"$CE$5","v":"Irak"},"Haiti",{"$f":"$BB$26","v":"Saudi-Arabien"},"Australien",{"$f":"$CE$26","v":"Ghana"},{"$f":"$CE$19","v":"Usbekistan"}]
[null,null,null,null,null,null,null,null,null,null,null,null,null,null,null,null,null,null,null,null,null,null,null,null,null,null,null,null,null,null,null,null,null,null,null,null,null,null,null,null,null,null,null,null,null,null,null,null,null,null,null,null,null,null,null,null,null,null,null,null,null,null,null,null,null,null,null,null,null,null,null,null,null,null,null,null,null,null,null,null,null,null,null,null,null,null,null,null,null,null,null,null,"CDEGHJKL","Elfenbeinküste",{"$f":"$BB$19","v":"Iran"},{"$f":"$CE$12","v":"Österreich"},"Haiti",{"$f":"$BB$26","v":"Saudi-Arabien"},"Australien",{"$f":"$CE$26","v":"Ghana"},{"$f":"$CE$19","v":"Usbekistan"}]
[null,null,null,null,null,null,null,null,null,null,null,null,null,null,null,null,null,null,null,null,null,null,null,null,null,null,null,null,null,null,null,null,null,null,null,null,null,null,null,null,null,null,null,null,null,null,null,null,null,null,null,null,null,null,null,null,null,null,null,null,null,null,null,null,null,null,null,null,null,null,null,null,null,null,null,null,null,null,null,null,null,null,null,null,null,null,null,null,null,null,null,null,"CDEGIJKL","Elfenbeinküste",{"$f":"$BB$19","v":"Iran"},{"$f":"$CE$5","v":"Irak"},"Haiti",{"$f":"$CE$12","v":"Österreich"},"Australien",{"$f":"$CE$26","v":"Ghana"},{"$f":"$CE$19","v":"Usbekistan"}]
[null,null,null,null,null,null,null,null,null,null,null,null,null,null,null,null,null,null,null,null,null,null,null,null,null,null,null,null,null,null,null,null,null,null,null,null,null,null,null,null,null,null,null,null,null,null,null,null,null,null,null,null,null,null,null,null,null,null,null,null,null,null,null,null,null,null,null,null,null,null,null,null,null,null,null,null,null,null,null,null,null,null,null,null,null,null,null,null,null,null,null,null,"CDEHIJKL","Elfenbeinküste",{"$f":"$CE$12","v":"Österreich"},{"$f":"$CE$5","v":"Irak"},"Haiti",{"$f":"$BB$26","v":"Saudi-Arabien"},"Australien",{"$f":"$CE$26","v":"Ghana"},{"$f":"$CE$19","v":"Usbekistan"}]
[null,null,null,null,null,null,null,null,null,null,null,null,null,null,null,null,null,null,null,null,null,null,null,null,null,null,null,null,null,null,null,null,null,null,null,null,null,null,null,null,null,null,null,null,null,null,null,null,null,null,null,null,null,null,null,null,null,null,null,null,null,null,null,null,null,null,null,null,null,null,null,null,null,null,null,null,null,null,null,null,null,null,null,null,null,null,null,null,null,null,null,null,"CDFGHIJK",{"$f":"$Y$19","v":"Haiti"},{"$f":"$BB$19","v":"Iran"},{"$f":"$CE$12","v":"Österreich"},{"$f":"$Y$26","v":"Australien"},{"$f":"$BB$26","v":"Saudi-Arabien"},{"$f":"$BB$12","v":"Schweden"},{"$f":"$CE$5","v":"Irak"},{"$f":"$CE$19","v":"Usbekistan"}]
[null,null,null,null,null,null,null,null,null,null,null,null,null,null,null,null,null,null,null,null,null,null,null,null,null,null,null,null,null,null,null,null,null,null,null,null,null,null,null,null,null,null,null,null,null,null,null,null,null,null,null,null,null,null,null,null,null,null,null,null,null,null,null,null,null,null,null,null,null,null,null,null,null,null,null,null,null,null,null,null,null,null,null,null,null,null,null,null,null,null,null,null,"CDFGHIJL","Haiti",{"$f":"$BB$19","v":"Iran"},{"$f":"$CE$12","v":"Österreich"},"Australien",{"$f":"$BB$26","v":"Saudi-Arabien"},"Schweden",{"$f":"$CE$26","v":"Ghana"},{"$f":"$CE$5","v":"Irak"}]
[null,null,null,null,null,null,null,null,null,null,null,null,null,null,null,null,null,null,null,null,null,null,null,null,null,null,null,null,null,null,null,null,null,null,null,null,null,null,null,null,null,null,null,null,null,null,null,null,null,null,null,null,null,null,null,null,null,null,null,null,null,null,null,null,null,null,null,null,null,null,null,null,null,null,null,null,null,null,null,null,null,null,null,null,null,null,null,null,null,null,null,null,"CDFGHIKL","Haiti",{"$f":"$BB$19","v":"Iran"},{"$f":"$CE$5","v":"Irak"},"Australien",{"$f":"$BB$26","v":"Saudi-Arabien"},"Schweden","Ghana",{"$f":"$CE$19","v":"Usbekistan"}]
[null,null,null,null,null,null,null,null,null,null,null,null,null,null,null,null,null,null,null,null,null,null,null,null,null,null,null,null,null,null,null,null,null,null,null,null,null,null,null,null,null,null,null,null,null,null,null,null,null,null,null,null,null,null,null,null,null,null,null,null,null,null,null,null,null,null,null,null,null,null,null,null,null,null,null,null,null,null,null,null,null,null,null,null,null,null,null,null,null,null,null,null,"CDFGHJKL","Haiti",{"$f":"$BB$19","v":"Iran"},{"$f":"$CE$12","v":"Österreich"},"Australien",{"$f":"$BB$26","v":"Saudi-Arabien"},"Schweden","Ghana","Usbekistan"]
[null,null,null,null,null,null,null,null,null,null,null,null,null,null,null,null,null,null,null,null,null,null,null,null,null,null,null,null,null,null,null,null,null,null,null,null,null,null,null,null,null,null,null,null,null,null,null,null,null,null,null,null,null,null,null,null,null,null,null,null,null,null,null,null,null,null,null,null,null,null,null,null,null,null,null,null,null,null,null,null,null,null,null,null,null,null,null,null,null,null,null,null,"CDFGIJKL","Haiti",{"$f":"$BB$19","v":"Iran"},{"$f":"$CE$5","v":"Irak"},"Australien",{"$f":"$CE$12","v":"Österreich"},"Schweden","Ghana","Usbekistan"]
[null,null,null,null,null,null,null,null,null,null,null,null,null,null,null,null,null,null,null,null,null,null,null,null,null,null,null,null,null,null,null,null,null,null,null,null,null,null,null,null,null,null,null,null,null,null,null,null,null,null,null,null,null,null,null,null,null,null,null,null,null,null,null,null,null,null,null,null,null,null,null,null,null,null,null,null,null,null,null,null,null,null,null,null,null,null,null,null,null,null,null,null,"CDFHIJKL","Haiti",{"$f":"$CE$12","v":"Österreich"},{"$f":"$CE$5","v":"Irak"},"Australien",{"$f":"$BB$26","v":"Saudi-Arabien"},"Schweden","Ghana","Usbekistan"]
[null,null,null,null,null,null,null,null,null,null,null,null,null,null,null,null,null,null,null,null,null,null,null,null,null,null,null,null,null,null,null,null,null,null,null,null,null,null,null,null,null,null,null,null,null,null,null,null,null,null,null,null,null,null,null,null,null,null,null,null,null,null,null,null,null,null,null,null,null,null,null,null,null,null,null,null,null,null,null,null,null,null,null,null,null,null,null,null,null,null,null,null,"CDGHIJKL",{"$f":"$BB$26","v":"Saudi-Arabien"},{"$f":"$BB$19","v":"Iran"},{"$f":"$CE$5","v":"Irak"},{"$f":"$Y$19","v":"Haiti"},{"$f":"$CE$12","v":"Österreich"},{"$f":"$Y$26","v":"Australien"},"Ghana","Usbekistan"]
[null,null,null,null,null,null,null,null,null,null,null,null,null,null,null,null,null,null,null,null,null,null,null,null,null,null,null,null,null,null,null,null,null,null,null,null,null,null,null,null,null,null,null,null,null,null,null,null,null,null,null,null,null,null,null,null,null,null,null,null,null,null,null,null,null,null,null,null,null,null,null,null,null,null,null,null,null,null,null,null,null,null,null,null,null,null,null,null,null,null,null,null,"CEFGHIJK",{"$f":"$BB$5","v":"Elfenbeinküste"},"Iran",{"$f":"$CE$12","v":"Österreich"},"Haiti",{"$f":"$BB$26","v":"Saudi-Arabien"},{"$f":"$BB$12","v":"Schweden"},{"$f":"$CE$5","v":"Irak"},"Usbekistan"]
[null,null,null,null,null,null,null,null,null,null,null,null,null,null,null,null,null,null,null,null,null,null,null,null,null,null,null,null,null,null,null,null,null,null,null,null,null,null,null,null,null,null,null,null,null,null,null,null,null,null,null,null,null,null,null,null,null,null,null,null,null,null,null,null,null,null,null,null,null,null,null,null,null,null,null,null,null,null,null,null,null,null,null,null,null,null,null,null,null,null,null,null,"CEFGHIJL","Elfenbeinküste","Iran",{"$f":"$CE$12","v":"Österreich"},"Haiti",{"$f":"$BB$26","v":"Saudi-Arabien"},"Schweden",{"$f":"$CE$26","v":"Ghana"},{"$f":"$CE$5","v":"Irak"}]
[null,null,null,null,null,null,null,null,null,null,null,null,null,null,null,null,null,null,null,null,null,null,null,null,null,null,null,null,null,null,null,null,null,null,null,null,null,null,null,null,null,null,null,null,null,null,null,null,null,null,null,null,null,null,null,null,null,null,null,null,null,null,null,null,null,null,null,null,null,null,null,null,null,null,null,null,null,null,null,null,null,null,null,null,null,null,null,null,null,null,null,null,"CEFGHIKL","Elfenbeinküste","Iran",{"$f":"$CE$5","v":"Irak"},"Haiti",{"$f":"$BB$26","v":"Saudi-Arabien"},"Schweden","Ghana",{"$f":"$CE$19","v":"Usbekistan"}]
[null,null,null,null,null,null,null,null,null,null,null,null,null,null,null,null,null,null,null,null,null,null,null,null,null,null,null,null,null,null,null,null,null,null,null,null,null,null,null,null,null,null,null,null,null,null,null,null,null,null,null,null,null,null,null,null,null,null,null,null,null,null,null,null,null,null,null,null,null,null,null,null,null,null,null,null,null,null,null,null,null,null,null,null,null,null,null,null,null,null,null,null,"CEFGHJKL","Elfenbeinküste","Iran",{"$f":"$CE$12","v":"Österreich"},"Haiti",{"$f":"$BB$26","v":"Saudi-Arabien"},"Schweden","Ghana","Usbekistan"]
[null,null,null,null,null,null,null,null,null,null,null,null,null,null,null,null,null,null,null,null,null,null,null,null,null,null,null,null,null,null,null,null,null,null,null,null,null,null,null,null,null,null,null,null,null,null,null,null,null,null,null,null,null,null,null,null,null,null,null,null,null,null,null,null,null,null,null,null,null,null,null,null,null,null,null,null,null,null,null,null,null,null,null,null,null,null,null,null,null,null,null,null,"CEFGIJKL","Elfenbeinküste","Iran",{"$f":"$CE$5","v":"Irak"},"Haiti",{"$f":"$CE$12","v":"Österreich"},"Schweden","Ghana","Usbekistan"]
[null,null,null,null,null,null,null,null,null,null,null,null,null,null,null,null,null,null,null,null,null,null,null,null,null,null,null,null,null,null,null,null,null,null,null,null,null,null,null,null,null,null,null,null,null,null,null,null,null,null,null,null,null,null,null,null,null,null,null,null,null,null,null,null,null,null,null,null,null,null,null,null,null,null,null,null,null,null,null,null,null,null,null,null,null,null,null,null,null,null,null,null,"CEFHIJKL","Elfenbeinküste",{"$f":"$CE$12","v":"Österreich"},{"$f":"$CE$5","v":"Irak"},"Haiti",{"$f":"$BB$26","v":"Saudi-Arabien"},"Schweden","Ghana","Usbekistan"]
[null,null,null,null,null,null,null,null,null,null,null,null,null,null,null,null,null,null,null,null,null,null,null,null,null,null,null,null,null,null,null,null,null,null,null,null,null,null,null,null,null,null,null,null,null,null,null,null,null,null,null,null,null,null,null,null,null,null,null,null,null,null,null,null,null,null,null,null,null,null,null,null,null,null,null,null,null,null,null,null,null,null,null,null,null,null,null,null,null,null,null,null,"CEGHIJKL","Elfenbeinküste",{"$f":"$CE$12","v":"Österreich"},{"$f":"$CE$5","v":"Irak"},"Haiti",{"$f":"$BB$26","v":"Saudi-Arabien"},{"$f":"$BB$19","v":"Iran"},"Ghana","Usbekistan"]
[null,null,null,null,null,null,null,null,null,null,null,null,null,null,null,null,null,null,null,null,null,null,null,null,null,null,null,null,null,null,null,null,null,null,null,null,null,null,null,null,null,null,null,null,null,null,null,null,null,null,null,null,null,null,null,null,null,null,null,null,null,null,null,null,null,null,null,null,null,null,null,null,null,null,null,null,null,null,null,null,null,null,null,null,null,null,null,null,null,null,null,null,"CFGHIJKL",{"$f":"$BB$26","v":"Saudi-Arabien"},{"$f":"$BB$19","v":"Iran"},{"$f":"$CE$5","v":"Irak"},"Haiti",{"$f":"$CE$12","v":"Österreich"},{"$f":"$BB$12","v":"Schweden"},"Ghana","Usbekistan"]
[null,null,null,null,null,null,null,null,null,null,null,null,null,null,null,null,null,null,null,null,null,null,null,null,null,null,null,null,null,null,null,null,null,null,null,null,null,null,null,null,null,null,null,null,null,null,null,null,null,null,null,null,null,null,null,null,null,null,null,null,null,null,null,null,null,null,null,null,null,null,null,null,null,null,null,null,null,null,null,null,null,null,null,null,null,null,null,null,null,null,null,null,"DEFGHIJK",{"$f":"$BB$5","v":"Elfenbeinküste"},"Iran",{"$f":"$CE$12","v":"Österreich"},{"$f":"$Y$26","v":"Australien"},{"$f":"$BB$26","v":"Saudi-Arabien"},"Schweden",{"$f":"$CE$5","v":"Irak"},"Usbekistan"]
[null,null,null,null,null,null,null,null,null,null,null,null,null,null,null,null,null,null,null,null,null,null,null,null,null,null,null,null,null,null,null,null,null,null,null,null,null,null,null,null,null,null,null,null,null,null,null,null,null,null,null,null,null,null,null,null,null,null,null,null,null,null,null,null,null,null,null,null,null,null,null,null,null,null,null,null,null,null,null,null,null,null,null,null,null,null,null,null,null,null,null,null,"DEFGHIJL","Elfenbeinküste","Iran",{"$f":"$CE$12","v":"Österreich"},"Australien",{"$f":"$BB$26","v":"Saudi-Arabien"},"Schweden",{"$f":"$CE$26","v":"Ghana"},{"$f":"$CE$5","v":"Irak"}]
[null,null,null,null,null,null,null,null,null,null,null,null,null,null,null,null,null,null,null,null,null,null,null,null,null,null,null,null,null,null,null,null,null,null,null,null,null,null,null,null,null,null,null,null,null,null,null,null,null,null,null,null,null,null,null,null,null,null,null,null,null,null,null,null,null,null,null,null,null,null,null,null,null,null,null,null,null,null,null,null,null,null,null,null,null,null,null,null,null,null,null,null,"DEFGHIKL","Elfenbeinküste","Iran",{"$f":"$CE$5","v":"Irak"},"Australien",{"$f":"$BB$26","v":"Saudi-Arabien"},"Schweden","Ghana",{"$f":"$CE$19","v":"Usbekistan"}]
[null,null,null,null,null,null,null,null,null,null,null,null,null,null,null,null,null,null,null,null,null,null,null,null,null,null,null,null,null,null,null,null,null,null,null,null,null,null,null,null,null,null,null,null,null,null,null,null,null,null,null,null,null,null,null,null,null,null,null,null,null,null,null,null,null,null,null,null,null,null,null,null,null,null,null,null,null,null,null,null,null,null,null,null,null,null,null,null,null,null,null,null,"DEFGHJKL","Elfenbeinküste","Iran",{"$f":"$CE$12","v":"Österreich"},"Australien",{"$f":"$BB$26","v":"Saudi-Arabien"},"Schweden","Ghana","Usbekistan"]
[null,null,null,null,null,null,null,null,null,null,null,null,null,null,null,null,null,null,null,null,null,null,null,null,null,null,null,null,null,null,null,null,null,null,null,null,null,null,null,null,null,null,null,null,null,null,null,null,null,null,null,null,null,null,null,null,null,null,null,null,null,null,null,null,null,null,null,null,null,null,null,null,null,null,null,null,null,null,null,null,null,null,null,null,null,null,null,null,null,null,null,null,"DEFGIJKL","Elfenbeinküste","Iran",{"$f":"$CE$5","v":"Irak"},"Australien",{"$f":"$CE$12","v":"Österreich"},"Schweden","Ghana","Usbekistan"]
[null,null,null,null,null,null,null,null,null,null,null,null,null,null,null,null,null,null,null,null,null,null,null,null,null,null,null,null,null,null,null,null,null,null,null,null,null,null,null,null,null,null,null,null,null,null,null,null,null,null,null,null,null,null,null,null,null,null,null,null,null,null,null,null,null,null,null,null,null,null,null,null,null,null,null,null,null,null,null,null,null,null,null,null,null,null,null,null,null,null,null,null,"DEFHIJKL","Elfenbeinküste",{"$f":"$CE$12","v":"Österreich"},"Irak","Australien",{"$f":"$BB$26","v":"Saudi-Arabien"},"Schweden","Ghana","Usbekistan"]
[null,null,null,null,null,null,null,null,null,null,null,null,null,null,null,null,null,null,null,null,null,null,null,null,null,null,null,null,null,null,null,null,null,null,null,null,null,null,null,null,null,null,null,null,null,null,null,null,null,null,null,null,null,null,null,null,null,null,null,null,null,null,null,null,null,null,null,null,null,null,null,null,null,null,null,null,null,null,null,null,null,null,null,null,null,null,null,null,null,null,null,null,"DEGHIJKL","Elfenbeinküste",{"$f":"$CE$12","v":"Österreich"},"Irak","Australien",{"$f":"$BB$26","v":"Saudi-Arabien"},{"$f":"$BB$19","v":"Iran"},"Ghana","Usbekistan"]
[null,null,null,null,null,null,null,null,null,null,null,null,null,null,null,null,null,null,null,null,null,null,null,null,null,null,null,null,null,null,null,null,null,null,null,null,null,null,null,null,null,null,null,null,null,null,null,null,null,null,null,null,null,null,null,null,null,null,null,null,null,null,null,null,null,null,null,null,null,null,null,null,null,null,null,null,null,null,null,null,null,null,null,null,null,null,null,null,null,null,null,null,"DFGHIJKL",{"$f":"$BB$26","v":"Saudi-Arabien"},{"$f":"$BB$19","v":"Iran"},"Irak","Australien",{"$f":"$CE$12","v":"Österreich"},{"$f":"$BB$12","v":"Schweden"},"Ghana","Usbekistan"]
[null,null,null,null,null,null,null,null,null,null,null,null,null,null,null,null,null,null,null,null,null,null,null,null,null,null,null,null,null,null,null,null,null,null,null,null,null,null,null,null,null,null,null,null,null,null,null,null,null,null,null,null,null,null,null,null,null,null,null,null,null,null,null,null,null,null,null,null,null,null,null,null,null,null,null,null,null,null,null,null,null,null,null,null,null,null,null,null,null,null,null,null,"EFGHIJKL",{"$f":"$BB$5","v":"Elfenbeinküste"},{"$f":"$CE$12","v":"Österreich"},"Irak",{"$f":"$BB$12","v":"Schweden"},{"$f":"$BB$26","v":"Saudi-Arabien"},{"$f":"$BB$19","v":"Iran"},"Ghana","Usbekistan"]
[null,null,null,null,null,null,null,null,null,null,null,null,null,null,null,null,null,null,null,null,null,null,null,null,null,null,null,null,null,null,null,null,null,null,null,null,null,null,null,null,null,null,null,null,null,null,null,null,null,null,null,null,null,null,null,null,null,null,null,null,null,null,null,null,null,null,null,null,null,null,null,null,null,null,null,null,null,null,null,null,null,null,null,null,null,null,null,null,null,null,null,null,"EFGHIJKL",{"$f":"$BB$5","v":"Elfenbeinküste"},{"$f":"$CE$12","v":"Österreich"},"Irak",{"$f":"$BB$12","v":"Schweden"},{"$f":"$BB$26","v":"Saudi-Arabien"},{"$f":"$BB$19","v":"Iran"},"Ghana","Usbekistan"]

{"sheet":"KO-Runde 073-088","index":4,"n_rows":57,"n_cols":118,"rows_kept":57,"cut":false,"hidden":false,"merged":[[0,4,0,6],[0,7,0,9],[0,51,0,53],[0,54,0,56],[0,39,0,41],[0,42,0,44],[0,45,0,47],[0,48,0,50],[0,33,0,35],[0,36,0,38],[0,14,5,14],[1,15,5,15],[1,16,5,16],[1,17,5,17],[1,18,5,18],[1,19,5,19],[1,20,5,20],[1,21,5,21],[1,22,5,22],[1,23,5,23],[1,24,5,24],[1,25,5,25],[1,26,5,26],[0,15,0,17],[55,63,56,63],[55,88,56,90],[55,91,56,93],[55,94,56,96],[0,63,5,63],[0,88,5,90],[0,91,5,93],[0,94,5,96],[0,57,0,59],[0,60,0,62],[1,60,5,60],[1,61,5,61],[1,62,5,62],[1,58,5,58],[1,59,5,59],[0,18,0,20],[0,21,0,23],[0,24,0,26],[0,27,0,29],[0,30,0,32],[1,42,5,42],[1,43,5,43],[1,44,5,44],[1,45,5,45],[1,33,5,33],[1,34,5,34],[1,35,5,35],[1,36,5,36],[1,27,5,27],[1,28,5,28],[1,29,5,29],[1,30,5,30],[1,31,5,31],[1,32,5,32],[1,46,5,46],[1,37,5,37],[1,38,5,38],[1,39,5,39],[1,40,5,40],[1,41,5,41],[1,55,5,55],[1,56,5,56],[1,57,5,57],[1,50,5,50],[1,51,5,51],[1,52,5,52],[1,53,5,53],[1,54,5,54],[1,47,5,47],[1,48,5,48],[1,49,5,49],[0,109,5,111],[1,112,5,112],[1,113,5,113],[1,114,5,114],[0,64,5,66],[0,67,5,69],[0,70,5,72],[0,73,5,75],[0,76,5,78],[0,79,5,81],[0,82,5,84],[0,85,5,87],[0,97,5,99],[0,100,5,102],[0,103,5,105],[0,106,5,108],[55,112,55,114],[56,112,56,114],[55,79,56,81],[55,82,56,84],[55,85,56,87],[55,64,56,66],[55,67,56,69],[55,70,56,72],[55,73,56,75],[55,76,56,78],[55,97,56,99],[55,100,56,102],[55,103,56,105],[55,106,56,108],[55,109,56,111]]}
["Spiele 73-88   (chronologisch)","Anstoßzeit","Ortszeit","Spiel-Nr.","Spielpaarungen / Gruppen",null,null,"Ergebnis",null,null,"Austragungsort / Stadion","K.O.-Runde","Live-TV Übertragungsrechte"," - ","NAME",{"$f":"$D$2","v":73},null,null,{"$f":"$D$3","v":76},null,null,{"$f":"$D$4","v":74},null,null,{"$f":"$D$5","v":75},null,null,{"$f":"$D$6","v":78},null,null,{"$f":"$D$7","v":77},null,null,{"$f":"$D$8","v":79},null,null,{"$f":"$D$9","v":80},null,null,{"$f":"$D$10","v":82},null,null,{"$f":"$D$11","v":81},null,null,{"$f":"$D$12","v":84},null,null,{"$f":"$D$13","v":83},null,null,{"$f":"$D$14","v":85},null,null,{"$f":"$D$15","v":88},null,null,{"$f":"$D$16","v":86},null,null,{"$f":"$D$17","v":87},null,null,"NAME",{"$f":"$P$1","v":73},null,null,{"$f":"$S$1","v":76},null,null,{"$f":"$V$1","v":74},null,null,{"$f":"$Y$1","v":75},null,null,{"$f":"$AB$1","v":78},null,null,{"$f":"$AE$1","v":77},null,null,{"$f":"$AH$1","v":79},null,null,{"$f":"$AK$1","v":80},null,null,{"$f":"$AN$1","v":82},null,null,{"$f":"$AQ$1","v":81},null,null,{"$f":"$AT$1","v":84},null,null,{"$f":"$AW$1","v":83},null,null,{"$f":"$AZ$1","v":85},null,null,{"$f":"$BC$1","v":88},null,null,{"$f":"$BF$1","v":86},null,null,{"$f":"$BI$1","v":87},null,null,"PUNKTE","PUNKTE","PUNKTE",null,"Ausgeschiedene Mannschaften",{"$f":"TODAY()","v":"2026-05-19"}]
["2026-06-28T21:00:00",46201.875,"2026-06-28T12:00:00",73,{"$f":"IF('Vorrunde (Tabellen)'!$L$5=\"\",\"2. Gruppe A\",'Vorrunde (Tabellen)'!$Y$4)","v":"2. Gruppe A"},"-",{"$f":"IF('Vorrunde (Tabellen)'!$L$5=\"\",\"2. Gruppe B\",'Vorrunde (Tabellen)'!$Y$11)","v":"2. Gruppe B"},null,":",null,"USA / SoFi Stadium (Los Angeles)","Sechzehntelfinale","voraussichtlich ARD und Magenta",{"$f":"IF($J2<>\"\",1,0)","v":0},null,"2. Gruppe A",{"$f":"$B$2","v":"2026-06-28T21:00:00"},"2. Gruppe B","1. Gruppe C",{"$f":"$B$3","v":"2026-06-29T19:00:00"},"2. Gruppe F","1. Gruppe E",{"$f":"$B$4","v":"2026-06-29T22:30:00"},"3. Gruppe A/B/C/D/F","1. Gruppe F",{"$f":"$B$5","v":"2026-06-30T03:00:00"},"2. Gruppe C","2. Gruppe E",{"$f":"$B$6","v":"2026-06-30T19:00:00"},"2. Gruppe I","1. Gruppe I",{"$f":"$B$7","v":"2026-06-30T23:00:00"},"3. Gruppe C/D/F/G/H","1. Gruppe A",{"$f":"$B$8","v":"2026-07-01T03:00:00"},"3. Gruppe C/E/F/H/I","1. Gruppe L",{"$f":"$B$9","v":"2026-07-01T18:00:00"},"3. Gruppe E/H/I/J/K","1. Gruppe G",{"$f":"$B$10","v":"2026-07-01T22:00:00"},"3. Gruppe A/E/H/I/J","1. Gruppe D",{"$f":"$B$11","v":"2026-07-02T02:00:00"},"3. Gruppe B/E/F/I/J","1. Gruppe H",{"$f":"$B$12","v":"2026-07-02T21:00:00"},"2. Gruppe J","2. Gruppe K",{"$f":"$B$13","v":"2026-07-03T01:00:00"},"2. Gruppe L","1. Gruppe B",{"$f":"$B$14","v":"2026-07-03T05:00:00"},"3. Gruppe E/F/G/I/J","2. Gruppe D",{"$f":"$B$15","v":"2026-07-03T20:00:00"},"2. Gruppe G","1. Gruppe J",{"$f":"$B$16","v":"2026-07-04"},"2. Gruppe H","1. Gruppe K",{"$f":"$B$17","v":"2026-07-04T03:30:00"},"3. Gruppe D/E/I/J/L",null,null,null,null,null,null,null,null,null,null,null,null,null,null,null,null,null,null,null,null,null,null,null,null,null,null,null,null,null,null,null,null,null,null,null,null,null,null,null,null,null,null,null,null,null,null,null,null,null,"Summe","Übertrag","GESAMT",null,{"$f":"IF('KO-Runde 089-104'!DO2=\"\",\"\",'KO-Runde 089-104'!DO2)","v":""},"Team 1"]
["2026-06-29T19:00:00",46202.791666666664,"2026-06-29T12:00:00",76,{"$f":"IF('Vorrunde (Tabellen)'!$L$5=\"\",\"1. Gruppe C\",'Vorrunde (Tabellen)'!$Y$17)","v":"1. Gruppe C"},"-",{"$f":"IF('Vorrunde (Tabellen)'!$L$5=\"\",\"2. Gruppe F\",'Vorrunde (Tabellen)'!$BB$11)","v":"2. Gruppe F"},null,":",null,"USA / NRG Stadium (Houston)","Sechzehntelfinale","voraussichtlich ZDF und Magenta",{"$f":"IF($J3<>\"\",1,0)","v":0},null,null,null,null,null,null,null,null,null,null,null,null,null,null,null,null,null,null,null,null,null,null,null,null,null,null,null,null,null,null,null,null,null,null,null,null,null,null,null,null,null,null,null,null,null,null,null,null,null,null,null,null,null,null,null,null,null,null,null,null,null,null,null,null,null,null,null,null,null,null,null,null,null,null,null,null,null,null,null,null,null,null,null,null,null,null,null,null,null,null,null,null,null,null,null,null,null,null,null,null,null,null,{"$f":"IF('KO-Runde 089-104'!DO3=\"\",\"\",'KO-Runde 089-104'!DO3)","v":""},"Team 2"]
["2026-06-29T22:30:00",46202.9375,"2026-06-29T16:30:00",74,{"$f":"IF('Vorrunde (Tabellen)'!$L$5=\"\",\"1. Gruppe E\",'Vorrunde (Tabellen)'!$BB$3)","v":"1. Gruppe E"},"-",{"$f":"IF('Vorrunde (Tabellen)'!$L$5=\"\",\"3. Gruppe A/B/C/D/F\",VLOOKUP('Vorrunde (Tabellen)'!$K$34,'Vorrunde (Tabellen)'!$CO$2:$CW$497,5))","v":"3. Gruppe A/B/C/D/F"},null,":",null,"USA / Gillette Stadium (Boston)","Sechzehntelfinale","voraussichtlich ZDF und Magenta",0,null,null,null,null,null,null,null,null,null,null,null,null,null,null,null,null,null,null,null,null,null,null,null,null,null,null,null,null,null,null,null,null,null,null,null,null,null,null,null,null,null,null,null,null,null,null,null,null,null,null,null,null,null,null,null,null,null,null,null,null,null,null,null,null,null,null,null,null,null,null,null,null,null,null,null,null,null,null,null,null,null,null,null,null,null,null,null,null,null,null,null,null,null,null,null,null,null,null,null,null,null,null,{"$f":"IF('KO-Runde 089-104'!DO4=\"\",\"\",'KO-Runde 089-104'!DO4)","v":""},"Team 3"]
["2026-06-30T03:00:00",46203.125,"2026-06-29T19:00:00",75,{"$f":"IF('Vorrunde (Tabellen)'!$L$5=\"\",\"1. Gruppe F\",'Vorrunde (Tabellen)'!$BB$10)","v":"1. Gruppe F"},"-",{"$f":"IF('Vorrunde (Tabellen)'!$L$5=\"\",\"2. Gruppe C\",'Vorrunde (Tabellen)'!$Y$18)","v":"2. Gruppe C"},null,":",null,"Mexiko / Estadio BBVA (Monterrey)","Sechzehntelfinale","voraussichtlich nur bei MagentaTV",0,null,null,null,null,null,null,null,null,null,null,null,null,null,null,null,null,null,null,null,null,null,null,null,null,null,null,null,null,null,null,null,null,null,null,null,null,null,null,null,null,null,null,null,null,null,null,null,null,null,null,null,null,null,null,null,null,null,null,null,null,null,null,null,null,null,null,null,null,null,null,null,null,null,null,null,null,null,null,null,null,null,null,null,null,null,null,null,null,null,null,null,null,null,null,null,null,null,null,null,null,null,null,{"$f":"IF('KO-Runde 089-104'!DO5=\"\",\"\",'KO-Runde 089-104'!DO5)","v":""},"Team 4"]
["2026-06-30T19:00:00",46203.791666666664,"2026-06-30T12:00:00",78,{"$f":"IF('Vorrunde (Tabellen)'!$L$5=\"\",\"2. Gruppe E\",'Vorrunde (Tabellen)'!$BB$4)","v":"2. Gruppe E"},"-",{"$f":"IF('Vorrunde (Tabellen)'!$L$5=\"\",\"2. Gruppe I\",'Vorrunde (Tabellen)'!$CE$4)","v":"2. Gruppe I"},null,":",null,"USA / AT&T Stadium (Dallas)","Sechzehntelfinale","voraussichtlich ARD und Magenta",0,null,null,null,null,null,null,null,null,null,null,null,null,null,null,null,null,null,null,null,null,null,null,null,null,null,null,null,null,null,null,null,null,null,null,null,null,null,null,null,null,null,null,null,null,null,null,null,null,null,null,null,null,null,null,null,null,null,null,null,null,null,null,null,null,null,null,null,null,null,null,null,null,null,null,null,null,null,null,null,null,null,null,null,null,null,null,null,null,null,null,null,null,null,null,null,null,null,null,null,null,null,null,{"$f":"IF('KO-Runde 089-104'!DO6=\"\",\"\",'KO-Runde 089-104'!DO6)","v":""},"Team 5"]
["2026-06-30T23:00:00",46203.958333333336,"2026-06-30T17:00:00",77,{"$f":"IF('Vorrunde (Tabellen)'!$L$5=\"\",\"1. Gruppe I\",'Vorrunde (Tabellen)'!$CE$3)","v":"1. Gruppe I"},"-",{"$f":"IF('Vorrunde (Tabellen)'!$L$5=\"\",\"3. Gruppe C/D/F/G/H\",VLOOKUP('Vorrunde (Tabellen)'!$K$34,'Vorrunde (Tabellen)'!$CO$2:$CW$497,7))","v":"3. Gruppe C/D/F/G/H"},null,":",null,"USA / MetLife Stadium (New York/New Jersey)","Sechzehntelfinale","voraussichtlich ARD und Magenta",0,{"$f":"IF('Vorrunde 01-24'!$O7<>\"\",'Vorrunde 01-24'!$O7,\"\")","v":""},null,":",null,null,":",null,null,":",null,null,":",null,null,":",null,null,":",null,null,":",null,null,":",null,null,":",null,null,":",null,null,":",null,null,":",null,null,":",null,null,":",null,null,":",null,null,":",null,{"$f":"IF('Vorrunde 01-24'!$O7<>\"\",'Vorrunde 01-24'!$O7,\"\")","v":""},{"$f":"IF(OR(P7=$P$56,P7=$R$56,P7=$S$56,P7=$U$56,P7=$V$56,P7=$X$56,P7=$Y$56,P7=$AA$56,P7=$AB$56,P7=$AD$56,P7=$AE$56,P7=$AG$56,P7=$AH$56,P7=$AJ$56,P7=$AK$56,P7=$AM$56,P7=$AN$56,P7=$AP$56,P7=$AQ$56,P7=$AS$56,P7=$AT$56,P7=$AV$56,P7=$AW$56,P7=$AY$56,P7=$AZ$56,P7=$BB$56,P7=$BC$56,P7=$BE$56,P7=$BF$56,P7=$BH$56,P7=$BI$56,P7=$BK$56),3,0)","v":0},{"$f":"IF(OR(R7=$P$56,R7=$R$56,R7=$S$56,R7=$U$56,R7=$V$56,R7=$X$56,R7=$Y$56,R7=$AA$56,R7=$AB$56,R7=$AD$56,R7=$AE$56,R7=$AG$56,R7=$AH$56,R7=$AJ$56,R7=$AK$56,R7=$AM$56,R7=$AN$56,R7=$AP$56,R7=$AQ$56,R7=$AS$56,R7=$AT$56,R7=$AV$56,R7=$AW$56,R7=$AY$56,R7=$AZ$56,R7=$BB$56,R7=$BC$56,R7=$BE$56,R7=$BF$56,R7=$BH$56,R7=$BI$56,R7=$BK$56),3,0)","v":0},{"$f":"IF($P$56=\"TEAM\",0,SUM(BM7:BN7))","v":0},{"$f":"IF(OR(S7=$P$56,S7=$R$56,S7=$S$56,S7=$U$56,S7=$V$56,S7=$X$56,S7=$Y$56,S7=$AA$56,S7=$AB$56,S7=$AD$56,S7=$AE$56,S7=$AG$56,S7=$AH$56,S7=$AJ$56,S7=$AK$56,S7=$AM$56,S7=$AN$56,S7=$AP$56,S7=$AQ$56,S7=$AS$56,S7=$AT$56,S7=$AV$56,S7=$AW$56,S7=$AY$56,S7=$AZ$56,S7=$BB$56,S7=$BC$56,S7=$BE$56,S7=$BF$56,S7=$BH$56,S7=$BI$56,S7=$BK$56),3,0)","v":0},{"$f":"IF(OR(U7=$P$56,U7=$R$56,U7=$S$56,U7=$U$56,U7=$V$56,U7=$X$56,U7=$Y$56,U7=$AA$56,U7=$AB$56,U7=$AD$56,U7=$AE$56,U7=$AG$56,U7=$AH$56,U7=$AJ$56,U7=$AK$56,U7=$AM$56,U7=$AN$56,U7=$AP$56,U7=$AQ$56,U7=$AS$56,U7=$AT$56,U7=$AV$56,U7=$AW$56,U7=$AY$56,U7=$AZ$56,U7=$BB$56,U7=$BC$56,U7=$BE$56,U7=$BF$56,U7=$BH$56,U7=$BI$56,U7=$BK$56),3,0)","v":0},{"$f":"IF($S$56=\"TEAM\",0,SUM(BP7:BQ7))","v":0},{"$f":"IF(OR(V7=$P$56,V7=$R$56,V7=$S$56,V7=$U$56,V7=$V$56,V7=$X$56,V7=$Y$56,V7=$AA$56,V7=$AB$56,V7=$AD$56,V7=$AE$56,V7=$AG$56,V7=$AH$56,V7=$AJ$56,V7=$AK$56,V7=$AM$56,V7=$AN$56,V7=$AP$56,V7=$AQ$56,V7=$AS$56,V7=$AT$56,V7=$AV$56,V7=$AW$56,V7=$AY$56,V7=$AZ$56,V7=$BB$56,V7=$BC$56,V7=$BE$56,V7=$BF$56,V7=$BH$56,V7=$BI$56,V7=$BK$56),3,0)","v":0},{"$f":"IF(OR(X7=$P$56,X7=$R$56,X7=$S$56,X7=$U$56,X7=$V$56,X7=$X$56,X7=$Y$56,X7=$AA$56,X7=$AB$56,X7=$AD$56,X7=$AE$56,X7=$AG$56,X7=$AH$56,X7=$AJ$56,X7=$AK$56,X7=$AM$56,X7=$AN$56,X7=$AP$56,X7=$AQ$56,X7=$AS$56,X7=$AT$56,X7=$AV$56,X7=$AW$56,X7=$AY$56,X7=$AZ$56,X7=$BB$56,X7=$BC$56,X7=$BE$56,X7=$BF$56,X7=$BH$56,X7=$BI$56,X7=$BK$56),3,0)","v":0},{"$f":"IF($V$56=\"TEAM\",0,SUM(BS7:BT7))","v":0},{"$f":"IF(OR(Y7=$P$56,Y7=$R$56,Y7=$S$56,Y7=$U$56,Y7=$V$56,Y7=$X$56,Y7=$Y$56,Y7=$AA$56,Y7=$AB$56,Y7=$AD$56,Y7=$AE$56,Y7=$AG$56,Y7=$AH$56,Y7=$AJ$56,Y7=$AK$56,Y7=$AM$56,Y7=$AN$56,Y7=$AP$56,Y7=$AQ$56,Y7=$AS$56,Y7=$AT$56,Y7=$AV$56,Y7=$AW$56,Y7=$AY$56,Y7=$AZ$56,Y7=$BB$56,Y7=$BC$56,Y7=$BE$56,Y7=$BF$56,Y7=$BH$56,Y7=$BI$56,Y7=$BK$56),3,0)","v":0},{"$f":"IF(OR(AA7=$P$56,AA7=$R$56,AA7=$S$56,AA7=$U$56,AA7=$V$56,AA7=$X$56,AA7=$Y$56,AA7=$AA$56,AA7=$AB$56,AA7=$AD$56,AA7=$AE$56,AA7=$AG$56,AA7=$AH$56,AA7=$AJ$56,AA7=$AK$56,AA7=$AM$56,AA7=$AN$56,AA7=$AP$56,AA7=$AQ$56,AA7=$AS$56,AA7=$AT$56,AA7=$AV$56,AA7=$AW$56,AA7=$AY$56,AA7=$AZ$56,AA7=$BB$56,AA7=$BC$56,AA7=$BE$56,AA7=$BF$56,AA7=$BH$56,AA7=$BI$56,AA7=$BK$56),3,0)","v":0},{"$f":"IF($Y$56=\"TEAM\",0,SUM(BV7:BW7))","v":0},{"$f":"IF(OR(AB7=$P$56,AB7=$R$56,AB7=$S$56,AB7=$U$56,AB7=$V$56,AB7=$X$56,AB7=$Y$56,AB7=$AA$56,AB7=$AB$56,AB7=$AD$56,AB7=$AE$56,AB7=$AG$56,AB7=$AH$56,AB7=$AJ$56,AB7=$AK$56,AB7=$AM$56,AB7=$AN$56,AB7=$AP$56,AB7=$AQ$56,AB7=$AS$56,AB7=$AT$56,AB7=$AV$56,AB7=$AW$56,AB7=$AY$56,AB7=$AZ$56,AB7=$BB$56,AB7=$BC$56,AB7=$BE$56,AB7=$BF$56,AB7=$BH$56,AB7=$BI$56,AB7=$BK$56),3,0)","v":0},{"$f":"IF(OR(AD7=$P$56,AD7=$R$56,AD7=$S$56,AD7=$U$56,AD7=$V$56,AD7=$X$56,AD7=$Y$56,AD7=$AA$56,AD7=$AB$56,AD7=$AD$56,AD7=$AE$56,AD7=$AG$56,AD7=$AH$56,AD7=$AJ$56,AD7=$AK$56,AD7=$AM$56,AD7=$AN$56,AD7=$AP$56,AD7=$AQ$56,AD7=$AS$56,AD7=$AT$56,AD7=$AV$56,AD7=$AW$56,AD7=$AY$56,AD7=$AZ$56,AD7=$BB$56,AD7=$BC$56,AD7=$BE$56,AD7=$BF$56,AD7=$BH$56,AD7=$BI$56,AD7=$BK$56),3,0)","v":0},{"$f":"IF($AB$56=\"TEAM\",0,SUM(BY7:BZ7))","v":0},{"$f":"IF(OR(AE7=$P$56,AE7=$R$56,AE7=$S$56,AE7=$U$56,AE7=$V$56,AE7=$X$56,AE7=$Y$56,AE7=$AA$56,AE7=$AB$56,AE7=$AD$56,AE7=$AE$56,AE7=$AG$56,AE7=$AH$56,AE7=$AJ$56,AE7=$AK$56,AE7=$AM$56,AE7=$AN$56,AE7=$AP$56,AE7=$AQ$56,AE7=$AS$56,AE7=$AT$56,AE7=$AV$56,AE7=$AW$56,AE7=$AY$56,AE7=$AZ$56,AE7=$BB$56,AE7=$BC$56,AE7=$BE$56,AE7=$BF$56,AE7=$BH$56,AE7=$BI$56,AE7=$BK$56),3,0)","v":0},{"$f":"IF(OR(AG7=$P$56,AG7=$R$56,AG7=$S$56,AG7=$U$56,AG7=$V$56,AG7=$X$56,AG7=$Y$56,AG7=$AA$56,AG7=$AB$56,AG7=$AD$56,AG7=$AE$56,AG7=$AG$56,AG7=$AH$56,AG7=$AJ$56,AG7=$AK$56,AG7=$AM$56,AG7=$AN$56,AG7=$AP$56,AG7=$AQ$56,AG7=$AS$56,AG7=$AT$56,AG7=$AV$56,AG7=$AW$56,AG7=$AY$56,AG7=$AZ$56,AG7=$BB$56,AG7=$BC$56,AG7=$BE$56,AG7=$BF$56,AG7=$BH$56,AG7=$BI$56,AG7=$BK$56),3,0)","v":0},{"$f":"IF($AE$56=\"TEAM\",0,SUM(CB7:CC7))","v":0},{"$f":"IF(OR(AH7=$P$56,AH7=$R$56,AH7=$S$56,AH7=$U$56,AH7=$V$56,AH7=$X$56,AH7=$Y$56,AH7=$AA$56,AH7=$AB$56,AH7=$AD$56,AH7=$AE$56,AH7=$AG$56,AH7=$AH$56,AH7=$AJ$56,AH7=$AK$56,AH7=$AM$56,AH7=$AN$56,AH7=$AP$56,AH7=$AQ$56,AH7=$AS$56,AH7=$AT$56,AH7=$AV$56,AH7=$AW$56,AH7=$AY$56,AH7=$AZ$56,AH7=$BB$56,AH7=$BC$56,AH7=$BE$56,AH7=$BF$56,AH7=$BH$56,AH7=$BI$56,AH7=$BK$56),3,0)","v":0},{"$f":"IF(OR(AJ7=$P$56,AJ7=$R$56,AJ7=$S$56,AJ7=$U$56,AJ7=$V$56,AJ7=$X$56,AJ7=$Y$56,AJ7=$AA$56,AJ7=$AB$56,AJ7=$AD$56,AJ7=$AE$56,AJ7=$AG$56,AJ7=$AH$56,AJ7=$AJ$56,AJ7=$AK$56,AJ7=$AM$56,AJ7=$AN$56,AJ7=$AP$56,AJ7=$AQ$56,AJ7=$AS$56,AJ7=$AT$56,AJ7=$AV$56,AJ7=$AW$56,AJ7=$AY$56,AJ7=$AZ$56,AJ7=$BB$56,AJ7=$BC$56,AJ7=$BE$56,AJ7=$BF$56,AJ7=$BH$56,AJ7=$BI$56,AJ7=$BK$56),3,0)","v":0},{"$f":"IF($AH$56=\"TEAM\",0,SUM(CE7:CF7))","v":0},{"$f":"IF(OR(AK7=$P$56,AK7=$R$56,AK7=$S$56,AK7=$U$56,AK7=$V$56,AK7=$X$56,AK7=$Y$56,AK7=$AA$56,AK7=$AB$56,AK7=$AD$56,AK7=$AE$56,AK7=$AG$56,AK7=$AH$56,AK7=$AJ$56,AK7=$AK$56,AK7=$AM$56,AK7=$AN$56,AK7=$AP$56,AK7=$AQ$56,AK7=$AS$56,AK7=$AT$56,AK7=$AV$56,AK7=$AW$56,AK7=$AY$56,AK7=$AZ$56,AK7=$BB$56,AK7=$BC$56,AK7=$BE$56,AK7=$BF$56,AK7=$BH$56,AK7=$BI$56,AK7=$BK$56),3,0)","v":0},{"$f":"IF(OR(AM7=$P$56,AM7=$R$56,AM7=$S$56,AM7=$U$56,AM7=$V$56,AM7=$X$56,AM7=$Y$56,AM7=$AA$56,AM7=$AB$56,AM7=$AD$56,AM7=$AE$56,AM7=$AG$56,AM7=$AH$56,AM7=$AJ$56,AM7=$AK$56,AM7=$AM$56,AM7=$AN$56,AM7=$AP$56,AM7=$AQ$56,AM7=$AS$56,AM7=$AT$56,AM7=$AV$56,AM7=$AW$56,AM7=$AY$56,AM7=$AZ$56,AM7=$BB$56,AM7=$BC$56,AM7=$BE$56,AM7=$BF$56,AM7=$BH$56,AM7=$BI$56,AM7=$BK$56),3,0)","v":0},{"$f":"IF($AK$56=\"TEAM\",0,SUM(CH7:CI7))","v":0},{"$f":"IF(OR(AN7=$P$56,AN7=$R$56,AN7=$S$56,AN7=$U$56,AN7=$V$56,AN7=$X$56,AN7=$Y$56,AN7=$AA$56,AN7=$AB$56,AN7=$AD$56,AN7=$AE$56,AN7=$AG$56,AN7=$AH$56,AN7=$AJ$56,AN7=$AK$56,AN7=$AM$56,AN7=$AN$56,AN7=$AP$56,AN7=$AQ$56,AN7=$AS$56,AN7=$AT$56,AN7=$AV$56,AN7=$AW$56,AN7=$AY$56,AN7=$AZ$56,AN7=$BB$56,AN7=$BC$56,AN7=$BE$56,AN7=$BF$56,AN7=$BH$56,AN7=$BI$56,AN7=$BK$56),3,0)","v":0},{"$f":"IF(OR(AP7=$P$56,AP7=$R$56,AP7=$S$56,AP7=$U$56,AP7=$V$56,AP7=$X$56,AP7=$Y$56,AP7=$AA$56,AP7=$AB$56,AP7=$AD$56,AP7=$AE$56,AP7=$AG$56,AP7=$AH$56,AP7=$AJ$56,AP7=$AK$56,AP7=$AM$56,AP7=$AN$56,AP7=$AP$56,AP7=$AQ$56,AP7=$AS$56,AP7=$AT$56,AP7=$AV$56,AP7=$AW$56,AP7=$AY$56,AP7=$AZ$56,AP7=$BB$56,AP7=$BC$56,AP7=$BE$56,AP7=$BF$56,AP7=$BH$56,AP7=$BI$56,AP7=$BK$56),3,0)","v":0},{"$f":"IF($AN$56=\"TEAM\",0,SUM(CK7:CL7))","v":0},{"$f":"IF(OR(AQ7=$P$56,AQ7=$R$56,AQ7=$S$56,AQ7=$U$56,AQ7=$V$56,AQ7=$X$56,AQ7=$Y$56,AQ7=$AA$56,AQ7=$AB$56,AQ7=$AD$56,AQ7=$AE$56,AQ7=$AG$56,AQ7=$AH$56,AQ7=$AJ$56,AQ7=$AK$56,AQ7=$AM$56,AQ7=$AN$56,AQ7=$AP$56,AQ7=$AQ$56,AQ7=$AS$56,AQ7=$AT$56,AQ7=$AV$56,AQ7=$AW$56,AQ7=$AY$56,AQ7=$AZ$56,AQ7=$BB$56,AQ7=$BC$56,AQ7=$BE$56,AQ7=$BF$56,AQ7=$BH$56,AQ7=$BI$56,AQ7=$BK$56),3,0)","v":0},{"$f":"IF(OR(AS7=$P$56,AS7=$R$56,AS7=$S$56,AS7=$U$56,AS7=$V$56,AS7=$X$56,AS7=$Y$56,AS7=$AA$56,AS7=$AB$56,AS7=$AD$56,AS7=$AE$56,AS7=$AG$56,AS7=$AH$56,AS7=$AJ$56,AS7=$AK$56,AS7=$AM$56,AS7=$AN$56,AS7=$AP$56,AS7=$AQ$56,AS7=$AS$56,AS7=$AT$56,AS7=$AV$56,AS7=$AW$56,AS7=$AY$56,AS7=$AZ$56,AS7=$BB$56,AS7=$BC$56,AS7=$BE$56,AS7=$BF$56,AS7=$BH$56,AS7=$BI$56,AS7=$BK$56),3,0)","v":0},{"$f":"IF($AQ$56=\"TEAM\",0,SUM(CN7:CO7))","v":0},{"$f":"IF(OR(AT7=$P$56,AT7=$R$56,AT7=$S$56,AT7=$U$56,AT7=$V$56,AT7=$X$56,AT7=$Y$56,AT7=$AA$56,AT7=$AB$56,AT7=$AD$56,AT7=$AE$56,AT7=$AG$56,AT7=$AH$56,AT7=$AJ$56,AT7=$AK$56,AT7=$AM$56,AT7=$AN$56,AT7=$AP$56,AT7=$AQ$56,AT7=$AS$56,AT7=$AT$56,AT7=$AV$56,AT7=$AW$56,AT7=$AY$56,AT7=$AZ$56,AT7=$BB$56,AT7=$BC$56,AT7=$BE$56,AT7=$BF$56,AT7=$BH$56,AT7=$BI$56,AT7=$BK$56),3,0)","v":0},{"$f":"IF(OR(AV7=$P$56,AV7=$R$56,AV7=$S$56,AV7=$U$56,AV7=$V$56,AV7=$X$56,AV7=$Y$56,AV7=$AA$56,AV7=$AB$56,AV7=$AD$56,AV7=$AE$56,AV7=$AG$56,AV7=$AH$56,AV7=$AJ$56,AV7=$AK$56,AV7=$AM$56,AV7=$AN$56,AV7=$AP$56,AV7=$AQ$56,AV7=$AS$56,AV7=$AT$56,AV7=$AV$56,AV7=$AW$56,AV7=$AY$56,AV7=$AZ$56,AV7=$BB$56,AV7=$BC$56,AV7=$BE$56,AV7=$BF$56,AV7=$BH$56,AV7=$BI$56,AV7=$BK$56),3,0)","v":0},{"$f":"IF($AT$56=\"TEAM\",0,SUM(CQ7:CR7))","v":0},{"$f":"IF(OR(AW7=$P$56,AW7=$R$56,AW7=$S$56,AW7=$U$56,AW7=$V$56,AW7=$X$56,AW7=$Y$56,AW7=$AA$56,AW7=$AB$56,AW7=$AD$56,AW7=$AE$56,AW7=$AG$56,AW7=$AH$56,AW7=$AJ$56,AW7=$AK$56,AW7=$AM$56,AW7=$AN$56,AW7=$AP$56,AW7=$AQ$56,AW7=$AS$56,AW7=$AT$56,AW7=$AV$56,AW7=$AW$56,AW7=$AY$56,AW7=$AZ$56,AW7=$BB$56,AW7=$BC$56,AW7=$BE$56,AW7=$BF$56,AW7=$BH$56,AW7=$BI$56,AW7=$BK$56),3,0)","v":0},{"$f":"IF(OR(AY7=$P$56,AY7=$R$56,AY7=$S$56,AY7=$U$56,AY7=$V$56,AY7=$X$56,AY7=$Y$56,AY7=$AA$56,AY7=$AB$56,AY7=$AD$56,AY7=$AE$56,AY7=$AG$56,AY7=$AH$56,AY7=$AJ$56,AY7=$AK$56,AY7=$AM$56,AY7=$AN$56,AY7=$AP$56,AY7=$AQ$56,AY7=$AS$56,AY7=$AT$56,AY7=$AV$56,AY7=$AW$56,AY7=$AY$56,AY7=$AZ$56,AY7=$BB$56,AY7=$BC$56,AY7=$BE$56,AY7=$BF$56,AY7=$BH$56,AY7=$BI$56,AY7=$BK$56),3,0)","v":0},{"$f":"IF($AW$56=\"TEAM\",0,SUM(CT7:CU7))","v":0},{"$f":"IF(OR(AZ7=$P$56,AZ7=$R$56,AZ7=$S$56,AZ7=$U$56,AZ7=$V$56,AZ7=$X$56,AZ7=$Y$56,AZ7=$AA$56,AZ7=$AB$56,AZ7=$AD$56,AZ7=$AE$56,AZ7=$AG$56,AZ7=$AH$56,AZ7=$AJ$56,AZ7=$AK$56,AZ7=$AM$56,AZ7=$AN$56,AZ7=$AP$56,AZ7=$AQ$56,AZ7=$AS$56,AZ7=$AT$56,AZ7=$AV$56,AZ7=$AW$56,AZ7=$AY$56,AZ7=$AZ$56,AZ7=$BB$56,AZ7=$BC$56,AZ7=$BE$56,AZ7=$BF$56,AZ7=$BH$56,AZ7=$BI$56,AZ7=$BK$56),3,0)","v":0},{"$f":"IF(OR(BB7=$P$56,BB7=$R$56,BB7=$S$56,BB7=$U$56,BB7=$V$56,BB7=$X$56,BB7=$Y$56,BB7=$AA$56,BB7=$AB$56,BB7=$AD$56,BB7=$AE$56,BB7=$AG$56,BB7=$AH$56,BB7=$AJ$56,BB7=$AK$56,BB7=$AM$56,BB7=$AN$56,BB7=$AP$56,BB7=$AQ$56,BB7=$AS$56,BB7=$AT$56,BB7=$AV$56,BB7=$AW$56,BB7=$AY$56,BB7=$AZ$56,BB7=$BB$56,BB7=$BC$56,BB7=$BE$56,BB7=$BF$56,BB7=$BH$56,BB7=$BI$56,BB7=$BK$56),3,0)","v":0},{"$f":"IF($AZ$56=\"TEAM\",0,SUM(CW7:CX7))","v":0},{"$f":"IF(OR(BC7=$P$56,BC7=$R$56,BC7=$S$56,BC7=$U$56,BC7=$V$56,BC7=$X$56,BC7=$Y$56,BC7=$AA$56,BC7=$AB$56,BC7=$AD$56,BC7=$AE$56,BC7=$AG$56,BC7=$AH$56,BC7=$AJ$56,BC7=$AK$56,BC7=$AM$56,BC7=$AN$56,BC7=$AP$56,BC7=$AQ$56,BC7=$AS$56,BC7=$AT$56,BC7=$AV$56,BC7=$AW$56,BC7=$AY$56,BC7=$AZ$56,BC7=$BB$56,BC7=$BC$56,BC7=$BE$56,BC7=$BF$56,BC7=$BH$56,BC7=$BI$56,BC7=$BK$56),3,0)","v":0},{"$f":"IF(OR(BE7=$P$56,BE7=$R$56,BE7=$S$56,BE7=$U$56,BE7=$V$56,BE7=$X$56,BE7=$Y$56,BE7=$AA$56,BE7=$AB$56,BE7=$AD$56,BE7=$AE$56,BE7=$AG$56,BE7=$AH$56,BE7=$AJ$56,BE7=$AK$56,BE7=$AM$56,BE7=$AN$56,BE7=$AP$56,BE7=$AQ$56,BE7=$AS$56,BE7=$AT$56,BE7=$AV$56,BE7=$AW$56,BE7=$AY$56,BE7=$AZ$56,BE7=$BB$56,BE7=$BC$56,BE7=$BE$56,BE7=$BF$56,BE7=$BH$56,BE7=$BI$56,BE7=$BK$56),3,0)","v":0},{"$f":"IF($BC$56=\"TEAM\",0,SUM(CZ7:DA7))","v":0},{"$f":"IF(OR(BF7=$P$56,BF7=$R$56,BF7=$S$56,BF7=$U$56,BF7=$V$56,BF7=$X$56,BF7=$Y$56,BF7=$AA$56,BF7=$AB$56,BF7=$AD$56,BF7=$AE$56,BF7=$AG$56,BF7=$AH$56,BF7=$AJ$56,BF7=$AK$56,BF7=$AM$56,BF7=$AN$56,BF7=$AP$56,BF7=$AQ$56,BF7=$AS$56,BF7=$AT$56,BF7=$AV$56,BF7=$AW$56,BF7=$AY$56,BF7=$AZ$56,BF7=$BB$56,BF7=$BC$56,BF7=$BE$56,BF7=$BF$56,BF7=$BH$56,BF7=$BI$56,BF7=$BK$56),3,0)","v":0},{"$f":"IF(OR(BH7=$P$56,BH7=$R$56,BH7=$S$56,BH7=$U$56,BH7=$V$56,BH7=$X$56,BH7=$Y$56,BH7=$AA$56,BH7=$AB$56,BH7=$AD$56,BH7=$AE$56,BH7=$AG$56,BH7=$AH$56,BH7=$AJ$56,BH7=$AK$56,BH7=$AM$56,BH7=$AN$56,BH7=$AP$56,BH7=$AQ$56,BH7=$AS$56,BH7=$AT$56,BH7=$AV$56,BH7=$AW$56,BH7=$AY$56,BH7=$AZ$56,BH7=$BB$56,BH7=$BC$56,BH7=$BE$56,BH7=$BF$56,BH7=$BH$56,BH7=$BI$56,BH7=$BK$56),3,0)","v":0},{"$f":"IF($BF$56=\"TEAM\",0,SUM(DC7:DD7))","v":0},{"$f":"IF(OR(BI7=$P$56,BI7=$R$56,BI7=$S$56,BI7=$U$56,BI7=$V$56,BI7=$X$56,BI7=$Y$56,BI7=$AA$56,BI7=$AB$56,BI7=$AD$56,BI7=$AE$56,BI7=$AG$56,BI7=$AH$56,BI7=$AJ$56,BI7=$AK$56,BI7=$AM$56,BI7=$AN$56,BI7=$AP$56,BI7=$AQ$56,BI7=$AS$56,BI7=$AT$56,BI7=$AV$56,BI7=$AW$56,BI7=$AY$56,BI7=$AZ$56,BI7=$BB$56,BI7=$BC$56,BI7=$BE$56,BI7=$BF$56,BI7=$BH$56,BI7=$BI$56,BI7=$BK$56),3,0)","v":0},{"$f":"IF(OR(BK7=$P$56,BK7=$R$56,BK7=$S$56,BK7=$U$56,BK7=$V$56,BK7=$X$56,BK7=$Y$56,BK7=$AA$56,BK7=$AB$56,BK7=$AD$56,BK7=$AE$56,BK7=$AG$56,BK7=$AH$56,BK7=$AJ$56,BK7=$AK$56,BK7=$AM$56,BK7=$AN$56,BK7=$AP$56,BK7=$AQ$56,BK7=$AS$56,BK7=$AT$56,BK7=$AV$56,BK7=$AW$56,BK7=$AY$56,BK7=$AZ$56,BK7=$BB$56,BK7=$BC$56,BK7=$BE$56,BK7=$BF$56,BK7=$BH$56,BK7=$BI$56,BK7=$BK$56),3,0)","v":0},{"$f":"IF($BI$56=\"TEAM\",0,SUM(DF7:DG7))","v":0},{"$f":"SUM(BO7,BR7,BU7,BX7,CA7,CD7,CG7,CJ7,CM7,CP7,CS7,CV7,CY7,DB7,DE7,DH7)","v":0},{"$f":"'Vorrunde 49-72'!HC7","v":0},{"$f":"SUM(DI7,DJ7)","v":0},null,{"$f":"IF('KO-Runde 089-104'!DO7=\"\",\"\",'KO-Runde 089-104'!DO7)","v":""},"Team 6"]
["2026-07-01T03:00:00",46204.125,"2026-06-30T19:00:00",79,{"$f":"IF('Vorrunde (Tabellen)'!$L$5=\"\",\"1. Gruppe A\",'Vorrunde (Tabellen)'!$Y$3)","v":"1. Gruppe A"},"-",{"$f":"IF('Vorrunde (Tabellen)'!$L$5=\"\",\"3. Gruppe C/E/F/H/I\",VLOOKUP('Vorrunde (Tabellen)'!$K$34,'Vorrunde (Tabellen)'!$CO$2:$CW$497,2))","v":"3. Gruppe C/E/F/H/I"},null,":",null,"Mexiko / Azteca (Mexico City)","Sechzehntelfinale","voraussichtlich nur bei MagentaTV",0,{"$f":"IF('Vorrunde 01-24'!$O8<>\"\",'Vorrunde 01-24'!$O8,\"\")","v":""},null,":",null,null,":",null,null,":",null,null,":",null,null,":",null,null,":",null,null,":",null,null,":",null,null,":",null,null,":",null,null,":",null,null,":",null,null,":",null,null,":",null,null,":",null,null,":",null,{"$f":"IF('Vorrunde 01-24'!$O8<>\"\",'Vorrunde 01-24'!$O8,\"\")","v":""},{"$f":"IF(OR(P8=$P$56,P8=$R$56,P8=$S$56,P8=$U$56,P8=$V$56,P8=$X$56,P8=$Y$56,P8=$AA$56,P8=$AB$56,P8=$AD$56,P8=$AE$56,P8=$AG$56,P8=$AH$56,P8=$AJ$56,P8=$AK$56,P8=$AM$56,P8=$AN$56,P8=$AP$56,P8=$AQ$56,P8=$AS$56,P8=$AT$56,P8=$AV$56,P8=$AW$56,P8=$AY$56,P8=$AZ$56,P8=$BB$56,P8=$BC$56,P8=$BE$56,P8=$BF$56,P8=$BH$56,P8=$BI$56,P8=$BK$56),3,0)","v":0},{"$f":"IF(OR(R8=$P$56,R8=$R$56,R8=$S$56,R8=$U$56,R8=$V$56,R8=$X$56,R8=$Y$56,R8=$AA$56,R8=$AB$56,R8=$AD$56,R8=$AE$56,R8=$AG$56,R8=$AH$56,R8=$AJ$56,R8=$AK$56,R8=$AM$56,R8=$AN$56,R8=$AP$56,R8=$AQ$56,R8=$AS$56,R8=$AT$56,R8=$AV$56,R8=$AW$56,R8=$AY$56,R8=$AZ$56,R8=$BB$56,R8=$BC$56,R8=$BE$56,R8=$BF$56,R8=$BH$56,R8=$BI$56,R8=$BK$56),3,0)","v":0},{"$f":"IF($P$56=\"TEAM\",0,SUM(BM8:BN8))","v":0},{"$f":"IF(OR(S8=$P$56,S8=$R$56,S8=$S$56,S8=$U$56,S8=$V$56,S8=$X$56,S8=$Y$56,S8=$AA$56,S8=$AB$56,S8=$AD$56,S8=$AE$56,S8=$AG$56,S8=$AH$56,S8=$AJ$56,S8=$AK$56,S8=$AM$56,S8=$AN$56,S8=$AP$56,S8=$AQ$56,S8=$AS$56,S8=$AT$56,S8=$AV$56,S8=$AW$56,S8=$AY$56,S8=$AZ$56,S8=$BB$56,S8=$BC$56,S8=$BE$56,S8=$BF$56,S8=$BH$56,S8=$BI$56,S8=$BK$56),3,0)","v":0},{"$f":"IF(OR(U8=$P$56,U8=$R$56,U8=$S$56,U8=$U$56,U8=$V$56,U8=$X$56,U8=$Y$56,U8=$AA$56,U8=$AB$56,U8=$AD$56,U8=$AE$56,U8=$AG$56,U8=$AH$56,U8=$AJ$56,U8=$AK$56,U8=$AM$56,U8=$AN$56,U8=$AP$56,U8=$AQ$56,U8=$AS$56,U8=$AT$56,U8=$AV$56,U8=$AW$56,U8=$AY$56,U8=$AZ$56,U8=$BB$56,U8=$BC$56,U8=$BE$56,U8=$BF$56,U8=$BH$56,U8=$BI$56,U8=$BK$56),3,0)","v":0},{"$f":"IF($S$56=\"TEAM\",0,SUM(BP8:BQ8))","v":0},{"$f":"IF(OR(V8=$P$56,V8=$R$56,V8=$S$56,V8=$U$56,V8=$V$56,V8=$X$56,V8=$Y$56,V8=$AA$56,V8=$AB$56,V8=$AD$56,V8=$AE$56,V8=$AG$56,V8=$AH$56,V8=$AJ$56,V8=$AK$56,V8=$AM$56,V8=$AN$56,V8=$AP$56,V8=$AQ$56,V8=$AS$56,V8=$AT$56,V8=$AV$56,V8=$AW$56,V8=$AY$56,V8=$AZ$56,V8=$BB$56,V8=$BC$56,V8=$BE$56,V8=$BF$56,V8=$BH$56,V8=$BI$56,V8=$BK$56),3,0)","v":0},{"$f":"IF(OR(X8=$P$56,X8=$R$56,X8=$S$56,X8=$U$56,X8=$V$56,X8=$X$56,X8=$Y$56,X8=$AA$56,X8=$AB$56,X8=$AD$56,X8=$AE$56,X8=$AG$56,X8=$AH$56,X8=$AJ$56,X8=$AK$56,X8=$AM$56,X8=$AN$56,X8=$AP$56,X8=$AQ$56,X8=$AS$56,X8=$AT$56,X8=$AV$56,X8=$AW$56,X8=$AY$56,X8=$AZ$56,X8=$BB$56,X8=$BC$56,X8=$BE$56,X8=$BF$56,X8=$BH$56,X8=$BI$56,X8=$BK$56),3,0)","v":0},{"$f":"IF($V$56=\"TEAM\",0,SUM(BS8:BT8))","v":0},{"$f":"IF(OR(Y8=$P$56,Y8=$R$56,Y8=$S$56,Y8=$U$56,Y8=$V$56,Y8=$X$56,Y8=$Y$56,Y8=$AA$56,Y8=$AB$56,Y8=$AD$56,Y8=$AE$56,Y8=$AG$56,Y8=$AH$56,Y8=$AJ$56,Y8=$AK$56,Y8=$AM$56,Y8=$AN$56,Y8=$AP$56,Y8=$AQ$56,Y8=$AS$56,Y8=$AT$56,Y8=$AV$56,Y8=$AW$56,Y8=$AY$56,Y8=$AZ$56,Y8=$BB$56,Y8=$BC$56,Y8=$BE$56,Y8=$BF$56,Y8=$BH$56,Y8=$BI$56,Y8=$BK$56),3,0)","v":0},{"$f":"IF(OR(AA8=$P$56,AA8=$R$56,AA8=$S$56,AA8=$U$56,AA8=$V$56,AA8=$X$56,AA8=$Y$56,AA8=$AA$56,AA8=$AB$56,AA8=$AD$56,AA8=$AE$56,AA8=$AG$56,AA8=$AH$56,AA8=$AJ$56,AA8=$AK$56,AA8=$AM$56,AA8=$AN$56,AA8=$AP$56,AA8=$AQ$56,AA8=$AS$56,AA8=$AT$56,AA8=$AV$56,AA8=$AW$56,AA8=$AY$56,AA8=$AZ$56,AA8=$BB$56,AA8=$BC$56,AA8=$BE$56,AA8=$BF$56,AA8=$BH$56,AA8=$BI$56,AA8=$BK$56),3,0)","v":0},{"$f":"IF($Y$56=\"TEAM\",0,SUM(BV8:BW8))","v":0},{"$f":"IF(OR(AB8=$P$56,AB8=$R$56,AB8=$S$56,AB8=$U$56,AB8=$V$56,AB8=$X$56,AB8=$Y$56,AB8=$AA$56,AB8=$AB$56,AB8=$AD$56,AB8=$AE$56,AB8=$AG$56,AB8=$AH$56,AB8=$AJ$56,AB8=$AK$56,AB8=$AM$56,AB8=$AN$56,AB8=$AP$56,AB8=$AQ$56,AB8=$AS$56,AB8=$AT$56,AB8=$AV$56,AB8=$AW$56,AB8=$AY$56,AB8=$AZ$56,AB8=$BB$56,AB8=$BC$56,AB8=$BE$56,AB8=$BF$56,AB8=$BH$56,AB8=$BI$56,AB8=$BK$56),3,0)","v":0},{"$f":"IF(OR(AD8=$P$56,AD8=$R$56,AD8=$S$56,AD8=$U$56,AD8=$V$56,AD8=$X$56,AD8=$Y$56,AD8=$AA$56,AD8=$AB$56,AD8=$AD$56,AD8=$AE$56,AD8=$AG$56,AD8=$AH$56,AD8=$AJ$56,AD8=$AK$56,AD8=$AM$56,AD8=$AN$56,AD8=$AP$56,AD8=$AQ$56,AD8=$AS$56,AD8=$AT$56,AD8=$AV$56,AD8=$AW$56,AD8=$AY$56,AD8=$AZ$56,AD8=$BB$56,AD8=$BC$56,AD8=$BE$56,AD8=$BF$56,AD8=$BH$56,AD8=$BI$56,AD8=$BK$56),3,0)","v":0},{"$f":"IF($AB$56=\"TEAM\",0,SUM(BY8:BZ8))","v":0},{"$f":"IF(OR(AE8=$P$56,AE8=$R$56,AE8=$S$56,AE8=$U$56,AE8=$V$56,AE8=$X$56,AE8=$Y$56,AE8=$AA$56,AE8=$AB$56,AE8=$AD$56,AE8=$AE$56,AE8=$AG$56,AE8=$AH$56,AE8=$AJ$56,AE8=$AK$56,AE8=$AM$56,AE8=$AN$56,AE8=$AP$56,AE8=$AQ$56,AE8=$AS$56,AE8=$AT$56,AE8=$AV$56,AE8=$AW$56,AE8=$AY$56,AE8=$AZ$56,AE8=$BB$56,AE8=$BC$56,AE8=$BE$56,AE8=$BF$56,AE8=$BH$56,AE8=$BI$56,AE8=$BK$56),3,0)","v":0},{"$f":"IF(OR(AG8=$P$56,AG8=$R$56,AG8=$S$56,AG8=$U$56,AG8=$V$56,AG8=$X$56,AG8=$Y$56,AG8=$AA$56,AG8=$AB$56,AG8=$AD$56,AG8=$AE$56,AG8=$AG$56,AG8=$AH$56,AG8=$AJ$56,AG8=$AK$56,AG8=$AM$56,AG8=$AN$56,AG8=$AP$56,AG8=$AQ$56,AG8=$AS$56,AG8=$AT$56,AG8=$AV$56,AG8=$AW$56,AG8=$AY$56,AG8=$AZ$56,AG8=$BB$56,AG8=$BC$56,AG8=$BE$56,AG8=$BF$56,AG8=$BH$56,AG8=$BI$56,AG8=$BK$56),3,0)","v":0},{"$f":"IF($AE$56=\"TEAM\",0,SUM(CB8:CC8))","v":0},{"$f":"IF(OR(AH8=$P$56,AH8=$R$56,AH8=$S$56,AH8=$U$56,AH8=$V$56,AH8=$X$56,AH8=$Y$56,AH8=$AA$56,AH8=$AB$56,AH8=$AD$56,AH8=$AE$56,AH8=$AG$56,AH8=$AH$56,AH8=$AJ$56,AH8=$AK$56,AH8=$AM$56,AH8=$AN$56,AH8=$AP$56,AH8=$AQ$56,AH8=$AS$56,AH8=$AT$56,AH8=$AV$56,AH8=$AW$56,AH8=$AY$56,AH8=$AZ$56,AH8=$BB$56,AH8=$BC$56,AH8=$BE$56,AH8=$BF$56,AH8=$BH$56,AH8=$BI$56,AH8=$BK$56),3,0)","v":0},{"$f":"IF(OR(AJ8=$P$56,AJ8=$R$56,AJ8=$S$56,AJ8=$U$56,AJ8=$V$56,AJ8=$X$56,AJ8=$Y$56,AJ8=$AA$56,AJ8=$AB$56,AJ8=$AD$56,AJ8=$AE$56,AJ8=$AG$56,AJ8=$AH$56,AJ8=$AJ$56,AJ8=$AK$56,AJ8=$AM$56,AJ8=$AN$56,AJ8=$AP$56,AJ8=$AQ$56,AJ8=$AS$56,AJ8=$AT$56,AJ8=$AV$56,AJ8=$AW$56,AJ8=$AY$56,AJ8=$AZ$56,AJ8=$BB$56,AJ8=$BC$56,AJ8=$BE$56,AJ8=$BF$56,AJ8=$BH$56,AJ8=$BI$56,AJ8=$BK$56),3,0)","v":0},{"$f":"IF($AH$56=\"TEAM\",0,SUM(CE8:CF8))","v":0},{"$f":"IF(OR(AK8=$P$56,AK8=$R$56,AK8=$S$56,AK8=$U$56,AK8=$V$56,AK8=$X$56,AK8=$Y$56,AK8=$AA$56,AK8=$AB$56,AK8=$AD$56,AK8=$AE$56,AK8=$AG$56,AK8=$AH$56,AK8=$AJ$56,AK8=$AK$56,AK8=$AM$56,AK8=$AN$56,AK8=$AP$56,AK8=$AQ$56,AK8=$AS$56,AK8=$AT$56,AK8=$AV$56,AK8=$AW$56,AK8=$AY$56,AK8=$AZ$56,AK8=$BB$56,AK8=$BC$56,AK8=$BE$56,AK8=$BF$56,AK8=$BH$56,AK8=$BI$56,AK8=$BK$56),3,0)","v":0},{"$f":"IF(OR(AM8=$P$56,AM8=$R$56,AM8=$S$56,AM8=$U$56,AM8=$V$56,AM8=$X$56,AM8=$Y$56,AM8=$AA$56,AM8=$AB$56,AM8=$AD$56,AM8=$AE$56,AM8=$AG$56,AM8=$AH$56,AM8=$AJ$56,AM8=$AK$56,AM8=$AM$56,AM8=$AN$56,AM8=$AP$56,AM8=$AQ$56,AM8=$AS$56,AM8=$AT$56,AM8=$AV$56,AM8=$AW$56,AM8=$AY$56,AM8=$AZ$56,AM8=$BB$56,AM8=$BC$56,AM8=$BE$56,AM8=$BF$56,AM8=$BH$56,AM8=$BI$56,AM8=$BK$56),3,0)","v":0},{"$f":"IF($AK$56=\"TEAM\",0,SUM(CH8:CI8))","v":0},{"$f":"IF(OR(AN8=$P$56,AN8=$R$56,AN8=$S$56,AN8=$U$56,AN8=$V$56,AN8=$X$56,AN8=$Y$56,AN8=$AA$56,AN8=$AB$56,AN8=$AD$56,AN8=$AE$56,AN8=$AG$56,AN8=$AH$56,AN8=$AJ$56,AN8=$AK$56,AN8=$AM$56,AN8=$AN$56,AN8=$AP$56,AN8=$AQ$56,AN8=$AS$56,AN8=$AT$56,AN8=$AV$56,AN8=$AW$56,AN8=$AY$56,AN8=$AZ$56,AN8=$BB$56,AN8=$BC$56,AN8=$BE$56,AN8=$BF$56,AN8=$BH$56,AN8=$BI$56,AN8=$BK$56),3,0)","v":0},{"$f":"IF(OR(AP8=$P$56,AP8=$R$56,AP8=$S$56,AP8=$U$56,AP8=$V$56,AP8=$X$56,AP8=$Y$56,AP8=$AA$56,AP8=$AB$56,AP8=$AD$56,AP8=$AE$56,AP8=$AG$56,AP8=$AH$56,AP8=$AJ$56,AP8=$AK$56,AP8=$AM$56,AP8=$AN$56,AP8=$AP$56,AP8=$AQ$56,AP8=$AS$56,AP8=$AT$56,AP8=$AV$56,AP8=$AW$56,AP8=$AY$56,AP8=$AZ$56,AP8=$BB$56,AP8=$BC$56,AP8=$BE$56,AP8=$BF$56,AP8=$BH$56,AP8=$BI$56,AP8=$BK$56),3,0)","v":0},{"$f":"IF($AN$56=\"TEAM\",0,SUM(CK8:CL8))","v":0},{"$f":"IF(OR(AQ8=$P$56,AQ8=$R$56,AQ8=$S$56,AQ8=$U$56,AQ8=$V$56,AQ8=$X$56,AQ8=$Y$56,AQ8=$AA$56,AQ8=$AB$56,AQ8=$AD$56,AQ8=$AE$56,AQ8=$AG$56,AQ8=$AH$56,AQ8=$AJ$56,AQ8=$AK$56,AQ8=$AM$56,AQ8=$AN$56,AQ8=$AP$56,AQ8=$AQ$56,AQ8=$AS$56,AQ8=$AT$56,AQ8=$AV$56,AQ8=$AW$56,AQ8=$AY$56,AQ8=$AZ$56,AQ8=$BB$56,AQ8=$BC$56,AQ8=$BE$56,AQ8=$BF$56,AQ8=$BH$56,AQ8=$BI$56,AQ8=$BK$56),3,0)","v":0},{"$f":"IF(OR(AS8=$P$56,AS8=$R$56,AS8=$S$56,AS8=$U$56,AS8=$V$56,AS8=$X$56,AS8=$Y$56,AS8=$AA$56,AS8=$AB$56,AS8=$AD$56,AS8=$AE$56,AS8=$AG$56,AS8=$AH$56,AS8=$AJ$56,AS8=$AK$56,AS8=$AM$56,AS8=$AN$56,AS8=$AP$56,AS8=$AQ$56,AS8=$AS$56,AS8=$AT$56,AS8=$AV$56,AS8=$AW$56,AS8=$AY$56,AS8=$AZ$56,AS8=$BB$56,AS8=$BC$56,AS8=$BE$56,AS8=$BF$56,AS8=$BH$56,AS8=$BI$56,AS8=$BK$56),3,0)","v":0},{"$f":"IF($AQ$56=\"TEAM\",0,SUM(CN8:CO8))","v":0},{"$f":"IF(OR(AT8=$P$56,AT8=$R$56,AT8=$S$56,AT8=$U$56,AT8=$V$56,AT8=$X$56,AT8=$Y$56,AT8=$AA$56,AT8=$AB$56,AT8=$AD$56,AT8=$AE$56,AT8=$AG$56,AT8=$AH$56,AT8=$AJ$56,AT8=$AK$56,AT8=$AM$56,AT8=$AN$56,AT8=$AP$56,AT8=$AQ$56,AT8=$AS$56,AT8=$AT$56,AT8=$AV$56,AT8=$AW$56,AT8=$AY$56,AT8=$AZ$56,AT8=$BB$56,AT8=$BC$56,AT8=$BE$56,AT8=$BF$56,AT8=$BH$56,AT8=$BI$56,AT8=$BK$56),3,0)","v":0},{"$f":"IF(OR(AV8=$P$56,AV8=$R$56,AV8=$S$56,AV8=$U$56,AV8=$V$56,AV8=$X$56,AV8=$Y$56,AV8=$AA$56,AV8=$AB$56,AV8=$AD$56,AV8=$AE$56,AV8=$AG$56,AV8=$AH$56,AV8=$AJ$56,AV8=$AK$56,AV8=$AM$56,AV8=$AN$56,AV8=$AP$56,AV8=$AQ$56,AV8=$AS$56,AV8=$AT$56,AV8=$AV$56,AV8=$AW$56,AV8=$AY$56,AV8=$AZ$56,AV8=$BB$56,AV8=$BC$56,AV8=$BE$56,AV8=$BF$56,AV8=$BH$56,AV8=$BI$56,AV8=$BK$56),3,0)","v":0},{"$f":"IF($AT$56=\"TEAM\",0,SUM(CQ8:CR8))","v":0},{"$f":"IF(OR(AW8=$P$56,AW8=$R$56,AW8=$S$56,AW8=$U$56,AW8=$V$56,AW8=$X$56,AW8=$Y$56,AW8=$AA$56,AW8=$AB$56,AW8=$AD$56,AW8=$AE$56,AW8=$AG$56,AW8=$AH$56,AW8=$AJ$56,AW8=$AK$56,AW8=$AM$56,AW8=$AN$56,AW8=$AP$56,AW8=$AQ$56,AW8=$AS$56,AW8=$AT$56,AW8=$AV$56,AW8=$AW$56,AW8=$AY$56,AW8=$AZ$56,AW8=$BB$56,AW8=$BC$56,AW8=$BE$56,AW8=$BF$56,AW8=$BH$56,AW8=$BI$56,AW8=$BK$56),3,0)","v":0},{"$f":"IF(OR(AY8=$P$56,AY8=$R$56,AY8=$S$56,AY8=$U$56,AY8=$V$56,AY8=$X$56,AY8=$Y$56,AY8=$AA$56,AY8=$AB$56,AY8=$AD$56,AY8=$AE$56,AY8=$AG$56,AY8=$AH$56,AY8=$AJ$56,AY8=$AK$56,AY8=$AM$56,AY8=$AN$56,AY8=$AP$56,AY8=$AQ$56,AY8=$AS$56,AY8=$AT$56,AY8=$AV$56,AY8=$AW$56,AY8=$AY$56,AY8=$AZ$56,AY8=$BB$56,AY8=$BC$56,AY8=$BE$56,AY8=$BF$56,AY8=$BH$56,AY8=$BI$56,AY8=$BK$56),3,0)","v":0},{"$f":"IF($AW$56=\"TEAM\",0,SUM(CT8:CU8))","v":0},{"$f":"IF(OR(AZ8=$P$56,AZ8=$R$56,AZ8=$S$56,AZ8=$U$56,AZ8=$V$56,AZ8=$X$56,AZ8=$Y$56,AZ8=$AA$56,AZ8=$AB$56,AZ8=$AD$56,AZ8=$AE$56,AZ8=$AG$56,AZ8=$AH$56,AZ8=$AJ$56,AZ8=$AK$56,AZ8=$AM$56,AZ8=$AN$56,AZ8=$AP$56,AZ8=$AQ$56,AZ8=$AS$56,AZ8=$AT$56,AZ8=$AV$56,AZ8=$AW$56,AZ8=$AY$56,AZ8=$AZ$56,AZ8=$BB$56,AZ8=$BC$56,AZ8=$BE$56,AZ8=$BF$56,AZ8=$BH$56,AZ8=$BI$56,AZ8=$BK$56),3,0)","v":0},{"$f":"IF(OR(BB8=$P$56,BB8=$R$56,BB8=$S$56,BB8=$U$56,BB8=$V$56,BB8=$X$56,BB8=$Y$56,BB8=$AA$56,BB8=$AB$56,BB8=$AD$56,BB8=$AE$56,BB8=$AG$56,BB8=$AH$56,BB8=$AJ$56,BB8=$AK$56,BB8=$AM$56,BB8=$AN$56,BB8=$AP$56,BB8=$AQ$56,BB8=$AS$56,BB8=$AT$56,BB8=$AV$56,BB8=$AW$56,BB8=$AY$56,BB8=$AZ$56,BB8=$BB$56,BB8=$BC$56,BB8=$BE$56,BB8=$BF$56,BB8=$BH$56,BB8=$BI$56,BB8=$BK$56),3,0)","v":0},{"$f":"IF($AZ$56=\"TEAM\",0,SUM(CW8:CX8))","v":0},{"$f":"IF(OR(BC8=$P$56,BC8=$R$56,BC8=$S$56,BC8=$U$56,BC8=$V$56,BC8=$X$56,BC8=$Y$56,BC8=$AA$56,BC8=$AB$56,BC8=$AD$56,BC8=$AE$56,BC8=$AG$56,BC8=$AH$56,BC8=$AJ$56,BC8=$AK$56,BC8=$AM$56,BC8=$AN$56,BC8=$AP$56,BC8=$AQ$56,BC8=$AS$56,BC8=$AT$56,BC8=$AV$56,BC8=$AW$56,BC8=$AY$56,BC8=$AZ$56,BC8=$BB$56,BC8=$BC$56,BC8=$BE$56,BC8=$BF$56,BC8=$BH$56,BC8=$BI$56,BC8=$BK$56),3,0)","v":0},{"$f":"IF(OR(BE8=$P$56,BE8=$R$56,BE8=$S$56,BE8=$U$56,BE8=$V$56,BE8=$X$56,BE8=$Y$56,BE8=$AA$56,BE8=$AB$56,BE8=$AD$56,BE8=$AE$56,BE8=$AG$56,BE8=$AH$56,BE8=$AJ$56,BE8=$AK$56,BE8=$AM$56,BE8=$AN$56,BE8=$AP$56,BE8=$AQ$56,BE8=$AS$56,BE8=$AT$56,BE8=$AV$56,BE8=$AW$56,BE8=$AY$56,BE8=$AZ$56,BE8=$BB$56,BE8=$BC$56,BE8=$BE$56,BE8=$BF$56,BE8=$BH$56,BE8=$BI$56,BE8=$BK$56),3,0)","v":0},{"$f":"IF($BC$56=\"TEAM\",0,SUM(CZ8:DA8))","v":0},{"$f":"IF(OR(BF8=$P$56,BF8=$R$56,BF8=$S$56,BF8=$U$56,BF8=$V$56,BF8=$X$56,BF8=$Y$56,BF8=$AA$56,BF8=$AB$56,BF8=$AD$56,BF8=$AE$56,BF8=$AG$56,BF8=$AH$56,BF8=$AJ$56,BF8=$AK$56,BF8=$AM$56,BF8=$AN$56,BF8=$AP$56,BF8=$AQ$56,BF8=$AS$56,BF8=$AT$56,BF8=$AV$56,BF8=$AW$56,BF8=$AY$56,BF8=$AZ$56,BF8=$BB$56,BF8=$BC$56,BF8=$BE$56,BF8=$BF$56,BF8=$BH$56,BF8=$BI$56,BF8=$BK$56),3,0)","v":0},{"$f":"IF(OR(BH8=$P$56,BH8=$R$56,BH8=$S$56,BH8=$U$56,BH8=$V$56,BH8=$X$56,BH8=$Y$56,BH8=$AA$56,BH8=$AB$56,BH8=$AD$56,BH8=$AE$56,BH8=$AG$56,BH8=$AH$56,BH8=$AJ$56,BH8=$AK$56,BH8=$AM$56,BH8=$AN$56,BH8=$AP$56,BH8=$AQ$56,BH8=$AS$56,BH8=$AT$56,BH8=$AV$56,BH8=$AW$56,BH8=$AY$56,BH8=$AZ$56,BH8=$BB$56,BH8=$BC$56,BH8=$BE$56,BH8=$BF$56,BH8=$BH$56,BH8=$BI$56,BH8=$BK$56),3,0)","v":0},{"$f":"IF($BF$56=\"TEAM\",0,SUM(DC8:DD8))","v":0},{"$f":"IF(OR(BI8=$P$56,BI8=$R$56,BI8=$S$56,BI8=$U$56,BI8=$V$56,BI8=$X$56,BI8=$Y$56,BI8=$AA$56,BI8=$AB$56,BI8=$AD$56,BI8=$AE$56,BI8=$AG$56,BI8=$AH$56,BI8=$AJ$56,BI8=$AK$56,BI8=$AM$56,BI8=$AN$56,BI8=$AP$56,BI8=$AQ$56,BI8=$AS$56,BI8=$AT$56,BI8=$AV$56,BI8=$AW$56,BI8=$AY$56,BI8=$AZ$56,BI8=$BB$56,BI8=$BC$56,BI8=$BE$56,BI8=$BF$56,BI8=$BH$56,BI8=$BI$56,BI8=$BK$56),3,0)","v":0},{"$f":"IF(OR(BK8=$P$56,BK8=$R$56,BK8=$S$56,BK8=$U$56,BK8=$V$56,BK8=$X$56,BK8=$Y$56,BK8=$AA$56,BK8=$AB$56,BK8=$AD$56,BK8=$AE$56,BK8=$AG$56,BK8=$AH$56,BK8=$AJ$56,BK8=$AK$56,BK8=$AM$56,BK8=$AN$56,BK8=$AP$56,BK8=$AQ$56,BK8=$AS$56,BK8=$AT$56,BK8=$AV$56,BK8=$AW$56,BK8=$AY$56,BK8=$AZ$56,BK8=$BB$56,BK8=$BC$56,BK8=$BE$56,BK8=$BF$56,BK8=$BH$56,BK8=$BI$56,BK8=$BK$56),3,0)","v":0},{"$f":"IF($BI$56=\"TEAM\",0,SUM(DF8:DG8))","v":0},{"$f":"SUM(BO8,BR8,BU8,BX8,CA8,CD8,CG8,CJ8,CM8,CP8,CS8,CV8,CY8,DB8,DE8,DH8)","v":0},{"$f":"'Vorrunde 49-72'!HC8","v":0},{"$f":"SUM(DI8,DJ8)","v":0},null,{"$f":"IF('KO-Runde 089-104'!DO8=\"\",\"\",'KO-Runde 089-104'!DO8)","v":""},"Team 7"]
["2026-07-01T18:00:00",46204.75,"2026-07-01T12:00:00",80,{"$f":"IF('Vorrunde (Tabellen)'!$L$5=\"\",\"1. Gruppe L\",'Vorrunde (Tabellen)'!$CE$24)","v":"1. Gruppe L"},"-",{"$f":"IF('Vorrunde (Tabellen)'!$L$5=\"\",\"3. Gruppe E/H/I/J/K\",VLOOKUP('Vorrunde (Tabellen)'!$K$34,'Vorrunde (Tabellen)'!$CO$2:$CW$497,9))","v":"3. Gruppe E/H/I/J/K"},null,":",null,"USA / Mercedes-Benz Stadium (Atlanta)","Sechzehntelfinale","voraussichtlich ZDF und Magenta",0,{"$f":"IF('Vorrunde 01-24'!$O9<>\"\",'Vorrunde 01-24'!$O9,\"\")","v":""},null,":",null,null,":",null,null,":",null,null,":",null,null,":",null,null,":",null,null,":",null,null,":",null,null,":",null,null,":",null,null,":",null,null,":",null,null,":",null,null,":",null,null,":",null,null,":",null,{"$f":"IF('Vorrunde 01-24'!$O9<>\"\",'Vorrunde 01-24'!$O9,\"\")","v":""},0,0,0,0,0,0,0,0,0,0,0,0,0,0,0,0,0,0,0,0,0,0,0,0,0,0,0,0,0,0,0,0,0,0,0,0,0,0,0,0,0,0,0,0,0,0,0,0,0,{"$f":"'Vorrunde 49-72'!HC9","v":0},0,null,{"$f":"IF('KO-Runde 089-104'!DO9=\"\",\"\",'KO-Runde 089-104'!DO9)","v":""},"Team 8"]
["2026-07-01T22:00:00",46204.916666666664,"2026-07-01T13:00:00",82,{"$f":"IF('Vorrunde (Tabellen)'!$L$5=\"\",\"1. Gruppe G\",'Vorrunde (Tabellen)'!$BB$17)","v":"1. Gruppe G"},"-",{"$f":"IF('Vorrunde (Tabellen)'!$L$5=\"\",\"3. Gruppe A/E/H/I/J\",VLOOKUP('Vorrunde (Tabellen)'!$K$34,'Vorrunde (Tabellen)'!$CO$2:$CW$497,6))","v":"3. Gruppe A/E/H/I/J"},null,":",null,"USA / Lumen Field (Seattle)","Sechzehntelfinale","voraussichtlich ZDF und Magenta",0,{"$f":"IF('Vorrunde 01-24'!$O10<>\"\",'Vorrunde 01-24'!$O10,\"\")","v":""},null,":",null,null,":",null,null,":",null,null,":",null,null,":",null,null,":",null,null,":",null,null,":",null,null,":",null,null,":",null,null,":",null,null,":",null,null,":",null,null,":",null,null,":",null,null,":",null,{"$f":"IF('Vorrunde 01-24'!$O10<>\"\",'Vorrunde 01-24'!$O10,\"\")","v":""},0,0,0,0,0,0,0,0,0,0,0,0,0,0,0,0,0,0,0,0,0,0,0,0,0,0,0,0,0,0,0,0,0,0,0,0,0,0,0,0,0,0,0,0,0,0,0,0,0,{"$f":"'Vorrunde 49-72'!HC10","v":0},0,null,{"$f":"IF('KO-Runde 089-104'!DO10=\"\",\"\",'KO-Runde 089-104'!DO10)","v":""},"Team 9"]
["2026-07-02T02:00:00",46205.083333333336,"2026-07-01T17:00:00",81,{"$f":"IF('Vorrunde (Tabellen)'!$L$5=\"\",\"1. Gruppe D\",'Vorrunde (Tabellen)'!$Y$24)","v":"1. Gruppe D"},"-",{"$f":"IF('Vorrunde (Tabellen)'!$L$5=\"\",\"3. Gruppe B/E/F/I/J\",VLOOKUP('Vorrunde (Tabellen)'!$K$34,'Vorrunde (Tabellen)'!$CO$2:$CW$497,4))","v":"3. Gruppe B/E/F/I/J"},null,":",null,"USA / Levi's Stadium (San Francisco Bay Area)","Sechzehntelfinale","voraussichtlich nur bei MagentaTV",0,{"$f":"IF('Vorrunde 01-24'!$O11<>\"\",'Vorrunde 01-24'!$O11,\"\")","v":""},null,":",null,null,":",null,null,":",null,null,":",null,null,":",null,null,":",null,null,":",null,null,":",null,null,":",null,null,":",null,null,":",null,null,":",null,null,":",null,null,":",null,null,":",null,null,":",null,{"$f":"IF('Vorrunde 01-24'!$O11<>\"\",'Vorrunde 01-24'!$O11,\"\")","v":""},0,0,0,0,0,0,0,0,0,0,0,0,0,0,0,0,0,0,0,0,0,0,0,0,0,0,0,0,0,0,0,0,0,0,0,0,0,0,0,0,0,0,0,0,0,0,0,0,0,{"$f":"'Vorrunde 49-72'!HC11","v":0},0,null,{"$f":"IF('KO-Runde 089-104'!DO11=\"\",\"\",'KO-Runde 089-104'!DO11)","v":""},"Team 10"]
["2026-07-02T21:00:00",46205.875,"2026-07-02T12:00:00",84,{"$f":"IF('Vorrunde (Tabellen)'!$L$5=\"\",\"1. Gruppe H\",'Vorrunde (Tabellen)'!$BB$24)","v":"1. Gruppe H"},"-",{"$f":"IF('Vorrunde (Tabellen)'!$L$5=\"\",\"2. Gruppe J\",'Vorrunde (Tabellen)'!$CE$11)","v":"2. Gruppe J"},null,":",null,"USA / SoFi Stadium (Los Angeles)","Sechzehntelfinale","voraussichtlich ARD und Magenta",0,{"$f":"IF('Vorrunde 01-24'!$O12<>\"\",'Vorrunde 01-24'!$O12,\"\")","v":""},null,":",null,null,":",null,null,":",null,null,":",null,null,":",null,null,":",null,null,":",null,null,":",null,null,":",null,null,":",null,null,":",null,null,":",null,null,":",null,null,":",null,null,":",null,null,":",null,{"$f":"IF('Vorrunde 01-24'!$O12<>\"\",'Vorrunde 01-24'!$O12,\"\")","v":""},0,0,0,0,0,0,0,0,0,0,0,0,0,0,0,0,0,0,0,0,0,0,0,0,0,0,0,0,0,0,0,0,0,0,0,0,0,0,0,0,0,0,0,0,0,0,0,0,0,{"$f":"'Vorrunde 49-72'!HC12","v":0},0,null,{"$f":"IF('KO-Runde 089-104'!DO12=\"\",\"\",'KO-Runde 089-104'!DO12)","v":""},"Team 11"]
["2026-07-03T01:00:00",46206.041666666664,"2026-07-02T19:00:00",83,{"$f":"IF('Vorrunde (Tabellen)'!$L$5=\"\",\"2. Gruppe K\",'Vorrunde (Tabellen)'!$CE$18)","v":"2. Gruppe K"},"-",{"$f":"IF('Vorrunde (Tabellen)'!$L$5=\"\",\"2. Gruppe L\",'Vorrunde (Tabellen)'!$CE$25)","v":"2. Gruppe L"},null,":",null,"Kanada / BMO Field (Toronto)","Sechzehntelfinale","voraussichtlich nur bei MagentaTV",0,{"$f":"IF('Vorrunde 01-24'!$O13<>\"\",'Vorrunde 01-24'!$O13,\"\")","v":""},null,":",null,null,":",null,null,":",null,null,":",null,null,":",null,null,":",null,null,":",null,null,":",null,null,":",null,null,":",null,null,":",null,null,":",null,null,":",null,null,":",null,null,":",null,null,":",null,{"$f":"IF('Vorrunde 01-24'!$O13<>\"\",'Vorrunde 01-24'!$O13,\"\")","v":""},0,0,0,0,0,0,0,0,0,0,0,0,0,0,0,0,0,0,0,0,0,0,0,0,0,0,0,0,0,0,0,0,0,0,0,0,0,0,0,0,0,0,0,0,0,0,0,0,0,{"$f":"'Vorrunde 49-72'!HC13","v":0},0,null,{"$f":"IF('KO-Runde 089-104'!DO13=\"\",\"\",'KO-Runde 089-104'!DO13)","v":""},"Team 12"]
["2026-07-03T05:00:00",46206.208333333336,"2026-07-02T20:00:00",85,{"$f":"IF('Vorrunde (Tabellen)'!$L$5=\"\",\"1. Gruppe B\",'Vorrunde (Tabellen)'!$Y$10)","v":"1. Gruppe B"},"-",{"$f":"IF('Vorrunde (Tabellen)'!$L$5=\"\",\"3. Gruppe E/F/G/I/J\",VLOOKUP('Vorrunde (Tabellen)'!$K$34,'Vorrunde (Tabellen)'!$CO$2:$CW$497,3))","v":"3. Gruppe E/F/G/I/J"},null,":",null,"Kanada / BC Place Stadium (Vancouver)","Sechzehntelfinale","voraussichtlich nur bei MagentaTV",0,{"$f":"IF('Vorrunde 01-24'!$O14<>\"\",'Vorrunde 01-24'!$O14,\"\")","v":""},null,":",null,null,":",null,null,":",null,null,":",null,null,":",null,null,":",null,null,":",null,null,":",null,null,":",null,null,":",null,null,":",null,null,":",null,null,":",null,null,":",null,null,":",null,null,":",null,{"$f":"IF('Vorrunde 01-24'!$O14<>\"\",'Vorrunde 01-24'!$O14,\"\")","v":""},0,0,0,0,0,0,0,0,0,0,0,0,0,0,0,0,0,0,0,0,0,0,0,0,0,0,0,0,0,0,0,0,0,0,0,0,0,0,0,0,0,0,0,0,0,0,0,0,0,{"$f":"'Vorrunde 49-72'!HC14","v":0},0,null,{"$f":"IF('KO-Runde 089-104'!DO14=\"\",\"\",'KO-Runde 089-104'!DO14)","v":""},"Team 13"]
["2026-07-03T20:00:00",46206.833333333336,"2026-07-03T13:00:00",88,{"$f":"IF('Vorrunde (Tabellen)'!$L$5=\"\",\"2. Gruppe D\",'Vorrunde (Tabellen)'!$Y$25)","v":"2. Gruppe D"},"-",{"$f":"IF('Vorrunde (Tabellen)'!$L$5=\"\",\"2. Gruppe G\",'Vorrunde (Tabellen)'!$BB$18)","v":"2. Gruppe G"},null,":",null,"USA / AT&T Stadium (Dallas)","Sechzehntelfinale","voraussichtlich ZDF und Magenta",0,{"$f":"IF('Vorrunde 01-24'!$O15<>\"\",'Vorrunde 01-24'!$O15,\"\")","v":""},null,":",null,null,":",null,null,":",null,null,":",null,null,":",null,null,":",null,null,":",null,null,":",null,null,":",null,null,":",null,null,":",null,null,":",null,null,":",null,null,":",null,null,":",null,null,":",null,{"$f":"IF('Vorrunde 01-24'!$O15<>\"\",'Vorrunde 01-24'!$O15,\"\")","v":""},0,0,0,0,0,0,0,0,0,0,0,0,0,0,0,0,0,0,0,0,0,0,0,0,0,0,0,0,0,0,0,0,0,0,0,0,0,0,0,0,0,0,0,0,0,0,0,0,0,{"$f":"'Vorrunde 49-72'!HC15","v":0},0,null,{"$f":"IF('KO-Runde 089-104'!DO15=\"\",\"\",'KO-Runde 089-104'!DO15)","v":""},"Team 14"]
["2026-07-04",46207,"2026-07-03T18:00:00",86,{"$f":"IF('Vorrunde (Tabellen)'!$L$5=\"\",\"1. Gruppe J\",'Vorrunde (Tabellen)'!$CE$10)","v":"1. Gruppe J"},"-",{"$f":"IF('Vorrunde (Tabellen)'!$L$5=\"\",\"2. Gruppe H\",'Vorrunde (Tabellen)'!$BB$25)","v":"2. Gruppe H"},null,":",null,"USA / Hard Rock Stadium (Miami)","Sechzehntelfinale","voraussichtlich ZDF und Magenta",0,{"$f":"IF('Vorrunde 01-24'!$O16<>\"\",'Vorrunde 01-24'!$O16,\"\")","v":""},null,":",null,null,":",null,null,":",null,null,":",null,null,":",null,null,":",null,null,":",null,null,":",null,null,":",null,null,":",null,null,":",null,null,":",null,null,":",null,null,":",null,null,":",null,null,":",null,{"$f":"IF('Vorrunde 01-24'!$O16<>\"\",'Vorrunde 01-24'!$O16,\"\")","v":""},0,0,0,0,0,0,0,0,0,0,0,0,0,0,0,0,0,0,0,0,0,0,0,0,0,0,0,0,0,0,0,0,0,0,0,0,0,0,0,0,0,0,0,0,0,0,0,0,0,{"$f":"'Vorrunde 49-72'!HC16","v":0},0,null,{"$f":"IF('KO-Runde 089-104'!DO16=\"\",\"\",'KO-Runde 089-104'!DO16)","v":""},"Team 15"]
["2026-07-04T03:30:00",46207.145833333336,"2026-07-03T20:30:00",87,{"$f":"IF('Vorrunde (Tabellen)'!$L$5=\"\",\"1. Gruppe K\",'Vorrunde (Tabellen)'!$CE$17)","v":"1. Gruppe K"},"-",{"$f":"IF('Vorrunde (Tabellen)'!$L$5=\"\",\"3. Gruppe D/E/I/J/L\",VLOOKUP('Vorrunde (Tabellen)'!$K$34,'Vorrunde (Tabellen)'!$CO$2:$CW$497,8))","v":"3. Gruppe D/E/I/J/L"},null,":",null,"USA / Arrowhead Stadium (Kansas City)","Sechzehntelfinale","voraussichtlich nur bei MagentaTV",0,{"$f":"IF('Vorrunde 01-24'!$O17<>\"\",'Vorrunde 01-24'!$O17,\"\")","v":""},null,":",null,null,":",null,null,":",null,null,":",null,null,":",null,null,":",null,null,":",null,null,":",null,null,":",null,null,":",null,null,":",null,null,":",null,null,":",null,null,":",null,null,":",null,null,":",null,{"$f":"IF('Vorrunde 01-24'!$O17<>\"\",'Vorrunde 01-24'!$O17,\"\")","v":""},0,0,0,0,0,0,0,0,0,0,0,0,0,0,0,0,0,0,0,0,0,0,0,0,0,0,0,0,0,0,0,0,0,0,0,0,0,0,0,0,0,0,0,0,0,0,0,0,0,{"$f":"'Vorrunde 49-72'!HC17","v":0},0,null,{"$f":"IF('KO-Runde 089-104'!DO17=\"\",\"\",'KO-Runde 089-104'!DO17)","v":""},"Team 16"]
[null,null,null,null,null,null,null,null,null,null,null,null,null,{"$f":"SUM(N2:N17)","v":0},{"$f":"IF('Vorrunde 01-24'!$O18<>\"\",'Vorrunde 01-24'!$O18,\"\")","v":""},null,":",null,null,":",null,null,":",null,null,":",null,null,":",null,null,":",null,null,":",null,null,":",null,null,":",null,null,":",null,null,":",null,null,":",null,null,":",null,null,":",null,null,":",null,null,":",null,{"$f":"IF('Vorrunde 01-24'!$O18<>\"\",'Vorrunde 01-24'!$O18,\"\")","v":""},0,0,0,0,0,0,0,0,0,0,0,0,0,0,0,0,0,0,0,0,0,0,0,0,0,0,0,0,0,0,0,0,0,0,0,0,0,0,0,0,0,0,0,0,0,0,0,0,0,{"$f":"'Vorrunde 49-72'!HC18","v":0},0,null,{"$f":"IF('KO-Runde 089-104'!DO18=\"\",\"\",'KO-Runde 089-104'!DO18)","v":""},"Team 17"]
[null,null,null,null,null,null,null,null,null,null,null,null,null,null,{"$f":"IF('Vorrunde 01-24'!$O19<>\"\",'Vorrunde 01-24'!$O19,\"\")","v":""},null,":",null,null,":",null,null,":",null,null,":",null,null,":",null,null,":",null,null,":",null,null,":",null,null,":",null,null,":",null,null,":",null,null,":",null,null,":",null,null,":",null,null,":",null,null,":",null,{"$f":"IF('Vorrunde 01-24'!$O19<>\"\",'Vorrunde 01-24'!$O19,\"\")","v":""},0,0,0,0,0,0,0,0,0,0,0,0,0,0,0,0,0,0,0,0,0,0,0,0,0,0,0,0,0,0,0,0,0,0,0,0,0,0,0,0,0,0,0,0,0,0,0,0,0,{"$f":"'Vorrunde 49-72'!HC19","v":0},0,null,{"$f":"IF('KO-Runde 089-104'!DO19=\"\",\"\",'KO-Runde 089-104'!DO19)","v":""},"Team 18"]
[null,null,null,null,null,null,null,null,null,null,null,null,null,null,{"$f":"IF('Vorrunde 01-24'!$O20<>\"\",'Vorrunde 01-24'!$O20,\"\")","v":""},null,":",null,null,":",null,null,":",null,null,":",null,null,":",null,null,":",null,null,":",null,null,":",null,null,":",null,null,":",null,null,":",null,null,":",null,null,":",null,null,":",null,null,":",null,null,":",null,{"$f":"IF('Vorrunde 01-24'!$O20<>\"\",'Vorrunde 01-24'!$O20,\"\")","v":""},0,0,0,0,0,0,0,0,0,0,0,0,0,0,0,0,0,0,0,0,0,0,0,0,0,0,0,0,0,0,0,0,0,0,0,0,0,0,0,0,0,0,0,0,0,0,0,0,0,{"$f":"'Vorrunde 49-72'!HC20","v":0},0,null,{"$f":"IF('KO-Runde 089-104'!DO20=\"\",\"\",'KO-Runde 089-104'!DO20)","v":""},"Team 19"]
[null,null,null,null,null,null,null,null,null,null,null,null,null,null,{"$f":"IF('Vorrunde 01-24'!$O21<>\"\",'Vorrunde 01-24'!$O21,\"\")","v":""},null,":",null,null,":",null,null,":",null,null,":",null,null,":",null,null,":",null,null,":",null,null,":",null,null,":",null,null,":",null,null,":",null,null,":",null,null,":",null,null,":",null,null,":",null,null,":",null,{"$f":"IF('Vorrunde 01-24'!$O21<>\"\",'Vorrunde 01-24'!$O21,\"\")","v":""},0,0,0,0,0,0,0,0,0,0,0,0,0,0,0,0,0,0,0,0,0,0,0,0,0,0,0,0,0,0,0,0,0,0,0,0,0,0,0,0,0,0,0,0,0,0,0,0,0,{"$f":"'Vorrunde 49-72'!HC21","v":0},0,null,{"$f":"IF('KO-Runde 089-104'!DO21=\"\",\"\",'KO-Runde 089-104'!DO21)","v":""},"Team 20"]
[null,null,null,null,null,null,null,null,null,null,null,null,null,null,{"$f":"IF('Vorrunde 01-24'!$O22<>\"\",'Vorrunde 01-24'!$O22,\"\")","v":""},null,":",null,null,":",null,null,":",null,null,":",null,null,":",null,null,":",null,null,":",null,null,":",null,null,":",null,null,":",null,null,":",null,null,":",null,null,":",null,null,":",null,null,":",null,null,":",null,{"$f":"IF('Vorrunde 01-24'!$O22<>\"\",'Vorrunde 01-24'!$O22,\"\")","v":""},0,0,0,0,0,0,0,0,0,0,0,0,0,0,0,0,0,0,0,0,0,0,0,0,0,0,0,0,0,0,0,0,0,0,0,0,0,0,0,0,0,0,0,0,0,0,0,0,0,{"$f":"'Vorrunde 49-72'!HC22","v":0},0,null,{"$f":"IF('KO-Runde 089-104'!DO22=\"\",\"\",'KO-Runde 089-104'!DO22)","v":""},"Team 21"]
[null,null,null,null,null,null,null,null,null,null,null,null,null,null,{"$f":"IF('Vorrunde 01-24'!$O23<>\"\",'Vorrunde 01-24'!$O23,\"\")","v":""},null,":",null,null,":",null,null,":",null,null,":",null,null,":",null,null,":",null,null,":",null,null,":",null,null,":",null,null,":",null,null,":",null,null,":",null,null,":",null,null,":",null,null,":",null,null,":",null,{"$f":"IF('Vorrunde 01-24'!$O23<>\"\",'Vorrunde 01-24'!$O23,\"\")","v":""},0,0,0,0,0,0,0,0,0,0,0,0,0,0,0,0,0,0,0,0,0,0,0,0,0,0,0,0,0,0,0,0,0,0,0,0,0,0,0,0,0,0,0,0,0,0,0,0,0,{"$f":"'Vorrunde 49-72'!HC23","v":0},0,null,{"$f":"IF('KO-Runde 089-104'!DO23=\"\",\"\",'KO-Runde 089-104'!DO23)","v":""},"Team 22"]
[null,null,null,null,null,null,null,null,null,null,null,null,null,null,{"$f":"IF('Vorrunde 01-24'!$O24<>\"\",'Vorrunde 01-24'!$O24,\"\")","v":""},null,":",null,null,":",null,null,":",null,null,":",null,null,":",null,null,":",null,null,":",null,null,":",null,null,":",null,null,":",null,null,":",null,null,":",null,null,":",null,null,":",null,null,":",null,null,":",null,{"$f":"IF('Vorrunde 01-24'!$O24<>\"\",'Vorrunde 01-24'!$O24,\"\")","v":""},0,0,0,0,0,0,0,0,0,0,0,0,0,0,0,0,0,0,0,0,0,0,0,0,0,0,0,0,0,0,0,0,0,0,0,0,0,0,0,0,0,0,0,0,0,0,0,0,0,{"$f":"'Vorrunde 49-72'!HC24","v":0},0,null,{"$f":"IF('KO-Runde 089-104'!DO24=\"\",\"\",'KO-Runde 089-104'!DO24)","v":""},"Team 23"]
[null,null,null,null,null,null,null,null,null,null,null,null,null,null,{"$f":"IF('Vorrunde 01-24'!$O25<>\"\",'Vorrunde 01-24'!$O25,\"\")","v":""},null,":",null,null,":",null,null,":",null,null,":",null,null,":",null,null,":",null,null,":",null,null,":",null,null,":",null,null,":",null,null,":",null,null,":",null,null,":",null,null,":",null,null,":",null,null,":",null,{"$f":"IF('Vorrunde 01-24'!$O25<>\"\",'Vorrunde 01-24'!$O25,\"\")","v":""},0,0,0,0,0,0,0,0,0,0,0,0,0,0,0,0,0,0,0,0,0,0,0,0,0,0,0,0,0,0,0,0,0,0,0,0,0,0,0,0,0,0,0,0,0,0,0,0,0,{"$f":"'Vorrunde 49-72'!HC25","v":0},0,null,{"$f":"IF('KO-Runde 089-104'!DO25=\"\",\"\",'KO-Runde 089-104'!DO25)","v":""},"Team 24"]
[null,null,null,null,null,null,null,null,null,null,null,null,null,null,{"$f":"IF('Vorrunde 01-24'!$O26<>\"\",'Vorrunde 01-24'!$O26,\"\")","v":""},null,":",null,null,":",null,null,":",null,null,":",null,null,":",null,null,":",null,null,":",null,null,":",null,null,":",null,null,":",null,null,":",null,null,":",null,null,":",null,null,":",null,null,":",null,null,":",null,{"$f":"IF('Vorrunde 01-24'!$O26<>\"\",'Vorrunde 01-24'!$O26,\"\")","v":""},0,0,0,0,0,0,0,0,0,0,0,0,0,0,0,0,0,0,0,0,0,0,0,0,0,0,0,0,0,0,0,0,0,0,0,0,0,0,0,0,0,0,0,0,0,0,0,0,0,{"$f":"'Vorrunde 49-72'!HC26","v":0},0,null,{"$f":"IF('KO-Runde 089-104'!DO26=\"\",\"\",'KO-Runde 089-104'!DO26)","v":""},"Team 25"]
[null,null,null,null,null,null,null,null,null,null,null,null,null,null,{"$f":"IF('Vorrunde 01-24'!$O27<>\"\",'Vorrunde 01-24'!$O27,\"\")","v":""},null,":",null,null,":",null,null,":",null,null,":",null,null,":",null,null,":",null,null,":",null,null,":",null,null,":",null,null,":",null,null,":",null,null,":",null,null,":",null,null,":",null,null,":",null,null,":",null,{"$f":"IF('Vorrunde 01-24'!$O27<>\"\",'Vorrunde 01-24'!$O27,\"\")","v":""},0,0,0,0,0,0,0,0,0,0,0,0,0,0,0,0,0,0,0,0,0,0,0,0,0,0,0,0,0,0,0,0,0,0,0,0,0,0,0,0,0,0,0,0,0,0,0,0,0,{"$f":"'Vorrunde 49-72'!HC27","v":0},0,null,{"$f":"IF('KO-Runde 089-104'!DO27=\"\",\"\",'KO-Runde 089-104'!DO27)","v":""},"Team 26"]
[null,null,null,null,null,null,null,null,null,null,null,null,null,null,{"$f":"IF('Vorrunde 01-24'!$O28<>\"\",'Vorrunde 01-24'!$O28,\"\")","v":""},null,":",null,null,":",null,null,":",null,null,":",null,null,":",null,null,":",null,null,":",null,null,":",null,null,":",null,null,":",null,null,":",null,null,":",null,null,":",null,null,":",null,null,":",null,null,":",null,{"$f":"IF('Vorrunde 01-24'!$O28<>\"\",'Vorrunde 01-24'!$O28,\"\")","v":""},0,0,0,0,0,0,0,0,0,0,0,0,0,0,0,0,0,0,0,0,0,0,0,0,0,0,0,0,0,0,0,0,0,0,0,0,0,0,0,0,0,0,0,0,0,0,0,0,0,{"$f":"'Vorrunde 49-72'!HC28","v":0},0,null,{"$f":"IF('KO-Runde 089-104'!DO28=\"\",\"\",'KO-Runde 089-104'!DO28)","v":""},"Team 27"]
[null,null,null,null,null,null,null,null,null,null,null,null,null,null,{"$f":"IF('Vorrunde 01-24'!$O29<>\"\",'Vorrunde 01-24'!$O29,\"\")","v":""},null,":",null,null,":",null,null,":",null,null,":",null,null,":",null,null,":",null,null,":",null,null,":",null,null,":",null,null,":",null,null,":",null,null,":",null,null,":",null,null,":",null,null,":",null,null,":",null,{"$f":"IF('Vorrunde 01-24'!$O29<>\"\",'Vorrunde 01-24'!$O29,\"\")","v":""},0,0,0,0,0,0,0,0,0,0,0,0,0,0,0,0,0,0,0,0,0,0,0,0,0,0,0,0,0,0,0,0,0,0,0,0,0,0,0,0,0,0,0,0,0,0,0,0,0,{"$f":"'Vorrunde 49-72'!HC29","v":0},0,null,{"$f":"IF('KO-Runde 089-104'!DO29=\"\",\"\",'KO-Runde 089-104'!DO29)","v":""},"Team 28"]
[null,null,null,null,null,null,null,null,null,null,null,null,null,null,{"$f":"IF('Vorrunde 01-24'!$O30<>\"\",'Vorrunde 01-24'!$O30,\"\")","v":""},null,":",null,null,":",null,null,":",null,null,":",null,null,":",null,null,":",null,null,":",null,null,":",null,null,":",null,null,":",null,null,":",null,null,":",null,null,":",null,null,":",null,null,":",null,null,":",null,{"$f":"IF('Vorrunde 01-24'!$O30<>\"\",'Vorrunde 01-24'!$O30,\"\")","v":""},0,0,0,0,0,0,0,0,0,0,0,0,0,0,0,0,0,0,0,0,0,0,0,0,0,0,0,0,0,0,0,0,0,0,0,0,0,0,0,0,0,0,0,0,0,0,0,0,0,{"$f":"'Vorrunde 49-72'!HC30","v":0},0,null,{"$f":"IF('KO-Runde 089-104'!DO30=\"\",\"\",'KO-Runde 089-104'!DO30)","v":""},"Team 29"]
[null,null,null,null,null,null,null,null,null,null,null,null,null,null,{"$f":"IF('Vorrunde 01-24'!$O31<>\"\",'Vorrunde 01-24'!$O31,\"\")","v":""},null,":",null,null,":",null,null,":",null,null,":",null,null,":",null,null,":",null,null,":",null,null,":",null,null,":",null,null,":",null,null,":",null,null,":",null,null,":",null,null,":",null,null,":",null,null,":",null,{"$f":"IF('Vorrunde 01-24'!$O31<>\"\",'Vorrunde 01-24'!$O31,\"\")","v":""},0,0,0,0,0,0,0,0,0,0,0,0,0,0,0,0,0,0,0,0,0,0,0,0,0,0,0,0,0,0,0,0,0,0,0,0,0,0,0,0,0,0,0,0,0,0,0,0,0,{"$f":"'Vorrunde 49-72'!HC31","v":0},0,null,{"$f":"IF('KO-Runde 089-104'!DO31=\"\",\"\",'KO-Runde 089-104'!DO31)","v":""},"Team 30"]
[null,null,null,null,null,null,null,null,null,null,null,null,null,null,{"$f":"IF('Vorrunde 01-24'!$O32<>\"\",'Vorrunde 01-24'!$O32,\"\")","v":""},null,":",null,null,":",null,null,":",null,null,":",null,null,":",null,null,":",null,null,":",null,null,":",null,null,":",null,null,":",null,null,":",null,null,":",null,null,":",null,null,":",null,null,":",null,null,":",null,{"$f":"IF('Vorrunde 01-24'!$O32<>\"\",'Vorrunde 01-24'!$O32,\"\")","v":""},0,0,0,0,0,0,0,0,0,0,0,0,0,0,0,0,0,0,0,0,0,0,0,0,0,0,0,0,0,0,0,0,0,0,0,0,0,0,0,0,0,0,0,0,0,0,0,0,0,{"$f":"'Vorrunde 49-72'!HC32","v":0},0,null,{"$f":"IF('KO-Runde 089-104'!DO32=\"\",\"\",'KO-Runde 089-104'!DO32)","v":""},"Team 31"]
[null,null,null,null,null,null,null,null,null,null,null,null,null,null,{"$f":"IF('Vorrunde 01-24'!$O33<>\"\",'Vorrunde 01-24'!$O33,\"\")","v":""},null,":",null,null,":",null,null,":",null,null,":",null,null,":",null,null,":",null,null,":",null,null,":",null,null,":",null,null,":",null,null,":",null,null,":",null,null,":",null,null,":",null,null,":",null,null,":",null,{"$f":"IF('Vorrunde 01-24'!$O33<>\"\",'Vorrunde 01-24'!$O33,\"\")","v":""},0,0,0,0,0,0,0,0,0,0,0,0,0,0,0,0,0,0,0,0,0,0,0,0,0,0,0,0,0,0,0,0,0,0,0,0,0,0,0,0,0,0,0,0,0,0,0,0,0,{"$f":"'Vorrunde 49-72'!HC33","v":0},0,null,{"$f":"IF('KO-Runde 089-104'!DO33=\"\",\"\",'KO-Runde 089-104'!DO33)","v":""},"Team 32"]
[null,null,null,null,null,null,null,null,null,null,null,null,null,null,{"$f":"IF('Vorrunde 01-24'!$O34<>\"\",'Vorrunde 01-24'!$O34,\"\")","v":""},null,":",null,null,":",null,null,":",null,null,":",null,null,":",null,null,":",null,null,":",null,null,":",null,null,":",null,null,":",null,null,":",null,null,":",null,null,":",null,null,":",null,null,":",null,null,":",null,{"$f":"IF('Vorrunde 01-24'!$O34<>\"\",'Vorrunde 01-24'!$O34,\"\")","v":""},0,0,0,0,0,0,0,0,0,0,0,0,0,0,0,0,0,0,0,0,0,0,0,0,0,0,0,0,0,0,0,0,0,0,0,0,0,0,0,0,0,0,0,0,0,0,0,0,0,{"$f":"'Vorrunde 49-72'!HC34","v":0},0,null,{"$f":"IF('KO-Runde 089-104'!DO34=\"\",\"\",'KO-Runde 089-104'!DO34)","v":""},"Team 33"]
[null,null,null,null,null,null,null,null,null,null,null,null,null,null,{"$f":"IF('Vorrunde 01-24'!$O35<>\"\",'Vorrunde 01-24'!$O35,\"\")","v":""},null,":",null,null,":",null,null,":",null,null,":",null,null,":",null,null,":",null,null,":",null,null,":",null,null,":",null,null,":",null,null,":",null,null,":",null,null,":",null,null,":",null,null,":",null,null,":",null,{"$f":"IF('Vorrunde 01-24'!$O35<>\"\",'Vorrunde 01-24'!$O35,\"\")","v":""},0,0,0,0,0,0,0,0,0,0,0,0,0,0,0,0,0,0,0,0,0,0,0,0,0,0,0,0,0,0,0,0,0,0,0,0,0,0,0,0,0,0,0,0,0,0,0,0,0,{"$f":"'Vorrunde 49-72'!HC35","v":0},0,null,{"$f":"IF('KO-Runde 089-104'!DO35=\"\",\"\",'KO-Runde 089-104'!DO35)","v":""},"Team 34"]
[null,null,null,null,null,null,null,null,null,null,null,null,null,null,{"$f":"IF('Vorrunde 01-24'!$O36<>\"\",'Vorrunde 01-24'!$O36,\"\")","v":""},null,":",null,null,":",null,null,":",null,null,":",null,null,":",null,null,":",null,null,":",null,null,":",null,null,":",null,null,":",null,null,":",null,null,":",null,null,":",null,null,":",null,null,":",null,null,":",null,{"$f":"IF('Vorrunde 01-24'!$O36<>\"\",'Vorrunde 01-24'!$O36,\"\")","v":""},0,0,0,0,0,0,0,0,0,0,0,0,0,0,0,0,0,0,0,0,0,0,0,0,0,0,0,0,0,0,0,0,0,0,0,0,0,0,0,0,0,0,0,0,0,0,0,0,0,{"$f":"'Vorrunde 49-72'!HC36","v":0},0,null,{"$f":"IF('KO-Runde 089-104'!DO36=\"\",\"\",'KO-Runde 089-104'!DO36)","v":""},"Team 35"]
[null,null,null,null,null,null,null,null,null,null,null,null,null,null,{"$f":"IF('Vorrunde 01-24'!$O37<>\"\",'Vorrunde 01-24'!$O37,\"\")","v":""},null,":",null,null,":",null,null,":",null,null,":",null,null,":",null,null,":",null,null,":",null,null,":",null,null,":",null,null,":",null,null,":",null,null,":",null,null,":",null,null,":",null,null,":",null,null,":",null,{"$f":"IF('Vorrunde 01-24'!$O37<>\"\",'Vorrunde 01-24'!$O37,\"\")","v":""},0,0,0,0,0,0,0,0,0,0,0,0,0,0,0,0,0,0,0,0,0,0,0,0,0,0,0,0,0,0,0,0,0,0,0,0,0,0,0,0,0,0,0,0,0,0,0,0,0,{"$f":"'Vorrunde 49-72'!HC37","v":0},0,null,{"$f":"IF('KO-Runde 089-104'!DO37=\"\",\"\",'KO-Runde 089-104'!DO37)","v":""},"Team 36"]
[null,null,null,null,null,null,null,null,null,null,null,null,null,null,{"$f":"IF('Vorrunde 01-24'!$O38<>\"\",'Vorrunde 01-24'!$O38,\"\")","v":""},null,":",null,null,":",null,null,":",null,null,":",null,null,":",null,null,":",null,null,":",null,null,":",null,null,":",null,null,":",null,null,":",null,null,":",null,null,":",null,null,":",null,null,":",null,null,":",null,{"$f":"IF('Vorrunde 01-24'!$O38<>\"\",'Vorrunde 01-24'!$O38,\"\")","v":""},0,0,0,0,0,0,0,0,0,0,0,0,0,0,0,0,0,0,0,0,0,0,0,0,0,0,0,0,0,0,0,0,0,0,0,0,0,0,0,0,0,0,0,0,0,0,0,0,0,{"$f":"'Vorrunde 49-72'!HC38","v":0},0,null,{"$f":"IF('KO-Runde 089-104'!DO38=\"\",\"\",'KO-Runde 089-104'!DO38)","v":""},"Team 37"]
[null,null,null,null,null,null,null,null,null,null,null,null,null,null,{"$f":"IF('Vorrunde 01-24'!$O39<>\"\",'Vorrunde 01-24'!$O39,\"\")","v":""},null,":",null,null,":",null,null,":",null,null,":",null,null,":",null,null,":",null,null,":",null,null,":",null,null,":",null,null,":",null,null,":",null,null,":",null,null,":",null,null,":",null,null,":",null,null,":",null,{"$f":"IF('Vorrunde 01-24'!$O39<>\"\",'Vorrunde 01-24'!$O39,\"\")","v":""},0,0,0,0,0,0,0,0,0,0,0,0,0,0,0,0,0,0,0,0,0,0,0,0,0,0,0,0,0,0,0,0,0,0,0,0,0,0,0,0,0,0,0,0,0,0,0,0,0,{"$f":"'Vorrunde 49-72'!HC39","v":0},0,null,{"$f":"IF('KO-Runde 089-104'!DO39=\"\",\"\",'KO-Runde 089-104'!DO39)","v":""},"Team 38"]
[null,null,null,null,null,null,null,null,null,null,null,null,null,null,{"$f":"IF('Vorrunde 01-24'!$O40<>\"\",'Vorrunde 01-24'!$O40,\"\")","v":""},null,":",null,null,":",null,null,":",null,null,":",null,null,":",null,null,":",null,null,":",null,null,":",null,null,":",null,null,":",null,null,":",null,null,":",null,null,":",null,null,":",null,null,":",null,null,":",null,{"$f":"IF('Vorrunde 01-24'!$O40<>\"\",'Vorrunde 01-24'!$O40,\"\")","v":""},0,0,0,0,0,0,0,0,0,0,0,0,0,0,0,0,0,0,0,0,0,0,0,0,0,0,0,0,0,0,0,0,0,0,0,0,0,0,0,0,0,0,0,0,0,0,0,0,0,{"$f":"'Vorrunde 49-72'!HC40","v":0},0,null,{"$f":"IF('KO-Runde 089-104'!DO40=\"\",\"\",'KO-Runde 089-104'!DO40)","v":""},"Team 39"]
[null,null,null,null,null,null,null,null,null,null,null,null,null,null,{"$f":"IF('Vorrunde 01-24'!$O41<>\"\",'Vorrunde 01-24'!$O41,\"\")","v":""},null,":",null,null,":",null,null,":",null,null,":",null,null,":",null,null,":",null,null,":",null,null,":",null,null,":",null,null,":",null,null,":",null,null,":",null,null,":",null,null,":",null,null,":",null,null,":",null,{"$f":"IF('Vorrunde 01-24'!$O41<>\"\",'Vorrunde 01-24'!$O41,\"\")","v":""},0,0,0,0,0,0,0,0,0,0,0,0,0,0,0,0,0,0,0,0,0,0,0,0,0,0,0,0,0,0,0,0,0,0,0,0,0,0,0,0,0,0,0,0,0,0,0,0,0,{"$f":"'Vorrunde 49-72'!HC41","v":0},0,null,{"$f":"IF('KO-Runde 089-104'!DO41=\"\",\"\",'KO-Runde 089-104'!DO41)","v":""},"Team 40"]
[null,null,null,null,null,null,null,null,null,null,null,null,null,null,{"$f":"IF('Vorrunde 01-24'!$O42<>\"\",'Vorrunde 01-24'!$O42,\"\")","v":""},null,":",null,null,":",null,null,":",null,null,":",null,null,":",null,null,":",null,null,":",null,null,":",null,null,":",null,null,":",null,null,":",null,null,":",null,null,":",null,null,":",null,null,":",null,null,":",null,{"$f":"IF('Vorrunde 01-24'!$O42<>\"\",'Vorrunde 01-24'!$O42,\"\")","v":""},0,0,0,0,0,0,0,0,0,0,0,0,0,0,0,0,0,0,0,0,0,0,0,0,0,0,0,0,0,0,0,0,0,0,0,0,0,0,0,0,0,0,0,0,0,0,0,0,0,{"$f":"'Vorrunde 49-72'!HC42","v":0},0,null,{"$f":"IF('KO-Runde 089-104'!DO42=\"\",\"\",'KO-Runde 089-104'!DO42)","v":""},"Team 41"]
[null,null,null,null,null,null,null,null,null,null,null,null,null,null,{"$f":"IF('Vorrunde 01-24'!$O43<>\"\",'Vorrunde 01-24'!$O43,\"\")","v":""},null,":",null,null,":",null,null,":",null,null,":",null,null,":",null,null,":",null,null,":",null,null,":",null,null,":",null,null,":",null,null,":",null,null,":",null,null,":",null,null,":",null,null,":",null,null,":",null,{"$f":"IF('Vorrunde 01-24'!$O43<>\"\",'Vorrunde 01-24'!$O43,\"\")","v":""},0,0,0,0,0,0,0,0,0,0,0,0,0,0,0,0,0,0,0,0,0,0,0,0,0,0,0,0,0,0,0,0,0,0,0,0,0,0,0,0,0,0,0,0,0,0,0,0,0,{"$f":"'Vorrunde 49-72'!HC43","v":0},0,null,{"$f":"IF('KO-Runde 089-104'!DO43=\"\",\"\",'KO-Runde 089-104'!DO43)","v":""},"Team 42"]
[null,null,null,null,null,null,null,null,null,null,null,null,null,null,{"$f":"IF('Vorrunde 01-24'!$O44<>\"\",'Vorrunde 01-24'!$O44,\"\")","v":""},null,":",null,null,":",null,null,":",null,null,":",null,null,":",null,null,":",null,null,":",null,null,":",null,null,":",null,null,":",null,null,":",null,null,":",null,null,":",null,null,":",null,null,":",null,null,":",null,{"$f":"IF('Vorrunde 01-24'!$O44<>\"\",'Vorrunde 01-24'!$O44,\"\")","v":""},0,0,0,0,0,0,0,0,0,0,0,0,0,0,0,0,0,0,0,0,0,0,0,0,0,0,0,0,0,0,0,0,0,0,0,0,0,0,0,0,0,0,0,0,0,0,0,0,0,{"$f":"'Vorrunde 49-72'!HC44","v":0},0,null,{"$f":"IF('KO-Runde 089-104'!DO44=\"\",\"\",'KO-Runde 089-104'!DO44)","v":""},"Team 43"]
[null,null,null,null,null,null,null,null,null,null,null,null,null,null,{"$f":"IF('Vorrunde 01-24'!$O45<>\"\",'Vorrunde 01-24'!$O45,\"\")","v":""},null,":",null,null,":",null,null,":",null,null,":",null,null,":",null,null,":",null,null,":",null,null,":",null,null,":",null,null,":",null,null,":",null,null,":",null,null,":",null,null,":",null,null,":",null,null,":",null,{"$f":"IF('Vorrunde 01-24'!$O45<>\"\",'Vorrunde 01-24'!$O45,\"\")","v":""},0,0,0,0,0,0,0,0,0,0,0,0,0,0,0,0,0,0,0,0,0,0,0,0,0,0,0,0,0,0,0,0,0,0,0,0,0,0,0,0,0,0,0,0,0,0,0,0,0,{"$f":"'Vorrunde 49-72'!HC45","v":0},0,null,{"$f":"IF('KO-Runde 089-104'!DO45=\"\",\"\",'KO-Runde 089-104'!DO45)","v":""},"Team 44"]
[null,null,null,null,null,null,null,null,null,null,null,null,null,null,{"$f":"IF('Vorrunde 01-24'!$O46<>\"\",'Vorrunde 01-24'!$O46,\"\")","v":""},null,":",null,null,":",null,null,":",null,null,":",null,null,":",null,null,":",null,null,":",null,null,":",null,null,":",null,null,":",null,null,":",null,null,":",null,null,":",null,null,":",null,null,":",null,null,":",null,{"$f":"IF('Vorrunde 01-24'!$O46<>\"\",'Vorrunde 01-24'!$O46,\"\")","v":""},0,0,0,0,0,0,0,0,0,0,0,0,0,0,0,0,0,0,0,0,0,0,0,0,0,0,0,0,0,0,0,0,0,0,0,0,0,0,0,0,0,0,0,0,0,0,0,0,0,{"$f":"'Vorrunde 49-72'!HC46","v":0},0]
[null,null,null,null,null,null,null,null,null,null,null,null,null,null,{"$f":"IF('Vorrunde 01-24'!$O47<>\"\",'Vorrunde 01-24'!$O47,\"\")","v":""},null,":",null,null,":",null,null,":",null,null,":",null,null,":",null,null,":",null,null,":",null,null,":",null,null,":",null,null,":",null,null,":",null,null,":",null,null,":",null,null,":",null,null,":",null,null,":",null,{"$f":"IF('Vorrunde 01-24'!$O47<>\"\",'Vorrunde 01-24'!$O47,\"\")","v":""},0,0,0,0,0,0,0,0,0,0,0,0,0,0,0,0,0,0,0,0,0,0,0,0,0,0,0,0,0,0,0,0,0,0,0,0,0,0,0,0,0,0,0,0,0,0,0,0,0,{"$f":"'Vorrunde 49-72'!HC47","v":0},0]
[null,null,null,null,null,null,null,null,null,null,null,null,null,null,{"$f":"IF('Vorrunde 01-24'!$O48<>\"\",'Vorrunde 01-24'!$O48,\"\")","v":""},null,":",null,null,":",null,null,":",null,null,":",null,null,":",null,null,":",null,null,":",null,null,":",null,null,":",null,null,":",null,null,":",null,null,":",null,null,":",null,null,":",null,null,":",null,null,":",null,{"$f":"IF('Vorrunde 01-24'!$O48<>\"\",'Vorrunde 01-24'!$O48,\"\")","v":""},0,0,0,0,0,0,0,0,0,0,0,0,0,0,0,0,0,0,0,0,0,0,0,0,0,0,0,0,0,0,0,0,0,0,0,0,0,0,0,0,0,0,0,0,0,0,0,0,0,{"$f":"'Vorrunde 49-72'!HC48","v":0},0]
[null,null,null,null,null,null,null,null,null,null,null,null,null,null,{"$f":"IF('Vorrunde 01-24'!$O49<>\"\",'Vorrunde 01-24'!$O49,\"\")","v":""},null,":",null,null,":",null,null,":",null,null,":",null,null,":",null,null,":",null,null,":",null,null,":",null,null,":",null,null,":",null,null,":",null,null,":",null,null,":",null,null,":",null,null,":",null,null,":",null,{"$f":"IF('Vorrunde 01-24'!$O49<>\"\",'Vorrunde 01-24'!$O49,\"\")","v":""},0,0,0,0,0,0,0,0,0,0,0,0,0,0,0,0,0,0,0,0,0,0,0,0,0,0,0,0,0,0,0,0,0,0,0,0,0,0,0,0,0,0,0,0,0,0,0,0,0,{"$f":"'Vorrunde 49-72'!HC49","v":0},0]
[null,null,null,null,null,null,null,null,null,null,null,null,null,null,{"$f":"IF('Vorrunde 01-24'!$O50<>\"\",'Vorrunde 01-24'!$O50,\"\")","v":""},null,":",null,null,":",null,null,":",null,null,":",null,null,":",null,null,":",null,null,":",null,null,":",null,null,":",null,null,":",null,null,":",null,null,":",null,null,":",null,null,":",null,null,":",null,null,":",null,{"$f":"IF('Vorrunde 01-24'!$O50<>\"\",'Vorrunde 01-24'!$O50,\"\")","v":""},0,0,0,0,0,0,0,0,0,0,0,0,0,0,0,0,0,0,0,0,0,0,0,0,0,0,0,0,0,0,0,0,0,0,0,0,0,0,0,0,0,0,0,0,0,0,0,0,0,{"$f":"'Vorrunde 49-72'!HC50","v":0},0]
[null,null,null,null,null,null,null,null,null,null,null,null,null,null,{"$f":"IF('Vorrunde 01-24'!$O51<>\"\",'Vorrunde 01-24'!$O51,\"\")","v":""},null,":",null,null,":",null,null,":",null,null,":",null,null,":",null,null,":",null,null,":",null,null,":",null,null,":",null,null,":",null,null,":",null,null,":",null,null,":",null,null,":",null,null,":",null,null,":",null,{"$f":"IF('Vorrunde 01-24'!$O51<>\"\",'Vorrunde 01-24'!$O51,\"\")","v":""},0,0,0,0,0,0,0,0,0,0,0,0,0,0,0,0,0,0,0,0,0,0,0,0,0,0,0,0,0,0,0,0,0,0,0,0,0,0,0,0,0,0,0,0,0,0,0,0,0,{"$f":"'Vorrunde 49-72'!HC51","v":0},0]
[null,null,null,null,null,null,null,null,null,null,null,null,null,null,{"$f":"IF('Vorrunde 01-24'!$O52<>\"\",'Vorrunde 01-24'!$O52,\"\")","v":""},null,":",null,null,":",null,null,":",null,null,":",null,null,":",null,null,":",null,null,":",null,null,":",null,null,":",null,null,":",null,null,":",null,null,":",null,null,":",null,null,":",null,null,":",null,null,":",null,{"$f":"IF('Vorrunde 01-24'!$O52<>\"\",'Vorrunde 01-24'!$O52,\"\")","v":""},0,0,0,0,0,0,0,0,0,0,0,0,0,0,0,0,0,0,0,0,0,0,0,0,0,0,0,0,0,0,0,0,0,0,0,0,0,0,0,0,0,0,0,0,0,0,0,0,0,{"$f":"'Vorrunde 49-72'!HC52","v":0},0]
[null,null,null,null,null,null,null,null,null,null,null,null,null,null,{"$f":"IF('Vorrunde 01-24'!$O53<>\"\",'Vorrunde 01-24'!$O53,\"\")","v":""},null,":",null,null,":",null,null,":",null,null,":",null,null,":",null,null,":",null,null,":",null,null,":",null,null,":",null,null,":",null,null,":",null,null,":",null,null,":",null,null,":",null,null,":",null,null,":",null,{"$f":"IF('Vorrunde 01-24'!$O53<>\"\",'Vorrunde 01-24'!$O53,\"\")","v":""},0,0,0,0,0,0,0,0,0,0,0,0,0,0,0,0,0,0,0,0,0,0,0,0,0,0,0,0,0,0,0,0,0,0,0,0,0,0,0,0,0,0,0,0,0,0,0,0,0,{"$f":"'Vorrunde 49-72'!HC53","v":0},0]
[null,null,null,null,null,null,null,null,null,null,null,null,null,null,{"$f":"IF('Vorrunde 01-24'!$O54<>\"\",'Vorrunde 01-24'!$O54,\"\")","v":""},null,":",null,null,":",null,null,":",null,null,":",null,null,":",null,null,":",null,null,":",null,null,":",null,null,":",null,null,":",null,null,":",null,null,":",null,null,":",null,null,":",null,null,":",null,null,":",null,{"$f":"IF('Vorrunde 01-24'!$O54<>\"\",'Vorrunde 01-24'!$O54,\"\")","v":""},0,0,0,0,0,0,0,0,0,0,0,0,0,0,0,0,0,0,0,0,0,0,0,0,0,0,0,0,0,0,0,0,0,0,0,0,0,0,0,0,0,0,0,0,0,0,0,0,0,{"$f":"'Vorrunde 49-72'!HC54","v":0},0]
[null,null,null,null,null,null,null,null,null,null,null,null,null,null,{"$f":"IF('Vorrunde 01-24'!$O55<>\"\",'Vorrunde 01-24'!$O55,\"\")","v":""},null,":",null,null,":",null,null,":",null,null,":",null,null,":",null,null,":",null,null,":",null,null,":",null,null,":",null,null,":",null,null,":",null,null,":",null,null,":",null,null,":",null,null,":",null,null,":",null,{"$f":"IF('Vorrunde 01-24'!$O55<>\"\",'Vorrunde 01-24'!$O55,\"\")","v":""},0,0,0,0,0,0,0,0,0,0,0,0,0,0,0,0,0,0,0,0,0,0,0,0,0,0,0,0,0,0,0,0,0,0,0,0,0,0,0,0,0,0,0,0,0,0,0,0,0,{"$f":"'Vorrunde 49-72'!HC55","v":0},{"$f":"SUM(DI55,DJ55)","v":0}]
[null,null,null,null,null,null,null,null,null,null,null,null,null,null,"Ergebnis",{"$f":"IF($P$57=$P$2,\"TEAM\",VLOOKUP($P$57,'Vorrunde (Tabellen)'!$B$52:$G$115,6,FALSE))","v":"TEAM"},"-",{"$f":"IF($R$57=$R$2,\"TEAM\",VLOOKUP($R$57,'Vorrunde (Tabellen)'!$B$52:$G$115,6,FALSE))","v":"TEAM"},{"$f":"IF($S$57=$S$2,\"TEAM\",VLOOKUP($S$57,'Vorrunde (Tabellen)'!$B$52:$G$115,6,FALSE))","v":"TEAM"},"-",{"$f":"IF($U$57=$U$2,\"TEAM\",VLOOKUP($U$57,'Vorrunde (Tabellen)'!$B$52:$G$115,6,FALSE))","v":"TEAM"},{"$f":"IF($V$57=$V$2,\"TEAM\",VLOOKUP($V$57,'Vorrunde (Tabellen)'!$B$52:$G$115,6,FALSE))","v":"TEAM"},"-",{"$f":"IF($X$57=$X$2,\"TEAM\",VLOOKUP($X$57,'Vorrunde (Tabellen)'!$B$52:$G$115,6,FALSE))","v":"TEAM"},{"$f":"IF($Y$57=$Y$2,\"TEAM\",VLOOKUP($Y$57,'Vorrunde (Tabellen)'!$B$52:$G$115,6,FALSE))","v":"TEAM"},"-",{"$f":"IF($AA$57=$AA$2,\"TEAM\",VLOOKUP($AA$57,'Vorrunde (Tabellen)'!$B$52:$G$115,6,FALSE))","v":"TEAM"},{"$f":"IF($AB$57=$AB$2,\"TEAM\",VLOOKUP($AB$57,'Vorrunde (Tabellen)'!$B$52:$G$115,6,FALSE))","v":"TEAM"},"-",{"$f":"IF($AD$57=$AD$2,\"TEAM\",VLOOKUP($AD$57,'Vorrunde (Tabellen)'!$B$52:$G$115,6,FALSE))","v":"TEAM"},{"$f":"IF($AE$57=$AE$2,\"TEAM\",VLOOKUP($AE$57,'Vorrunde (Tabellen)'!$B$52:$G$115,6,FALSE))","v":"TEAM"},"-",{"$f":"IF($AG$57=$AG$2,\"TEAM\",VLOOKUP($AG$57,'Vorrunde (Tabellen)'!$B$52:$G$115,6,FALSE))","v":"TEAM"},{"$f":"IF($AH$57=$AH$2,\"TEAM\",VLOOKUP($AH$57,'Vorrunde (Tabellen)'!$B$52:$G$115,6,FALSE))","v":"TEAM"},"-",{"$f":"IF($AJ$57=$AJ$2,\"TEAM\",VLOOKUP($AJ$57,'Vorrunde (Tabellen)'!$B$52:$G$115,6,FALSE))","v":"TEAM"},{"$f":"IF($AK$57=$AK$2,\"TEAM\",VLOOKUP($AK$57,'Vorrunde (Tabellen)'!$B$52:$G$115,6,FALSE))","v":"TEAM"},"-",{"$f":"IF($AM$57=$AM$2,\"TEAM\",VLOOKUP($AM$57,'Vorrunde (Tabellen)'!$B$52:$G$115,6,FALSE))","v":"TEAM"},{"$f":"IF($AN$57=$AN$2,\"TEAM\",VLOOKUP($AN$57,'Vorrunde (Tabellen)'!$B$52:$G$115,6,FALSE))","v":"TEAM"},"-",{"$f":"IF($AP$57=$AP$2,\"TEAM\",VLOOKUP($AP$57,'Vorrunde (Tabellen)'!$B$52:$G$115,6,FALSE))","v":"TEAM"},{"$f":"IF($AQ$57=$AQ$2,\"TEAM\",VLOOKUP($AQ$57,'Vorrunde (Tabellen)'!$B$52:$G$115,6,FALSE))","v":"TEAM"},"-",{"$f":"IF($AS$57=$AS$2,\"TEAM\",VLOOKUP($AS$57,'Vorrunde (Tabellen)'!$B$52:$G$115,6,FALSE))","v":"TEAM"},{"$f":"IF($AT$57=$AT$2,\"TEAM\",VLOOKUP($AT$57,'Vorrunde (Tabellen)'!$B$52:$G$115,6,FALSE))","v":"TEAM"},"-",{"$f":"IF($AV$57=$AV$2,\"TEAM\",VLOOKUP($AV$57,'Vorrunde (Tabellen)'!$B$52:$G$115,6,FALSE))","v":"TEAM"},{"$f":"IF($AW$57=$AW$2,\"TEAM\",VLOOKUP($AW$57,'Vorrunde (Tabellen)'!$B$52:$G$115,6,FALSE))","v":"TEAM"},"-",{"$f":"IF($AY$57=$AY$2,\"TEAM\",VLOOKUP($AY$57,'Vorrunde (Tabellen)'!$B$52:$G$115,6,FALSE))","v":"TEAM"},{"$f":"IF($AZ$57=$AZ$2,\"TEAM\",VLOOKUP($AZ$57,'Vorrunde (Tabellen)'!$B$52:$G$115,6,FALSE))","v":"TEAM"},"-",{"$f":"IF($BB$57=$BB$2,\"TEAM\",VLOOKUP($BB$57,'Vorrunde (Tabellen)'!$B$52:$G$115,6,FALSE))","v":"TEAM"},{"$f":"IF($BC$57=$BC$2,\"TEAM\",VLOOKUP($BC$57,'Vorrunde (Tabellen)'!$B$52:$G$115,6,FALSE))","v":"TEAM"},"-",{"$f":"IF($BE$57=$BE$2,\"TEAM\",VLOOKUP($BE$57,'Vorrunde (Tabellen)'!$B$52:$G$115,6,FALSE))","v":"TEAM"},{"$f":"IF($BF$57=$BF$2,\"TEAM\",VLOOKUP($BF$57,'Vorrunde (Tabellen)'!$B$52:$G$115,6,FALSE))","v":"TEAM"},"-",{"$f":"IF($BH$57=$BH$2,\"TEAM\",VLOOKUP($BH$57,'Vorrunde (Tabellen)'!$B$52:$G$115,6,FALSE))","v":"TEAM"},{"$f":"IF($BI$57=$BI$2,\"TEAM\",VLOOKUP($BI$57,'Vorrunde (Tabellen)'!$B$52:$G$115,6,FALSE))","v":"TEAM"},"-",{"$f":"IF($BK$57=$BK$2,\"TEAM\",VLOOKUP($BK$57,'Vorrunde (Tabellen)'!$B$52:$G$115,6,FALSE))","v":"TEAM"},"ENDRUNDE",{"$f":"$P$1","v":73},null,null,{"$f":"$S$1","v":76},null,null,{"$f":"$V$1","v":74},null,null,{"$f":"$Y$1","v":75},null,null,{"$f":"$AB$1","v":78},null,null,{"$f":"$AE$1","v":77},null,null,{"$f":"$AH$1","v":79},null,null,{"$f":"$AK$1","v":80},null,null,{"$f":"$AN$1","v":82},null,null,{"$f":"$AQ$1","v":81},null,null,{"$f":"$AT$1","v":84},null,null,{"$f":"$AW$1","v":83},null,null,{"$f":"$AZ$1","v":85},null,null,{"$f":"$BC$1","v":88},null,null,{"$f":"$BF$1","v":86},null,null,{"$f":"$BI$1","v":87},null,null,"Stand vom :"]
[null,null,null,null,null,null,null,null,null,null,null,null,null,null,"ENDRUNDE",{"$f":"$E$2","v":"2. Gruppe A"},{"$f":"$K$2","v":"USA / SoFi Stadium (Los Angeles)"},{"$f":"$G$2","v":"2. Gruppe B"},{"$f":"$E$3","v":"1. Gruppe C"},{"$f":"$K$3","v":"USA / NRG Stadium (Houston)"},{"$f":"$G$3","v":"2. Gruppe F"},{"$f":"$E$4","v":"1. Gruppe E"},{"$f":"$K$4","v":"USA / Gillette Stadium (Boston)"},{"$f":"$G$4","v":"3. Gruppe A/B/C/D/F"},{"$f":"$E$5","v":"1. Gruppe F"},{"$f":"$K$5","v":"Mexiko / Estadio BBVA (Monterrey)"},{"$f":"$G$5","v":"2. Gruppe C"},{"$f":"$E$6","v":"2. Gruppe E"},{"$f":"$K$6","v":"USA / AT&T Stadium (Dallas)"},{"$f":"$G$6","v":"2. Gruppe I"},{"$f":"$E$7","v":"1. Gruppe I"},{"$f":"$K$7","v":"USA / MetLife Stadium (New York/New Jersey)"},{"$f":"$G$7","v":"3. Gruppe C/D/F/G/H"},{"$f":"$E$8","v":"1. Gruppe A"},{"$f":"$K$8","v":"Mexiko / Azteca (Mexico City)"},{"$f":"$G$8","v":"3. Gruppe C/E/F/H/I"},{"$f":"$E$9","v":"1. Gruppe L"},{"$f":"$K$9","v":"USA / Mercedes-Benz Stadium (Atlanta)"},{"$f":"$G$9","v":"3. Gruppe E/H/I/J/K"},{"$f":"$E$10","v":"1. Gruppe G"},{"$f":"$K$10","v":"USA / Lumen Field (Seattle)"},{"$f":"$G$10","v":"3. Gruppe A/E/H/I/J"},{"$f":"$E$11","v":"1. Gruppe D"},{"$f":"$K$11","v":"USA / Levi's Stadium (San Francisco Bay Area)"},{"$f":"$G$11","v":"3. Gruppe B/E/F/I/J"},{"$f":"$E$12","v":"1. Gruppe H"},{"$f":"$K$12","v":"USA / SoFi Stadium (Los Angeles)"},{"$f":"$G$12","v":"2. Gruppe J"},{"$f":"$E$13","v":"2. Gruppe K"},{"$f":"$K$13","v":"Kanada / BMO Field (Toronto)"},{"$f":"$G$13","v":"2. Gruppe L"},{"$f":"$E$14","v":"1. Gruppe B"},{"$f":"$K$14","v":"Kanada / BC Place Stadium (Vancouver)"},{"$f":"$G$14","v":"3. Gruppe E/F/G/I/J"},{"$f":"$E$15","v":"2. Gruppe D"},{"$f":"$K$15","v":"USA / AT&T Stadium (Dallas)"},{"$f":"$G$15","v":"2. Gruppe G"},{"$f":"$E$16","v":"1. Gruppe J"},{"$f":"$K$16","v":"USA / Hard Rock Stadium (Miami)"},{"$f":"$G$16","v":"2. Gruppe H"},{"$f":"$E$17","v":"1. Gruppe K"},{"$f":"$K$17","v":"USA / Arrowhead Stadium (Kansas City)"},{"$f":"$G$17","v":"3. Gruppe D/E/I/J/L"},null,null,null,null,null,null,null,null,null,null,null,null,null,null,null,null,null,null,null,null,null,null,null,null,null,null,null,null,null,null,null,null,null,null,null,null,null,null,null,null,null,null,null,null,null,null,null,null,null,{"$f":"TODAY()","v":"2026-05-19"}]

{"sheet":"KO-Runde 089-104","index":5,"n_rows":57,"n_cols":121,"rows_kept":57,"cut":false,"hidden":false,"merged":[[0,113,5,113],[55,113,56,113],[55,101,56,103],[55,104,56,106],[55,107,56,109],[55,110,56,112],[55,114,55,116],[56,114,56,116],[1,114,5,114],[1,115,5,115],[1,116,5,116],[0,110,5,112],[0,104,5,106],[0,107,5,109],[55,98,56,100],[1,50,5,50],[1,51,5,51],[1,52,5,52],[1,53,5,53],[1,54,5,54],[1,45,5,45],[1,46,5,46],[1,47,5,47],[1,48,5,48],[1,49,5,49],[0,63,5,63],[55,64,56,64],[55,65,56,67],[55,68,56,70],[55,71,56,73],[55,74,56,76],[55,77,56,79],[55,80,56,82],[55,83,56,85],[55,86,56,88],[55,89,56,91],[55,92,56,94],[55,95,56,97],[1,15,5,15],[1,16,5,16],[1,17,5,17],[1,18,5,18],[1,19,5,19],[1,20,5,20],[1,21,5,21],[1,22,5,22],[1,23,5,23],[0,95,5,97],[0,98,5,100],[0,101,5,103],[1,40,5,40],[1,41,5,41],[1,42,5,42],[1,43,5,43],[1,44,5,44],[0,80,5,82],[0,83,5,85],[0,86,5,88],[0,89,5,91],[0,92,5,94],[0,65,5,67],[0,68,5,70],[0,71,5,73],[0,74,5,76],[0,77,5,79],[0,60,0,62],[0,64,5,64],[1,55,5,55],[1,56,5,56],[1,57,5,57],[1,58,5,58],[1,59,5,59],[1,60,5,60],[1,61,5,61],[1,62,5,62],[0,48,0,50],[0,21,0,23],[0,24,0,26],[0,27,0,29],[0,30,0,32],[0,33,0,35],[0,51,0,53],[0,54,0,56],[0,57,0,59],[1,29,5,29],[0,4,0,6],[0,7,0,9],[0,14,5,14],[0,15,0,17],[0,18,0,20],[0,36,0,38],[0,39,0,41],[0,42,0,44],[0,45,0,47],[1,30,5,30],[1,31,5,31],[1,32,5,32],[1,33,5,33],[1,34,5,34],[1,35,5,35],[1,36,5,36],[1,37,5,37],[1,38,5,38],[1,39,5,39],[1,24,5,24],[1,25,5,25],[1,26,5,26],[1,27,5,27],[1,28,5,28]]}
["Spiele 89-104   (chronologisch)","Anstoßzeit","Ortszeit","Spiel-Nr.","Spielpaarungen / Gruppen",null,null,"Ergebnis",null,null,"Austragungsort / Stadion","K.O.-Runde","Live-TV Übertragungsrechte"," - ","NAME",{"$f":"$D$2","v":90},null,null,{"$f":"$D$3","v":89},null,null,{"$f":"$D$4","v":91},null,null,{"$f":"$D$5","v":92},null,null,{"$f":"$D$6","v":93},null,null,{"$f":"$D$7","v":94},null,null,{"$f":"$D$8","v":95},null,null,{"$f":"$D$9","v":96},null,null,{"$f":"$D$10","v":97},null,null,{"$f":"$D$11","v":98},null,null,{"$f":"$D$12","v":99},null,null,{"$f":"$D$13","v":100},null,null,{"$f":"$D$14","v":101},null,null,{"$f":"$D$15","v":102},null,null,{"$f":"$D$16","v":103},null,null,{"$f":"$D$17","v":104},null,null,"Fußball-Weltmeister  2026","NAME",{"$f":"$P$1","v":90},null,null,{"$f":"$S$1","v":89},null,null,{"$f":"$V$1","v":91},null,null,{"$f":"$Y$1","v":92},null,null,{"$f":"$AB$1","v":93},null,null,{"$f":"$AE$1","v":94},null,null,{"$f":"$AH$1","v":95},null,null,{"$f":"$AK$1","v":96},null,null,{"$f":"$AN$1","v":97},null,null,{"$f":"$AQ$1","v":98},null,null,{"$f":"$AT$1","v":99},null,null,{"$f":"$AW$1","v":100},null,null,{"$f":"$AZ$1","v":101},null,null,{"$f":"$BC$1","v":102},null,null,{"$f":"$BF$1","v":103},null,null,{"$f":"$BI$1","v":104},null,null,{"$f":"BL1","v":"Fußball-Weltmeister  2026"},"PUNKTE","PUNKTE","PUNKTE",null,"Ausgeschiedene Mannschaften",{"$f":"TODAY()","v":"2026-05-19"},"Absolvierte SPIELE"]
["2026-07-04T19:00:00",46207.791666666664,"2026-07-04T12:00:00",90,{"$f":"IF('KO-Runde 073-088'!$H$2>'KO-Runde 073-088'!$J$2,'KO-Runde 073-088'!$E$2,IF('KO-Runde 073-088'!$J$2>'KO-Runde 073-088'!$H$2,'KO-Runde 073-088'!$G$2,\"Sieger Spiel 73\"))","v":"Sieger Spiel 73"},"-",{"$f":"IF('KO-Runde 073-088'!$H$5>'KO-Runde 073-088'!$J$5,'KO-Runde 073-088'!$E$5,IF('KO-Runde 073-088'!$J$5>'KO-Runde 073-088'!$H$5,'KO-Runde 073-088'!$G$5,\"Sieger Spiel 75\"))","v":"Sieger Spiel 75"},null,":",null,"USA / NRG Stadium (Houston)","Achtelfinale","voraussichtlich ARD und Magenta",{"$f":"IF($J2<>\"\",1,0)","v":0},null,"Sieger Spiel 73",{"$f":"$B$2","v":"2026-07-04T19:00:00"},"Sieger Spiel 75","Sieger Spiel 74",{"$f":"$B$3","v":"2026-07-04T23:00:00"},"Sieger Spiel 77","Sieger Spiel 76",{"$f":"$B$4","v":"2026-07-05T22:00:00"},"Sieger Spiel 78","Sieger Spiel 79",{"$f":"$B$5","v":"2026-07-06T02:00:00"},"Sieger Spiel 80","Sieger Spiel 83",{"$f":"$B$6","v":"2026-07-06T21:00:00"},"Sieger Spiel 84","Sieger Spiel 81",{"$f":"$B$7","v":"2026-07-07T02:00:00"},"Sieger Spiel 82","Sieger Spiel 86",{"$f":"$B$8","v":"2026-07-07T18:00:00"},"Sieger Spiel 88","Sieger Spiel 85",{"$f":"$B$9","v":"2026-07-07T22:00:00"},"Sieger Spiel 87","Sieger Spiel 89",{"$f":"$B$10","v":"2026-07-09T22:00:00"},"Sieger Spiel 90","Sieger Spiel 93",{"$f":"$B$11","v":"2026-07-10T21:00:00"},"Sieger Spiel 94","Sieger Spiel 91",{"$f":"$B$12","v":"2026-07-11T23:00:00"},"Sieger Spiel 92","Sieger Spiel 95",{"$f":"$B$13","v":"2026-07-12T03:00:00"},"Sieger Spiel 96","Sieger Spiel 97",{"$f":"$B$14","v":"2026-07-14T21:00:00"},"Sieger Spiel 98","Sieger Spiel 99",{"$f":"$B$15","v":"2026-07-15T21:00:00"},"Sieger Spiel 100","Verlierer Spiel 101",{"$f":"$B$16","v":"2026-07-18T23:00:00"},"Verlierer Spiel 102","Sieger Spiel 101",{"$f":"$B$17","v":"2026-07-19T21:00:00"},"Sieger Spiel 102",null,null,null,null,null,null,null,null,null,null,null,null,null,null,null,null,null,null,null,null,null,null,null,null,null,null,null,null,null,null,null,null,null,null,null,null,null,null,null,null,null,null,null,null,null,null,null,null,null,null,null,"Summe","Übertrag","GESAMT",null,null,"Team 1",{"$f":"'Vorrunde 01-24'!$N$26","v":0}]
["2026-07-04T23:00:00",46207.958333333336,"2026-07-04T17:00:00",89,{"$f":"IF('KO-Runde 073-088'!$H$4>'KO-Runde 073-088'!$J$4,'KO-Runde 073-088'!$E$4,IF('KO-Runde 073-088'!$J$4>'KO-Runde 073-088'!$H$4,'KO-Runde 073-088'!$G$4,\"Sieger Spiel 74\"))","v":"Sieger Spiel 74"},"-",{"$f":"IF('KO-Runde 073-088'!$H$7>'KO-Runde 073-088'!$J$7,'KO-Runde 073-088'!$E$7,IF('KO-Runde 073-088'!$J$7>'KO-Runde 073-088'!$H$7,'KO-Runde 073-088'!$G$7,\"Sieger Spiel 77\"))","v":"Sieger Spiel 77"},null,":",null,"USA / Lincoln Financial Field (Philadelphia)","Achtelfinale","voraussichtlich ARD und Magenta",{"$f":"IF($J3<>\"\",1,0)","v":0},null,null,null,null,null,null,null,null,null,null,null,null,null,null,null,null,null,null,null,null,null,null,null,null,null,null,null,null,null,null,null,null,null,null,null,null,null,null,null,null,null,null,null,null,null,null,null,null,null,null,null,null,null,null,null,null,null,null,null,null,null,null,null,null,null,null,null,null,null,null,null,null,null,null,null,null,null,null,null,null,null,null,null,null,null,null,null,null,null,null,null,null,null,null,null,null,null,null,null,null,null,null,null,null,null,"Team 2",{"$f":"'Vorrunde 25-48'!$N$26","v":0}]
["2026-07-05T22:00:00",46208.916666666664,"2026-07-05T16:00:00",91,{"$f":"IF('KO-Runde 073-088'!$H$3>'KO-Runde 073-088'!$J$3,'KO-Runde 073-088'!$E$3,IF('KO-Runde 073-088'!$J$3>'KO-Runde 073-088'!$H$3,'KO-Runde 073-088'!$G$3,\"Sieger Spiel 76\"))","v":"Sieger Spiel 76"},"-",{"$f":"IF('KO-Runde 073-088'!$H$6>'KO-Runde 073-088'!$J$6,'KO-Runde 073-088'!$E$6,IF('KO-Runde 073-088'!$J$6>'KO-Runde 073-088'!$H$6,'KO-Runde 073-088'!$G$6,\"Sieger Spiel 78\"))","v":"Sieger Spiel 78"},null,":",null,"USA / MetLife Stadium (New York/New Jersey)","Achtelfinale","voraussichtlich nur bei MagentaTV",0,null,null,null,null,null,null,null,null,null,null,null,null,null,null,null,null,null,null,null,null,null,null,null,null,null,null,null,null,null,null,null,null,null,null,null,null,null,null,null,null,null,null,null,null,null,null,null,null,null,null,null,null,null,null,null,null,null,null,null,null,null,null,null,null,null,null,null,null,null,null,null,null,null,null,null,null,null,null,null,null,null,null,null,null,null,null,null,null,null,null,null,null,null,null,null,null,null,null,null,null,null,null,null,null,null,"Team 3",{"$f":"'Vorrunde 49-72'!$N$26","v":0}]
["2026-07-06T02:00:00",46209.083333333336,"2026-07-05T18:00:00",92,{"$f":"IF('KO-Runde 073-088'!$H$8>'KO-Runde 073-088'!$J$8,'KO-Runde 073-088'!$E$8,IF('KO-Runde 073-088'!$J$8>'KO-Runde 073-088'!$H$8,'KO-Runde 073-088'!$G$8,\"Sieger Spiel 79\"))","v":"Sieger Spiel 79"},"-",{"$f":"IF('KO-Runde 073-088'!$H$9>'KO-Runde 073-088'!$J$9,'KO-Runde 073-088'!$E$9,IF('KO-Runde 073-088'!$J$9>'KO-Runde 073-088'!$H$9,'KO-Runde 073-088'!$G$9,\"Sieger Spiel 80\"))","v":"Sieger Spiel 80"},null,":",null,"Mexiko / Azteca (Mexico City)","Achtelfinale","voraussichtlich nur bei MagentaTV",0,null,null,null,null,null,null,null,null,null,null,null,null,null,null,null,null,null,null,null,null,null,null,null,null,null,null,null,null,null,null,null,null,null,null,null,null,null,null,null,null,null,null,null,null,null,null,null,null,null,null,null,null,null,null,null,null,null,null,null,null,null,null,null,null,null,null,null,null,null,null,null,null,null,null,null,null,null,null,null,null,null,null,null,null,null,null,null,null,null,null,null,null,null,null,null,null,null,null,null,null,null,null,null,null,null,"Team 4",{"$f":"'KO-Runde 073-088'!$N$18","v":0}]
["2026-07-06T21:00:00",46209.875,"2026-07-06T14:00:00",93,{"$f":"IF('KO-Runde 073-088'!$H$13>'KO-Runde 073-088'!$J$13,'KO-Runde 073-088'!$E$13,IF('KO-Runde 073-088'!$J$13>'KO-Runde 073-088'!$H$13,'KO-Runde 073-088'!$G$13,\"Sieger Spiel 83\"))","v":"Sieger Spiel 83"},"-",{"$f":"IF('KO-Runde 073-088'!$H$12>'KO-Runde 073-088'!$J$12,'KO-Runde 073-088'!$E$12,IF('KO-Runde 073-088'!$J$12>'KO-Runde 073-088'!$H$12,'KO-Runde 073-088'!$G$12,\"Sieger Spiel 84\"))","v":"Sieger Spiel 84"},null,":",null,"USA / AT&T Stadium (Dallas)","Achtelfinale","voraussichtlich ZDF und Magenta",0,null,null,null,null,null,null,null,null,null,null,null,null,null,null,null,null,null,null,null,null,null,null,null,null,null,null,null,null,null,null,null,null,null,null,null,null,null,null,null,null,null,null,null,null,null,null,null,null,null,null,null,null,null,null,null,null,null,null,null,null,null,null,null,null,null,null,null,null,null,null,null,null,null,null,null,null,null,null,null,null,null,null,null,null,null,null,null,null,null,null,null,null,null,null,null,null,null,null,null,null,null,null,null,null,null,"Team 5",{"$f":"'KO-Runde 089-104'!$N$18","v":0}]
["2026-07-07T02:00:00",46210.083333333336,"2026-07-06T17:00:00",94,{"$f":"IF('KO-Runde 073-088'!$H$11>'KO-Runde 073-088'!$J$11,'KO-Runde 073-088'!$E$11,IF('KO-Runde 073-088'!$J$11>'KO-Runde 073-088'!$H$11,'KO-Runde 073-088'!$G$11,\"Sieger Spiel 81\"))","v":"Sieger Spiel 81"},"-",{"$f":"IF('KO-Runde 073-088'!$H$10>'KO-Runde 073-088'!$J$10,'KO-Runde 073-088'!$E$10,IF('KO-Runde 073-088'!$J$10>'KO-Runde 073-088'!$H$10,'KO-Runde 073-088'!$G$10,\"Sieger Spiel 82\"))","v":"Sieger Spiel 82"},null,":",null,"USA / Lumen Field (Seattle)","Achtelfinale","voraussichtlich nur bei MagentaTV",0,{"$f":"IF('Vorrunde 01-24'!$O7<>\"\",'Vorrunde 01-24'!$O7,\"\")","v":""},null,":",null,null,":",null,null,":",null,null,":",null,null,":",null,null,":",null,null,":",null,null,":",null,null,":",null,null,":",null,null,":",null,null,":",null,null,":",null,null,":",null,null,":",null,null,":",null,null,{"$f":"IF('Vorrunde 01-24'!$O7<>\"\",'Vorrunde 01-24'!$O7,\"\")","v":""},{"$f":"IF(OR(P7=$P$56,P7=$R$56,P7=$S$56,P7=$U$56,P7=$V$56,P7=$X$56,P7=$Y$56,P7=$AA$56,P7=$AB$56,P7=$AD$56,P7=$AE$56,P7=$AG$56,P7=$AH$56,P7=$AJ$56,P7=$AK$56,P7=$AM$56),4,0)","v":0},{"$f":"IF(OR(R7=$P$56,R7=$R$56,R7=$S$56,R7=$U$56,R7=$V$56,R7=$X$56,R7=$Y$56,R7=$AA$56,R7=$AB$56,R7=$AD$56,R7=$AE$56,R7=$AG$56,R7=$AH$56,R7=$AJ$56,R7=$AK$56,R7=$AM$56),4,0)","v":0},{"$f":"IF($P$56=\"TEAM\",0,SUM(BN7:BO7))","v":0},{"$f":"IF(OR(S7=$P$56,S7=$R$56,S7=$S$56,S7=$U$56,S7=$V$56,S7=$X$56,S7=$Y$56,S7=$AA$56,S7=$AB$56,S7=$AD$56,S7=$AE$56,S7=$AG$56,S7=$AH$56,S7=$AJ$56,S7=$AK$56,S7=$AM$56),4,0)","v":0},{"$f":"IF(OR(U7=$P$56,U7=$R$56,U7=$S$56,U7=$U$56,U7=$V$56,U7=$X$56,U7=$Y$56,U7=$AA$56,U7=$AB$56,U7=$AD$56,U7=$AE$56,U7=$AG$56,U7=$AH$56,U7=$AJ$56,U7=$AK$56,U7=$AM$56),4,0)","v":0},{"$f":"IF($S$56=\"TEAM\",0,SUM(BQ7:BR7))","v":0},{"$f":"IF(OR(V7=$P$56,V7=$R$56,V7=$S$56,V7=$U$56,V7=$V$56,V7=$X$56,V7=$Y$56,V7=$AA$56,V7=$AB$56,V7=$AD$56,V7=$AE$56,V7=$AG$56,V7=$AH$56,V7=$AJ$56,V7=$AK$56,V7=$AM$56),4,0)","v":0},{"$f":"IF(OR(X7=$P$56,X7=$R$56,X7=$S$56,X7=$U$56,X7=$V$56,X7=$X$56,X7=$Y$56,X7=$AA$56,X7=$AB$56,X7=$AD$56,X7=$AE$56,X7=$AG$56,X7=$AH$56,X7=$AJ$56,X7=$AK$56,X7=$AM$56),4,0)","v":0},{"$f":"IF($V$56=\"TEAM\",0,SUM(BT7:BU7))","v":0},{"$f":"IF(OR(Y7=$P$56,Y7=$R$56,Y7=$S$56,Y7=$U$56,Y7=$V$56,Y7=$X$56,Y7=$Y$56,Y7=$AA$56,Y7=$AB$56,Y7=$AD$56,Y7=$AE$56,Y7=$AG$56,Y7=$AH$56,Y7=$AJ$56,Y7=$AK$56,Y7=$AM$56),4,0)","v":0},{"$f":"IF(OR(AA7=$P$56,AA7=$R$56,AA7=$S$56,AA7=$U$56,AA7=$V$56,AA7=$X$56,AA7=$Y$56,AA7=$AA$56,AA7=$AB$56,AA7=$AD$56,AA7=$AE$56,AA7=$AG$56,AA7=$AH$56,AA7=$AJ$56,AA7=$AK$56,AA7=$AM$56),4,0)","v":0},{"$f":"IF($Y$56=\"TEAM\",0,SUM(BW7:BX7))","v":0},{"$f":"IF(OR(AB7=$P$56,AB7=$R$56,AB7=$S$56,AB7=$U$56,AB7=$V$56,AB7=$X$56,AB7=$Y$56,AB7=$AA$56,AB7=$AB$56,AB7=$AD$56,AB7=$AE$56,AB7=$AG$56,AB7=$AH$56,AB7=$AJ$56,AB7=$AK$56,AB7=$AM$56),4,0)","v":0},{"$f":"IF(OR(AD7=$P$56,AD7=$R$56,AD7=$S$56,AD7=$U$56,AD7=$V$56,AD7=$X$56,AD7=$Y$56,AD7=$AA$56,AD7=$AB$56,AD7=$AD$56,AD7=$AE$56,AD7=$AG$56,AD7=$AH$56,AD7=$AJ$56,AD7=$AK$56,AD7=$AM$56),4,0)","v":0},{"$f":"IF($AB$56=\"TEAM\",0,SUM(BZ7:CA7))","v":0},{"$f":"IF(OR(AE7=$P$56,AE7=$R$56,AE7=$S$56,AE7=$U$56,AE7=$V$56,AE7=$X$56,AE7=$Y$56,AE7=$AA$56,AE7=$AB$56,AE7=$AD$56,AE7=$AE$56,AE7=$AG$56,AE7=$AH$56,AE7=$AJ$56,AE7=$AK$56,AE7=$AM$56),4,0)","v":0},{"$f":"IF(OR(AG7=$P$56,AG7=$R$56,AG7=$S$56,AG7=$U$56,AG7=$V$56,AG7=$X$56,AG7=$Y$56,AG7=$AA$56,AG7=$AB$56,AG7=$AD$56,AG7=$AE$56,AG7=$AG$56,AG7=$AH$56,AG7=$AJ$56,AG7=$AK$56,AG7=$AM$56),4,0)","v":0},{"$f":"IF($AE$56=\"TEAM\",0,SUM(CC7:CD7))","v":0},{"$f":"IF(OR(AH7=$P$56,AH7=$R$56,AH7=$S$56,AH7=$U$56,AH7=$V$56,AH7=$X$56,AH7=$Y$56,AH7=$AA$56,AH7=$AB$56,AH7=$AD$56,AH7=$AE$56,AH7=$AG$56,AH7=$AH$56,AH7=$AJ$56,AH7=$AK$56,AH7=$AM$56),4,0)","v":0},{"$f":"IF(OR(AJ7=$P$56,AJ7=$R$56,AJ7=$S$56,AJ7=$U$56,AJ7=$V$56,AJ7=$X$56,AJ7=$Y$56,AJ7=$AA$56,AJ7=$AB$56,AJ7=$AD$56,AJ7=$AE$56,AJ7=$AG$56,AJ7=$AH$56,AJ7=$AJ$56,AJ7=$AK$56,AJ7=$AM$56),4,0)","v":0},{"$f":"IF($AH$56=\"TEAM\",0,SUM(CF7:CG7))","v":0},{"$f":"IF(OR(AK7=$P$56,AK7=$R$56,AK7=$S$56,AK7=$U$56,AK7=$V$56,AK7=$X$56,AK7=$Y$56,AK7=$AA$56,AK7=$AB$56,AK7=$AD$56,AK7=$AE$56,AK7=$AG$56,AK7=$AH$56,AK7=$AJ$56,AK7=$AK$56,AK7=$AM$56),4,0)","v":0},{"$f":"IF(OR(AM7=$P$56,AM7=$R$56,AM7=$S$56,AM7=$U$56,AM7=$V$56,AM7=$X$56,AM7=$Y$56,AM7=$AA$56,AM7=$AB$56,AM7=$AD$56,AM7=$AE$56,AM7=$AG$56,AM7=$AH$56,AM7=$AJ$56,AM7=$AK$56,AM7=$AM$56),4,0)","v":0},{"$f":"IF($AK$56=\"TEAM\",0,SUM(CI7:CJ7))","v":0},{"$f":"IF(OR(AN7=$AN$56,AN7=$AP$56,AN7=$AQ$56,AN7=$AS$56,AN7=$AT$56,AN7=$AV$56,AN7=$AW$56,AN7=$AY$56),5,0)","v":0},{"$f":"IF(OR(AP7=$AN$56,AP7=$AP$56,AP7=$AQ$56,AP7=$AS$56,AP7=$AT$56,AP7=$AV$56,AP7=$AW$56,AP7=$AY$56),5,0)","v":0},{"$f":"IF($AN$56=\"TEAM\",0,SUM(CL7:CM7))","v":0},{"$f":"IF(OR(AQ7=$AN$56,AQ7=$AP$56,AQ7=$AQ$56,AQ7=$AS$56,AQ7=$AT$56,AQ7=$AV$56,AQ7=$AW$56,AQ7=$AY$56),5,0)","v":0},{"$f":"IF(OR(AS7=$AN$56,AS7=$AP$56,AS7=$AQ$56,AS7=$AS$56,AS7=$AT$56,AS7=$AV$56,AS7=$AW$56,AS7=$AY$56),5,0)","v":0},{"$f":"IF($AQ$56=\"TEAM\",0,SUM(CO7:CP7))","v":0},{"$f":"IF(OR(AT7=$AN$56,AT7=$AP$56,AT7=$AQ$56,AT7=$AS$56,AT7=$AT$56,AT7=$AV$56,AT7=$AW$56,AT7=$AY$56),5,0)","v":0},{"$f":"IF(OR(AV7=$AN$56,AV7=$AP$56,AV7=$AQ$56,AV7=$AS$56,AV7=$AT$56,AV7=$AV$56,AV7=$AW$56,AV7=$AY$56),5,0)","v":0},{"$f":"IF($AT$56=\"TEAM\",0,SUM(CR7:CS7))","v":0},{"$f":"IF(OR(AW7=$AN$56,AW7=$AP$56,AW7=$AQ$56,AW7=$AS$56,AW7=$AT$56,AW7=$AV$56,AW7=$AW$56,AW7=$AY$56),5,0)","v":0},{"$f":"IF(OR(AY7=$AN$56,AY7=$AP$56,AY7=$AQ$56,AY7=$AS$56,AY7=$AT$56,AY7=$AV$56,AY7=$AW$56,AY7=$AY$56),5,0)","v":0},{"$f":"IF($AW$56=\"TEAM\",0,SUM(CU7:CV7))","v":0},{"$f":"IF(OR(AZ7=$AZ$56,AZ7=$BB$56,AZ7=$BC$56,AZ7=$BE$56),6,0)","v":0},{"$f":"IF(OR(BB7=$AZ$56,BB7=$BB$56,BB7=$BC$56,BB7=$BE$56),6,0)","v":0},{"$f":"IF($AZ$56=\"TEAM\",0,SUM(CX7:CY7))","v":0},{"$f":"IF(OR(BC7=$AZ$56,BC7=$BB$56,BC7=$BC$56,BC7=$BE$56),6,0)","v":0},{"$f":"IF(OR(BE7=$AZ$56,BE7=$BB$56,BE7=$BC$56,BE7=$BE$56),6,0)","v":0},{"$f":"IF($BC$56=\"TEAM\",0,SUM(DA7:DB7))","v":0},{"$f":"IF(OR(BF7=$BF$56,BF7=$BH$56),1,0)","v":0},{"$f":"IF(OR(BH7=$BF$56,BH7=$BH$56),1,0)","v":0},{"$f":"IF($BF$56=\"TEAM\",0,SUM(DD7:DE7))","v":0},{"$f":"IF(OR(BI7=$BI$56,BI7=$BK$56),7,0)","v":0},{"$f":"IF(OR(BK7=$BI$56,BK7=$BK$56),7,0)","v":0},{"$f":"IF($BI$56=\"TEAM\",0,SUM(DG7:DH7))","v":0},{"$f":"IF(BL7=$BL$56,8,0)","v":0},{"$f":"SUM(BP7,BS7,BV7,BY7,CB7,CE7,CH7,CK7,CN7,CQ7,CT7,CW7,CZ7,DC7,DF7,DI7)","v":0},{"$f":"'KO-Runde 073-088'!HC7","v":0},{"$f":"SUM(DK7,DL7)","v":0},null,null,"Team 6",{"$f":"SUM(DQ2:DQ6)","v":0}]
["2026-07-07T18:00:00",46210.75,"2026-07-07T12:00:00",95,{"$f":"IF('KO-Runde 073-088'!$H$16>'KO-Runde 073-088'!$J$16,'KO-Runde 073-088'!$E$16,IF('KO-Runde 073-088'!$J$16>'KO-Runde 073-088'!$H$16,'KO-Runde 073-088'!$G$16,\"Sieger Spiel 86\"))","v":"Sieger Spiel 86"},"-",{"$f":"IF('KO-Runde 073-088'!$H$15>'KO-Runde 073-088'!$J$15,'KO-Runde 073-088'!$E$15,IF('KO-Runde 073-088'!$J$15>'KO-Runde 073-088'!$H$15,'KO-Runde 073-088'!$G$15,\"Sieger Spiel 88\"))","v":"Sieger Spiel 88"},null,":",null,"USA / Mercedes-Benz Stadium (Atlanta)","Achtelfinale","voraussichtlich ARD und Magenta",0,{"$f":"IF('Vorrunde 01-24'!$O8<>\"\",'Vorrunde 01-24'!$O8,\"\")","v":""},null,":",null,null,":",null,null,":",null,null,":",null,null,":",null,null,":",null,null,":",null,null,":",null,null,":",null,null,":",null,null,":",null,null,":",null,null,":",null,null,":",null,null,":",null,null,":",null,null,{"$f":"IF('Vorrunde 01-24'!$O8<>\"\",'Vorrunde 01-24'!$O8,\"\")","v":""},{"$f":"IF(OR(P8=$P$56,P8=$R$56,P8=$S$56,P8=$U$56,P8=$V$56,P8=$X$56,P8=$Y$56,P8=$AA$56,P8=$AB$56,P8=$AD$56,P8=$AE$56,P8=$AG$56,P8=$AH$56,P8=$AJ$56,P8=$AK$56,P8=$AM$56),4,0)","v":0},{"$f":"IF(OR(R8=$P$56,R8=$R$56,R8=$S$56,R8=$U$56,R8=$V$56,R8=$X$56,R8=$Y$56,R8=$AA$56,R8=$AB$56,R8=$AD$56,R8=$AE$56,R8=$AG$56,R8=$AH$56,R8=$AJ$56,R8=$AK$56,R8=$AM$56),4,0)","v":0},{"$f":"IF($P$56=\"TEAM\",0,SUM(BN8:BO8))","v":0},{"$f":"IF(OR(S8=$P$56,S8=$R$56,S8=$S$56,S8=$U$56,S8=$V$56,S8=$X$56,S8=$Y$56,S8=$AA$56,S8=$AB$56,S8=$AD$56,S8=$AE$56,S8=$AG$56,S8=$AH$56,S8=$AJ$56,S8=$AK$56,S8=$AM$56),4,0)","v":0},{"$f":"IF(OR(U8=$P$56,U8=$R$56,U8=$S$56,U8=$U$56,U8=$V$56,U8=$X$56,U8=$Y$56,U8=$AA$56,U8=$AB$56,U8=$AD$56,U8=$AE$56,U8=$AG$56,U8=$AH$56,U8=$AJ$56,U8=$AK$56,U8=$AM$56),4,0)","v":0},{"$f":"IF($S$56=\"TEAM\",0,SUM(BQ8:BR8))","v":0},{"$f":"IF(OR(V8=$P$56,V8=$R$56,V8=$S$56,V8=$U$56,V8=$V$56,V8=$X$56,V8=$Y$56,V8=$AA$56,V8=$AB$56,V8=$AD$56,V8=$AE$56,V8=$AG$56,V8=$AH$56,V8=$AJ$56,V8=$AK$56,V8=$AM$56),4,0)","v":0},{"$f":"IF(OR(X8=$P$56,X8=$R$56,X8=$S$56,X8=$U$56,X8=$V$56,X8=$X$56,X8=$Y$56,X8=$AA$56,X8=$AB$56,X8=$AD$56,X8=$AE$56,X8=$AG$56,X8=$AH$56,X8=$AJ$56,X8=$AK$56,X8=$AM$56),4,0)","v":0},{"$f":"IF($V$56=\"TEAM\",0,SUM(BT8:BU8))","v":0},{"$f":"IF(OR(Y8=$P$56,Y8=$R$56,Y8=$S$56,Y8=$U$56,Y8=$V$56,Y8=$X$56,Y8=$Y$56,Y8=$AA$56,Y8=$AB$56,Y8=$AD$56,Y8=$AE$56,Y8=$AG$56,Y8=$AH$56,Y8=$AJ$56,Y8=$AK$56,Y8=$AM$56),4,0)","v":0},{"$f":"IF(OR(AA8=$P$56,AA8=$R$56,AA8=$S$56,AA8=$U$56,AA8=$V$56,AA8=$X$56,AA8=$Y$56,AA8=$AA$56,AA8=$AB$56,AA8=$AD$56,AA8=$AE$56,AA8=$AG$56,AA8=$AH$56,AA8=$AJ$56,AA8=$AK$56,AA8=$AM$56),4,0)","v":0},{"$f":"IF($Y$56=\"TEAM\",0,SUM(BW8:BX8))","v":0},{"$f":"IF(OR(AB8=$P$56,AB8=$R$56,AB8=$S$56,AB8=$U$56,AB8=$V$56,AB8=$X$56,AB8=$Y$56,AB8=$AA$56,AB8=$AB$56,AB8=$AD$56,AB8=$AE$56,AB8=$AG$56,AB8=$AH$56,AB8=$AJ$56,AB8=$AK$56,AB8=$AM$56),4,0)","v":0},{"$f":"IF(OR(AD8=$P$56,AD8=$R$56,AD8=$S$56,AD8=$U$56,AD8=$V$56,AD8=$X$56,AD8=$Y$56,AD8=$AA$56,AD8=$AB$56,AD8=$AD$56,AD8=$AE$56,AD8=$AG$56,AD8=$AH$56,AD8=$AJ$56,AD8=$AK$56,AD8=$AM$56),4,0)","v":0},{"$f":"IF($AB$56=\"TEAM\",0,SUM(BZ8:CA8))","v":0},{"$f":"IF(OR(AE8=$P$56,AE8=$R$56,AE8=$S$56,AE8=$U$56,AE8=$V$56,AE8=$X$56,AE8=$Y$56,AE8=$AA$56,AE8=$AB$56,AE8=$AD$56,AE8=$AE$56,AE8=$AG$56,AE8=$AH$56,AE8=$AJ$56,AE8=$AK$56,AE8=$AM$56),4,0)","v":0},{"$f":"IF(OR(AG8=$P$56,AG8=$R$56,AG8=$S$56,AG8=$U$56,AG8=$V$56,AG8=$X$56,AG8=$Y$56,AG8=$AA$56,AG8=$AB$56,AG8=$AD$56,AG8=$AE$56,AG8=$AG$56,AG8=$AH$56,AG8=$AJ$56,AG8=$AK$56,AG8=$AM$56),4,0)","v":0},{"$f":"IF($AE$56=\"TEAM\",0,SUM(CC8:CD8))","v":0},{"$f":"IF(OR(AH8=$P$56,AH8=$R$56,AH8=$S$56,AH8=$U$56,AH8=$V$56,AH8=$X$56,AH8=$Y$56,AH8=$AA$56,AH8=$AB$56,AH8=$AD$56,AH8=$AE$56,AH8=$AG$56,AH8=$AH$56,AH8=$AJ$56,AH8=$AK$56,AH8=$AM$56),4,0)","v":0},{"$f":"IF(OR(AJ8=$P$56,AJ8=$R$56,AJ8=$S$56,AJ8=$U$56,AJ8=$V$56,AJ8=$X$56,AJ8=$Y$56,AJ8=$AA$56,AJ8=$AB$56,AJ8=$AD$56,AJ8=$AE$56,AJ8=$AG$56,AJ8=$AH$56,AJ8=$AJ$56,AJ8=$AK$56,AJ8=$AM$56),4,0)","v":0},{"$f":"IF($AH$56=\"TEAM\",0,SUM(CF8:CG8))","v":0},{"$f":"IF(OR(AK8=$P$56,AK8=$R$56,AK8=$S$56,AK8=$U$56,AK8=$V$56,AK8=$X$56,AK8=$Y$56,AK8=$AA$56,AK8=$AB$56,AK8=$AD$56,AK8=$AE$56,AK8=$AG$56,AK8=$AH$56,AK8=$AJ$56,AK8=$AK$56,AK8=$AM$56),4,0)","v":0},{"$f":"IF(OR(AM8=$P$56,AM8=$R$56,AM8=$S$56,AM8=$U$56,AM8=$V$56,AM8=$X$56,AM8=$Y$56,AM8=$AA$56,AM8=$AB$56,AM8=$AD$56,AM8=$AE$56,AM8=$AG$56,AM8=$AH$56,AM8=$AJ$56,AM8=$AK$56,AM8=$AM$56),4,0)","v":0},{"$f":"IF($AK$56=\"TEAM\",0,SUM(CI8:CJ8))","v":0},{"$f":"IF(OR(AN8=$AN$56,AN8=$AP$56,AN8=$AQ$56,AN8=$AS$56,AN8=$AT$56,AN8=$AV$56,AN8=$AW$56,AN8=$AY$56),5,0)","v":0},{"$f":"IF(OR(AP8=$AN$56,AP8=$AP$56,AP8=$AQ$56,AP8=$AS$56,AP8=$AT$56,AP8=$AV$56,AP8=$AW$56,AP8=$AY$56),5,0)","v":0},{"$f":"IF($AN$56=\"TEAM\",0,SUM(CL8:CM8))","v":0},{"$f":"IF(OR(AQ8=$AN$56,AQ8=$AP$56,AQ8=$AQ$56,AQ8=$AS$56,AQ8=$AT$56,AQ8=$AV$56,AQ8=$AW$56,AQ8=$AY$56),5,0)","v":0},{"$f":"IF(OR(AS8=$AN$56,AS8=$AP$56,AS8=$AQ$56,AS8=$AS$56,AS8=$AT$56,AS8=$AV$56,AS8=$AW$56,AS8=$AY$56),5,0)","v":0},{"$f":"IF($AQ$56=\"TEAM\",0,SUM(CO8:CP8))","v":0},{"$f":"IF(OR(AT8=$AN$56,AT8=$AP$56,AT8=$AQ$56,AT8=$AS$56,AT8=$AT$56,AT8=$AV$56,AT8=$AW$56,AT8=$AY$56),5,0)","v":0},{"$f":"IF(OR(AV8=$AN$56,AV8=$AP$56,AV8=$AQ$56,AV8=$AS$56,AV8=$AT$56,AV8=$AV$56,AV8=$AW$56,AV8=$AY$56),5,0)","v":0},{"$f":"IF($AT$56=\"TEAM\",0,SUM(CR8:CS8))","v":0},{"$f":"IF(OR(AW8=$AN$56,AW8=$AP$56,AW8=$AQ$56,AW8=$AS$56,AW8=$AT$56,AW8=$AV$56,AW8=$AW$56,AW8=$AY$56),5,0)","v":0},{"$f":"IF(OR(AY8=$AN$56,AY8=$AP$56,AY8=$AQ$56,AY8=$AS$56,AY8=$AT$56,AY8=$AV$56,AY8=$AW$56,AY8=$AY$56),5,0)","v":0},{"$f":"IF($AW$56=\"TEAM\",0,SUM(CU8:CV8))","v":0},{"$f":"IF(OR(AZ8=$AZ$56,AZ8=$BB$56,AZ8=$BC$56,AZ8=$BE$56),6,0)","v":0},{"$f":"IF(OR(BB8=$AZ$56,BB8=$BB$56,BB8=$BC$56,BB8=$BE$56),6,0)","v":0},{"$f":"IF($AZ$56=\"TEAM\",0,SUM(CX8:CY8))","v":0},{"$f":"IF(OR(BC8=$AZ$56,BC8=$BB$56,BC8=$BC$56,BC8=$BE$56),6,0)","v":0},{"$f":"IF(OR(BE8=$AZ$56,BE8=$BB$56,BE8=$BC$56,BE8=$BE$56),6,0)","v":0},{"$f":"IF($BC$56=\"TEAM\",0,SUM(DA8:DB8))","v":0},{"$f":"IF(OR(BF8=$BF$56,BF8=$BH$56),1,0)","v":0},{"$f":"IF(OR(BH8=$BF$56,BH8=$BH$56),1,0)","v":0},{"$f":"IF($BF$56=\"TEAM\",0,SUM(DD8:DE8))","v":0},{"$f":"IF(OR(BI8=$BI$56,BI8=$BK$56),7,0)","v":0},{"$f":"IF(OR(BK8=$BI$56,BK8=$BK$56),7,0)","v":0},{"$f":"IF($BI$56=\"TEAM\",0,SUM(DG8:DH8))","v":0},{"$f":"IF(BL8=$BL$56,8,0)","v":0},{"$f":"SUM(BP8,BS8,BV8,BY8,CB8,CE8,CH8,CK8,CN8,CQ8,CT8,CW8,CZ8,DC8,DF8,DI8)","v":0},{"$f":"'KO-Runde 073-088'!HC8","v":0},{"$f":"SUM(DK8,DL8)","v":0},null,null,"Team 7"]
["2026-07-07T22:00:00",46210.916666666664,"2026-07-07T13:00:00",96,{"$f":"IF('KO-Runde 073-088'!$H$14>'KO-Runde 073-088'!$J$14,'KO-Runde 073-088'!$E$14,IF('KO-Runde 073-088'!$J$14>'KO-Runde 073-088'!$H$14,'KO-Runde 073-088'!$G$14,\"Sieger Spiel 85\"))","v":"Sieger Spiel 85"},"-",{"$f":"IF('KO-Runde 073-088'!$H$17>'KO-Runde 073-088'!$J$17,'KO-Runde 073-088'!$E$17,IF('KO-Runde 073-088'!$J$17>'KO-Runde 073-088'!$H$17,'KO-Runde 073-088'!$G$17,\"Sieger Spiel 87\"))","v":"Sieger Spiel 87"},null,":",null,"Kanada / BC Place Stadium (Vancouver)","Achtelfinale","voraussichtlich nur bei MagentaTV",0,{"$f":"IF('Vorrunde 01-24'!$O9<>\"\",'Vorrunde 01-24'!$O9,\"\")","v":""},null,":",null,null,":",null,null,":",null,null,":",null,null,":",null,null,":",null,null,":",null,null,":",null,null,":",null,null,":",null,null,":",null,null,":",null,null,":",null,null,":",null,null,":",null,null,":",null,null,{"$f":"IF('Vorrunde 01-24'!$O9<>\"\",'Vorrunde 01-24'!$O9,\"\")","v":""},0,0,0,0,0,0,0,0,0,0,0,0,0,0,0,0,0,0,0,0,0,0,0,0,0,0,0,0,0,0,0,0,0,0,0,0,0,0,0,0,0,0,0,0,0,0,0,0,0,0,{"$f":"'KO-Runde 073-088'!HC9","v":0},0,null,null,"Team 8"]
["2026-07-09T22:00:00",46212.916666666664,"2026-07-09T16:00:00",97,{"$f":"IF($H$3>$J$3,$E$3,IF($J$3>$H$3,G$3,\"Sieger Spiel 89\"))","v":"Sieger Spiel 89"},"-",{"$f":"IF($H$2>$J$2,$E$2,IF($J$2>$H$2,G$2,\"Sieger Spiel 90\"))","v":"Sieger Spiel 90"},null,":",null,"USA / Gillette Stadium (Boston)","Viertelfinale","voraussichtlich ZDF und Magenta",0,{"$f":"IF('Vorrunde 01-24'!$O10<>\"\",'Vorrunde 01-24'!$O10,\"\")","v":""},null,":",null,null,":",null,null,":",null,null,":",null,null,":",null,null,":",null,null,":",null,null,":",null,null,":",null,null,":",null,null,":",null,null,":",null,null,":",null,null,":",null,null,":",null,null,":",null,null,{"$f":"IF('Vorrunde 01-24'!$O10<>\"\",'Vorrunde 01-24'!$O10,\"\")","v":""},0,0,0,0,0,0,0,0,0,0,0,0,0,0,0,0,0,0,0,0,0,0,0,0,0,0,0,0,0,0,0,0,0,0,0,0,0,0,0,0,0,0,0,0,0,0,0,0,0,0,{"$f":"'KO-Runde 073-088'!HC10","v":0},0,null,null,"Team 9"]
["2026-07-10T21:00:00",46213.875,"2026-07-10T12:00:00",98,{"$f":"IF($H$6>$J$6,$E$6,IF($J$6>$H$6,G$6,\"Sieger Spiel 93\"))","v":"Sieger Spiel 93"},"-",{"$f":"IF($H$7>$J$7,$E$7,IF($J$7>$H$7,G$7,\"Sieger Spiel 94\"))","v":"Sieger Spiel 94"},null,":",null,"USA / SoFi Stadium (Los Angeles)","Viertelfinale","voraussichtlich ARD und Magenta",0,{"$f":"IF('Vorrunde 01-24'!$O11<>\"\",'Vorrunde 01-24'!$O11,\"\")","v":""},null,":",null,null,":",null,null,":",null,null,":",null,null,":",null,null,":",null,null,":",null,null,":",null,null,":",null,null,":",null,null,":",null,null,":",null,null,":",null,null,":",null,null,":",null,null,":",null,null,{"$f":"IF('Vorrunde 01-24'!$O11<>\"\",'Vorrunde 01-24'!$O11,\"\")","v":""},0,0,0,0,0,0,0,0,0,0,0,0,0,0,0,0,0,0,0,0,0,0,0,0,0,0,0,0,0,0,0,0,0,0,0,0,0,0,0,0,0,0,0,0,0,0,0,0,0,0,{"$f":"'KO-Runde 073-088'!HC11","v":0},0,null,null,"Team 10"]
["2026-07-11T23:00:00",46214.958333333336,"2026-07-11T17:00:00",99,{"$f":"IF($H$4>$J$4,$E$4,IF($J$4>$H$4,G$4,\"Sieger Spiel 91\"))","v":"Sieger Spiel 91"},"-",{"$f":"IF($H$5>$J$5,$E$5,IF($J$5>$H$5,G$5,\"Sieger Spiel 92\"))","v":"Sieger Spiel 92"},null,":",null,"USA / Hard Rock Stadium (Miami)","Viertelfinale","voraussichtlich nur bei MagentaTV",0,{"$f":"IF('Vorrunde 01-24'!$O12<>\"\",'Vorrunde 01-24'!$O12,\"\")","v":""},null,":",null,null,":",null,null,":",null,null,":",null,null,":",null,null,":",null,null,":",null,null,":",null,null,":",null,null,":",null,null,":",null,null,":",null,null,":",null,null,":",null,null,":",null,null,":",null,null,{"$f":"IF('Vorrunde 01-24'!$O12<>\"\",'Vorrunde 01-24'!$O12,\"\")","v":""},0,0,0,0,0,0,0,0,0,0,0,0,0,0,0,0,0,0,0,0,0,0,0,0,0,0,0,0,0,0,0,0,0,0,0,0,0,0,0,0,0,0,0,0,0,0,0,0,0,0,{"$f":"'KO-Runde 073-088'!HC12","v":0},0,null,null,"Team 11"]
["2026-07-12T03:00:00",46215.125,"2026-07-11T20:00:00",100,{"$f":"IF($H$8>$J$8,$E$8,IF($J$8>$H$8,G$8,\"Sieger Spiel 95\"))","v":"Sieger Spiel 95"},"-",{"$f":"IF($H$9>$J$9,$E$9,IF($J$9>$H$9,G$9,\"Sieger Spiel 96\"))","v":"Sieger Spiel 96"},null,":",null,"USA / Arrowhead Stadium (Kansas City)","Viertelfinale","voraussichtlich nur bei MagentaTV",0,{"$f":"IF('Vorrunde 01-24'!$O13<>\"\",'Vorrunde 01-24'!$O13,\"\")","v":""},null,":",null,null,":",null,null,":",null,null,":",null,null,":",null,null,":",null,null,":",null,null,":",null,null,":",null,null,":",null,null,":",null,null,":",null,null,":",null,null,":",null,null,":",null,null,":",null,null,{"$f":"IF('Vorrunde 01-24'!$O13<>\"\",'Vorrunde 01-24'!$O13,\"\")","v":""},0,0,0,0,0,0,0,0,0,0,0,0,0,0,0,0,0,0,0,0,0,0,0,0,0,0,0,0,0,0,0,0,0,0,0,0,0,0,0,0,0,0,0,0,0,0,0,0,0,0,{"$f":"'KO-Runde 073-088'!HC13","v":0},0,null,null,"Team 12"]
["2026-07-14T21:00:00",46217.875,"2026-07-14T14:00:00",101,{"$f":"IF($H$10>$J$10,$E$10,IF($J$10>$H$10,G$10,\"Sieger Spiel 97\"))","v":"Sieger Spiel 97"},"-",{"$f":"IF($H$11>$J$11,$E$11,IF($J$11>$H$11,G$11,\"Sieger Spiel 98\"))","v":"Sieger Spiel 98"},null,":",null,"USA / AT&T Stadium (Dallas)","Halbfinale","voraussichtlich ARD und Magenta",0,{"$f":"IF('Vorrunde 01-24'!$O14<>\"\",'Vorrunde 01-24'!$O14,\"\")","v":""},null,":",null,null,":",null,null,":",null,null,":",null,null,":",null,null,":",null,null,":",null,null,":",null,null,":",null,null,":",null,null,":",null,null,":",null,null,":",null,null,":",null,null,":",null,null,":",null,null,{"$f":"IF('Vorrunde 01-24'!$O14<>\"\",'Vorrunde 01-24'!$O14,\"\")","v":""},0,0,0,0,0,0,0,0,0,0,0,0,0,0,0,0,0,0,0,0,0,0,0,0,0,0,0,0,0,0,0,0,0,0,0,0,0,0,0,0,0,0,0,0,0,0,0,0,0,0,{"$f":"'KO-Runde 073-088'!HC14","v":0},0,null,null,"Team 13"]
["2026-07-15T21:00:00",46218.875,"2026-07-15T15:00:00",102,{"$f":"IF($H$12>$J$12,$E$12,IF($J$12>$H$12,G$12,\"Sieger Spiel 99\"))","v":"Sieger Spiel 99"},"-",{"$f":"IF($H$13>$J$13,$E$13,IF($J$13>$H$13,G$13,\"Sieger Spiel 100\"))","v":"Sieger Spiel 100"},null,":",null,"USA / Mercedes-Benz Stadium (Atlanta)","Halbfinale","voraussichtlich ZDF und Magenta",0,{"$f":"IF('Vorrunde 01-24'!$O15<>\"\",'Vorrunde 01-24'!$O15,\"\")","v":""},null,":",null,null,":",null,null,":",null,null,":",null,null,":",null,null,":",null,null,":",null,null,":",null,null,":",null,null,":",null,null,":",null,null,":",null,null,":",null,null,":",null,null,":",null,null,":",null,null,{"$f":"IF('Vorrunde 01-24'!$O15<>\"\",'Vorrunde 01-24'!$O15,\"\")","v":""},0,0,0,0,0,0,0,0,0,0,0,0,0,0,0,0,0,0,0,0,0,0,0,0,0,0,0,0,0,0,0,0,0,0,0,0,0,0,0,0,0,0,0,0,0,0,0,0,0,0,{"$f":"'KO-Runde 073-088'!HC15","v":0},0,null,null,"Team 14"]
["2026-07-18T23:00:00",46221.958333333336,"2026-07-18T17:00:00",103,{"$f":"IF($H$14>$J$14,$G$14,IF($J$14>$H$14,E$14,\"Verlierer Spiel 101\"))","v":"Verlierer Spiel 101"},"-",{"$f":"IF($H$15>$J$15,$G$15,IF($J$15>$H$15,E$15,\"Verlierer Spiel 102\"))","v":"Verlierer Spiel 102"},null,":",null,"USA / Hard Rock Stadium (Miami)","Spiel um Platz 3","MagentaTV (Telekom) exklusiv",0,{"$f":"IF('Vorrunde 01-24'!$O16<>\"\",'Vorrunde 01-24'!$O16,\"\")","v":""},null,":",null,null,":",null,null,":",null,null,":",null,null,":",null,null,":",null,null,":",null,null,":",null,null,":",null,null,":",null,null,":",null,null,":",null,null,":",null,null,":",null,null,":",null,null,":",null,null,{"$f":"IF('Vorrunde 01-24'!$O16<>\"\",'Vorrunde 01-24'!$O16,\"\")","v":""},0,0,0,0,0,0,0,0,0,0,0,0,0,0,0,0,0,0,0,0,0,0,0,0,0,0,0,0,0,0,0,0,0,0,0,0,0,0,0,0,0,0,0,0,0,0,0,0,0,0,{"$f":"'KO-Runde 073-088'!HC16","v":0},0,null,null,"Team 15"]
["2026-07-19T21:00:00",46222.875,"2026-07-19T15:00:00",104,{"$f":"IF($H$14>$J$14,$E$14,IF($J$14>$H$14,G$14,\"Sieger Spiel 101\"))","v":"Sieger Spiel 101"},"-",{"$f":"IF($H$15>$J$15,$E$15,IF($J$15>$H$15,G$15,\"Sieger Spiel 102\"))","v":"Sieger Spiel 102"},null,":",null,"USA / MetLife Stadium (New York/New Jersey)","Endspiel","ZDF und MagentaTV",0,{"$f":"IF('Vorrunde 01-24'!$O17<>\"\",'Vorrunde 01-24'!$O17,\"\")","v":""},null,":",null,null,":",null,null,":",null,null,":",null,null,":",null,null,":",null,null,":",null,null,":",null,null,":",null,null,":",null,null,":",null,null,":",null,null,":",null,null,":",null,null,":",null,null,":",null,null,{"$f":"IF('Vorrunde 01-24'!$O17<>\"\",'Vorrunde 01-24'!$O17,\"\")","v":""},0,0,0,0,0,0,0,0,0,0,0,0,0,0,0,0,0,0,0,0,0,0,0,0,0,0,0,0,0,0,0,0,0,0,0,0,0,0,0,0,0,0,0,0,0,0,0,0,0,0,{"$f":"'KO-Runde 073-088'!HC17","v":0},0,null,null,"Team 16"]
[null,null,null,null,null,null,null,null,null,null,null,null,null,{"$f":"SUM(N2:N17)","v":0},{"$f":"IF('Vorrunde 01-24'!$O18<>\"\",'Vorrunde 01-24'!$O18,\"\")","v":""},null,":",null,null,":",null,null,":",null,null,":",null,null,":",null,null,":",null,null,":",null,null,":",null,null,":",null,null,":",null,null,":",null,null,":",null,null,":",null,null,":",null,null,":",null,null,":",null,null,{"$f":"IF('Vorrunde 01-24'!$O18<>\"\",'Vorrunde 01-24'!$O18,\"\")","v":""},0,0,0,0,0,0,0,0,0,0,0,0,0,0,0,0,0,0,0,0,0,0,0,0,0,0,0,0,0,0,0,0,0,0,0,0,0,0,0,0,0,0,0,0,0,0,0,0,0,0,{"$f":"'KO-Runde 073-088'!HC18","v":0},0,null,null,"Team 17"]
[null,null,null,null,null,null,null,null,null,null,null,null,null,null,{"$f":"IF('Vorrunde 01-24'!$O19<>\"\",'Vorrunde 01-24'!$O19,\"\")","v":""},null,":",null,null,":",null,null,":",null,null,":",null,null,":",null,null,":",null,null,":",null,null,":",null,null,":",null,null,":",null,null,":",null,null,":",null,null,":",null,null,":",null,null,":",null,null,":",null,null,{"$f":"IF('Vorrunde 01-24'!$O19<>\"\",'Vorrunde 01-24'!$O19,\"\")","v":""},0,0,0,0,0,0,0,0,0,0,0,0,0,0,0,0,0,0,0,0,0,0,0,0,0,0,0,0,0,0,0,0,0,0,0,0,0,0,0,0,0,0,0,0,0,0,0,0,0,0,{"$f":"'KO-Runde 073-088'!HC19","v":0},0,null,null,"Team 18"]
[null,null,null,null,null,null,null,null,null,null,null,null,null,null,{"$f":"IF('Vorrunde 01-24'!$O20<>\"\",'Vorrunde 01-24'!$O20,\"\")","v":""},null,":",null,null,":",null,null,":",null,null,":",null,null,":",null,null,":",null,null,":",null,null,":",null,null,":",null,null,":",null,null,":",null,null,":",null,null,":",null,null,":",null,null,":",null,null,":",null,null,{"$f":"IF('Vorrunde 01-24'!$O20<>\"\",'Vorrunde 01-24'!$O20,\"\")","v":""},0,0,0,0,0,0,0,0,0,0,0,0,0,0,0,0,0,0,0,0,0,0,0,0,0,0,0,0,0,0,0,0,0,0,0,0,0,0,0,0,0,0,0,0,0,0,0,0,0,0,{"$f":"'KO-Runde 073-088'!HC20","v":0},0,null,null,"Team 19"]
[null,null,null,null,null,null,null,null,null,null,null,null,null,null,{"$f":"IF('Vorrunde 01-24'!$O21<>\"\",'Vorrunde 01-24'!$O21,\"\")","v":""},null,":",null,null,":",null,null,":",null,null,":",null,null,":",null,null,":",null,null,":",null,null,":",null,null,":",null,null,":",null,null,":",null,null,":",null,null,":",null,null,":",null,null,":",null,null,":",null,null,{"$f":"IF('Vorrunde 01-24'!$O21<>\"\",'Vorrunde 01-24'!$O21,\"\")","v":""},0,0,0,0,0,0,0,0,0,0,0,0,0,0,0,0,0,0,0,0,0,0,0,0,0,0,0,0,0,0,0,0,0,0,0,0,0,0,0,0,0,0,0,0,0,0,0,0,0,0,{"$f":"'KO-Runde 073-088'!HC21","v":0},0,null,null,"Team 20"]
[null,null,null,null,null,null,null,null,null,null,null,null,null,null,{"$f":"IF('Vorrunde 01-24'!$O22<>\"\",'Vorrunde 01-24'!$O22,\"\")","v":""},null,":",null,null,":",null,null,":",null,null,":",null,null,":",null,null,":",null,null,":",null,null,":",null,null,":",null,null,":",null,null,":",null,null,":",null,null,":",null,null,":",null,null,":",null,null,":",null,null,{"$f":"IF('Vorrunde 01-24'!$O22<>\"\",'Vorrunde 01-24'!$O22,\"\")","v":""},0,0,0,0,0,0,0,0,0,0,0,0,0,0,0,0,0,0,0,0,0,0,0,0,0,0,0,0,0,0,0,0,0,0,0,0,0,0,0,0,0,0,0,0,0,0,0,0,0,0,{"$f":"'KO-Runde 073-088'!HC22","v":0},0,null,null,"Team 21"]
[null,null,null,null,null,null,null,null,null,null,null,null,null,null,{"$f":"IF('Vorrunde 01-24'!$O23<>\"\",'Vorrunde 01-24'!$O23,\"\")","v":""},null,":",null,null,":",null,null,":",null,null,":",null,null,":",null,null,":",null,null,":",null,null,":",null,null,":",null,null,":",null,null,":",null,null,":",null,null,":",null,null,":",null,null,":",null,null,":",null,null,{"$f":"IF('Vorrunde 01-24'!$O23<>\"\",'Vorrunde 01-24'!$O23,\"\")","v":""},0,0,0,0,0,0,0,0,0,0,0,0,0,0,0,0,0,0,0,0,0,0,0,0,0,0,0,0,0,0,0,0,0,0,0,0,0,0,0,0,0,0,0,0,0,0,0,0,0,0,{"$f":"'KO-Runde 073-088'!HC23","v":0},0,null,null,"Team 22"]
[null,null,null,null,null,null,null,null,null,null,null,null,null,null,{"$f":"IF('Vorrunde 01-24'!$O24<>\"\",'Vorrunde 01-24'!$O24,\"\")","v":""},null,":",null,null,":",null,null,":",null,null,":",null,null,":",null,null,":",null,null,":",null,null,":",null,null,":",null,null,":",null,null,":",null,null,":",null,null,":",null,null,":",null,null,":",null,null,":",null,null,{"$f":"IF('Vorrunde 01-24'!$O24<>\"\",'Vorrunde 01-24'!$O24,\"\")","v":""},0,0,0,0,0,0,0,0,0,0,0,0,0,0,0,0,0,0,0,0,0,0,0,0,0,0,0,0,0,0,0,0,0,0,0,0,0,0,0,0,0,0,0,0,0,0,0,0,0,0,{"$f":"'KO-Runde 073-088'!HC24","v":0},0,null,null,"Team 23"]
[null,null,null,null,null,null,null,null,null,null,null,null,null,null,{"$f":"IF('Vorrunde 01-24'!$O25<>\"\",'Vorrunde 01-24'!$O25,\"\")","v":""},null,":",null,null,":",null,null,":",null,null,":",null,null,":",null,null,":",null,null,":",null,null,":",null,null,":",null,null,":",null,null,":",null,null,":",null,null,":",null,null,":",null,null,":",null,null,":",null,null,{"$f":"IF('Vorrunde 01-24'!$O25<>\"\",'Vorrunde 01-24'!$O25,\"\")","v":""},0,0,0,0,0,0,0,0,0,0,0,0,0,0,0,0,0,0,0,0,0,0,0,0,0,0,0,0,0,0,0,0,0,0,0,0,0,0,0,0,0,0,0,0,0,0,0,0,0,0,{"$f":"'KO-Runde 073-088'!HC25","v":0},0,null,null,"Team 24"]
[null,null,null,null,null,null,null,null,null,null,null,null,null,null,{"$f":"IF('Vorrunde 01-24'!$O26<>\"\",'Vorrunde 01-24'!$O26,\"\")","v":""},null,":",null,null,":",null,null,":",null,null,":",null,null,":",null,null,":",null,null,":",null,null,":",null,null,":",null,null,":",null,null,":",null,null,":",null,null,":",null,null,":",null,null,":",null,null,":",null,null,{"$f":"IF('Vorrunde 01-24'!$O26<>\"\",'Vorrunde 01-24'!$O26,\"\")","v":""},0,0,0,0,0,0,0,0,0,0,0,0,0,0,0,0,0,0,0,0,0,0,0,0,0,0,0,0,0,0,0,0,0,0,0,0,0,0,0,0,0,0,0,0,0,0,0,0,0,0,{"$f":"'KO-Runde 073-088'!HC26","v":0},0,null,null,"Team 25"]
[null,null,null,null,null,null,null,null,null,null,null,null,null,null,{"$f":"IF('Vorrunde 01-24'!$O27<>\"\",'Vorrunde 01-24'!$O27,\"\")","v":""},null,":",null,null,":",null,null,":",null,null,":",null,null,":",null,null,":",null,null,":",null,null,":",null,null,":",null,null,":",null,null,":",null,null,":",null,null,":",null,null,":",null,null,":",null,null,":",null,null,{"$f":"IF('Vorrunde 01-24'!$O27<>\"\",'Vorrunde 01-24'!$O27,\"\")","v":""},0,0,0,0,0,0,0,0,0,0,0,0,0,0,0,0,0,0,0,0,0,0,0,0,0,0,0,0,0,0,0,0,0,0,0,0,0,0,0,0,0,0,0,0,0,0,0,0,0,0,{"$f":"'KO-Runde 073-088'!HC27","v":0},0,null,null,"Team 26"]
[null,null,null,null,null,null,null,null,null,null,null,null,null,null,{"$f":"IF('Vorrunde 01-24'!$O28<>\"\",'Vorrunde 01-24'!$O28,\"\")","v":""},null,":",null,null,":",null,null,":",null,null,":",null,null,":",null,null,":",null,null,":",null,null,":",null,null,":",null,null,":",null,null,":",null,null,":",null,null,":",null,null,":",null,null,":",null,null,":",null,null,{"$f":"IF('Vorrunde 01-24'!$O28<>\"\",'Vorrunde 01-24'!$O28,\"\")","v":""},0,0,0,0,0,0,0,0,0,0,0,0,0,0,0,0,0,0,0,0,0,0,0,0,0,0,0,0,0,0,0,0,0,0,0,0,0,0,0,0,0,0,0,0,0,0,0,0,0,0,{"$f":"'KO-Runde 073-088'!HC28","v":0},0,null,null,"Team 27"]
[null,null,null,null,null,null,null,null,null,null,null,null,null,null,{"$f":"IF('Vorrunde 01-24'!$O29<>\"\",'Vorrunde 01-24'!$O29,\"\")","v":""},null,":",null,null,":",null,null,":",null,null,":",null,null,":",null,null,":",null,null,":",null,null,":",null,null,":",null,null,":",null,null,":",null,null,":",null,null,":",null,null,":",null,null,":",null,null,":",null,null,{"$f":"IF('Vorrunde 01-24'!$O29<>\"\",'Vorrunde 01-24'!$O29,\"\")","v":""},0,0,0,0,0,0,0,0,0,0,0,0,0,0,0,0,0,0,0,0,0,0,0,0,0,0,0,0,0,0,0,0,0,0,0,0,0,0,0,0,0,0,0,0,0,0,0,0,0,0,{"$f":"'KO-Runde 073-088'!HC29","v":0},0,null,null,"Team 28"]
[null,null,null,null,null,null,null,null,null,null,null,null,null,null,{"$f":"IF('Vorrunde 01-24'!$O30<>\"\",'Vorrunde 01-24'!$O30,\"\")","v":""},null,":",null,null,":",null,null,":",null,null,":",null,null,":",null,null,":",null,null,":",null,null,":",null,null,":",null,null,":",null,null,":",null,null,":",null,null,":",null,null,":",null,null,":",null,null,":",null,null,{"$f":"IF('Vorrunde 01-24'!$O30<>\"\",'Vorrunde 01-24'!$O30,\"\")","v":""},0,0,0,0,0,0,0,0,0,0,0,0,0,0,0,0,0,0,0,0,0,0,0,0,0,0,0,0,0,0,0,0,0,0,0,0,0,0,0,0,0,0,0,0,0,0,0,0,0,0,{"$f":"'KO-Runde 073-088'!HC30","v":0},0,null,null,"Team 29"]
[null,null,null,null,null,null,null,null,null,null,null,null,null,null,{"$f":"IF('Vorrunde 01-24'!$O31<>\"\",'Vorrunde 01-24'!$O31,\"\")","v":""},null,":",null,null,":",null,null,":",null,null,":",null,null,":",null,null,":",null,null,":",null,null,":",null,null,":",null,null,":",null,null,":",null,null,":",null,null,":",null,null,":",null,null,":",null,null,":",null,null,{"$f":"IF('Vorrunde 01-24'!$O31<>\"\",'Vorrunde 01-24'!$O31,\"\")","v":""},0,0,0,0,0,0,0,0,0,0,0,0,0,0,0,0,0,0,0,0,0,0,0,0,0,0,0,0,0,0,0,0,0,0,0,0,0,0,0,0,0,0,0,0,0,0,0,0,0,0,{"$f":"'KO-Runde 073-088'!HC31","v":0},0,null,null,"Team 30"]
[null,null,null,null,null,null,null,null,null,null,null,null,null,null,{"$f":"IF('Vorrunde 01-24'!$O32<>\"\",'Vorrunde 01-24'!$O32,\"\")","v":""},null,":",null,null,":",null,null,":",null,null,":",null,null,":",null,null,":",null,null,":",null,null,":",null,null,":",null,null,":",null,null,":",null,null,":",null,null,":",null,null,":",null,null,":",null,null,":",null,null,{"$f":"IF('Vorrunde 01-24'!$O32<>\"\",'Vorrunde 01-24'!$O32,\"\")","v":""},0,0,0,0,0,0,0,0,0,0,0,0,0,0,0,0,0,0,0,0,0,0,0,0,0,0,0,0,0,0,0,0,0,0,0,0,0,0,0,0,0,0,0,0,0,0,0,0,0,0,{"$f":"'KO-Runde 073-088'!HC32","v":0},0,null,null,"Team 31"]
[null,null,null,null,null,null,null,null,null,null,null,null,null,null,{"$f":"IF('Vorrunde 01-24'!$O33<>\"\",'Vorrunde 01-24'!$O33,\"\")","v":""},null,":",null,null,":",null,null,":",null,null,":",null,null,":",null,null,":",null,null,":",null,null,":",null,null,":",null,null,":",null,null,":",null,null,":",null,null,":",null,null,":",null,null,":",null,null,":",null,null,{"$f":"IF('Vorrunde 01-24'!$O33<>\"\",'Vorrunde 01-24'!$O33,\"\")","v":""},0,0,0,0,0,0,0,0,0,0,0,0,0,0,0,0,0,0,0,0,0,0,0,0,0,0,0,0,0,0,0,0,0,0,0,0,0,0,0,0,0,0,0,0,0,0,0,0,0,0,{"$f":"'KO-Runde 073-088'!HC33","v":0},0,null,null,"Team 32"]
[null,null,null,null,null,null,null,null,null,null,null,null,null,null,{"$f":"IF('Vorrunde 01-24'!$O34<>\"\",'Vorrunde 01-24'!$O34,\"\")","v":""},null,":",null,null,":",null,null,":",null,null,":",null,null,":",null,null,":",null,null,":",null,null,":",null,null,":",null,null,":",null,null,":",null,null,":",null,null,":",null,null,":",null,null,":",null,null,":",null,null,{"$f":"IF('Vorrunde 01-24'!$O34<>\"\",'Vorrunde 01-24'!$O34,\"\")","v":""},0,0,0,0,0,0,0,0,0,0,0,0,0,0,0,0,0,0,0,0,0,0,0,0,0,0,0,0,0,0,0,0,0,0,0,0,0,0,0,0,0,0,0,0,0,0,0,0,0,0,{"$f":"'KO-Runde 073-088'!HC34","v":0},0,null,null,"Team 33"]
[null,null,null,null,null,null,null,null,null,null,null,null,null,null,{"$f":"IF('Vorrunde 01-24'!$O35<>\"\",'Vorrunde 01-24'!$O35,\"\")","v":""},null,":",null,null,":",null,null,":",null,null,":",null,null,":",null,null,":",null,null,":",null,null,":",null,null,":",null,null,":",null,null,":",null,null,":",null,null,":",null,null,":",null,null,":",null,null,":",null,null,{"$f":"IF('Vorrunde 01-24'!$O35<>\"\",'Vorrunde 01-24'!$O35,\"\")","v":""},0,0,0,0,0,0,0,0,0,0,0,0,0,0,0,0,0,0,0,0,0,0,0,0,0,0,0,0,0,0,0,0,0,0,0,0,0,0,0,0,0,0,0,0,0,0,0,0,0,0,{"$f":"'KO-Runde 073-088'!HC35","v":0},0,null,null,"Team 34"]
[null,null,null,null,null,null,null,null,null,null,null,null,null,null,{"$f":"IF('Vorrunde 01-24'!$O36<>\"\",'Vorrunde 01-24'!$O36,\"\")","v":""},null,":",null,null,":",null,null,":",null,null,":",null,null,":",null,null,":",null,null,":",null,null,":",null,null,":",null,null,":",null,null,":",null,null,":",null,null,":",null,null,":",null,null,":",null,null,":",null,null,{"$f":"IF('Vorrunde 01-24'!$O36<>\"\",'Vorrunde 01-24'!$O36,\"\")","v":""},0,0,0,0,0,0,0,0,0,0,0,0,0,0,0,0,0,0,0,0,0,0,0,0,0,0,0,0,0,0,0,0,0,0,0,0,0,0,0,0,0,0,0,0,0,0,0,0,0,0,{"$f":"'KO-Runde 073-088'!HC36","v":0},0,null,null,"Team 35"]
[null,null,null,null,null,null,null,null,null,null,null,null,null,null,{"$f":"IF('Vorrunde 01-24'!$O37<>\"\",'Vorrunde 01-24'!$O37,\"\")","v":""},null,":",null,null,":",null,null,":",null,null,":",null,null,":",null,null,":",null,null,":",null,null,":",null,null,":",null,null,":",null,null,":",null,null,":",null,null,":",null,null,":",null,null,":",null,null,":",null,null,{"$f":"IF('Vorrunde 01-24'!$O37<>\"\",'Vorrunde 01-24'!$O37,\"\")","v":""},0,0,0,0,0,0,0,0,0,0,0,0,0,0,0,0,0,0,0,0,0,0,0,0,0,0,0,0,0,0,0,0,0,0,0,0,0,0,0,0,0,0,0,0,0,0,0,0,0,0,{"$f":"'KO-Runde 073-088'!HC37","v":0},0,null,null,"Team 36"]
[null,null,null,null,null,null,null,null,null,null,null,null,null,null,{"$f":"IF('Vorrunde 01-24'!$O38<>\"\",'Vorrunde 01-24'!$O38,\"\")","v":""},null,":",null,null,":",null,null,":",null,null,":",null,null,":",null,null,":",null,null,":",null,null,":",null,null,":",null,null,":",null,null,":",null,null,":",null,null,":",null,null,":",null,null,":",null,null,":",null,null,{"$f":"IF('Vorrunde 01-24'!$O38<>\"\",'Vorrunde 01-24'!$O38,\"\")","v":""},0,0,0,0,0,0,0,0,0,0,0,0,0,0,0,0,0,0,0,0,0,0,0,0,0,0,0,0,0,0,0,0,0,0,0,0,0,0,0,0,0,0,0,0,0,0,0,0,0,0,{"$f":"'KO-Runde 073-088'!HC38","v":0},0,null,null,"Team 37"]
[null,null,null,null,null,null,null,null,null,null,null,null,null,null,{"$f":"IF('Vorrunde 01-24'!$O39<>\"\",'Vorrunde 01-24'!$O39,\"\")","v":""},null,":",null,null,":",null,null,":",null,null,":",null,null,":",null,null,":",null,null,":",null,null,":",null,null,":",null,null,":",null,null,":",null,null,":",null,null,":",null,null,":",null,null,":",null,null,":",null,null,{"$f":"IF('Vorrunde 01-24'!$O39<>\"\",'Vorrunde 01-24'!$O39,\"\")","v":""},0,0,0,0,0,0,0,0,0,0,0,0,0,0,0,0,0,0,0,0,0,0,0,0,0,0,0,0,0,0,0,0,0,0,0,0,0,0,0,0,0,0,0,0,0,0,0,0,0,0,{"$f":"'KO-Runde 073-088'!HC39","v":0},0,null,null,"Team 38"]
[null,null,null,null,null,null,null,null,null,null,null,null,null,null,{"$f":"IF('Vorrunde 01-24'!$O40<>\"\",'Vorrunde 01-24'!$O40,\"\")","v":""},null,":",null,null,":",null,null,":",null,null,":",null,null,":",null,null,":",null,null,":",null,null,":",null,null,":",null,null,":",null,null,":",null,null,":",null,null,":",null,null,":",null,null,":",null,null,":",null,null,{"$f":"IF('Vorrunde 01-24'!$O40<>\"\",'Vorrunde 01-24'!$O40,\"\")","v":""},0,0,0,0,0,0,0,0,0,0,0,0,0,0,0,0,0,0,0,0,0,0,0,0,0,0,0,0,0,0,0,0,0,0,0,0,0,0,0,0,0,0,0,0,0,0,0,0,0,0,{"$f":"'KO-Runde 073-088'!HC40","v":0},0,null,null,"Team 39"]
[null,null,null,null,null,null,null,null,null,null,null,null,null,null,{"$f":"IF('Vorrunde 01-24'!$O41<>\"\",'Vorrunde 01-24'!$O41,\"\")","v":""},null,":",null,null,":",null,null,":",null,null,":",null,null,":",null,null,":",null,null,":",null,null,":",null,null,":",null,null,":",null,null,":",null,null,":",null,null,":",null,null,":",null,null,":",null,null,":",null,null,{"$f":"IF('Vorrunde 01-24'!$O41<>\"\",'Vorrunde 01-24'!$O41,\"\")","v":""},0,0,0,0,0,0,0,0,0,0,0,0,0,0,0,0,0,0,0,0,0,0,0,0,0,0,0,0,0,0,0,0,0,0,0,0,0,0,0,0,0,0,0,0,0,0,0,0,0,0,{"$f":"'KO-Runde 073-088'!HC41","v":0},0,null,null,"Team 40"]
[null,null,null,null,null,null,null,null,null,null,null,null,null,null,{"$f":"IF('Vorrunde 01-24'!$O42<>\"\",'Vorrunde 01-24'!$O42,\"\")","v":""},null,":",null,null,":",null,null,":",null,null,":",null,null,":",null,null,":",null,null,":",null,null,":",null,null,":",null,null,":",null,null,":",null,null,":",null,null,":",null,null,":",null,null,":",null,null,":",null,null,{"$f":"IF('Vorrunde 01-24'!$O42<>\"\",'Vorrunde 01-24'!$O42,\"\")","v":""},0,0,0,0,0,0,0,0,0,0,0,0,0,0,0,0,0,0,0,0,0,0,0,0,0,0,0,0,0,0,0,0,0,0,0,0,0,0,0,0,0,0,0,0,0,0,0,0,0,0,{"$f":"'KO-Runde 073-088'!HC42","v":0},0,null,null,"Team 41"]
[null,null,null,null,null,null,null,null,null,null,null,null,null,null,{"$f":"IF('Vorrunde 01-24'!$O43<>\"\",'Vorrunde 01-24'!$O43,\"\")","v":""},null,":",null,null,":",null,null,":",null,null,":",null,null,":",null,null,":",null,null,":",null,null,":",null,null,":",null,null,":",null,null,":",null,null,":",null,null,":",null,null,":",null,null,":",null,null,":",null,null,{"$f":"IF('Vorrunde 01-24'!$O43<>\"\",'Vorrunde 01-24'!$O43,\"\")","v":""},0,0,0,0,0,0,0,0,0,0,0,0,0,0,0,0,0,0,0,0,0,0,0,0,0,0,0,0,0,0,0,0,0,0,0,0,0,0,0,0,0,0,0,0,0,0,0,0,0,0,{"$f":"'KO-Runde 073-088'!HC43","v":0},0,null,null,"Team 42"]
[null,null,null,null,null,null,null,null,null,null,null,null,null,null,{"$f":"IF('Vorrunde 01-24'!$O44<>\"\",'Vorrunde 01-24'!$O44,\"\")","v":""},null,":",null,null,":",null,null,":",null,null,":",null,null,":",null,null,":",null,null,":",null,null,":",null,null,":",null,null,":",null,null,":",null,null,":",null,null,":",null,null,":",null,null,":",null,null,":",null,null,{"$f":"IF('Vorrunde 01-24'!$O44<>\"\",'Vorrunde 01-24'!$O44,\"\")","v":""},0,0,0,0,0,0,0,0,0,0,0,0,0,0,0,0,0,0,0,0,0,0,0,0,0,0,0,0,0,0,0,0,0,0,0,0,0,0,0,0,0,0,0,0,0,0,0,0,0,0,{"$f":"'KO-Runde 073-088'!HC44","v":0},0,null,null,"Team 43"]
[null,null,null,null,null,null,null,null,null,null,null,null,null,null,{"$f":"IF('Vorrunde 01-24'!$O45<>\"\",'Vorrunde 01-24'!$O45,\"\")","v":""},null,":",null,null,":",null,null,":",null,null,":",null,null,":",null,null,":",null,null,":",null,null,":",null,null,":",null,null,":",null,null,":",null,null,":",null,null,":",null,null,":",null,null,":",null,null,":",null,null,{"$f":"IF('Vorrunde 01-24'!$O45<>\"\",'Vorrunde 01-24'!$O45,\"\")","v":""},0,0,0,0,0,0,0,0,0,0,0,0,0,0,0,0,0,0,0,0,0,0,0,0,0,0,0,0,0,0,0,0,0,0,0,0,0,0,0,0,0,0,0,0,0,0,0,0,0,0,{"$f":"'KO-Runde 073-088'!HC45","v":0},0,null,null,"Team 44"]
[null,null,null,null,null,null,null,null,null,null,null,null,null,null,{"$f":"IF('Vorrunde 01-24'!$O46<>\"\",'Vorrunde 01-24'!$O46,\"\")","v":""},null,":",null,null,":",null,null,":",null,null,":",null,null,":",null,null,":",null,null,":",null,null,":",null,null,":",null,null,":",null,null,":",null,null,":",null,null,":",null,null,":",null,null,":",null,null,":",null,null,{"$f":"IF('Vorrunde 01-24'!$O46<>\"\",'Vorrunde 01-24'!$O46,\"\")","v":""},0,0,0,0,0,0,0,0,0,0,0,0,0,0,0,0,0,0,0,0,0,0,0,0,0,0,0,0,0,0,0,0,0,0,0,0,0,0,0,0,0,0,0,0,0,0,0,0,0,0,{"$f":"'KO-Runde 073-088'!HC46","v":0},0]
[null,null,null,null,null,null,null,null,null,null,null,null,null,null,{"$f":"IF('Vorrunde 01-24'!$O47<>\"\",'Vorrunde 01-24'!$O47,\"\")","v":""},null,":",null,null,":",null,null,":",null,null,":",null,null,":",null,null,":",null,null,":",null,null,":",null,null,":",null,null,":",null,null,":",null,null,":",null,null,":",null,null,":",null,null,":",null,null,":",null,null,{"$f":"IF('Vorrunde 01-24'!$O47<>\"\",'Vorrunde 01-24'!$O47,\"\")","v":""},0,0,0,0,0,0,0,0,0,0,0,0,0,0,0,0,0,0,0,0,0,0,0,0,0,0,0,0,0,0,0,0,0,0,0,0,0,0,0,0,0,0,0,0,0,0,0,0,0,0,{"$f":"'KO-Runde 073-088'!HC47","v":0},0]
[null,null,null,null,null,null,null,null,null,null,null,null,null,null,{"$f":"IF('Vorrunde 01-24'!$O48<>\"\",'Vorrunde 01-24'!$O48,\"\")","v":""},null,":",null,null,":",null,null,":",null,null,":",null,null,":",null,null,":",null,null,":",null,null,":",null,null,":",null,null,":",null,null,":",null,null,":",null,null,":",null,null,":",null,null,":",null,null,":",null,null,{"$f":"IF('Vorrunde 01-24'!$O48<>\"\",'Vorrunde 01-24'!$O48,\"\")","v":""},0,0,0,0,0,0,0,0,0,0,0,0,0,0,0,0,0,0,0,0,0,0,0,0,0,0,0,0,0,0,0,0,0,0,0,0,0,0,0,0,0,0,0,0,0,0,0,0,0,0,{"$f":"'KO-Runde 073-088'!HC48","v":0},0]
[null,null,null,null,null,null,null,null,null,null,null,null,null,null,{"$f":"IF('Vorrunde 01-24'!$O49<>\"\",'Vorrunde 01-24'!$O49,\"\")","v":""},null,":",null,null,":",null,null,":",null,null,":",null,null,":",null,null,":",null,null,":",null,null,":",null,null,":",null,null,":",null,null,":",null,null,":",null,null,":",null,null,":",null,null,":",null,null,":",null,null,{"$f":"IF('Vorrunde 01-24'!$O49<>\"\",'Vorrunde 01-24'!$O49,\"\")","v":""},0,0,0,0,0,0,0,0,0,0,0,0,0,0,0,0,0,0,0,0,0,0,0,0,0,0,0,0,0,0,0,0,0,0,0,0,0,0,0,0,0,0,0,0,0,0,0,0,0,0,{"$f":"'KO-Runde 073-088'!HC49","v":0},0]
[null,null,null,null,null,null,null,null,null,null,null,null,null,null,{"$f":"IF('Vorrunde 01-24'!$O50<>\"\",'Vorrunde 01-24'!$O50,\"\")","v":""},null,":",null,null,":",null,null,":",null,null,":",null,null,":",null,null,":",null,null,":",null,null,":",null,null,":",null,null,":",null,null,":",null,null,":",null,null,":",null,null,":",null,null,":",null,null,":",null,null,{"$f":"IF('Vorrunde 01-24'!$O50<>\"\",'Vorrunde 01-24'!$O50,\"\")","v":""},0,0,0,0,0,0,0,0,0,0,0,0,0,0,0,0,0,0,0,0,0,0,0,0,0,0,0,0,0,0,0,0,0,0,0,0,0,0,0,0,0,0,0,0,0,0,0,0,0,0,{"$f":"'KO-Runde 073-088'!HC50","v":0},0]
[null,null,null,null,null,null,null,null,null,null,null,null,null,null,{"$f":"IF('Vorrunde 01-24'!$O51<>\"\",'Vorrunde 01-24'!$O51,\"\")","v":""},null,":",null,null,":",null,null,":",null,null,":",null,null,":",null,null,":",null,null,":",null,null,":",null,null,":",null,null,":",null,null,":",null,null,":",null,null,":",null,null,":",null,null,":",null,null,":",null,null,{"$f":"IF('Vorrunde 01-24'!$O51<>\"\",'Vorrunde 01-24'!$O51,\"\")","v":""},0,0,0,0,0,0,0,0,0,0,0,0,0,0,0,0,0,0,0,0,0,0,0,0,0,0,0,0,0,0,0,0,0,0,0,0,0,0,0,0,0,0,0,0,0,0,0,0,0,0,{"$f":"'KO-Runde 073-088'!HC51","v":0},0]
[null,null,null,null,null,null,null,null,null,null,null,null,null,null,{"$f":"IF('Vorrunde 01-24'!$O52<>\"\",'Vorrunde 01-24'!$O52,\"\")","v":""},null,":",null,null,":",null,null,":",null,null,":",null,null,":",null,null,":",null,null,":",null,null,":",null,null,":",null,null,":",null,null,":",null,null,":",null,null,":",null,null,":",null,null,":",null,null,":",null,null,{"$f":"IF('Vorrunde 01-24'!$O52<>\"\",'Vorrunde 01-24'!$O52,\"\")","v":""},0,0,0,0,0,0,0,0,0,0,0,0,0,0,0,0,0,0,0,0,0,0,0,0,0,0,0,0,0,0,0,0,0,0,0,0,0,0,0,0,0,0,0,0,0,0,0,0,0,0,{"$f":"'KO-Runde 073-088'!HC52","v":0},0]
[null,null,null,null,null,null,null,null,null,null,null,null,null,null,{"$f":"IF('Vorrunde 01-24'!$O53<>\"\",'Vorrunde 01-24'!$O53,\"\")","v":""},null,":",null,null,":",null,null,":",null,null,":",null,null,":",null,null,":",null,null,":",null,null,":",null,null,":",null,null,":",null,null,":",null,null,":",null,null,":",null,null,":",null,null,":",null,null,":",null,null,{"$f":"IF('Vorrunde 01-24'!$O53<>\"\",'Vorrunde 01-24'!$O53,\"\")","v":""},0,0,0,0,0,0,0,0,0,0,0,0,0,0,0,0,0,0,0,0,0,0,0,0,0,0,0,0,0,0,0,0,0,0,0,0,0,0,0,0,0,0,0,0,0,0,0,0,0,0,{"$f":"'KO-Runde 073-088'!HC53","v":0},0]
[null,null,null,null,null,null,null,null,null,null,null,null,null,null,{"$f":"IF('Vorrunde 01-24'!$O54<>\"\",'Vorrunde 01-24'!$O54,\"\")","v":""},null,":",null,null,":",null,null,":",null,null,":",null,null,":",null,null,":",null,null,":",null,null,":",null,null,":",null,null,":",null,null,":",null,null,":",null,null,":",null,null,":",null,null,":",null,null,":",null,null,{"$f":"IF('Vorrunde 01-24'!$O54<>\"\",'Vorrunde 01-24'!$O54,\"\")","v":""},0,0,0,0,0,0,0,0,0,0,0,0,0,0,0,0,0,0,0,0,0,0,0,0,0,0,0,0,0,0,0,0,0,0,0,0,0,0,0,0,0,0,0,0,0,0,0,0,0,0,{"$f":"'KO-Runde 073-088'!HC54","v":0},0]
[null,null,null,null,null,null,null,null,null,null,null,null,null,null,{"$f":"IF('Vorrunde 01-24'!$O55<>\"\",'Vorrunde 01-24'!$O55,\"\")","v":""},null,":",null,null,":",null,null,":",null,null,":",null,null,":",null,null,":",null,null,":",null,null,":",null,null,":",null,null,":",null,null,":",null,null,":",null,null,":",null,null,":",null,null,":",null,null,":",null,null,{"$f":"IF('Vorrunde 01-24'!$O55<>\"\",'Vorrunde 01-24'!$O55,\"\")","v":""},0,0,0,0,0,0,0,0,0,0,0,0,0,0,0,0,0,0,0,0,0,0,0,0,0,0,0,0,0,0,0,0,0,0,0,0,0,0,0,0,0,0,0,0,0,0,0,0,0,0,{"$f":"'KO-Runde 073-088'!HC55","v":0},{"$f":"SUM(DK55,DL55)","v":0}]
[null,null,null,null,null,null,null,null,null,null,null,null,null,null,"Ergebnis",{"$f":"IF($P$57=$P$2,\"TEAM\",VLOOKUP($P$57,'Vorrunde (Tabellen)'!$B$52:$G$115,6,FALSE))","v":"TEAM"},"-",{"$f":"IF($R$57=$R$2,\"TEAM\",VLOOKUP($R$57,'Vorrunde (Tabellen)'!$B$52:$G$115,6,FALSE))","v":"TEAM"},{"$f":"IF($S$57=$S$2,\"TEAM\",VLOOKUP($S$57,'Vorrunde (Tabellen)'!$B$52:$G$115,6,FALSE))","v":"TEAM"},"-",{"$f":"IF($U$57=$U$2,\"TEAM\",VLOOKUP($U$57,'Vorrunde (Tabellen)'!$B$52:$G$115,6,FALSE))","v":"TEAM"},{"$f":"IF($V$57=$V$2,\"TEAM\",VLOOKUP($V$57,'Vorrunde (Tabellen)'!$B$52:$G$115,6,FALSE))","v":"TEAM"},"-",{"$f":"IF($X$57=$X$2,\"TEAM\",VLOOKUP($X$57,'Vorrunde (Tabellen)'!$B$52:$G$115,6,FALSE))","v":"TEAM"},{"$f":"IF($Y$57=$Y$2,\"TEAM\",VLOOKUP($Y$57,'Vorrunde (Tabellen)'!$B$52:$G$115,6,FALSE))","v":"TEAM"},"-",{"$f":"IF($AA$57=$AA$2,\"TEAM\",VLOOKUP($AA$57,'Vorrunde (Tabellen)'!$B$52:$G$115,6,FALSE))","v":"TEAM"},{"$f":"IF($AB$57=$AB$2,\"TEAM\",VLOOKUP($AB$57,'Vorrunde (Tabellen)'!$B$52:$G$115,6,FALSE))","v":"TEAM"},"-",{"$f":"IF($AD$57=$AD$2,\"TEAM\",VLOOKUP($AD$57,'Vorrunde (Tabellen)'!$B$52:$G$115,6,FALSE))","v":"TEAM"},{"$f":"IF($AE$57=$AE$2,\"TEAM\",VLOOKUP($AE$57,'Vorrunde (Tabellen)'!$B$52:$G$115,6,FALSE))","v":"TEAM"},"-",{"$f":"IF($AG$57=$AG$2,\"TEAM\",VLOOKUP($AG$57,'Vorrunde (Tabellen)'!$B$52:$G$115,6,FALSE))","v":"TEAM"},{"$f":"IF($AH$57=$AH$2,\"TEAM\",VLOOKUP($AH$57,'Vorrunde (Tabellen)'!$B$52:$G$115,6,FALSE))","v":"TEAM"},"-",{"$f":"IF($AJ$57=$AJ$2,\"TEAM\",VLOOKUP($AJ$57,'Vorrunde (Tabellen)'!$B$52:$G$115,6,FALSE))","v":"TEAM"},{"$f":"IF($AK$57=$AK$2,\"TEAM\",VLOOKUP($AK$57,'Vorrunde (Tabellen)'!$B$52:$G$115,6,FALSE))","v":"TEAM"},"-",{"$f":"IF($AM$57=$AM$2,\"TEAM\",VLOOKUP($AM$57,'Vorrunde (Tabellen)'!$B$52:$G$115,6,FALSE))","v":"TEAM"},{"$f":"IF($AN$57=$AN$2,\"TEAM\",VLOOKUP($AN$57,'Vorrunde (Tabellen)'!$B$52:$G$115,6,FALSE))","v":"TEAM"},"-",{"$f":"IF($AP$57=$AP$2,\"TEAM\",VLOOKUP($AP$57,'Vorrunde (Tabellen)'!$B$52:$G$115,6,FALSE))","v":"TEAM"},{"$f":"IF($AQ$57=$AQ$2,\"TEAM\",VLOOKUP($AQ$57,'Vorrunde (Tabellen)'!$B$52:$G$115,6,FALSE))","v":"TEAM"},"-",{"$f":"IF($AS$57=$AS$2,\"TEAM\",VLOOKUP($AS$57,'Vorrunde (Tabellen)'!$B$52:$G$115,6,FALSE))","v":"TEAM"},{"$f":"IF($AT$57=$AT$2,\"TEAM\",VLOOKUP($AT$57,'Vorrunde (Tabellen)'!$B$52:$G$115,6,FALSE))","v":"TEAM"},"-",{"$f":"IF($AV$57=$AV$2,\"TEAM\",VLOOKUP($AV$57,'Vorrunde (Tabellen)'!$B$52:$G$115,6,FALSE))","v":"TEAM"},{"$f":"IF($AW$57=$AW$2,\"TEAM\",VLOOKUP($AW$57,'Vorrunde (Tabellen)'!$B$52:$G$115,6,FALSE))","v":"TEAM"},"-",{"$f":"IF($AY$57=$AY$2,\"TEAM\",VLOOKUP($AY$57,'Vorrunde (Tabellen)'!$B$52:$G$115,6,FALSE))","v":"TEAM"},{"$f":"IF($AZ$57=$AZ$2,\"TEAM\",VLOOKUP($AZ$57,'Vorrunde (Tabellen)'!$B$52:$G$115,6,FALSE))","v":"TEAM"},"-",{"$f":"IF($BB$57=$BB$2,\"TEAM\",VLOOKUP($BB$57,'Vorrunde (Tabellen)'!$B$52:$G$115,6,FALSE))","v":"TEAM"},{"$f":"IF($BC$57=$BC$2,\"TEAM\",VLOOKUP($BC$57,'Vorrunde (Tabellen)'!$B$52:$G$115,6,FALSE))","v":"TEAM"},"-",{"$f":"IF($BE$57=$BE$2,\"TEAM\",VLOOKUP($BE$57,'Vorrunde (Tabellen)'!$B$52:$G$115,6,FALSE))","v":"TEAM"},{"$f":"IF($BF$57=$BF$2,\"TEAM\",VLOOKUP($BF$57,'Vorrunde (Tabellen)'!$B$52:$G$115,6,FALSE))","v":"TEAM"},"-",{"$f":"IF($BH$57=$BH$2,\"TEAM\",VLOOKUP($BH$57,'Vorrunde (Tabellen)'!$B$52:$G$115,6,FALSE))","v":"TEAM"},{"$f":"IF($BI$57=$BI$2,\"TEAM\",VLOOKUP($BI$57,'Vorrunde (Tabellen)'!$B$52:$G$115,6,FALSE))","v":"TEAM"},"-",{"$f":"IF($BK$57=$BK$2,\"TEAM\",VLOOKUP($BK$57,'Vorrunde (Tabellen)'!$B$52:$G$115,6,FALSE))","v":"TEAM"},{"$f":"IF($BL$57=$BL$1,\"TEAM\",VLOOKUP($BL$57,'Vorrunde (Tabellen)'!$B$52:$G$115,6,FALSE))","v":"TEAM"},"ENDRUNDE",{"$f":"$P$1","v":90},null,null,{"$f":"$S$1","v":89},null,null,{"$f":"$V$1","v":91},null,null,{"$f":"$Y$1","v":92},null,null,{"$f":"$AB$1","v":93},null,null,{"$f":"$AE$1","v":94},null,null,{"$f":"$AH$1","v":95},null,null,{"$f":"$AK$1","v":96},null,null,{"$f":"$AN$1","v":97},null,null,{"$f":"$AQ$1","v":98},null,null,{"$f":"$AT$1","v":99},null,null,{"$f":"$AW$1","v":100},null,null,{"$f":"$AZ$1","v":101},null,null,{"$f":"$BC$1","v":102},null,null,{"$f":"$BF$1","v":103},null,null,{"$f":"$BI$1","v":104},null,null,{"$f":"BL1","v":"Fußball-Weltmeister  2026"},"Stand vom :"]
[null,null,null,null,null,null,null,null,null,null,null,null,null,null,"ENDRUNDE",{"$f":"$E$2","v":"Sieger Spiel 73"},{"$f":"$K$2","v":"USA / NRG Stadium (Houston)"},{"$f":"$G$2","v":"Sieger Spiel 75"},{"$f":"$E$3","v":"Sieger Spiel 74"},{"$f":"$K$3","v":"USA / Lincoln Financial Field (Philadelphia)"},{"$f":"$G$3","v":"Sieger Spiel 77"},{"$f":"$E$4","v":"Sieger Spiel 76"},{"$f":"$K$4","v":"USA / MetLife Stadium (New York/New Jersey)"},{"$f":"$G$4","v":"Sieger Spiel 78"},{"$f":"$E$5","v":"Sieger Spiel 79"},{"$f":"$K$5","v":"Mexiko / Azteca (Mexico City)"},{"$f":"$G$5","v":"Sieger Spiel 80"},{"$f":"$E$6","v":"Sieger Spiel 83"},{"$f":"$K$6","v":"USA / AT&T Stadium (Dallas)"},{"$f":"$G$6","v":"Sieger Spiel 84"},{"$f":"$E$7","v":"Sieger Spiel 81"},{"$f":"$K$7","v":"USA / Lumen Field (Seattle)"},{"$f":"$G$7","v":"Sieger Spiel 82"},{"$f":"$E$8","v":"Sieger Spiel 86"},{"$f":"$K$8","v":"USA / Mercedes-Benz Stadium (Atlanta)"},{"$f":"$G$8","v":"Sieger Spiel 88"},{"$f":"$E$9","v":"Sieger Spiel 85"},{"$f":"$K$9","v":"Kanada / BC Place Stadium (Vancouver)"},{"$f":"$G$9","v":"Sieger Spiel 87"},{"$f":"$E$10","v":"Sieger Spiel 89"},{"$f":"$K$10","v":"USA / Gillette Stadium (Boston)"},{"$f":"$G$10","v":"Sieger Spiel 90"},{"$f":"$E$11","v":"Sieger Spiel 93"},{"$f":"$K$11","v":"USA / SoFi Stadium (Los Angeles)"},{"$f":"$G$11","v":"Sieger Spiel 94"},{"$f":"$E$12","v":"Sieger Spiel 91"},{"$f":"$K$12","v":"USA / Hard Rock Stadium (Miami)"},{"$f":"$G$12","v":"Sieger Spiel 92"},{"$f":"$E$13","v":"Sieger Spiel 95"},{"$f":"$K$13","v":"USA / Arrowhead Stadium (Kansas City)"},{"$f":"$G$13","v":"Sieger Spiel 96"},{"$f":"$E$14","v":"Sieger Spiel 97"},{"$f":"$K$14","v":"USA / AT&T Stadium (Dallas)"},{"$f":"$G$14","v":"Sieger Spiel 98"},{"$f":"$E$15","v":"Sieger Spiel 99"},{"$f":"$K$15","v":"USA / Mercedes-Benz Stadium (Atlanta)"},{"$f":"$G$15","v":"Sieger Spiel 100"},{"$f":"$E$16","v":"Verlierer Spiel 101"},{"$f":"$K$16","v":"USA / Hard Rock Stadium (Miami)"},{"$f":"$G$16","v":"Verlierer Spiel 102"},{"$f":"$E$17","v":"Sieger Spiel 101"},{"$f":"$K$17","v":"USA / MetLife Stadium (New York/New Jersey)"},{"$f":"$G$17","v":"Sieger Spiel 102"},{"$f":"IF($H$17>$J$17,$E$17,IF($J$17>$H$17,G$17,\"Fußball-Weltmeister  2026\"))","v":"Fußball-Weltmeister  2026"},null,null,null,null,null,null,null,null,null,null,null,null,null,null,null,null,null,null,null,null,null,null,null,null,null,null,null,null,null,null,null,null,null,null,null,null,null,null,null,null,null,null,null,null,null,null,null,null,null,null,{"$f":"TODAY()","v":"2026-05-19"}]

{"sheet":"Tipp-Tabelle","index":6,"n_rows":52,"n_cols":9,"rows_kept":52,"cut":false,"hidden":false,"merged":[[51,4,51,5],[49,0,49,1],[49,2,49,3],[49,4,49,5],[50,0,50,1],[50,2,50,3],[50,4,50,5],[47,0,47,1],[47,2,47,3],[47,4,47,5],[48,0,48,1],[48,2,48,3],[48,4,48,5],[45,0,45,1],[45,2,45,3],[45,4,45,5],[46,0,46,1],[46,2,46,3],[46,4,46,5],[43,0,43,1],[43,2,43,3],[43,4,43,5],[44,0,44,1],[44,2,44,3],[44,4,44,5],[41,0,41,1],[41,2,41,3],[41,4,41,5],[42,0,42,1],[42,2,42,3],[42,4,42,5],[39,0,39,1],[39,2,39,3],[39,4,39,5],[40,0,40,1],[40,2,40,3],[40,4,40,5],[37,0,37,1],[37,2,37,3],[37,4,37,5],[38,0,38,1],[38,2,38,3],[38,4,38,5],[35,0,35,1],[35,2,35,3],[35,4,35,5],[36,0,36,1],[36,2,36,3],[36,4,36,5],[33,0,33,1],[33,2,33,3],[33,4,33,5],[34,0,34,1],[34,2,34,3],[34,4,34,5],[31,0,31,1],[31,2,31,3],[31,4,31,5],[32,0,32,1],[32,2,32,3],[32,4,32,5],[29,0,29,1],[29,2,29,3],[29,4,29,5],[30,0,30,1],[30,2,30,3],[30,4,30,5],[27,0,27,1],[27,2,27,3],[27,4,27,5],[28,0,28,1],[28,2,28,3],[28,4,28,5],[25,0,25,1],[25,2,25,3],[25,4,25,5],[26,0,26,1],[26,2,26,3],[26,4,26,5],[23,0,23,1],[23,2,23,3],[23,4,23,5],[24,0,24,1],[24,2,24,3],[24,4,24,5],[21,0,21,1],[21,2,21,3],[21,4,21,5],[22,0,22,1],[22,2,22,3],[22,4,22,5],[19,0,19,1],[19,2,19,3],[19,4,19,5],[20,0,20,1],[20,2,20,3],[20,4,20,5],[17,0,17,1],[17,2,17,3],[17,4,17,5],[18,0,18,1],[18,2,18,3],[18,4,18,5],[15,0,15,1],[15,2,15,3],[15,4,15,5],[16,0,16,1],[16,2,16,3],[16,4,16,5],[13,0,13,1],[13,2,13,3],[13,4,13,5],[14,0,14,1],[14,2,14,3],[14,4,14,5],[11,0,11,1],[11,2,11,3],[11,4,11,5],[12,0,12,1],[12,2,12,3],[12,4,12,5],[9,0,9,1],[9,2,9,3],[9,4,9,5],[10,0,10,1],[10,2,10,3],[10,4,10,5],[7,0,7,1],[7,2,7,3],[7,4,7,5],[8,0,8,1],[8,2,8,3],[8,4,8,5],[6,0,6,1],[6,2,6,3],[6,4,6,5],[3,0,3,1],[3,2,3,3],[3,4,3,5],[4,0,4,1],[4,2,4,3],[4,4,4,5],[0,0,0,5],[1,0,1,1],[1,2,1,3],[1,4,1,5],[2,0,2,1],[2,2,2,3],[2,4,2,5],[5,0,5,1],[5,2,5,3],[5,4,5,5]]}
["Tipprunde  zur  Weltmeisterschaft  2026"]
["Platz",null,"Name  des  Mitspielers",null,"Punkte"]
[1,null,{"$f":"IF('Vorrunde 01-24'!$O7<>\"\",'Vorrunde 01-24'!$O7,\"\")","v":""},null,{"$f":"'KO-Runde 089-104'!$DM7","v":0},null,null,"Gewinn",{"$f":"(49*14)*0.3","v":205.79999999999998}]
[{"$f":"IF(E4=E3,\"\",ROW()-2)","v":""},null,{"$f":"IF('Vorrunde 01-24'!$O8<>\"\",'Vorrunde 01-24'!$O8,\"\")","v":""},null,{"$f":"'KO-Runde 089-104'!$DM8","v":0},null,null,"Gewinn",{"$f":"(49*14)*0.25","v":171.5}]
[{"$f":"IF(E5=E4,\"\",ROW()-2)","v":""},null,{"$f":"IF('Vorrunde 01-24'!$O9<>\"\",'Vorrunde 01-24'!$O9,\"\")","v":""},null,{"$f":"'KO-Runde 089-104'!$DM9","v":0},null,null,"Gewinn",{"$f":"(49*14)*0.2","v":137.20000000000002}]
["",null,{"$f":"IF('Vorrunde 01-24'!$O10<>\"\",'Vorrunde 01-24'!$O10,\"\")","v":""},null,{"$f":"'KO-Runde 089-104'!$DM10","v":0},null,null,"Gewinn",{"$f":"(49*14)*0.15","v":102.89999999999999}]
["",null,{"$f":"IF('Vorrunde 01-24'!$O11<>\"\",'Vorrunde 01-24'!$O11,\"\")","v":""},null,{"$f":"'KO-Runde 089-104'!$DM11","v":0},null,null,"Gewinn",{"$f":"(49*14)*0.1","v":68.600000000000009}]
["",null,{"$f":"IF('Vorrunde 01-24'!$O12<>\"\",'Vorrunde 01-24'!$O12,\"\")","v":""},null,{"$f":"'KO-Runde 089-104'!$DM12","v":0},null,null,"Jackpot",{"$f":"SUM(I3:I7)","v":686}]
["",null,{"$f":"IF('Vorrunde 01-24'!$O13<>\"\",'Vorrunde 01-24'!$O13,\"\")","v":""},null,{"$f":"'KO-Runde 089-104'!$DM13","v":0}]
["",null,{"$f":"IF('Vorrunde 01-24'!$O14<>\"\",'Vorrunde 01-24'!$O14,\"\")","v":""},null,{"$f":"'KO-Runde 089-104'!$DM14","v":0}]
["",null,{"$f":"IF('Vorrunde 01-24'!$O15<>\"\",'Vorrunde 01-24'!$O15,\"\")","v":""},null,{"$f":"'KO-Runde 089-104'!$DM15","v":0}]
["",null,{"$f":"IF('Vorrunde 01-24'!$O16<>\"\",'Vorrunde 01-24'!$O16,\"\")","v":""},null,{"$f":"'KO-Runde 089-104'!$DM16","v":0}]
["",null,{"$f":"IF('Vorrunde 01-24'!$O17<>\"\",'Vorrunde 01-24'!$O17,\"\")","v":""},null,{"$f":"'KO-Runde 089-104'!$DM17","v":0}]
["",null,{"$f":"IF('Vorrunde 01-24'!$O18<>\"\",'Vorrunde 01-24'!$O18,\"\")","v":""},null,{"$f":"'KO-Runde 089-104'!$DM18","v":0}]
["",null,{"$f":"IF('Vorrunde 01-24'!$O19<>\"\",'Vorrunde 01-24'!$O19,\"\")","v":""},null,{"$f":"'KO-Runde 089-104'!$DM19","v":0}]
["",null,{"$f":"IF('Vorrunde 01-24'!$O20<>\"\",'Vorrunde 01-24'!$O20,\"\")","v":""},null,{"$f":"'KO-Runde 089-104'!$DM20","v":0}]
["",null,{"$f":"IF('Vorrunde 01-24'!$O21<>\"\",'Vorrunde 01-24'!$O21,\"\")","v":""},null,{"$f":"'KO-Runde 089-104'!$DM21","v":0}]
["",null,{"$f":"IF('Vorrunde 01-24'!$O22<>\"\",'Vorrunde 01-24'!$O22,\"\")","v":""},null,{"$f":"'KO-Runde 089-104'!$DM22","v":0}]
["",null,{"$f":"IF('Vorrunde 01-24'!$O23<>\"\",'Vorrunde 01-24'!$O23,\"\")","v":""},null,{"$f":"'KO-Runde 089-104'!$DM23","v":0}]
["",null,{"$f":"IF('Vorrunde 01-24'!$O24<>\"\",'Vorrunde 01-24'!$O24,\"\")","v":""},null,{"$f":"'KO-Runde 089-104'!$DM24","v":0}]
["",null,{"$f":"IF('Vorrunde 01-24'!$O25<>\"\",'Vorrunde 01-24'!$O25,\"\")","v":""},null,{"$f":"'KO-Runde 089-104'!$DM25","v":0}]
["",null,{"$f":"IF('Vorrunde 01-24'!$O26<>\"\",'Vorrunde 01-24'!$O26,\"\")","v":""},null,{"$f":"'KO-Runde 089-104'!$DM26","v":0}]
["",null,{"$f":"IF('Vorrunde 01-24'!$O27<>\"\",'Vorrunde 01-24'!$O27,\"\")","v":""},null,{"$f":"'KO-Runde 089-104'!$DM27","v":0}]
["",null,{"$f":"IF('Vorrunde 01-24'!$O28<>\"\",'Vorrunde 01-24'!$O28,\"\")","v":""},null,{"$f":"'KO-Runde 089-104'!$DM28","v":0}]
["",null,{"$f":"IF('Vorrunde 01-24'!$O29<>\"\",'Vorrunde 01-24'!$O29,\"\")","v":""},null,{"$f":"'KO-Runde 089-104'!$DM29","v":0}]
["",null,{"$f":"IF('Vorrunde 01-24'!$O30<>\"\",'Vorrunde 01-24'!$O30,\"\")","v":""},null,{"$f":"'KO-Runde 089-104'!$DM30","v":0}]
["",null,{"$f":"IF('Vorrunde 01-24'!$O31<>\"\",'Vorrunde 01-24'!$O31,\"\")","v":""},null,{"$f":"'KO-Runde 089-104'!$DM31","v":0}]
["",null,{"$f":"IF('Vorrunde 01-24'!$O32<>\"\",'Vorrunde 01-24'!$O32,\"\")","v":""},null,{"$f":"'KO-Runde 089-104'!$DM32","v":0}]
["",null,{"$f":"IF('Vorrunde 01-24'!$O33<>\"\",'Vorrunde 01-24'!$O33,\"\")","v":""},null,{"$f":"'KO-Runde 089-104'!$DM33","v":0}]
["",null,{"$f":"IF('Vorrunde 01-24'!$O34<>\"\",'Vorrunde 01-24'!$O34,\"\")","v":""},null,{"$f":"'KO-Runde 089-104'!$DM34","v":0}]
["",null,{"$f":"IF('Vorrunde 01-24'!$O35<>\"\",'Vorrunde 01-24'!$O35,\"\")","v":""},null,{"$f":"'KO-Runde 089-104'!$DM35","v":0}]
["",null,{"$f":"IF('Vorrunde 01-24'!$O36<>\"\",'Vorrunde 01-24'!$O36,\"\")","v":""},null,{"$f":"'KO-Runde 089-104'!$DM36","v":0}]
["",null,{"$f":"IF('Vorrunde 01-24'!$O37<>\"\",'Vorrunde 01-24'!$O37,\"\")","v":""},null,{"$f":"'KO-Runde 089-104'!$DM37","v":0}]
["",null,{"$f":"IF('Vorrunde 01-24'!$O38<>\"\",'Vorrunde 01-24'!$O38,\"\")","v":""},null,{"$f":"'KO-Runde 089-104'!$DM38","v":0}]
["",null,{"$f":"IF('Vorrunde 01-24'!$O39<>\"\",'Vorrunde 01-24'!$O39,\"\")","v":""},null,{"$f":"'KO-Runde 089-104'!$DM39","v":0}]
["",null,{"$f":"IF('Vorrunde 01-24'!$O40<>\"\",'Vorrunde 01-24'!$O40,\"\")","v":""},null,{"$f":"'KO-Runde 089-104'!$DM40","v":0}]
["",null,{"$f":"IF('Vorrunde 01-24'!$O41<>\"\",'Vorrunde 01-24'!$O41,\"\")","v":""},null,{"$f":"'KO-Runde 089-104'!$DM41","v":0}]
["",null,{"$f":"IF('Vorrunde 01-24'!$O42<>\"\",'Vorrunde 01-24'!$O42,\"\")","v":""},null,{"$f":"'KO-Runde 089-104'!$DM42","v":0}]
["",null,{"$f":"IF('Vorrunde 01-24'!$O43<>\"\",'Vorrunde 01-24'!$O43,\"\")","v":""},null,{"$f":"'KO-Runde 089-104'!$DM43","v":0}]
["",null,{"$f":"IF('Vorrunde 01-24'!$O44<>\"\",'Vorrunde 01-24'!$O44,\"\")","v":""},null,{"$f":"'KO-Runde 089-104'!$DM44","v":0}]
["",null,{"$f":"IF('Vorrunde 01-24'!$O45<>\"\",'Vorrunde 01-24'!$O45,\"\")","v":""},null,{"$f":"'KO-Runde 089-104'!$DM45","v":0}]
["",null,{"$f":"IF('Vorrunde 01-24'!$O46<>\"\",'Vorrunde 01-24'!$O46,\"\")","v":""},null,{"$f":"'KO-Runde 089-104'!$DM46","v":0}]
["",null,{"$f":"IF('Vorrunde 01-24'!$O47<>\"\",'Vorrunde 01-24'!$O47,\"\")","v":""},null,{"$f":"'KO-Runde 089-104'!$DM47","v":0}]
["",null,{"$f":"IF('Vorrunde 01-24'!$O48<>\"\",'Vorrunde 01-24'!$O48,\"\")","v":""},null,{"$f":"'KO-Runde 089-104'!$DM48","v":0}]
["",null,{"$f":"IF('Vorrunde 01-24'!$O49<>\"\",'Vorrunde 01-24'!$O49,\"\")","v":""},null,{"$f":"'KO-Runde 089-104'!$DM49","v":0}]
["",null,{"$f":"IF('Vorrunde 01-24'!$O50<>\"\",'Vorrunde 01-24'!$O50,\"\")","v":""},null,{"$f":"'KO-Runde 089-104'!$DM50","v":0}]
["",null,{"$f":"IF('Vorrunde 01-24'!$O51<>\"\",'Vorrunde 01-24'!$O51,\"\")","v":""},null,{"$f":"'KO-Runde 089-104'!$DM51","v":0}]
["",null,{"$f":"IF('Vorrunde 01-24'!$O52<>\"\",'Vorrunde 01-24'!$O52,\"\")","v":""},null,{"$f":"'KO-Runde 089-104'!$DM52","v":0}]
["",null,{"$f":"IF('Vorrunde 01-24'!$O53<>\"\",'Vorrunde 01-24'!$O53,\"\")","v":""},null,{"$f":"'KO-Runde 089-104'!$DM53","v":0}]
[{"$f":"IF(E50=E49,\"\",ROW()-2)","v":""},null,{"$f":"IF('Vorrunde 01-24'!$O54<>\"\",'Vorrunde 01-24'!$O54,\"\")","v":""},null,{"$f":"'KO-Runde 089-104'!$DM54","v":0}]
[{"$f":"IF(E51=E49,\"\",ROW()-2)","v":""},null,{"$f":"IF('Vorrunde 01-24'!$O55<>\"\",'Vorrunde 01-24'!$O55,\"\")","v":""},null,{"$f":"'KO-Runde 089-104'!$DM55","v":0}]
["Stand  nach",{"$f":"'KO-Runde 089-104'!$DQ$7","v":0}," von  104 Spielen","Datum :",{"$f":"TODAY()","v":"2026-05-19"}]

{"sheet":"Tippmodus","index":7,"n_rows":40,"n_cols":12,"rows_kept":40,"cut":false,"hidden":false,"merged":[[12,0,12,2],[12,3,12,13],[0,0,0,13],[2,0,2,2],[3,0,3,2],[3,3,3,13],[5,0,5,2],[5,3,5,13],[6,0,6,2],[6,3,6,13],[8,0,9,2],[9,3,9,13],[11,0,11,2],[22,6,22,12],[14,0,14,2],[14,3,14,13],[15,0,15,2],[15,3,15,13],[17,0,17,2],[17,6,17,12],[18,0,18,2],[18,6,18,12],[19,6,19,12],[20,6,20,12],[21,6,21,12],[32,11,32,13],[23,6,23,12],[25,0,25,2],[25,6,25,10],[25,11,25,13],[26,0,26,2],[26,6,26,10],[26,11,26,13],[27,6,27,13],[28,3,28,5],[28,6,28,13],[31,11,31,13],[30,11,30,13],[30,2,30,10],[31,2,31,10],[32,2,32,10],[33,11,33,13],[34,11,34,13],[35,11,35,13],[35,2,35,10],[36,11,36,13],[33,2,33,10],[34,2,34,10],[38,0,38,2],[38,6,38,12],[39,0,39,2],[39,6,39,12],[36,2,36,10]]}
["Teilnahmeinformationen und Auswertungsmodus"]
[]
["Beginn und Ende der"]
["Weltmeisterschaft",null,null,"vom  11. Juni  2026  bis  19. Juli  2026"]
[]
["Wo gibt es die",null,null,"bei Tilo Schott      oder      Online unter der Adresse :"]
["Tipp - Formulare  ?",null,null,"https://sv-ehringshausen.de/wm-tipprunde-2026/"]
[]
["Was kostet der Einsatz  ?"]
[null,null,null,"14  EURO   ( für jeden abgegebenen Tipp-Schein )"]
[]
["Letzter Abgabetermin"]
["für die  Tipp - Formulare",null,null,"2026-06-10"]
[]
["Abgabeort",null,null,"per eMail an die Adresse :"]
["der  Tipp - Formulare",null,null,"tilo.schott@dwd.de"]
[]
["Was muß ich",null,null,null,null,"1.","alle Ergebnisse der Vorrundenspiele"]
["tippen  ?",null,null,null,null,"2.","die Mannschaften, die sich für die weiteren"]
[null,null,null,null,null,null,"Finalrunden ( Sechzehntelfinale bis Endspiel )"]
[null,null,null,null,null,null,"qualifizieren"]
[null,null,null,null,null,null,"( die Zusammenstellung der Spielpaarungen"]
[null,null,null,null,null,null,"  für die einzelnen Finalrunden muß  nicht  die"]
[null,null,null,null,null,null,"  Folge der getippten Vorrundenspiele sein )"]
[]
["Der Auswertungsmodus",null,null,null,null,"1.","für jedes exakt richtige Ergebnis",null,null,null,null,"3 Punkte"]
["für die WM - Tipprunde",null,null,null,null,"2.","für die richtige Ergebnis-Tendenz",null,null,null,null,"2 Punkte"]
[null,null,null,null,null,null,"( wenn man z. B. bei einem 0 : 0 ein 2 : 2 getippt hat )"]
[null,null,null,"oder",null,null,"( wenn man z. B. bei einem 3 : 0 ein 3 : 2 getippt hat )"]
[]
[null,"3.  ","für jede richtig getippte Mannschaft im Sechzehntelfinale",null,null,null,null,null,null,null,null,"3 Punkte"]
[null,"4.  ","für jede richtig getippte Mannschaft im Achtelfinale",null,null,null,null,null,null,null,null,"4 Punkte"]
[null,"5.  ","für jede richtig getippte Mannschaft im Viertelfinale",null,null,null,null,null,null,null,null,"5 Punkte"]
[null,"6.  ","für jede richtig getippte Mannschaft im Halbfinale",null,null,null,null,null,null,null,null,"6 Punkte"]
[null,"7.  ","für jedes richtig getippte Team im Spiel um Platz 3",null,null,null,null,null,null,null,null,"1 Punkt"]
[null,"8.  ","für jeden richtig getippten Endspielteilnehmer",null,null,null,null,null,null,null,null,"7 Punkte"]
[null,"9.  ","für den richtig getippten Weltmeister 2026",null,null,null,null,null,null,null,null,"8 Punkte"]
[]
["Gewinnverteilung",null,null,null,null,null,"1. Platz = 30 %, 2. Platz = 25 %, 3. Platz = 20 %"]
["vom Gesamteinsatz",null,null,null,null,null,"4. Platz = 15 %, 5. Platz = 10 %"]

{"sheet":"Teilnehmer - Austragungsorte","index":8,"n_rows":0,"n_cols":0,"rows_kept":0,"cut":false,"hidden":false,"merged":[[4,16,4,17]]}